{"text_format":"1","workbook":"xlsx","n_sheets":6,"sheets":["So_gehts","Einstellung","Reihen","oben","links","rechts"],"not_rendered":{"charts":0,"images":0,"macros":1,"external_links":0,"defined_names":11,"comments":0,"pivot_tables":0},"unopened":[],"bounds":{"document_bytes":16777216,"sheet_cells":100000,"rows_first":2000,"rows_last":500,"rows_between":2000,"halvings":0,"cell_chars":16384,"cell_head_chars":4096},"cells_cut":0,"cells_raw":0,"read":"whole","date_system":"1900"}

{"sheet":"So_gehts","index":0,"n_rows":35,"n_cols":2,"rows_kept":35,"cut":false,"hidden":false,"merged":[[3,3,3,25],[4,3,4,25],[9,3,9,25],[10,3,10,25],[6,3,6,25],[7,3,7,25]]}
[]
[null,"Ich stelle mich vor :  Auriga_EW - Gewinnauswertung und Spielschein-Druck für die Toto-Ergebniswette"]
[]
[null,"Allgemeines "]
[null,"Ich wurde von Auriga hergestellt, um ihm und anderen Totospielern die Arbeit zu erleichtern. Ich beherrsche zwar keine Tipp-Erstellung aber dafür gibts mich ja auch für lau."]
[null,"Meine Aufgaben sind:"]
[null,"1. Der Ausdruck von Normalscheinen der Ergebniswette für alle Bundesländer und bei Wunsch auch für Österreich.\n2. Die Überwachung und Gewinnauswertung des laufenden Tipps"]
[null,"Bei mir sind nur die  Zellen mit roter Schrift  für  Eingaben vorgesehen."]
[]
[null,"Das Blatt Einstellung"]
[null,"Die Einstellungen sind in der Regel nur einmal festzulegen. Hier gebt ihr mir in Zelle B2 das Kürzel eures Bundeslandes mit. Daraus ermittle ich mir den groben Druckaufbau der Tippreihen, die Anzahl Tipps je Schein und die Anzahl Scheine über Alles.\n\nAuch der untere Bereich des Scheins mit den Zusatzlotterien muss nur einmal festgelegt werden. Mit Hilfe der Druckschablone darüber tragt ihr hier die Kreuze ein, wo ihr sie braucht. Jeder Eintrag hier wird in die Fusszeilen jedes Scheins gedruckt.\n\nWollt ihr eine eigene Schein-Nummer ausdrucken, solltet ihr dafür eine \"ungefährliche\" Gegend im Fussbereich wählen. Da ich keine Zellen verbinden will, gebt ihr mir die einzelnen Stellen für die Schein-Nummer ein: h, z oder e für die Hunderter-, Zehner- und Einerstelle. Bei weniger als 100 Scheinen könnt ihr euch das \"h\" natürlich sparen."]
[null,"Noch ein Tipp zur Schein-Nr.: Da die Zahlen wegen ihrer Größe eventuell unsichtbar ausgedruckt werden, solltet ihr an deren Stelle auch erstmal xxx eingeben. Im fertigen Druckbild müsst ihr dann für diese Zellen die Schrift verkleinern. Ich habe auch die Farbe auf grau gesetzt. Diese Nummer sollte ja sowieso so wenig wie möglich auffallen um das Lesegerät nicht zu verwirren. Danach könnt ihr dort wieder h, z und e eingeben und die Zahlen werden auch sichtbar gedruckt. Sollte das Lesegerät trotzdem meckern, müsst ihr euch eine andere Stelle dafür aussuchen. Also zu Anfang nur ein oder zwei Scheine mit Nummer drucken bis alles durchgeht. Nehmt die letzten mit der größten Nummer."]
[]
[null,"Mein Blatt - Reihen"]
[null,"In meinen Spalten B bis P, ab Zeile 8 erwarte ich die Tippreihen, standardmäßig die 1, 0 oder 2. Ich kann auch mit X statt 0. Aus diesen Tippreihen errechne ich die Anzahl Spiele. Bis 15 sind vorgesehen."]
[null,"Im Verlauf des Spieltages zeige ich die noch offenen Chancen und zum Schluß auch die erzielten Gewinne an und das mit Angabe des betreffenden Scheines.  Dazu brauche ich die Eingabe der Ergebnisse der Spiele in der Zeile 1 ab Spalte B. Dann zeige ich die noch möglichen Ränge 1 bis 4 an.\nTiefere Ränge kann ich auch zeigen. Dazu gibt man als 1. Rang z.B. eine 4 ein, dann werden die Treffer in Rang 4 bis 7 gezeigt."]
[null,"Die Filter Rang und Scheine sind zur Gewinnauswertung ideal. Die Schein-Nr. zeige ich nämlich nur noch bei Tipps, die noch in den Gewinnrängen sind."]
[null,"Gibt man zum Schluss die Quoten der Gewinnränge ein, summiere ich den Gesamtgewinn nach Zelle T7."]
[null,"Daneben, in den Spalten V und W rechne ich aus den Reihen und der Scheingebühr den Gesamteinsatz aus. Eventuelle Vorgewinne kann man hier noch abziehen."]
[]
[null,"Meine Blätter für den Druck - Die Versionen  oben, links und rechts"]
[null,"Eins vorweg: Bei Excel sind Zeilenhöhen und Spaltenbreiten nicht gleitend auf jeden Wert einstellbar, sondern nur in kleinen Sprüngen. Unsere Totofuzzies haben eigene krumme Maßeinheiten die nicht immer dazu passen, so dass die Feineinstellung etwas tricky sein kann."]
[null,"So, nun seid ihr dran. Das grobe Druckbild habe ich aus euren Einstellungen zusammengebastelt, das Papierformat auf A4 hochkant und alle Seitenränder auf 0 gesetzt.  Der Druckbereich ist alles innerhalb des gelben Rahmens. Die Felder, die direkt an den Rahmen grenzen, sollten nicht bedruckt werden. Die sind zur Justierung gedacht."]
[null,"Grundsätzlich solltet ihr erst zur letzten Feineinstellung (Punkt 3) Totoscheine verwenden. Vorher würde ich alte DIN A4 Blätter nehmen, weil die ersten Druckversuche sicher in der \"Wallachei\" und nicht auf dem Totoschein landen. Nicht jeder Drucker mag es, wenn zu oft gedruckt wird wo kein Papier ist.\nIch habe bei meinen Tests 2 Totoscheine jeweils einen quer und einen längs zerschnitten. Damit konnte ich auf dem A4-Blatt dann sehr gut die Abstände vermessen."]
[null,"Zum genauen Justieren  empfehle ich jetzt folgende Vorgehensweise:"]
[null,"1. Die Entscheidung für die Ausrichtung der Scheine im Drucker. Ich kann, zum Beispiel in Hamburg, die Version rechts nicht benutzen, weil mein Drucker oben nicht randlos drucken kann und die letzte 2 direkt an den Rand muss. Da wird wohl jeder seine Besonderheiten haben.\nDie weiteren Justierungen müssen nur in der gewählten Version gemacht werden. Die anderen braucht ihr dann nicht mehr."]
[null,"2. Das Druckbild an den Totoschein anpassen. Die Fusszeilen dabei über Zeilenhöhe (Version oben) oder Spaltenbreite (Versionen links und rechts) soweit korrigieren dass die Kreuze für die Zusatzlotterien auf den richtigen Abstand zu den Tipps kommen. Zur Not könnt ihr ja auch den Bereich für die Spiele 14 und 15 stark verkleinern. Sollten die mal kommen, wird sich sowieso auch der Spielschein ändern.\n\nIch weiß ja nicht, ob die Maße der Kästchen genormt sind. Ich habe die Größe aus den Hamburger Scheinen genommen. Sollte es nicht passen, so empfehle ich erstmal die Höhen oder Breiten aller Spiele oder aller Tippreihen gemeinsam zu verändern, bis es passt Sollte das nicht gelingen, müsst ihr  so dicht wie möglich rankommen und dann einzelne Zeilen oder Spalten mittendrin verändern."]
[null,"Die  Größe des Druckes im Ganzen könnt ihr auch noch  über die Skalierung im Menue Seitenlayout ändern. Also mit etwas Basteln sollte das hinzukriegen sein."]
[null,"3. Zuletzt das fertige Druckbild an die richtige Stelle schieben. Das geht nur mit echten Totoscheinen, weil es verschiedene Papiereinzüge bei den Druckern gibt. Normalerweise sollten dafür Korrekturen in der Zeilenhöhe von Zeile 5 und in der Spaltenbreite von Spalte E ausreichen. Die habe ich jeweils orange gekennzeichnet.\nMit Seitenrändern oben und links können die Korrekturen kleiner ausfallen."]
[null,"Und jetzt auf keinen Fall das Sichern vergessen."]
[null,"Und nun zum Druck selbst:"]
[null,"Einzelscheine kann ich direkt drucken. Dazu brauche ich nur in Zelle A1 die Schein-Nr. Der Druck geht dann über den normalen Druckaufruf."]
[null,"Viel komfortabler geht es über den Makro \"Druck\"  (sollte auch mit Strg d möglich sein) Damit kann ich  alle oder eine Anzahl von Scheinen automatisch drucken. Dazu brauche ich in  \"von\"  und \"bis\" die Nummer des ersten und letzten zu druckenden Scheins. Ist der Wert \"bis\" kleiner als der Wert \"von\", wird nur der eine Schein aus \"von\" gedruckt, der Wert in \"von\" aber hochgezählt. Damit kann ich per Makro auch alle Scheine einzeln nacheinander drucken ohne irgendwas neu einzugeben."]
[null,"Nun wünsche ich euch nur noch einen Haufen Spielscheine und ein erfolgreiches Probieren. Viel Spaß"]
[null,"Ich bitte sehr um Rückmeldungen, besonders bei Fehlern. Die werde ich so schnell es geht bereinigen. Aber auch, wenn etwas in dieser Anleitung besser erklärt werden sollte, meldet euch."]

{"sheet":"Einstellung","index":1,"n_rows":35,"n_cols":48,"rows_kept":35,"cut":false,"hidden":false,"merged":[]}
["Auswahl",null,null,null,null,null,null,null,null,null,null,null,null,null,null,null,null,null,null,null,null,null,null,null,null,"einmalige Einstellungen und Druckschablonen"]
["Bundesland","hh",null,null,{"$f":"IF(E3=\"\",\"\",COUNTIF($E3:E3,E3))","v":""},{"$f":"IF(F3=\"\",\"\",COUNTIF($E3:F3,F3))","v":1},{"$f":"IF(G3=\"\",\"\",COUNTIF($E3:G3,G3))","v":1},{"$f":"IF(H3=\"\",\"\",COUNTIF($E3:H3,H3))","v":1},{"$f":"IF(I3=\"\",\"\",COUNTIF($E3:I3,I3))","v":2},{"$f":"IF(J3=\"\",\"\",COUNTIF($E3:J3,J3))","v":2},{"$f":"IF(K3=\"\",\"\",COUNTIF($E3:K3,K3))","v":2},{"$f":"IF(L3=\"\",\"\",COUNTIF($E3:L3,L3))","v":""},{"$f":"IF(M3=\"\",\"\",COUNTIF($E3:M3,M3))","v":3},{"$f":"IF(N3=\"\",\"\",COUNTIF($E3:N3,N3))","v":3},{"$f":"IF(O3=\"\",\"\",COUNTIF($E3:O3,O3))","v":3},{"$f":"IF(P3=\"\",\"\",COUNTIF($E3:P3,P3))","v":4},{"$f":"IF(Q3=\"\",\"\",COUNTIF($E3:Q3,Q3))","v":4},{"$f":"IF(R3=\"\",\"\",COUNTIF($E3:R3,R3))","v":4},{"$f":"IF(S3=\"\",\"\",COUNTIF($E3:S3,S3))","v":""},{"$f":"IF(T3=\"\",\"\",COUNTIF($E3:T3,T3))","v":5},{"$f":"IF(U3=\"\",\"\",COUNTIF($E3:U3,U3))","v":5},{"$f":"IF(V3=\"\",\"\",COUNTIF($E3:V3,V3))","v":5},{"$f":"IF(W3=\"\",\"\",COUNTIF($E3:W3,W3))","v":6},{"$f":"IF(X3=\"\",\"\",COUNTIF($E3:X3,X3))","v":6},{"$f":"IF(Y3=\"\",\"\",COUNTIF($E3:Y3,Y3))","v":6},{"$f":"IF(Z3=\"\",\"\",COUNTIF($E3:Z3,Z3))","v":""},{"$f":"IF(AA3=\"\",\"\",COUNTIF($E3:AA3,AA3))","v":7},{"$f":"IF(AB3=\"\",\"\",COUNTIF($E3:AB3,AB3))","v":7},{"$f":"IF(AC3=\"\",\"\",COUNTIF($E3:AC3,AC3))","v":7},{"$f":"IF(AD3=\"\",\"\",COUNTIF($E3:AD3,AD3))","v":8},{"$f":"IF(AE3=\"\",\"\",COUNTIF($E3:AE3,AE3))","v":8},{"$f":"IF(AF3=\"\",\"\",COUNTIF($E3:AF3,AF3))","v":8},{"$f":"IF(AG3=\"\",\"\",COUNTIF($E3:AG3,AG3))","v":""},{"$f":"IF(AH3=\"\",\"\",COUNTIF($E3:AH3,AH3))","v":9},{"$f":"IF(AI3=\"\",\"\",COUNTIF($E3:AI3,AI3))","v":9},{"$f":"IF(AJ3=\"\",\"\",COUNTIF($E3:AJ3,AJ3))","v":9},{"$f":"IF(AK3=\"\",\"\",COUNTIF($E3:AK3,AK3))","v":10},{"$f":"IF(AL3=\"\",\"\",COUNTIF($E3:AL3,AL3))","v":10},{"$f":"IF(AM3=\"\",\"\",COUNTIF($E3:AM3,AM3))","v":10},{"$f":"IF(AN3=\"\",\"\",COUNTIF($E3:AN3,AN3))","v":""},{"$f":"IF(AO3=\"\",\"\",COUNTIF($E3:AO3,AO3))","v":11},{"$f":"IF(AP3=\"\",\"\",COUNTIF($E3:AP3,AP3))","v":11},{"$f":"IF(AQ3=\"\",\"\",COUNTIF($E3:AQ3,AQ3))","v":11},{"$f":"IF(AR3=\"\",\"\",COUNTIF($E3:AR3,AR3))","v":12},{"$f":"IF(AS3=\"\",\"\",COUNTIF($E3:AS3,AS3))","v":12},{"$f":"IF(AT3=\"\",\"\",COUNTIF($E3:AT3,AT3))","v":12},{"$f":"IF(AU3=\"\",\"\",COUNTIF($E3:AU3,AU3))","v":""}]
[{"$f":"INDEX(A16:A36,B3)","v":"Hamburg"},{"$f":"MATCH(B2,B16:B36,0)","v":6},null,null,{"$f":"INDEX($E$16:$AU$50,$B3,E12)","v":""},{"$f":"INDEX($E$16:$AU$50,$B3,F12)","v":1},{"$f":"INDEX($E$16:$AU$50,$B3,G12)","v":0},2,1,0,2,"",1,0,2,1,0,2,"",1,0,2,1,0,2,"",1,0,2,1,0,2,"",1,0,2,1,0,2,"",1,0,2,1,0,2,""]
["Tipps je Schein",{"$f":"IF(INDEX(C16:C40,B3)<1,12,INDEX(C16:C40,B3))","v":12}]
["Null oder x für Remis",{"$f":"IF(COUNTIF(alle_Tipps,\"X\")>0,\"X\",0)","v":0},null,1,null,null,null,null,null,null,null,null,null,null,null,null,null,null,null,null,null,null,null,null,null,null,null,null,null,null,null,null,null,null,null,null,null,null,null,null,null,null,null,null,null,null,null,1]
[null,null,null,2,null,null,null,null,null,null,null,null,null,null,null,null,null,null,null,null,null,null,null,null,null,null,null,null,null,null,null,null,null,null,null,null,null,null,null,null,null,null,null,null,null,null,null,2]
[null,null,null,3,null,null,null,null,null,null,null,null,null,null,null,null,null,null,null,null,null,null,null,null,null,null,null,null,null,null,null,null,null,null,null,null,null,null,null,null,null,null,"h","z","e",null,null,3]
[null,null,null,4,null,null,null,null,null,null,null,null,null,null,null,null,null,null,null,null,null,null,null,null,null,null,null,null,null,null,null,null,null,null,null,null,null,null,null,null,null,null,null,null,null,null,null,4]
[null,null,null,5,null,null,null,null,null,null,null,null,null,null,null,null,null,null,null,"x",null,null,null,null,"x",null,null,null,null,null,null,null,null,null,null,null,null,null,null,null,null,null,null,null,null,null,null,5]
[null,null,null,6,null,null,null,null,null,null,null,null,null,null,null,null,null,null,null,null,null,null,null,null,null,null,null,null,null,null,null,null,null,null,null,null,null,null,null,null,null,null,null,null,null,null,null,6]
[null,null,null,7,null,null,null,null,null,null,null,null,null,null,null,null,null,null,null,null,null,null,null,null,null,null,null,null,null,null,null,null,null,null,null,null,null,null,null,null,null,null,null,null,null,null,null,7]
[null,null,null,null,1,2,3,4,5,6,7,8,9,10,11,12,13,14,15,16,17,18,19,20,21,22,23,24,25,26,27,28,29,30,31,32,33,34,35,36,37,38,39,40,41,42,43]
[]
["Bundesländer","Kürzel","Tipps je Schein",null,null,null,null,null,null,null,null,null,null,null,null,null,null,null,null,null,null,null,null,null,null,"Druckschablonen für den Tippbereich je Bundesland"]
[null,null,null,null,{"$f":"\"\"","v":""},{"$f":"\"\"","v":""},{"$f":"\"\"","v":""},{"$f":"\"\"","v":""},{"$f":"\"\"","v":""},{"$f":"\"\"","v":""},{"$f":"\"\"","v":""},{"$f":"\"\"","v":""},{"$f":"\"\"","v":""},{"$f":"\"\"","v":""},{"$f":"\"\"","v":""},{"$f":"\"\"","v":""},{"$f":"\"\"","v":""},{"$f":"\"\"","v":""},{"$f":"\"\"","v":""},{"$f":"\"\"","v":""},{"$f":"\"\"","v":""},{"$f":"\"\"","v":""},{"$f":"\"\"","v":""},{"$f":"\"\"","v":""},{"$f":"\"\"","v":""},{"$f":"\"\"","v":""},{"$f":"\"\"","v":""},{"$f":"\"\"","v":""},{"$f":"\"\"","v":""},{"$f":"\"\"","v":""},{"$f":"\"\"","v":""},{"$f":"\"\"","v":""},{"$f":"\"\"","v":""},{"$f":"\"\"","v":""},{"$f":"\"\"","v":""},{"$f":"\"\"","v":""},{"$f":"\"\"","v":""},{"$f":"\"\"","v":""},{"$f":"\"\"","v":""},{"$f":"\"\"","v":""},{"$f":"\"\"","v":""},{"$f":"\"\"","v":""},{"$f":"\"\"","v":""},{"$f":"\"\"","v":""},{"$f":"\"\"","v":""},{"$f":"\"\"","v":""},{"$f":"\"\"","v":""}]
["Baden-Württemberg","bw",{"$f":"COUNTIF(E16:AU16,1)","v":12},null,{"$f":"\"\"","v":""},{"$f":"\"\"","v":""},{"$f":"\"\"","v":""},{"$f":"\"\"","v":""},{"$f":"\"\"","v":""},1,{"$f":"$B$5","v":0},2,1,{"$f":"$B$5","v":0},2,1,{"$f":"$B$5","v":0},2,1,{"$f":"$B$5","v":0},2,1,{"$f":"$B$5","v":0},2,1,{"$f":"$B$5","v":0},2,{"$f":"\"\"","v":""},1,{"$f":"$B$5","v":0},2,1,{"$f":"$B$5","v":0},2,1,{"$f":"$B$5","v":0},2,1,{"$f":"$B$5","v":0},2,1,{"$f":"$B$5","v":0},2,1,{"$f":"$B$5","v":0},2,{"$f":"\"\"","v":""}]
["Bayern","by",{"$f":"COUNTIF(E17:AU17,1)","v":12},null,{"$f":"\"\"","v":""},{"$f":"\"\"","v":""},{"$f":"\"\"","v":""},{"$f":"\"\"","v":""},1,{"$f":"$B$5","v":0},2,1,{"$f":"$B$5","v":0},2,1,{"$f":"$B$5","v":0},2,1,{"$f":"$B$5","v":0},2,1,{"$f":"$B$5","v":0},2,1,{"$f":"$B$5","v":0},2,1,{"$f":"$B$5","v":0},2,1,{"$f":"$B$5","v":0},2,1,{"$f":"$B$5","v":0},2,1,{"$f":"$B$5","v":0},2,1,{"$f":"$B$5","v":0},2,1,{"$f":"$B$5","v":0},2,{"$f":"\"\"","v":""},{"$f":"\"\"","v":""},{"$f":"\"\"","v":""}]
["Berlin","be",8,null,null,1,{"$f":"$B$5","v":0},2,{"$f":"\"\"","v":""},1,{"$f":"$B$5","v":0},2,{"$f":"\"\"","v":""},{"$f":"\"\"","v":""},{"$f":"\"\"","v":""},{"$f":"\"\"","v":""},1,{"$f":"$B$5","v":0},2,{"$f":"\"\"","v":""},1,{"$f":"$B$5","v":0},2,{"$f":"\"\"","v":""},{"$f":"\"\"","v":""},{"$f":"\"\"","v":""},{"$f":"\"\"","v":""},1,{"$f":"$B$5","v":0},2,{"$f":"\"\"","v":""},1,{"$f":"$B$5","v":0},2,{"$f":"\"\"","v":""},{"$f":"\"\"","v":""},{"$f":"\"\"","v":""},{"$f":"\"\"","v":""},1,{"$f":"$B$5","v":0},2,{"$f":"\"\"","v":""},1,{"$f":"$B$5","v":0},2,{"$f":"\"\"","v":""}]
["Brandenburg","bb",8,null,{"$f":"\"\"","v":""},1,{"$f":"$B$5","v":0},2,{"$f":"\"\"","v":""},1,{"$f":"$B$5","v":0},2,{"$f":"\"\"","v":""},{"$f":"\"\"","v":""},{"$f":"\"\"","v":""},{"$f":"\"\"","v":""},1,{"$f":"$B$5","v":0},2,{"$f":"\"\"","v":""},1,{"$f":"$B$5","v":0},2,{"$f":"\"\"","v":""},{"$f":"\"\"","v":""},{"$f":"\"\"","v":""},{"$f":"\"\"","v":""},1,{"$f":"$B$5","v":0},2,{"$f":"\"\"","v":""},1,{"$f":"$B$5","v":0},2,{"$f":"\"\"","v":""},{"$f":"\"\"","v":""},{"$f":"\"\"","v":""},{"$f":"\"\"","v":""},1,{"$f":"$B$5","v":0},2,{"$f":"\"\"","v":""},1,{"$f":"$B$5","v":0},2,{"$f":"\"\"","v":""},{"$f":"\"\"","v":""}]
["Bremen","hb",12,null,{"$f":"\"\"","v":""},1,{"$f":"$B$5","v":0},2,1,{"$f":"$B$5","v":0},2,{"$f":"\"\"","v":""},1,{"$f":"$B$5","v":0},2,1,{"$f":"$B$5","v":0},2,{"$f":"\"\"","v":""},1,{"$f":"$B$5","v":0},2,1,{"$f":"$B$5","v":0},2,{"$f":"\"\"","v":""},1,{"$f":"$B$5","v":0},2,1,{"$f":"$B$5","v":0},2,{"$f":"\"\"","v":""},1,{"$f":"$B$5","v":0},2,1,{"$f":"$B$5","v":0},2,{"$f":"\"\"","v":""},1,{"$f":"$B$5","v":0},2,1,{"$f":"$B$5","v":0},2]
["Hamburg","hh",12,null,{"$f":"\"\"","v":""},1,{"$f":"$B$5","v":0},2,1,{"$f":"$B$5","v":0},2,{"$f":"\"\"","v":""},1,0,2,1,0,2,{"$f":"\"\"","v":""},1,{"$f":"$B$5","v":0},2,1,{"$f":"$B$5","v":0},2,{"$f":"\"\"","v":""},1,{"$f":"$B$5","v":0},2,1,{"$f":"$B$5","v":0},2,{"$f":"\"\"","v":""},1,{"$f":"$B$5","v":0},2,1,{"$f":"$B$5","v":0},2,{"$f":"\"\"","v":""},1,0,2,1,0,2,{"$f":"\"\"","v":""}]
["Hessen","he",12,null,null,null,null,null,{"$f":"\"\"","v":""},1,{"$f":"$B$5","v":0},2,1,0,2,1,0,2,1,{"$f":"$B$5","v":0},2,1,{"$f":"$B$5","v":0},2,1,{"$f":"$B$5","v":0},2,{"$f":"\"\"","v":""},1,{"$f":"$B$5","v":0},2,1,{"$f":"$B$5","v":0},2,1,{"$f":"$B$5","v":0},2,1,{"$f":"$B$5","v":0},2,1,0,2,1,0,2]
["Mecklenburg-Vorpommern","mv",12,null,null,1,{"$f":"$B$5","v":0},2,1,{"$f":"$B$5","v":0},2,{"$f":"\"\"","v":""},1,0,2,1,0,2,{"$f":"\"\"","v":""},1,{"$f":"$B$5","v":0},2,1,{"$f":"$B$5","v":0},2,{"$f":"\"\"","v":""},1,{"$f":"$B$5","v":0},2,1,{"$f":"$B$5","v":0},2,{"$f":"\"\"","v":""},1,{"$f":"$B$5","v":0},2,1,{"$f":"$B$5","v":0},2,{"$f":"\"\"","v":""},1,0,2,1,0,2]
["Niedersachsen","ni",12,null,{"$f":"\"\"","v":""},1,{"$f":"$B$5","v":0},2,1,{"$f":"$B$5","v":0},2,{"$f":"\"\"","v":""},1,0,2,1,0,2,{"$f":"\"\"","v":""},1,{"$f":"$B$5","v":0},2,1,{"$f":"$B$5","v":0},2,{"$f":"\"\"","v":""},1,{"$f":"$B$5","v":0},2,1,{"$f":"$B$5","v":0},2,{"$f":"\"\"","v":""},1,{"$f":"$B$5","v":0},2,1,{"$f":"$B$5","v":0},2,{"$f":"\"\"","v":""},1,0,2,1,0,2,{"$f":"\"\"","v":""}]
["Nordrhein-Westfalen","nw",12,null,null,1,{"$f":"$B$5","v":0},2,1,{"$f":"$B$5","v":0},2,{"$f":"\"\"","v":""},1,0,2,1,0,2,{"$f":"\"\"","v":""},1,{"$f":"$B$5","v":0},2,1,{"$f":"$B$5","v":0},2,{"$f":"\"\"","v":""},1,{"$f":"$B$5","v":0},2,1,{"$f":"$B$5","v":0},2,{"$f":"\"\"","v":""},1,{"$f":"$B$5","v":0},2,1,{"$f":"$B$5","v":0},2,{"$f":"\"\"","v":""},1,0,2,1,0,2]
["Rheinland Pfalz","rp",12,null,{"$f":"\"\"","v":""},{"$f":"\"\"","v":""},{"$f":"\"\"","v":""},{"$f":"\"\"","v":""},{"$f":"\"\"","v":""},1,{"$f":"$B$5","v":0},2,1,0,2,1,0,2,1,{"$f":"$B$5","v":0},2,1,{"$f":"$B$5","v":0},2,1,{"$f":"$B$5","v":0},2,{"$f":"\"\"","v":""},1,{"$f":"$B$5","v":0},2,1,{"$f":"$B$5","v":0},2,1,{"$f":"$B$5","v":0},2,1,{"$f":"$B$5","v":0},2,1,0,2,1,0,2,{"$f":"\"\"","v":""}]
["Saarland","sl",12,null,null,{"$f":"\"\"","v":""},{"$f":"\"\"","v":""},{"$f":"\"\"","v":""},{"$f":"\"\"","v":""},1,{"$f":"$B$5","v":0},2,1,{"$f":"$B$5","v":0},2,1,{"$f":"$B$5","v":0},2,1,{"$f":"$B$5","v":0},2,1,{"$f":"$B$5","v":0},2,1,{"$f":"$B$5","v":0},2,{"$f":"\"\"","v":""},1,{"$f":"$B$5","v":0},2,1,{"$f":"$B$5","v":0},2,1,{"$f":"$B$5","v":0},2,1,{"$f":"$B$5","v":0},2,1,{"$f":"$B$5","v":0},2,1,{"$f":"$B$5","v":0},2]
["Sachsen","sn",12,null,{"$f":"\"\"","v":""},1,{"$f":"$B$5","v":0},2,1,{"$f":"$B$5","v":0},2,{"$f":"\"\"","v":""},1,{"$f":"$B$5","v":0},2,1,{"$f":"$B$5","v":0},2,{"$f":"\"\"","v":""},1,{"$f":"$B$5","v":0},2,1,{"$f":"$B$5","v":0},2,{"$f":"\"\"","v":""},1,{"$f":"$B$5","v":0},2,1,{"$f":"$B$5","v":0},2,{"$f":"\"\"","v":""},1,{"$f":"$B$5","v":0},2,1,{"$f":"$B$5","v":0},2,{"$f":"\"\"","v":""},1,{"$f":"$B$5","v":0},2,1,{"$f":"$B$5","v":0},2,{"$f":"\"\"","v":""}]
["Sachsen-Anhalt","st",0,null,{"$f":"\"\"","v":""},{"$f":"\"\"","v":""},{"$f":"\"\"","v":""},{"$f":"\"\"","v":""},{"$f":"\"\"","v":""},{"$f":"\"\"","v":""},{"$f":"\"\"","v":""},{"$f":"\"\"","v":""},{"$f":"\"\"","v":""},{"$f":"\"\"","v":""},{"$f":"\"\"","v":""},{"$f":"\"\"","v":""},{"$f":"\"\"","v":""},{"$f":"\"\"","v":""},{"$f":"\"\"","v":""},{"$f":"\"\"","v":""},{"$f":"\"\"","v":""},{"$f":"\"\"","v":""},{"$f":"\"\"","v":""},{"$f":"\"\"","v":""},{"$f":"\"\"","v":""},{"$f":"\"\"","v":""},{"$f":"\"\"","v":""},{"$f":"\"\"","v":""},{"$f":"\"\"","v":""},{"$f":"\"\"","v":""},{"$f":"\"\"","v":""},{"$f":"\"\"","v":""},{"$f":"\"\"","v":""},{"$f":"\"\"","v":""},{"$f":"\"\"","v":""},{"$f":"\"\"","v":""},{"$f":"\"\"","v":""},{"$f":"\"\"","v":""},{"$f":"\"\"","v":""},{"$f":"\"\"","v":""},{"$f":"\"\"","v":""},{"$f":"\"\"","v":""},{"$f":"\"\"","v":""},{"$f":"\"\"","v":""},{"$f":"\"\"","v":""},{"$f":"\"\"","v":""},{"$f":"\"\"","v":""}]
["Schleswig-Holstein","sh",12,null,{"$f":"\"\"","v":""},1,{"$f":"$B$5","v":0},2,1,{"$f":"$B$5","v":0},2,{"$f":"\"\"","v":""},1,{"$f":"$B$5","v":0},2,1,{"$f":"$B$5","v":0},2,{"$f":"\"\"","v":""},1,{"$f":"$B$5","v":0},2,1,{"$f":"$B$5","v":0},2,{"$f":"\"\"","v":""},1,{"$f":"$B$5","v":0},2,1,{"$f":"$B$5","v":0},2,{"$f":"\"\"","v":""},1,{"$f":"$B$5","v":0},2,1,{"$f":"$B$5","v":0},2,{"$f":"\"\"","v":""},1,{"$f":"$B$5","v":0},2,1,{"$f":"$B$5","v":0},2,{"$f":"\"\"","v":""}]
["Thüringen","th",12,null,{"$f":"\"\"","v":""},{"$f":"\"\"","v":""},{"$f":"\"\"","v":""},{"$f":"\"\"","v":""},1,{"$f":"$B$5","v":0},2,1,{"$f":"$B$5","v":0},2,1,{"$f":"$B$5","v":0},2,1,{"$f":"$B$5","v":0},2,1,{"$f":"$B$5","v":0},2,1,{"$f":"$B$5","v":0},2,1,{"$f":"$B$5","v":0},2,1,{"$f":"$B$5","v":0},2,1,{"$f":"$B$5","v":0},2,1,{"$f":"$B$5","v":0},2,1,{"$f":"$B$5","v":0},2,1,{"$f":"$B$5","v":0},2,{"$f":"\"\"","v":""},{"$f":"\"\"","v":""},{"$f":"\"\"","v":""}]
["Österreich","ös",0]
[]
[]
[null,null,null,null,{"$f":"\"\"","v":""},{"$f":"\"\"","v":""},{"$f":"\"\"","v":""},{"$f":"\"\"","v":""},{"$f":"\"\"","v":""},{"$f":"\"\"","v":""},{"$f":"\"\"","v":""},{"$f":"\"\"","v":""},{"$f":"\"\"","v":""},{"$f":"\"\"","v":""},{"$f":"\"\"","v":""},{"$f":"\"\"","v":""},{"$f":"\"\"","v":""},{"$f":"\"\"","v":""},{"$f":"\"\"","v":""},{"$f":"\"\"","v":""},{"$f":"\"\"","v":""},{"$f":"\"\"","v":""},{"$f":"\"\"","v":""},{"$f":"\"\"","v":""},{"$f":"\"\"","v":""},{"$f":"\"\"","v":""},{"$f":"\"\"","v":""},{"$f":"\"\"","v":""},{"$f":"\"\"","v":""},{"$f":"\"\"","v":""},{"$f":"\"\"","v":""},{"$f":"\"\"","v":""},{"$f":"\"\"","v":""},{"$f":"\"\"","v":""},{"$f":"\"\"","v":""},{"$f":"\"\"","v":""},{"$f":"\"\"","v":""},{"$f":"\"\"","v":""},{"$f":"\"\"","v":""},{"$f":"\"\"","v":""},{"$f":"\"\"","v":""},{"$f":"\"\"","v":""},{"$f":"\"\"","v":""},{"$f":"\"\"","v":""},{"$f":"\"\"","v":""},{"$f":"\"\"","v":""},{"$f":"\"\"","v":""}]

{"sheet":"Reihen","index":2,"n_rows":6007,"n_cols":23,"rows_kept":4500,"cut":true,"hidden":false,"merged":[[2,1,2,2],[3,1,3,2]],"bounds":{"rows_first":2000,"rows_last":500,"rows_between":2000,"halvings":0}}
["Ergebnisse:",null,null,null,null,null,null,null,null,null,null,null,null,null,null,null,null,"Ränge","Anzahl","Quoten"]
["Spiele:",1,2,3,4,5,6,7,8,9,10,11,12,13,14,15,null,1,{"$f":"COUNTIF(R$8:R$9601,R2)","v":79},113000,null,"Anzahl Scheine",{"$f":"INT((B3+Einstellung!B4-1)/Einstellung!B4)","v":7}]
["bisher ca",{"$f":"COUNTA(B8:B11205)","v":79},null,"Reihen",null,null,null,null,null,null,null,null,null,null,null,null,null,{"$f":"R2+1","v":2},{"$f":"COUNTIF(R$8:R$9601,R3)","v":0},2800,null,"Scheingebühr",0.7]
["6000_Reihen",{"$f":"LEN(B8&C8&D8&E8&F8&G8&H8&I8&J8&K8&L8&M8&N8&O8&P8&Q8)","v":13},null,"er-Wette",null,null,null,null,null,null,null,"Auriga - EW",null,null,null,null,null,{"$f":"R3+1","v":3},{"$f":"COUNTIF(R$8:R$9601,R4)","v":0},5,null,"Gesamteinsatz",{"$f":"B3/2+(W2*W3)","v":44.4}]
["vorgesehen",null,{"$f":"LEN(B1)+LEN(C1)+LEN(D1)+LEN(E1)+LEN(F1)+LEN(G1)+LEN(H1)+LEN(I1)+LEN(J1)+LEN(K1)+LEN(L1)+LEN(M1)+LEN(N1)+LEN(O1)+LEN(P1)","v":0},"Spiele bisher",null,null,null,null,null,null,null,"Version v. 10. Sept. 2018",null,null,null,null,null,{"$f":"R4+1","v":4},{"$f":"COUNTIF(R$8:R$9601,R5)","v":0},2,null,{"$f":"\"- Gewinne\"","v":"- Gewinne"},12.8]
[null,{"$f":"\"_\"&B1&C1&D1&E1&F1&G1&H1&I1&J1&K1&L1&M1&N1&O1&P1","v":"_"}]
["Reihe",1,2,3,4,5,6,7,8,9,10,11,12,13,14,15,null,"Rang","Schein",{"$f":"SUM(T8:T11187)","v":0},null,"zu zahlen",{"$f":"W4-W5","v":31.599999999999998}]
[{"$f":"IF(B8=\"\",\"\",ROW()-7)","v":1},2,2,1,2,2,0,1,1,0,1,0,0,0,null,null,null,{"$f":"IF(B8=\"\",\"\",16-((MID(B$1,1,1)=MID(B8,1,1))+(MID(C$1,1,1)=MID(C8,1,1))+(MID(D$1,1,1)=MID(D8,1,1))+(MID(E$1,1,1)=MID(E8,1,1))+(MID(F$1,1,1)=MID(F8,1,1))+(MID(G$1,1,1)=MID(G8,1,1))+(MID(H$1,1,1)=MID(H8,1,1))+(MID(I$1,1,1)=MID(I8,1,1))+(MID(J$1,1,1)=MID(J8,1,1))+(MID(K$1,1,1)=MID(K8,1,1))+(MID(L$1,1,1)=MID(L8,1,1))+(MID(M$1,1,1)=MID(M8,1,1))+(MID(N$1,1,1)=MID(N8,1,1))+(MID(O$1,1,1)=MID(O8,1,1))+(MID(P$1,1,1)=MID(P8,1,1)))-B$4+C$5)","v":1},{"$f":"IF(B8=\"\",\"\",IF(R8<5,INT((A8-1)/Einstellung!$B$4)+1,\"\"))","v":1},{"$f":"IF(C$5<B$4,\"\",IF(R8>4,\"\",OFFSET(T$2,R8-1,0)))","v":""}]
[2,2,2,1,2,1,1,1,1,0,1,0,0,0,null,null,null,1,{"$f":"IF(B9=\"\",\"\",IF(R9<5,INT((A9-1)/Einstellung!$B$4)+1,\"\"))","v":1},""]
[3,2,1,1,2,2,2,1,1,0,1,0,0,0,null,null,null,1,{"$f":"IF(B10=\"\",\"\",IF(R10<5,INT((A10-1)/Einstellung!$B$4)+1,\"\"))","v":1},""]
[4,1,2,1,2,2,1,1,0,0,0,1,0,0,null,null,null,1,{"$f":"IF(B11=\"\",\"\",IF(R11<5,INT((A11-1)/Einstellung!$B$4)+1,\"\"))","v":1},""]
[5,2,1,1,1,2,0,1,0,2,0,1,0,0,null,null,null,1,{"$f":"IF(B12=\"\",\"\",IF(R12<5,INT((A12-1)/Einstellung!$B$4)+1,\"\"))","v":1},""]
[6,0,2,1,1,1,2,1,1,0,1,1,0,1,null,null,null,1,{"$f":"IF(B13=\"\",\"\",IF(R13<5,INT((A13-1)/Einstellung!$B$4)+1,\"\"))","v":1},""]
[7,1,2,1,2,1,1,1,0,1,1,1,0,0,null,null,null,1,{"$f":"IF(B14=\"\",\"\",IF(R14<5,INT((A14-1)/Einstellung!$B$4)+1,\"\"))","v":1},""]
[8,1,2,1,2,1,2,0,1,1,1,1,0,0,null,null,null,1,{"$f":"IF(B15=\"\",\"\",IF(R15<5,INT((A15-1)/Einstellung!$B$4)+1,\"\"))","v":1},""]
[9,0,1,1,2,2,0,1,0,2,1,1,0,0,null,null,null,1,{"$f":"IF(B16=\"\",\"\",IF(R16<5,INT((A16-1)/Einstellung!$B$4)+1,\"\"))","v":1},""]
[10,2,2,1,2,0,1,1,1,2,1,1,0,0,null,null,null,1,{"$f":"IF(B17=\"\",\"\",IF(R17<5,INT((A17-1)/Einstellung!$B$4)+1,\"\"))","v":1},""]
[11,2,0,1,2,2,1,1,1,2,1,1,0,0,null,null,null,1,{"$f":"IF(B18=\"\",\"\",IF(R18<5,INT((A18-1)/Einstellung!$B$4)+1,\"\"))","v":1},""]
[12,2,2,1,0,1,2,1,1,2,1,1,0,0,null,null,null,1,{"$f":"IF(B19=\"\",\"\",IF(R19<5,INT((A19-1)/Einstellung!$B$4)+1,\"\"))","v":1},""]
[13,1,1,1,1,2,2,1,0,0,2,1,2,0,null,null,null,1,{"$f":"IF(B20=\"\",\"\",IF(R20<5,INT((A20-1)/Einstellung!$B$4)+1,\"\"))","v":2},""]
[14,2,2,1,1,1,2,0,1,0,2,1,0,0,null,null,null,1,{"$f":"IF(B21=\"\",\"\",IF(R21<5,INT((A21-1)/Einstellung!$B$4)+1,\"\"))","v":2},""]
[15,1,2,1,1,2,1,1,1,1,2,1,0,0,null,null,null,1,{"$f":"IF(B22=\"\",\"\",IF(R22<5,INT((A22-1)/Einstellung!$B$4)+1,\"\"))","v":2},""]
[16,0,0,1,2,2,1,1,2,1,2,1,0,0,null,null,null,1,{"$f":"IF(B23=\"\",\"\",IF(R23<5,INT((A23-1)/Einstellung!$B$4)+1,\"\"))","v":2},""]
[17,2,2,1,1,0,2,1,1,1,2,1,0,0,null,null,null,1,{"$f":"IF(B24=\"\",\"\",IF(R24<5,INT((A24-1)/Einstellung!$B$4)+1,\"\"))","v":2},""]
[18,2,0,1,1,2,2,1,1,1,2,1,0,0,null,null,null,1,{"$f":"IF(B25=\"\",\"\",IF(R25<5,INT((A25-1)/Einstellung!$B$4)+1,\"\"))","v":2},""]
[19,0,2,1,1,2,0,1,0,2,2,1,0,0,null,null,null,1,{"$f":"IF(B26=\"\",\"\",IF(R26<5,INT((A26-1)/Einstellung!$B$4)+1,\"\"))","v":2},""]
[20,1,2,1,0,0,1,1,0,2,2,1,0,0,null,null,null,1,{"$f":"IF(B27=\"\",\"\",IF(R27<5,INT((A27-1)/Einstellung!$B$4)+1,\"\"))","v":2},""]
[{"$f":"IF(B28=\"\",\"\",ROW()-7)","v":21},2,2,1,1,1,0,1,1,0,0,2,0,0,null,null,null,1,{"$f":"IF(B28=\"\",\"\",IF(R28<5,INT((A28-1)/Einstellung!$B$4)+1,\"\"))","v":2},""]
[{"$f":"IF(B29=\"\",\"\",ROW()-7)","v":22},2,2,1,2,0,1,1,1,0,1,2,0,0,null,null,null,1,{"$f":"IF(B29=\"\",\"\",IF(R29<5,INT((A29-1)/Einstellung!$B$4)+1,\"\"))","v":2},""]
[{"$f":"IF(B30=\"\",\"\",ROW()-7)","v":23},2,0,1,2,2,1,1,1,0,1,2,0,0,null,null,null,1,{"$f":"IF(B30=\"\",\"\",IF(R30<5,INT((A30-1)/Einstellung!$B$4)+1,\"\"))","v":2},""]
[24,2,2,1,0,1,1,1,0,2,1,2,0,0,null,null,null,1,{"$f":"IF(B31=\"\",\"\",IF(R31<5,INT((A31-1)/Einstellung!$B$4)+1,\"\"))","v":2},""]
[25,2,1,1,2,2,1,1,0,2,1,2,0,0,null,null,null,1,{"$f":"IF(B32=\"\",\"\",IF(R32<5,INT((A32-1)/Einstellung!$B$4)+1,\"\"))","v":3},""]
[26,2,1,1,1,2,0,1,1,0,2,2,0,0,null,null,null,1,{"$f":"IF(B33=\"\",\"\",IF(R33<5,INT((A33-1)/Einstellung!$B$4)+1,\"\"))","v":3},""]
[27,1,2,1,2,0,1,1,1,1,2,2,0,0,null,null,null,1,{"$f":"IF(B34=\"\",\"\",IF(R34<5,INT((A34-1)/Einstellung!$B$4)+1,\"\"))","v":3},""]
[28,1,2,1,1,2,1,1,1,1,2,2,0,0,null,null,null,1,{"$f":"IF(B35=\"\",\"\",IF(R35<5,INT((A35-1)/Einstellung!$B$4)+1,\"\"))","v":3},""]
[29,1,2,1,2,1,1,1,0,0,0,0,1,0,null,null,null,1,{"$f":"IF(B36=\"\",\"\",IF(R36<5,INT((A36-1)/Einstellung!$B$4)+1,\"\"))","v":3},""]
[30,2,2,1,0,1,1,1,0,2,0,0,1,0,null,null,null,1,{"$f":"IF(B37=\"\",\"\",IF(R37<5,INT((A37-1)/Einstellung!$B$4)+1,\"\"))","v":3},""]
[31,0,2,1,2,2,1,1,1,1,1,0,1,0,null,null,null,1,{"$f":"IF(B38=\"\",\"\",IF(R38<5,INT((A38-1)/Einstellung!$B$4)+1,\"\"))","v":3},""]
[32,2,2,1,0,0,2,1,1,0,2,0,1,0,null,null,null,1,{"$f":"IF(B39=\"\",\"\",IF(R39<5,INT((A39-1)/Einstellung!$B$4)+1,\"\"))","v":3},""]
[33,0,1,1,2,2,2,1,1,0,2,0,1,0,null,null,null,1,{"$f":"IF(B40=\"\",\"\",IF(R40<5,INT((A40-1)/Einstellung!$B$4)+1,\"\"))","v":3},""]
[34,2,0,1,2,2,0,1,1,0,0,1,1,0,null,null,null,1,{"$f":"IF(B41=\"\",\"\",IF(R41<5,INT((A41-1)/Einstellung!$B$4)+1,\"\"))","v":3},""]
[35,1,1,1,2,2,1,1,0,1,0,1,1,0,null,null,null,1,{"$f":"IF(B42=\"\",\"\",IF(R42<5,INT((A42-1)/Einstellung!$B$4)+1,\"\"))","v":3},""]
[36,2,2,1,2,0,0,1,0,2,0,1,1,0,null,null,null,1,{"$f":"IF(B43=\"\",\"\",IF(R43<5,INT((A43-1)/Einstellung!$B$4)+1,\"\"))","v":3},""]
[37,2,2,1,0,1,1,1,1,2,0,1,1,0,null,null,null,1,{"$f":"IF(B44=\"\",\"\",IF(R44<5,INT((A44-1)/Einstellung!$B$4)+1,\"\"))","v":4},""]
[38,1,2,1,2,2,1,0,1,0,1,1,1,0,null,null,null,1,{"$f":"IF(B45=\"\",\"\",IF(R45<5,INT((A45-1)/Einstellung!$B$4)+1,\"\"))","v":4},""]
[39,2,2,1,2,1,0,0,0,2,1,1,1,0,null,null,null,1,{"$f":"IF(B46=\"\",\"\",IF(R46<5,INT((A46-1)/Einstellung!$B$4)+1,\"\"))","v":4},""]
[40,2,0,1,2,2,2,0,0,2,1,1,1,0,null,null,null,1,{"$f":"IF(B47=\"\",\"\",IF(R47<5,INT((A47-1)/Einstellung!$B$4)+1,\"\"))","v":4},""]
[41,0,2,1,2,2,1,1,1,2,1,1,1,0,null,null,null,1,{"$f":"IF(B48=\"\",\"\",IF(R48<5,INT((A48-1)/Einstellung!$B$4)+1,\"\"))","v":4},""]
[42,2,2,1,1,1,2,0,1,0,2,1,1,0,null,null,null,1,{"$f":"IF(B49=\"\",\"\",IF(R49<5,INT((A49-1)/Einstellung!$B$4)+1,\"\"))","v":4},""]
[43,1,0,1,0,2,1,1,1,0,2,1,1,0,null,null,null,1,{"$f":"IF(B50=\"\",\"\",IF(R50<5,INT((A50-1)/Einstellung!$B$4)+1,\"\"))","v":4},""]
[44,1,0,1,2,2,0,0,1,1,2,1,1,0,null,null,null,1,{"$f":"IF(B51=\"\",\"\",IF(R51<5,INT((A51-1)/Einstellung!$B$4)+1,\"\"))","v":4},""]
[45,1,2,1,2,0,2,1,1,1,2,1,1,0,null,null,null,1,{"$f":"IF(B52=\"\",\"\",IF(R52<5,INT((A52-1)/Einstellung!$B$4)+1,\"\"))","v":4},""]
[46,1,0,1,2,2,2,1,1,1,2,1,1,0,null,null,null,1,{"$f":"IF(B53=\"\",\"\",IF(R53<5,INT((A53-1)/Einstellung!$B$4)+1,\"\"))","v":4},""]
[47,1,2,1,2,2,2,1,1,1,2,1,1,0,null,null,null,1,{"$f":"IF(B54=\"\",\"\",IF(R54<5,INT((A54-1)/Einstellung!$B$4)+1,\"\"))","v":4},""]
[48,2,1,1,2,0,1,0,0,2,2,1,1,0,null,null,null,1,{"$f":"IF(B55=\"\",\"\",IF(R55<5,INT((A55-1)/Einstellung!$B$4)+1,\"\"))","v":4},""]
[49,0,2,1,2,0,1,1,0,2,2,1,1,0,null,null,null,1,{"$f":"IF(B56=\"\",\"\",IF(R56<5,INT((A56-1)/Einstellung!$B$4)+1,\"\"))","v":5},""]
[50,2,1,1,0,2,2,1,0,2,2,1,1,0,null,null,null,1,{"$f":"IF(B57=\"\",\"\",IF(R57<5,INT((A57-1)/Einstellung!$B$4)+1,\"\"))","v":5},""]
[51,2,2,1,1,0,1,0,1,2,2,1,1,0,null,null,null,1,{"$f":"IF(B58=\"\",\"\",IF(R58<5,INT((A58-1)/Einstellung!$B$4)+1,\"\"))","v":5},""]
[52,2,1,1,1,2,1,0,1,2,2,1,1,0,null,null,null,1,{"$f":"IF(B59=\"\",\"\",IF(R59<5,INT((A59-1)/Einstellung!$B$4)+1,\"\"))","v":5},""]
[53,0,0,1,2,2,1,1,1,2,2,1,1,0,null,null,null,1,{"$f":"IF(B60=\"\",\"\",IF(R60<5,INT((A60-1)/Einstellung!$B$4)+1,\"\"))","v":5},""]
[54,0,1,1,2,2,0,1,1,0,0,2,1,0,null,null,null,1,{"$f":"IF(B61=\"\",\"\",IF(R61<5,INT((A61-1)/Einstellung!$B$4)+1,\"\"))","v":5},""]
[55,0,2,1,2,1,1,1,1,1,0,2,1,0,null,null,null,1,{"$f":"IF(B62=\"\",\"\",IF(R62<5,INT((A62-1)/Einstellung!$B$4)+1,\"\"))","v":5},""]
[56,2,2,1,2,2,1,1,1,1,0,2,1,0,null,null,null,1,{"$f":"IF(B63=\"\",\"\",IF(R63<5,INT((A63-1)/Einstellung!$B$4)+1,\"\"))","v":5},""]
[57,2,1,1,0,2,2,1,1,2,0,2,1,0,null,null,null,1,{"$f":"IF(B64=\"\",\"\",IF(R64<5,INT((A64-1)/Einstellung!$B$4)+1,\"\"))","v":5},""]
[58,0,1,1,2,2,1,1,0,2,1,2,1,0,null,null,null,1,{"$f":"IF(B65=\"\",\"\",IF(R65<5,INT((A65-1)/Einstellung!$B$4)+1,\"\"))","v":5},""]
[59,0,2,1,1,0,0,1,1,0,2,2,1,0,null,null,null,1,{"$f":"IF(B66=\"\",\"\",IF(R66<5,INT((A66-1)/Einstellung!$B$4)+1,\"\"))","v":5},""]
[60,0,2,1,2,2,1,1,1,0,2,2,1,0,null,null,null,1,{"$f":"IF(B67=\"\",\"\",IF(R67<5,INT((A67-1)/Einstellung!$B$4)+1,\"\"))","v":5},""]
[61,2,2,1,1,0,1,1,1,1,2,2,1,0,null,null,null,1,{"$f":"IF(B68=\"\",\"\",IF(R68<5,INT((A68-1)/Einstellung!$B$4)+1,\"\"))","v":6},""]
[62,2,2,1,0,1,1,1,1,1,2,2,1,0,null,null,null,1,{"$f":"IF(B69=\"\",\"\",IF(R69<5,INT((A69-1)/Einstellung!$B$4)+1,\"\"))","v":6},""]
[63,2,2,1,0,2,1,1,1,1,2,2,1,0,null,null,null,1,{"$f":"IF(B70=\"\",\"\",IF(R70<5,INT((A70-1)/Einstellung!$B$4)+1,\"\"))","v":6},""]
[64,2,0,1,1,2,1,1,1,1,2,2,1,0,null,null,null,1,{"$f":"IF(B71=\"\",\"\",IF(R71<5,INT((A71-1)/Einstellung!$B$4)+1,\"\"))","v":6},""]
[65,0,2,1,1,2,1,1,1,1,2,2,1,0,null,null,null,{"$f":"IF(B72=\"\",\"\",16-((MID(B$1,1,1)=MID(B72,1,1))+(MID(C$1,1,1)=MID(C72,1,1))+(MID(D$1,1,1)=MID(D72,1,1))+(MID(E$1,1,1)=MID(E72,1,1))+(MID(F$1,1,1)=MID(F72,1,1))+(MID(G$1,1,1)=MID(G72,1,1))+(MID(H$1,1,1)=MID(H72,1,1))+(MID(I$1,1,1)=MID(I72,1,1))+(MID(J$1,1,1)=MID(J72,1,1))+(MID(K$1,1,1)=MID(K72,1,1))+(MID(L$1,1,1)=MID(L72,1,1))+(MID(M$1,1,1)=MID(M72,1,1))+(MID(N$1,1,1)=MID(N72,1,1))+(MID(O$1,1,1)=MID(O72,1,1))+(MID(P$1,1,1)=MID(P72,1,1)))-B$4+C$5)","v":1},{"$f":"IF(B72=\"\",\"\",IF(R72<5,INT((A72-1)/Einstellung!$B$4)+1,\"\"))","v":6},{"$f":"IF(C$5<B$4,\"\",IF(R72>4,\"\",OFFSET(T$2,R72-1,0)))","v":""}]
[66,0,0,1,2,1,1,1,0,2,2,2,1,0,null,null,null,1,{"$f":"IF(B73=\"\",\"\",IF(R73<5,INT((A73-1)/Einstellung!$B$4)+1,\"\"))","v":6},""]
[67,2,2,1,1,2,0,1,1,0,0,0,2,0,null,null,null,1,{"$f":"IF(B74=\"\",\"\",IF(R74<5,INT((A74-1)/Einstellung!$B$4)+1,\"\"))","v":6},""]
[68,2,2,1,1,0,1,1,1,1,0,0,2,0,null,null,null,1,{"$f":"IF(B75=\"\",\"\",IF(R75<5,INT((A75-1)/Einstellung!$B$4)+1,\"\"))","v":6},""]
[69,2,0,1,1,2,1,1,1,1,0,0,2,0,null,null,null,1,{"$f":"IF(B76=\"\",\"\",IF(R76<5,INT((A76-1)/Einstellung!$B$4)+1,\"\"))","v":6},""]
[70,0,2,1,1,1,0,1,1,0,1,0,2,0,null,null,null,1,{"$f":"IF(B77=\"\",\"\",IF(R77<5,INT((A77-1)/Einstellung!$B$4)+1,\"\"))","v":6},""]
[71,0,2,1,2,2,0,1,1,1,1,0,2,0,null,null,null,1,{"$f":"IF(B78=\"\",\"\",IF(R78<5,INT((A78-1)/Einstellung!$B$4)+1,\"\"))","v":6},""]
[72,1,2,1,1,0,1,1,1,1,2,0,2,0,null,null,null,1,{"$f":"IF(B79=\"\",\"\",IF(R79<5,INT((A79-1)/Einstellung!$B$4)+1,\"\"))","v":6},""]
[73,1,1,1,0,2,1,1,1,0,0,1,2,0,null,null,null,1,{"$f":"IF(B80=\"\",\"\",IF(R80<5,INT((A80-1)/Einstellung!$B$4)+1,\"\"))","v":7},""]
[74,1,2,1,1,1,1,0,1,2,0,1,2,0,null,null,null,1,{"$f":"IF(B81=\"\",\"\",IF(R81<5,INT((A81-1)/Einstellung!$B$4)+1,\"\"))","v":7},""]
[75,2,1,1,1,2,2,0,1,0,1,1,2,0,null,null,null,1,{"$f":"IF(B82=\"\",\"\",IF(R82<5,INT((A82-1)/Einstellung!$B$4)+1,\"\"))","v":7},""]
[76,1,2,1,0,0,2,1,1,0,1,1,2,0,null,null,null,1,{"$f":"IF(B83=\"\",\"\",IF(R83<5,INT((A83-1)/Einstellung!$B$4)+1,\"\"))","v":7},""]
[77,1,2,1,2,2,2,1,0,1,1,1,2,0,null,null,null,1,{"$f":"IF(B84=\"\",\"\",IF(R84<5,INT((A84-1)/Einstellung!$B$4)+1,\"\"))","v":7},""]
[78,2,2,1,1,2,2,0,1,1,1,1,2,0,null,null,null,1,{"$f":"IF(B85=\"\",\"\",IF(R85<5,INT((A85-1)/Einstellung!$B$4)+1,\"\"))","v":7},""]
[79,1,2,1,2,0,1,1,1,1,1,1,2,0,null,null,null,1,{"$f":"IF(B86=\"\",\"\",IF(R86<5,INT((A86-1)/Einstellung!$B$4)+1,\"\"))","v":7},""]
[null,null,null,null,null,null,null,null,null,null,null,null,null,null,null,null,null,"",{"$f":"IF(B87=\"\",\"\",IF(R87<5,INT((A87-1)/Einstellung!$B$4)+1,\"\"))","v":""},""]
[null,null,null,null,null,null,null,null,null,null,null,null,null,null,null,null,null,"",{"$f":"IF(B88=\"\",\"\",IF(R88<5,INT((A88-1)/Einstellung!$B$4)+1,\"\"))","v":""},""]
[null,null,null,null,null,null,null,null,null,null,null,null,null,null,null,null,null,"",{"$f":"IF(B89=\"\",\"\",IF(R89<5,INT((A89-1)/Einstellung!$B$4)+1,\"\"))","v":""},""]
[null,null,null,null,null,null,null,null,null,null,null,null,null,null,null,null,null,"",{"$f":"IF(B90=\"\",\"\",IF(R90<5,INT((A90-1)/Einstellung!$B$4)+1,\"\"))","v":""},""]
[null,null,null,null,null,null,null,null,null,null,null,null,null,null,null,null,null,"",{"$f":"IF(B91=\"\",\"\",IF(R91<5,INT((A91-1)/Einstellung!$B$4)+1,\"\"))","v":""},""]
[null,null,null,null,null,null,null,null,null,null,null,null,null,null,null,null,null,"",{"$f":"IF(B92=\"\",\"\",IF(R92<5,INT((A92-1)/Einstellung!$B$4)+1,\"\"))","v":""},""]
[null,null,null,null,null,null,null,null,null,null,null,null,null,null,null,null,null,"",{"$f":"IF(B93=\"\",\"\",IF(R93<5,INT((A93-1)/Einstellung!$B$4)+1,\"\"))","v":""},""]
[null,null,null,null,null,null,null,null,null,null,null,null,null,null,null,null,null,"",{"$f":"IF(B94=\"\",\"\",IF(R94<5,INT((A94-1)/Einstellung!$B$4)+1,\"\"))","v":""},""]
[null,null,null,null,null,null,null,null,null,null,null,null,null,null,null,null,null,"",{"$f":"IF(B95=\"\",\"\",IF(R95<5,INT((A95-1)/Einstellung!$B$4)+1,\"\"))","v":""},""]
[null,null,null,null,null,null,null,null,null,null,null,null,null,null,null,null,null,"",{"$f":"IF(B96=\"\",\"\",IF(R96<5,INT((A96-1)/Einstellung!$B$4)+1,\"\"))","v":""},""]
[null,null,null,null,null,null,null,null,null,null,null,null,null,null,null,null,null,"",{"$f":"IF(B97=\"\",\"\",IF(R97<5,INT((A97-1)/Einstellung!$B$4)+1,\"\"))","v":""},""]
[null,null,null,null,null,null,null,null,null,null,null,null,null,null,null,null,null,"",{"$f":"IF(B98=\"\",\"\",IF(R98<5,INT((A98-1)/Einstellung!$B$4)+1,\"\"))","v":""},""]
[null,null,null,null,null,null,null,null,null,null,null,null,null,null,null,null,null,"",{"$f":"IF(B99=\"\",\"\",IF(R99<5,INT((A99-1)/Einstellung!$B$4)+1,\"\"))","v":""},""]
[null,null,null,null,null,null,null,null,null,null,null,null,null,null,null,null,null,"",{"$f":"IF(B100=\"\",\"\",IF(R100<5,INT((A100-1)/Einstellung!$B$4)+1,\"\"))","v":""},""]
[null,null,null,null,null,null,null,null,null,null,null,null,null,null,null,null,null,"",{"$f":"IF(B101=\"\",\"\",IF(R101<5,INT((A101-1)/Einstellung!$B$4)+1,\"\"))","v":""},""]
[null,null,null,null,null,null,null,null,null,null,null,null,null,null,null,null,null,"",{"$f":"IF(B102=\"\",\"\",IF(R102<5,INT((A102-1)/Einstellung!$B$4)+1,\"\"))","v":""},""]
[null,null,null,null,null,null,null,null,null,null,null,null,null,null,null,null,null,"",{"$f":"IF(B103=\"\",\"\",IF(R103<5,INT((A103-1)/Einstellung!$B$4)+1,\"\"))","v":""},""]
[null,null,null,null,null,null,null,null,null,null,null,null,null,null,null,null,null,"",{"$f":"IF(B104=\"\",\"\",IF(R104<5,INT((A104-1)/Einstellung!$B$4)+1,\"\"))","v":""},""]
[null,null,null,null,null,null,null,null,null,null,null,null,null,null,null,null,null,"",{"$f":"IF(B105=\"\",\"\",IF(R105<5,INT((A105-1)/Einstellung!$B$4)+1,\"\"))","v":""},""]
[null,null,null,null,null,null,null,null,null,null,null,null,null,null,null,null,null,"",{"$f":"IF(B106=\"\",\"\",IF(R106<5,INT((A106-1)/Einstellung!$B$4)+1,\"\"))","v":""},""]
[null,null,null,null,null,null,null,null,null,null,null,null,null,null,null,null,null,"",{"$f":"IF(B107=\"\",\"\",IF(R107<5,INT((A107-1)/Einstellung!$B$4)+1,\"\"))","v":""},""]
[null,null,null,null,null,null,null,null,null,null,null,null,null,null,null,null,null,"",{"$f":"IF(B108=\"\",\"\",IF(R108<5,INT((A108-1)/Einstellung!$B$4)+1,\"\"))","v":""},""]
[null,null,null,null,null,null,null,null,null,null,null,null,null,null,null,null,null,"",{"$f":"IF(B109=\"\",\"\",IF(R109<5,INT((A109-1)/Einstellung!$B$4)+1,\"\"))","v":""},""]
[null,null,null,null,null,null,null,null,null,null,null,null,null,null,null,null,null,"",{"$f":"IF(B110=\"\",\"\",IF(R110<5,INT((A110-1)/Einstellung!$B$4)+1,\"\"))","v":""},""]
[null,null,null,null,null,null,null,null,null,null,null,null,null,null,null,null,null,"",{"$f":"IF(B111=\"\",\"\",IF(R111<5,INT((A111-1)/Einstellung!$B$4)+1,\"\"))","v":""},""]
[null,null,null,null,null,null,null,null,null,null,null,null,null,null,null,null,null,"",{"$f":"IF(B112=\"\",\"\",IF(R112<5,INT((A112-1)/Einstellung!$B$4)+1,\"\"))","v":""},""]
[null,null,null,null,null,null,null,null,null,null,null,null,null,null,null,null,null,"",{"$f":"IF(B113=\"\",\"\",IF(R113<5,INT((A113-1)/Einstellung!$B$4)+1,\"\"))","v":""},""]
[null,null,null,null,null,null,null,null,null,null,null,null,null,null,null,null,null,"",{"$f":"IF(B114=\"\",\"\",IF(R114<5,INT((A114-1)/Einstellung!$B$4)+1,\"\"))","v":""},""]
[null,null,null,null,null,null,null,null,null,null,null,null,null,null,null,null,null,"",{"$f":"IF(B115=\"\",\"\",IF(R115<5,INT((A115-1)/Einstellung!$B$4)+1,\"\"))","v":""},""]
[null,null,null,null,null,null,null,null,null,null,null,null,null,null,null,null,null,"",{"$f":"IF(B116=\"\",\"\",IF(R116<5,INT((A116-1)/Einstellung!$B$4)+1,\"\"))","v":""},""]
[null,null,null,null,null,null,null,null,null,null,null,null,null,null,null,null,null,"",{"$f":"IF(B117=\"\",\"\",IF(R117<5,INT((A117-1)/Einstellung!$B$4)+1,\"\"))","v":""},""]
[null,null,null,null,null,null,null,null,null,null,null,null,null,null,null,null,null,"",{"$f":"IF(B118=\"\",\"\",IF(R118<5,INT((A118-1)/Einstellung!$B$4)+1,\"\"))","v":""},""]
[null,null,null,null,null,null,null,null,null,null,null,null,null,null,null,null,null,"",{"$f":"IF(B119=\"\",\"\",IF(R119<5,INT((A119-1)/Einstellung!$B$4)+1,\"\"))","v":""},""]
[null,null,null,null,null,null,null,null,null,null,null,null,null,null,null,null,null,"",{"$f":"IF(B120=\"\",\"\",IF(R120<5,INT((A120-1)/Einstellung!$B$4)+1,\"\"))","v":""},""]
[null,null,null,null,null,null,null,null,null,null,null,null,null,null,null,null,null,"",{"$f":"IF(B121=\"\",\"\",IF(R121<5,INT((A121-1)/Einstellung!$B$4)+1,\"\"))","v":""},""]
[null,null,null,null,null,null,null,null,null,null,null,null,null,null,null,null,null,"",{"$f":"IF(B122=\"\",\"\",IF(R122<5,INT((A122-1)/Einstellung!$B$4)+1,\"\"))","v":""},""]
[null,null,null,null,null,null,null,null,null,null,null,null,null,null,null,null,null,"",{"$f":"IF(B123=\"\",\"\",IF(R123<5,INT((A123-1)/Einstellung!$B$4)+1,\"\"))","v":""},""]
[null,null,null,null,null,null,null,null,null,null,null,null,null,null,null,null,null,"",{"$f":"IF(B124=\"\",\"\",IF(R124<5,INT((A124-1)/Einstellung!$B$4)+1,\"\"))","v":""},""]
[null,null,null,null,null,null,null,null,null,null,null,null,null,null,null,null,null,"",{"$f":"IF(B125=\"\",\"\",IF(R125<5,INT((A125-1)/Einstellung!$B$4)+1,\"\"))","v":""},""]
[null,null,null,null,null,null,null,null,null,null,null,null,null,null,null,null,null,"",{"$f":"IF(B126=\"\",\"\",IF(R126<5,INT((A126-1)/Einstellung!$B$4)+1,\"\"))","v":""},""]
[null,null,null,null,null,null,null,null,null,null,null,null,null,null,null,null,null,"",{"$f":"IF(B127=\"\",\"\",IF(R127<5,INT((A127-1)/Einstellung!$B$4)+1,\"\"))","v":""},""]
[null,null,null,null,null,null,null,null,null,null,null,null,null,null,null,null,null,"",{"$f":"IF(B128=\"\",\"\",IF(R128<5,INT((A128-1)/Einstellung!$B$4)+1,\"\"))","v":""},""]
[null,null,null,null,null,null,null,null,null,null,null,null,null,null,null,null,null,"",{"$f":"IF(B129=\"\",\"\",IF(R129<5,INT((A129-1)/Einstellung!$B$4)+1,\"\"))","v":""},""]
[null,null,null,null,null,null,null,null,null,null,null,null,null,null,null,null,null,"",{"$f":"IF(B130=\"\",\"\",IF(R130<5,INT((A130-1)/Einstellung!$B$4)+1,\"\"))","v":""},""]
[null,null,null,null,null,null,null,null,null,null,null,null,null,null,null,null,null,"",{"$f":"IF(B131=\"\",\"\",IF(R131<5,INT((A131-1)/Einstellung!$B$4)+1,\"\"))","v":""},""]
[null,null,null,null,null,null,null,null,null,null,null,null,null,null,null,null,null,"",{"$f":"IF(B132=\"\",\"\",IF(R132<5,INT((A132-1)/Einstellung!$B$4)+1,\"\"))","v":""},""]
[null,null,null,null,null,null,null,null,null,null,null,null,null,null,null,null,null,"",{"$f":"IF(B133=\"\",\"\",IF(R133<5,INT((A133-1)/Einstellung!$B$4)+1,\"\"))","v":""},""]
[null,null,null,null,null,null,null,null,null,null,null,null,null,null,null,null,null,"",{"$f":"IF(B134=\"\",\"\",IF(R134<5,INT((A134-1)/Einstellung!$B$4)+1,\"\"))","v":""},""]
[null,null,null,null,null,null,null,null,null,null,null,null,null,null,null,null,null,"",{"$f":"IF(B135=\"\",\"\",IF(R135<5,INT((A135-1)/Einstellung!$B$4)+1,\"\"))","v":""},""]
[null,null,null,null,null,null,null,null,null,null,null,null,null,null,null,null,null,{"$f":"IF(B136=\"\",\"\",16-((MID(B$1,1,1)=MID(B136,1,1))+(MID(C$1,1,1)=MID(C136,1,1))+(MID(D$1,1,1)=MID(D136,1,1))+(MID(E$1,1,1)=MID(E136,1,1))+(MID(F$1,1,1)=MID(F136,1,1))+(MID(G$1,1,1)=MID(G136,1,1))+(MID(H$1,1,1)=MID(H136,1,1))+(MID(I$1,1,1)=MID(I136,1,1))+(MID(J$1,1,1)=MID(J136,1,1))+(MID(K$1,1,1)=MID(K136,1,1))+(MID(L$1,1,1)=MID(L136,1,1))+(MID(M$1,1,1)=MID(M136,1,1))+(MID(N$1,1,1)=MID(N136,1,1))+(MID(O$1,1,1)=MID(O136,1,1))+(MID(P$1,1,1)=MID(P136,1,1)))-B$4+C$5)","v":""},{"$f":"IF(B136=\"\",\"\",IF(R136<5,INT((A136-1)/Einstellung!$B$4)+1,\"\"))","v":""},{"$f":"IF(C$5<B$4,\"\",IF(R136>4,\"\",OFFSET(T$2,R136-1,0)))","v":""}]
[null,null,null,null,null,null,null,null,null,null,null,null,null,null,null,null,null,"",{"$f":"IF(B137=\"\",\"\",IF(R137<5,INT((A137-1)/Einstellung!$B$4)+1,\"\"))","v":""},""]
[null,null,null,null,null,null,null,null,null,null,null,null,null,null,null,null,null,"",{"$f":"IF(B138=\"\",\"\",IF(R138<5,INT((A138-1)/Einstellung!$B$4)+1,\"\"))","v":""},""]
[null,null,null,null,null,null,null,null,null,null,null,null,null,null,null,null,null,"",{"$f":"IF(B139=\"\",\"\",IF(R139<5,INT((A139-1)/Einstellung!$B$4)+1,\"\"))","v":""},""]
[null,null,null,null,null,null,null,null,null,null,null,null,null,null,null,null,null,"",{"$f":"IF(B140=\"\",\"\",IF(R140<5,INT((A140-1)/Einstellung!$B$4)+1,\"\"))","v":""},""]
[null,null,null,null,null,null,null,null,null,null,null,null,null,null,null,null,null,"",{"$f":"IF(B141=\"\",\"\",IF(R141<5,INT((A141-1)/Einstellung!$B$4)+1,\"\"))","v":""},""]
[null,null,null,null,null,null,null,null,null,null,null,null,null,null,null,null,null,"",{"$f":"IF(B142=\"\",\"\",IF(R142<5,INT((A142-1)/Einstellung!$B$4)+1,\"\"))","v":""},""]
[null,null,null,null,null,null,null,null,null,null,null,null,null,null,null,null,null,"",{"$f":"IF(B143=\"\",\"\",IF(R143<5,INT((A143-1)/Einstellung!$B$4)+1,\"\"))","v":""},""]
[null,null,null,null,null,null,null,null,null,null,null,null,null,null,null,null,null,"",{"$f":"IF(B144=\"\",\"\",IF(R144<5,INT((A144-1)/Einstellung!$B$4)+1,\"\"))","v":""},""]
[null,null,null,null,null,null,null,null,null,null,null,null,null,null,null,null,null,"",{"$f":"IF(B145=\"\",\"\",IF(R145<5,INT((A145-1)/Einstellung!$B$4)+1,\"\"))","v":""},""]
[null,null,null,null,null,null,null,null,null,null,null,null,null,null,null,null,null,"",{"$f":"IF(B146=\"\",\"\",IF(R146<5,INT((A146-1)/Einstellung!$B$4)+1,\"\"))","v":""},""]
[null,null,null,null,null,null,null,null,null,null,null,null,null,null,null,null,null,"",{"$f":"IF(B147=\"\",\"\",IF(R147<5,INT((A147-1)/Einstellung!$B$4)+1,\"\"))","v":""},""]
[null,null,null,null,null,null,null,null,null,null,null,null,null,null,null,null,null,"",{"$f":"IF(B148=\"\",\"\",IF(R148<5,INT((A148-1)/Einstellung!$B$4)+1,\"\"))","v":""},""]
[null,null,null,null,null,null,null,null,null,null,null,null,null,null,null,null,null,"",{"$f":"IF(B149=\"\",\"\",IF(R149<5,INT((A149-1)/Einstellung!$B$4)+1,\"\"))","v":""},""]
[null,null,null,null,null,null,null,null,null,null,null,null,null,null,null,null,null,"",{"$f":"IF(B150=\"\",\"\",IF(R150<5,INT((A150-1)/Einstellung!$B$4)+1,\"\"))","v":""},""]
[null,null,null,null,null,null,null,null,null,null,null,null,null,null,null,null,null,"",{"$f":"IF(B151=\"\",\"\",IF(R151<5,INT((A151-1)/Einstellung!$B$4)+1,\"\"))","v":""},""]
[null,null,null,null,null,null,null,null,null,null,null,null,null,null,null,null,null,"",{"$f":"IF(B152=\"\",\"\",IF(R152<5,INT((A152-1)/Einstellung!$B$4)+1,\"\"))","v":""},""]
[null,null,null,null,null,null,null,null,null,null,null,null,null,null,null,null,null,"",{"$f":"IF(B153=\"\",\"\",IF(R153<5,INT((A153-1)/Einstellung!$B$4)+1,\"\"))","v":""},""]
[null,null,null,null,null,null,null,null,null,null,null,null,null,null,null,null,null,"",{"$f":"IF(B154=\"\",\"\",IF(R154<5,INT((A154-1)/Einstellung!$B$4)+1,\"\"))","v":""},""]
[null,null,null,null,null,null,null,null,null,null,null,null,null,null,null,null,null,"",{"$f":"IF(B155=\"\",\"\",IF(R155<5,INT((A155-1)/Einstellung!$B$4)+1,\"\"))","v":""},""]
[null,null,null,null,null,null,null,null,null,null,null,null,null,null,null,null,null,"",{"$f":"IF(B156=\"\",\"\",IF(R156<5,INT((A156-1)/Einstellung!$B$4)+1,\"\"))","v":""},""]
[null,null,null,null,null,null,null,null,null,null,null,null,null,null,null,null,null,"",{"$f":"IF(B157=\"\",\"\",IF(R157<5,INT((A157-1)/Einstellung!$B$4)+1,\"\"))","v":""},""]
[null,null,null,null,null,null,null,null,null,null,null,null,null,null,null,null,null,"",{"$f":"IF(B158=\"\",\"\",IF(R158<5,INT((A158-1)/Einstellung!$B$4)+1,\"\"))","v":""},""]
[null,null,null,null,null,null,null,null,null,null,null,null,null,null,null,null,null,"",{"$f":"IF(B159=\"\",\"\",IF(R159<5,INT((A159-1)/Einstellung!$B$4)+1,\"\"))","v":""},""]
[null,null,null,null,null,null,null,null,null,null,null,null,null,null,null,null,null,"",{"$f":"IF(B160=\"\",\"\",IF(R160<5,INT((A160-1)/Einstellung!$B$4)+1,\"\"))","v":""},""]
[null,null,null,null,null,null,null,null,null,null,null,null,null,null,null,null,null,"",{"$f":"IF(B161=\"\",\"\",IF(R161<5,INT((A161-1)/Einstellung!$B$4)+1,\"\"))","v":""},""]
[null,null,null,null,null,null,null,null,null,null,null,null,null,null,null,null,null,"",{"$f":"IF(B162=\"\",\"\",IF(R162<5,INT((A162-1)/Einstellung!$B$4)+1,\"\"))","v":""},""]
[null,null,null,null,null,null,null,null,null,null,null,null,null,null,null,null,null,"",{"$f":"IF(B163=\"\",\"\",IF(R163<5,INT((A163-1)/Einstellung!$B$4)+1,\"\"))","v":""},""]
[null,null,null,null,null,null,null,null,null,null,null,null,null,null,null,null,null,"",{"$f":"IF(B164=\"\",\"\",IF(R164<5,INT((A164-1)/Einstellung!$B$4)+1,\"\"))","v":""},""]
[null,null,null,null,null,null,null,null,null,null,null,null,null,null,null,null,null,"",{"$f":"IF(B165=\"\",\"\",IF(R165<5,INT((A165-1)/Einstellung!$B$4)+1,\"\"))","v":""},""]
[null,null,null,null,null,null,null,null,null,null,null,null,null,null,null,null,null,"",{"$f":"IF(B166=\"\",\"\",IF(R166<5,INT((A166-1)/Einstellung!$B$4)+1,\"\"))","v":""},""]
[null,null,null,null,null,null,null,null,null,null,null,null,null,null,null,null,null,"",{"$f":"IF(B167=\"\",\"\",IF(R167<5,INT((A167-1)/Einstellung!$B$4)+1,\"\"))","v":""},""]
[null,null,null,null,null,null,null,null,null,null,null,null,null,null,null,null,null,"",{"$f":"IF(B168=\"\",\"\",IF(R168<5,INT((A168-1)/Einstellung!$B$4)+1,\"\"))","v":""},""]
[null,null,null,null,null,null,null,null,null,null,null,null,null,null,null,null,null,"",{"$f":"IF(B169=\"\",\"\",IF(R169<5,INT((A169-1)/Einstellung!$B$4)+1,\"\"))","v":""},""]
[null,null,null,null,null,null,null,null,null,null,null,null,null,null,null,null,null,"",{"$f":"IF(B170=\"\",\"\",IF(R170<5,INT((A170-1)/Einstellung!$B$4)+1,\"\"))","v":""},""]
[null,null,null,null,null,null,null,null,null,null,null,null,null,null,null,null,null,"",{"$f":"IF(B171=\"\",\"\",IF(R171<5,INT((A171-1)/Einstellung!$B$4)+1,\"\"))","v":""},""]
[null,null,null,null,null,null,null,null,null,null,null,null,null,null,null,null,null,"",{"$f":"IF(B172=\"\",\"\",IF(R172<5,INT((A172-1)/Einstellung!$B$4)+1,\"\"))","v":""},""]
[null,null,null,null,null,null,null,null,null,null,null,null,null,null,null,null,null,"",{"$f":"IF(B173=\"\",\"\",IF(R173<5,INT((A173-1)/Einstellung!$B$4)+1,\"\"))","v":""},""]
[null,null,null,null,null,null,null,null,null,null,null,null,null,null,null,null,null,"",{"$f":"IF(B174=\"\",\"\",IF(R174<5,INT((A174-1)/Einstellung!$B$4)+1,\"\"))","v":""},""]
[null,null,null,null,null,null,null,null,null,null,null,null,null,null,null,null,null,"",{"$f":"IF(B175=\"\",\"\",IF(R175<5,INT((A175-1)/Einstellung!$B$4)+1,\"\"))","v":""},""]
[null,null,null,null,null,null,null,null,null,null,null,null,null,null,null,null,null,"",{"$f":"IF(B176=\"\",\"\",IF(R176<5,INT((A176-1)/Einstellung!$B$4)+1,\"\"))","v":""},""]
[null,null,null,null,null,null,null,null,null,null,null,null,null,null,null,null,null,"",{"$f":"IF(B177=\"\",\"\",IF(R177<5,INT((A177-1)/Einstellung!$B$4)+1,\"\"))","v":""},""]
[null,null,null,null,null,null,null,null,null,null,null,null,null,null,null,null,null,"",{"$f":"IF(B178=\"\",\"\",IF(R178<5,INT((A178-1)/Einstellung!$B$4)+1,\"\"))","v":""},""]
[null,null,null,null,null,null,null,null,null,null,null,null,null,null,null,null,null,"",{"$f":"IF(B179=\"\",\"\",IF(R179<5,INT((A179-1)/Einstellung!$B$4)+1,\"\"))","v":""},""]
[null,null,null,null,null,null,null,null,null,null,null,null,null,null,null,null,null,"",{"$f":"IF(B180=\"\",\"\",IF(R180<5,INT((A180-1)/Einstellung!$B$4)+1,\"\"))","v":""},""]
[null,null,null,null,null,null,null,null,null,null,null,null,null,null,null,null,null,"",{"$f":"IF(B181=\"\",\"\",IF(R181<5,INT((A181-1)/Einstellung!$B$4)+1,\"\"))","v":""},""]
[null,null,null,null,null,null,null,null,null,null,null,null,null,null,null,null,null,"",{"$f":"IF(B182=\"\",\"\",IF(R182<5,INT((A182-1)/Einstellung!$B$4)+1,\"\"))","v":""},""]
[null,null,null,null,null,null,null,null,null,null,null,null,null,null,null,null,null,"",{"$f":"IF(B183=\"\",\"\",IF(R183<5,INT((A183-1)/Einstellung!$B$4)+1,\"\"))","v":""},""]
[null,null,null,null,null,null,null,null,null,null,null,null,null,null,null,null,null,"",{"$f":"IF(B184=\"\",\"\",IF(R184<5,INT((A184-1)/Einstellung!$B$4)+1,\"\"))","v":""},""]
[null,null,null,null,null,null,null,null,null,null,null,null,null,null,null,null,null,"",{"$f":"IF(B185=\"\",\"\",IF(R185<5,INT((A185-1)/Einstellung!$B$4)+1,\"\"))","v":""},""]
[null,null,null,null,null,null,null,null,null,null,null,null,null,null,null,null,null,"",{"$f":"IF(B186=\"\",\"\",IF(R186<5,INT((A186-1)/Einstellung!$B$4)+1,\"\"))","v":""},""]
[null,null,null,null,null,null,null,null,null,null,null,null,null,null,null,null,null,"",{"$f":"IF(B187=\"\",\"\",IF(R187<5,INT((A187-1)/Einstellung!$B$4)+1,\"\"))","v":""},""]
[null,null,null,null,null,null,null,null,null,null,null,null,null,null,null,null,null,"",{"$f":"IF(B188=\"\",\"\",IF(R188<5,INT((A188-1)/Einstellung!$B$4)+1,\"\"))","v":""},""]
[null,null,null,null,null,null,null,null,null,null,null,null,null,null,null,null,null,"",{"$f":"IF(B189=\"\",\"\",IF(R189<5,INT((A189-1)/Einstellung!$B$4)+1,\"\"))","v":""},""]
[null,null,null,null,null,null,null,null,null,null,null,null,null,null,null,null,null,"",{"$f":"IF(B190=\"\",\"\",IF(R190<5,INT((A190-1)/Einstellung!$B$4)+1,\"\"))","v":""},""]
[null,null,null,null,null,null,null,null,null,null,null,null,null,null,null,null,null,"",{"$f":"IF(B191=\"\",\"\",IF(R191<5,INT((A191-1)/Einstellung!$B$4)+1,\"\"))","v":""},""]
[null,null,null,null,null,null,null,null,null,null,null,null,null,null,null,null,null,"",{"$f":"IF(B192=\"\",\"\",IF(R192<5,INT((A192-1)/Einstellung!$B$4)+1,\"\"))","v":""},""]
[null,null,null,null,null,null,null,null,null,null,null,null,null,null,null,null,null,"",{"$f":"IF(B193=\"\",\"\",IF(R193<5,INT((A193-1)/Einstellung!$B$4)+1,\"\"))","v":""},""]
[null,null,null,null,null,null,null,null,null,null,null,null,null,null,null,null,null,"",{"$f":"IF(B194=\"\",\"\",IF(R194<5,INT((A194-1)/Einstellung!$B$4)+1,\"\"))","v":""},""]
[null,null,null,null,null,null,null,null,null,null,null,null,null,null,null,null,null,"",{"$f":"IF(B195=\"\",\"\",IF(R195<5,INT((A195-1)/Einstellung!$B$4)+1,\"\"))","v":""},""]
[null,null,null,null,null,null,null,null,null,null,null,null,null,null,null,null,null,"",{"$f":"IF(B196=\"\",\"\",IF(R196<5,INT((A196-1)/Einstellung!$B$4)+1,\"\"))","v":""},""]
[null,null,null,null,null,null,null,null,null,null,null,null,null,null,null,null,null,"",{"$f":"IF(B197=\"\",\"\",IF(R197<5,INT((A197-1)/Einstellung!$B$4)+1,\"\"))","v":""},""]
[null,null,null,null,null,null,null,null,null,null,null,null,null,null,null,null,null,"",{"$f":"IF(B198=\"\",\"\",IF(R198<5,INT((A198-1)/Einstellung!$B$4)+1,\"\"))","v":""},""]
[null,null,null,null,null,null,null,null,null,null,null,null,null,null,null,null,null,"",{"$f":"IF(B199=\"\",\"\",IF(R199<5,INT((A199-1)/Einstellung!$B$4)+1,\"\"))","v":""},""]
[null,null,null,null,null,null,null,null,null,null,null,null,null,null,null,null,null,{"$f":"IF(B200=\"\",\"\",16-((MID(B$1,1,1)=MID(B200,1,1))+(MID(C$1,1,1)=MID(C200,1,1))+(MID(D$1,1,1)=MID(D200,1,1))+(MID(E$1,1,1)=MID(E200,1,1))+(MID(F$1,1,1)=MID(F200,1,1))+(MID(G$1,1,1)=MID(G200,1,1))+(MID(H$1,1,1)=MID(H200,1,1))+(MID(I$1,1,1)=MID(I200,1,1))+(MID(J$1,1,1)=MID(J200,1,1))+(MID(K$1,1,1)=MID(K200,1,1))+(MID(L$1,1,1)=MID(L200,1,1))+(MID(M$1,1,1)=MID(M200,1,1))+(MID(N$1,1,1)=MID(N200,1,1))+(MID(O$1,1,1)=MID(O200,1,1))+(MID(P$1,1,1)=MID(P200,1,1)))-B$4+C$5)","v":""},{"$f":"IF(B200=\"\",\"\",IF(R200<5,INT((A200-1)/Einstellung!$B$4)+1,\"\"))","v":""},{"$f":"IF(C$5<B$4,\"\",IF(R200>4,\"\",OFFSET(T$2,R200-1,0)))","v":""}]
[null,null,null,null,null,null,null,null,null,null,null,null,null,null,null,null,null,"",{"$f":"IF(B201=\"\",\"\",IF(R201<5,INT((A201-1)/Einstellung!$B$4)+1,\"\"))","v":""},""]
[null,null,null,null,null,null,null,null,null,null,null,null,null,null,null,null,null,"",{"$f":"IF(B202=\"\",\"\",IF(R202<5,INT((A202-1)/Einstellung!$B$4)+1,\"\"))","v":""},""]
[null,null,null,null,null,null,null,null,null,null,null,null,null,null,null,null,null,"",{"$f":"IF(B203=\"\",\"\",IF(R203<5,INT((A203-1)/Einstellung!$B$4)+1,\"\"))","v":""},""]
[null,null,null,null,null,null,null,null,null,null,null,null,null,null,null,null,null,"",{"$f":"IF(B204=\"\",\"\",IF(R204<5,INT((A204-1)/Einstellung!$B$4)+1,\"\"))","v":""},""]
[null,null,null,null,null,null,null,null,null,null,null,null,null,null,null,null,null,"",{"$f":"IF(B205=\"\",\"\",IF(R205<5,INT((A205-1)/Einstellung!$B$4)+1,\"\"))","v":""},""]
[null,null,null,null,null,null,null,null,null,null,null,null,null,null,null,null,null,"",{"$f":"IF(B206=\"\",\"\",IF(R206<5,INT((A206-1)/Einstellung!$B$4)+1,\"\"))","v":""},""]
[null,null,null,null,null,null,null,null,null,null,null,null,null,null,null,null,null,"",{"$f":"IF(B207=\"\",\"\",IF(R207<5,INT((A207-1)/Einstellung!$B$4)+1,\"\"))","v":""},""]
[null,null,null,null,null,null,null,null,null,null,null,null,null,null,null,null,null,"",{"$f":"IF(B208=\"\",\"\",IF(R208<5,INT((A208-1)/Einstellung!$B$4)+1,\"\"))","v":""},""]
[null,null,null,null,null,null,null,null,null,null,null,null,null,null,null,null,null,"",{"$f":"IF(B209=\"\",\"\",IF(R209<5,INT((A209-1)/Einstellung!$B$4)+1,\"\"))","v":""},""]
[null,null,null,null,null,null,null,null,null,null,null,null,null,null,null,null,null,"",{"$f":"IF(B210=\"\",\"\",IF(R210<5,INT((A210-1)/Einstellung!$B$4)+1,\"\"))","v":""},""]
[null,null,null,null,null,null,null,null,null,null,null,null,null,null,null,null,null,"",{"$f":"IF(B211=\"\",\"\",IF(R211<5,INT((A211-1)/Einstellung!$B$4)+1,\"\"))","v":""},""]
[null,null,null,null,null,null,null,null,null,null,null,null,null,null,null,null,null,"",{"$f":"IF(B212=\"\",\"\",IF(R212<5,INT((A212-1)/Einstellung!$B$4)+1,\"\"))","v":""},""]
[null,null,null,null,null,null,null,null,null,null,null,null,null,null,null,null,null,"",{"$f":"IF(B213=\"\",\"\",IF(R213<5,INT((A213-1)/Einstellung!$B$4)+1,\"\"))","v":""},""]
[null,null,null,null,null,null,null,null,null,null,null,null,null,null,null,null,null,"",{"$f":"IF(B214=\"\",\"\",IF(R214<5,INT((A214-1)/Einstellung!$B$4)+1,\"\"))","v":""},""]
[null,null,null,null,null,null,null,null,null,null,null,null,null,null,null,null,null,"",{"$f":"IF(B215=\"\",\"\",IF(R215<5,INT((A215-1)/Einstellung!$B$4)+1,\"\"))","v":""},""]
[null,null,null,null,null,null,null,null,null,null,null,null,null,null,null,null,null,"",{"$f":"IF(B216=\"\",\"\",IF(R216<5,INT((A216-1)/Einstellung!$B$4)+1,\"\"))","v":""},""]
[null,null,null,null,null,null,null,null,null,null,null,null,null,null,null,null,null,"",{"$f":"IF(B217=\"\",\"\",IF(R217<5,INT((A217-1)/Einstellung!$B$4)+1,\"\"))","v":""},""]
[null,null,null,null,null,null,null,null,null,null,null,null,null,null,null,null,null,"",{"$f":"IF(B218=\"\",\"\",IF(R218<5,INT((A218-1)/Einstellung!$B$4)+1,\"\"))","v":""},""]
[null,null,null,null,null,null,null,null,null,null,null,null,null,null,null,null,null,"",{"$f":"IF(B219=\"\",\"\",IF(R219<5,INT((A219-1)/Einstellung!$B$4)+1,\"\"))","v":""},""]
[null,null,null,null,null,null,null,null,null,null,null,null,null,null,null,null,null,"",{"$f":"IF(B220=\"\",\"\",IF(R220<5,INT((A220-1)/Einstellung!$B$4)+1,\"\"))","v":""},""]
[null,null,null,null,null,null,null,null,null,null,null,null,null,null,null,null,null,"",{"$f":"IF(B221=\"\",\"\",IF(R221<5,INT((A221-1)/Einstellung!$B$4)+1,\"\"))","v":""},""]
[null,null,null,null,null,null,null,null,null,null,null,null,null,null,null,null,null,"",{"$f":"IF(B222=\"\",\"\",IF(R222<5,INT((A222-1)/Einstellung!$B$4)+1,\"\"))","v":""},""]
[null,null,null,null,null,null,null,null,null,null,null,null,null,null,null,null,null,"",{"$f":"IF(B223=\"\",\"\",IF(R223<5,INT((A223-1)/Einstellung!$B$4)+1,\"\"))","v":""},""]
[null,null,null,null,null,null,null,null,null,null,null,null,null,null,null,null,null,"",{"$f":"IF(B224=\"\",\"\",IF(R224<5,INT((A224-1)/Einstellung!$B$4)+1,\"\"))","v":""},""]
[null,null,null,null,null,null,null,null,null,null,null,null,null,null,null,null,null,"",{"$f":"IF(B225=\"\",\"\",IF(R225<5,INT((A225-1)/Einstellung!$B$4)+1,\"\"))","v":""},""]
[null,null,null,null,null,null,null,null,null,null,null,null,null,null,null,null,null,"",{"$f":"IF(B226=\"\",\"\",IF(R226<5,INT((A226-1)/Einstellung!$B$4)+1,\"\"))","v":""},""]
[null,null,null,null,null,null,null,null,null,null,null,null,null,null,null,null,null,"",{"$f":"IF(B227=\"\",\"\",IF(R227<5,INT((A227-1)/Einstellung!$B$4)+1,\"\"))","v":""},""]
[null,null,null,null,null,null,null,null,null,null,null,null,null,null,null,null,null,"",{"$f":"IF(B228=\"\",\"\",IF(R228<5,INT((A228-1)/Einstellung!$B$4)+1,\"\"))","v":""},""]
[null,null,null,null,null,null,null,null,null,null,null,null,null,null,null,null,null,"",{"$f":"IF(B229=\"\",\"\",IF(R229<5,INT((A229-1)/Einstellung!$B$4)+1,\"\"))","v":""},""]
[null,null,null,null,null,null,null,null,null,null,null,null,null,null,null,null,null,"",{"$f":"IF(B230=\"\",\"\",IF(R230<5,INT((A230-1)/Einstellung!$B$4)+1,\"\"))","v":""},""]
[null,null,null,null,null,null,null,null,null,null,null,null,null,null,null,null,null,"",{"$f":"IF(B231=\"\",\"\",IF(R231<5,INT((A231-1)/Einstellung!$B$4)+1,\"\"))","v":""},""]
[null,null,null,null,null,null,null,null,null,null,null,null,null,null,null,null,null,"",{"$f":"IF(B232=\"\",\"\",IF(R232<5,INT((A232-1)/Einstellung!$B$4)+1,\"\"))","v":""},""]
[null,null,null,null,null,null,null,null,null,null,null,null,null,null,null,null,null,"",{"$f":"IF(B233=\"\",\"\",IF(R233<5,INT((A233-1)/Einstellung!$B$4)+1,\"\"))","v":""},""]
[null,null,null,null,null,null,null,null,null,null,null,null,null,null,null,null,null,"",{"$f":"IF(B234=\"\",\"\",IF(R234<5,INT((A234-1)/Einstellung!$B$4)+1,\"\"))","v":""},""]
[null,null,null,null,null,null,null,null,null,null,null,null,null,null,null,null,null,"",{"$f":"IF(B235=\"\",\"\",IF(R235<5,INT((A235-1)/Einstellung!$B$4)+1,\"\"))","v":""},""]
[null,null,null,null,null,null,null,null,null,null,null,null,null,null,null,null,null,"",{"$f":"IF(B236=\"\",\"\",IF(R236<5,INT((A236-1)/Einstellung!$B$4)+1,\"\"))","v":""},""]
[null,null,null,null,null,null,null,null,null,null,null,null,null,null,null,null,null,"",{"$f":"IF(B237=\"\",\"\",IF(R237<5,INT((A237-1)/Einstellung!$B$4)+1,\"\"))","v":""},""]
[null,null,null,null,null,null,null,null,null,null,null,null,null,null,null,null,null,"",{"$f":"IF(B238=\"\",\"\",IF(R238<5,INT((A238-1)/Einstellung!$B$4)+1,\"\"))","v":""},""]
[null,null,null,null,null,null,null,null,null,null,null,null,null,null,null,null,null,"",{"$f":"IF(B239=\"\",\"\",IF(R239<5,INT((A239-1)/Einstellung!$B$4)+1,\"\"))","v":""},""]
[null,null,null,null,null,null,null,null,null,null,null,null,null,null,null,null,null,"",{"$f":"IF(B240=\"\",\"\",IF(R240<5,INT((A240-1)/Einstellung!$B$4)+1,\"\"))","v":""},""]
[null,null,null,null,null,null,null,null,null,null,null,null,null,null,null,null,null,"",{"$f":"IF(B241=\"\",\"\",IF(R241<5,INT((A241-1)/Einstellung!$B$4)+1,\"\"))","v":""},""]
[null,null,null,null,null,null,null,null,null,null,null,null,null,null,null,null,null,"",{"$f":"IF(B242=\"\",\"\",IF(R242<5,INT((A242-1)/Einstellung!$B$4)+1,\"\"))","v":""},""]
[null,null,null,null,null,null,null,null,null,null,null,null,null,null,null,null,null,"",{"$f":"IF(B243=\"\",\"\",IF(R243<5,INT((A243-1)/Einstellung!$B$4)+1,\"\"))","v":""},""]
[null,null,null,null,null,null,null,null,null,null,null,null,null,null,null,null,null,"",{"$f":"IF(B244=\"\",\"\",IF(R244<5,INT((A244-1)/Einstellung!$B$4)+1,\"\"))","v":""},""]
[null,null,null,null,null,null,null,null,null,null,null,null,null,null,null,null,null,"",{"$f":"IF(B245=\"\",\"\",IF(R245<5,INT((A245-1)/Einstellung!$B$4)+1,\"\"))","v":""},""]
[null,null,null,null,null,null,null,null,null,null,null,null,null,null,null,null,null,"",{"$f":"IF(B246=\"\",\"\",IF(R246<5,INT((A246-1)/Einstellung!$B$4)+1,\"\"))","v":""},""]
[null,null,null,null,null,null,null,null,null,null,null,null,null,null,null,null,null,"",{"$f":"IF(B247=\"\",\"\",IF(R247<5,INT((A247-1)/Einstellung!$B$4)+1,\"\"))","v":""},""]
[null,null,null,null,null,null,null,null,null,null,null,null,null,null,null,null,null,"",{"$f":"IF(B248=\"\",\"\",IF(R248<5,INT((A248-1)/Einstellung!$B$4)+1,\"\"))","v":""},""]
[null,null,null,null,null,null,null,null,null,null,null,null,null,null,null,null,null,"",{"$f":"IF(B249=\"\",\"\",IF(R249<5,INT((A249-1)/Einstellung!$B$4)+1,\"\"))","v":""},""]
[null,null,null,null,null,null,null,null,null,null,null,null,null,null,null,null,null,"",{"$f":"IF(B250=\"\",\"\",IF(R250<5,INT((A250-1)/Einstellung!$B$4)+1,\"\"))","v":""},""]
[null,null,null,null,null,null,null,null,null,null,null,null,null,null,null,null,null,"",{"$f":"IF(B251=\"\",\"\",IF(R251<5,INT((A251-1)/Einstellung!$B$4)+1,\"\"))","v":""},""]
[null,null,null,null,null,null,null,null,null,null,null,null,null,null,null,null,null,"",{"$f":"IF(B252=\"\",\"\",IF(R252<5,INT((A252-1)/Einstellung!$B$4)+1,\"\"))","v":""},""]
[null,null,null,null,null,null,null,null,null,null,null,null,null,null,null,null,null,"",{"$f":"IF(B253=\"\",\"\",IF(R253<5,INT((A253-1)/Einstellung!$B$4)+1,\"\"))","v":""},""]
[null,null,null,null,null,null,null,null,null,null,null,null,null,null,null,null,null,"",{"$f":"IF(B254=\"\",\"\",IF(R254<5,INT((A254-1)/Einstellung!$B$4)+1,\"\"))","v":""},""]
[null,null,null,null,null,null,null,null,null,null,null,null,null,null,null,null,null,"",{"$f":"IF(B255=\"\",\"\",IF(R255<5,INT((A255-1)/Einstellung!$B$4)+1,\"\"))","v":""},""]
[null,null,null,null,null,null,null,null,null,null,null,null,null,null,null,null,null,"",{"$f":"IF(B256=\"\",\"\",IF(R256<5,INT((A256-1)/Einstellung!$B$4)+1,\"\"))","v":""},""]
[null,null,null,null,null,null,null,null,null,null,null,null,null,null,null,null,null,"",{"$f":"IF(B257=\"\",\"\",IF(R257<5,INT((A257-1)/Einstellung!$B$4)+1,\"\"))","v":""},""]
[null,null,null,null,null,null,null,null,null,null,null,null,null,null,null,null,null,"",{"$f":"IF(B258=\"\",\"\",IF(R258<5,INT((A258-1)/Einstellung!$B$4)+1,\"\"))","v":""},""]
[null,null,null,null,null,null,null,null,null,null,null,null,null,null,null,null,null,"",{"$f":"IF(B259=\"\",\"\",IF(R259<5,INT((A259-1)/Einstellung!$B$4)+1,\"\"))","v":""},""]
[null,null,null,null,null,null,null,null,null,null,null,null,null,null,null,null,null,"",{"$f":"IF(B260=\"\",\"\",IF(R260<5,INT((A260-1)/Einstellung!$B$4)+1,\"\"))","v":""},""]
[null,null,null,null,null,null,null,null,null,null,null,null,null,null,null,null,null,"",{"$f":"IF(B261=\"\",\"\",IF(R261<5,INT((A261-1)/Einstellung!$B$4)+1,\"\"))","v":""},""]
[null,null,null,null,null,null,null,null,null,null,null,null,null,null,null,null,null,"",{"$f":"IF(B262=\"\",\"\",IF(R262<5,INT((A262-1)/Einstellung!$B$4)+1,\"\"))","v":""},""]
[null,null,null,null,null,null,null,null,null,null,null,null,null,null,null,null,null,"",{"$f":"IF(B263=\"\",\"\",IF(R263<5,INT((A263-1)/Einstellung!$B$4)+1,\"\"))","v":""},""]
[null,null,null,null,null,null,null,null,null,null,null,null,null,null,null,null,null,{"$f":"IF(B264=\"\",\"\",16-((MID(B$1,1,1)=MID(B264,1,1))+(MID(C$1,1,1)=MID(C264,1,1))+(MID(D$1,1,1)=MID(D264,1,1))+(MID(E$1,1,1)=MID(E264,1,1))+(MID(F$1,1,1)=MID(F264,1,1))+(MID(G$1,1,1)=MID(G264,1,1))+(MID(H$1,1,1)=MID(H264,1,1))+(MID(I$1,1,1)=MID(I264,1,1))+(MID(J$1,1,1)=MID(J264,1,1))+(MID(K$1,1,1)=MID(K264,1,1))+(MID(L$1,1,1)=MID(L264,1,1))+(MID(M$1,1,1)=MID(M264,1,1))+(MID(N$1,1,1)=MID(N264,1,1))+(MID(O$1,1,1)=MID(O264,1,1))+(MID(P$1,1,1)=MID(P264,1,1)))-B$4+C$5)","v":""},{"$f":"IF(B264=\"\",\"\",IF(R264<5,INT((A264-1)/Einstellung!$B$4)+1,\"\"))","v":""},{"$f":"IF(C$5<B$4,\"\",IF(R264>4,\"\",OFFSET(T$2,R264-1,0)))","v":""}]
[null,null,null,null,null,null,null,null,null,null,null,null,null,null,null,null,null,"",{"$f":"IF(B265=\"\",\"\",IF(R265<5,INT((A265-1)/Einstellung!$B$4)+1,\"\"))","v":""},""]
[null,null,null,null,null,null,null,null,null,null,null,null,null,null,null,null,null,"",{"$f":"IF(B266=\"\",\"\",IF(R266<5,INT((A266-1)/Einstellung!$B$4)+1,\"\"))","v":""},""]
[null,null,null,null,null,null,null,null,null,null,null,null,null,null,null,null,null,"",{"$f":"IF(B267=\"\",\"\",IF(R267<5,INT((A267-1)/Einstellung!$B$4)+1,\"\"))","v":""},""]
[null,null,null,null,null,null,null,null,null,null,null,null,null,null,null,null,null,"",{"$f":"IF(B268=\"\",\"\",IF(R268<5,INT((A268-1)/Einstellung!$B$4)+1,\"\"))","v":""},""]
[null,null,null,null,null,null,null,null,null,null,null,null,null,null,null,null,null,"",{"$f":"IF(B269=\"\",\"\",IF(R269<5,INT((A269-1)/Einstellung!$B$4)+1,\"\"))","v":""},""]
[null,null,null,null,null,null,null,null,null,null,null,null,null,null,null,null,null,"",{"$f":"IF(B270=\"\",\"\",IF(R270<5,INT((A270-1)/Einstellung!$B$4)+1,\"\"))","v":""},""]
[null,null,null,null,null,null,null,null,null,null,null,null,null,null,null,null,null,"",{"$f":"IF(B271=\"\",\"\",IF(R271<5,INT((A271-1)/Einstellung!$B$4)+1,\"\"))","v":""},""]
[null,null,null,null,null,null,null,null,null,null,null,null,null,null,null,null,null,"",{"$f":"IF(B272=\"\",\"\",IF(R272<5,INT((A272-1)/Einstellung!$B$4)+1,\"\"))","v":""},""]
[null,null,null,null,null,null,null,null,null,null,null,null,null,null,null,null,null,"",{"$f":"IF(B273=\"\",\"\",IF(R273<5,INT((A273-1)/Einstellung!$B$4)+1,\"\"))","v":""},""]
[null,null,null,null,null,null,null,null,null,null,null,null,null,null,null,null,null,"",{"$f":"IF(B274=\"\",\"\",IF(R274<5,INT((A274-1)/Einstellung!$B$4)+1,\"\"))","v":""},""]
[null,null,null,null,null,null,null,null,null,null,null,null,null,null,null,null,null,"",{"$f":"IF(B275=\"\",\"\",IF(R275<5,INT((A275-1)/Einstellung!$B$4)+1,\"\"))","v":""},""]
[null,null,null,null,null,null,null,null,null,null,null,null,null,null,null,null,null,"",{"$f":"IF(B276=\"\",\"\",IF(R276<5,INT((A276-1)/Einstellung!$B$4)+1,\"\"))","v":""},""]
[null,null,null,null,null,null,null,null,null,null,null,null,null,null,null,null,null,"",{"$f":"IF(B277=\"\",\"\",IF(R277<5,INT((A277-1)/Einstellung!$B$4)+1,\"\"))","v":""},""]
[null,null,null,null,null,null,null,null,null,null,null,null,null,null,null,null,null,"",{"$f":"IF(B278=\"\",\"\",IF(R278<5,INT((A278-1)/Einstellung!$B$4)+1,\"\"))","v":""},""]
[null,null,null,null,null,null,null,null,null,null,null,null,null,null,null,null,null,"",{"$f":"IF(B279=\"\",\"\",IF(R279<5,INT((A279-1)/Einstellung!$B$4)+1,\"\"))","v":""},""]
[null,null,null,null,null,null,null,null,null,null,null,null,null,null,null,null,null,"",{"$f":"IF(B280=\"\",\"\",IF(R280<5,INT((A280-1)/Einstellung!$B$4)+1,\"\"))","v":""},""]
[null,null,null,null,null,null,null,null,null,null,null,null,null,null,null,null,null,"",{"$f":"IF(B281=\"\",\"\",IF(R281<5,INT((A281-1)/Einstellung!$B$4)+1,\"\"))","v":""},""]
[null,null,null,null,null,null,null,null,null,null,null,null,null,null,null,null,null,"",{"$f":"IF(B282=\"\",\"\",IF(R282<5,INT((A282-1)/Einstellung!$B$4)+1,\"\"))","v":""},""]
[null,null,null,null,null,null,null,null,null,null,null,null,null,null,null,null,null,"",{"$f":"IF(B283=\"\",\"\",IF(R283<5,INT((A283-1)/Einstellung!$B$4)+1,\"\"))","v":""},""]
[null,null,null,null,null,null,null,null,null,null,null,null,null,null,null,null,null,"",{"$f":"IF(B284=\"\",\"\",IF(R284<5,INT((A284-1)/Einstellung!$B$4)+1,\"\"))","v":""},""]
[null,null,null,null,null,null,null,null,null,null,null,null,null,null,null,null,null,"",{"$f":"IF(B285=\"\",\"\",IF(R285<5,INT((A285-1)/Einstellung!$B$4)+1,\"\"))","v":""},""]
[null,null,null,null,null,null,null,null,null,null,null,null,null,null,null,null,null,"",{"$f":"IF(B286=\"\",\"\",IF(R286<5,INT((A286-1)/Einstellung!$B$4)+1,\"\"))","v":""},""]
[null,null,null,null,null,null,null,null,null,null,null,null,null,null,null,null,null,"",{"$f":"IF(B287=\"\",\"\",IF(R287<5,INT((A287-1)/Einstellung!$B$4)+1,\"\"))","v":""},""]
[null,null,null,null,null,null,null,null,null,null,null,null,null,null,null,null,null,"",{"$f":"IF(B288=\"\",\"\",IF(R288<5,INT((A288-1)/Einstellung!$B$4)+1,\"\"))","v":""},""]
[null,null,null,null,null,null,null,null,null,null,null,null,null,null,null,null,null,"",{"$f":"IF(B289=\"\",\"\",IF(R289<5,INT((A289-1)/Einstellung!$B$4)+1,\"\"))","v":""},""]
[null,null,null,null,null,null,null,null,null,null,null,null,null,null,null,null,null,"",{"$f":"IF(B290=\"\",\"\",IF(R290<5,INT((A290-1)/Einstellung!$B$4)+1,\"\"))","v":""},""]
[null,null,null,null,null,null,null,null,null,null,null,null,null,null,null,null,null,"",{"$f":"IF(B291=\"\",\"\",IF(R291<5,INT((A291-1)/Einstellung!$B$4)+1,\"\"))","v":""},""]
[null,null,null,null,null,null,null,null,null,null,null,null,null,null,null,null,null,"",{"$f":"IF(B292=\"\",\"\",IF(R292<5,INT((A292-1)/Einstellung!$B$4)+1,\"\"))","v":""},""]
[null,null,null,null,null,null,null,null,null,null,null,null,null,null,null,null,null,"",{"$f":"IF(B293=\"\",\"\",IF(R293<5,INT((A293-1)/Einstellung!$B$4)+1,\"\"))","v":""},""]
[null,null,null,null,null,null,null,null,null,null,null,null,null,null,null,null,null,"",{"$f":"IF(B294=\"\",\"\",IF(R294<5,INT((A294-1)/Einstellung!$B$4)+1,\"\"))","v":""},""]
[null,null,null,null,null,null,null,null,null,null,null,null,null,null,null,null,null,"",{"$f":"IF(B295=\"\",\"\",IF(R295<5,INT((A295-1)/Einstellung!$B$4)+1,\"\"))","v":""},""]
[null,null,null,null,null,null,null,null,null,null,null,null,null,null,null,null,null,"",{"$f":"IF(B296=\"\",\"\",IF(R296<5,INT((A296-1)/Einstellung!$B$4)+1,\"\"))","v":""},""]
[null,null,null,null,null,null,null,null,null,null,null,null,null,null,null,null,null,"",{"$f":"IF(B297=\"\",\"\",IF(R297<5,INT((A297-1)/Einstellung!$B$4)+1,\"\"))","v":""},""]
[null,null,null,null,null,null,null,null,null,null,null,null,null,null,null,null,null,"",{"$f":"IF(B298=\"\",\"\",IF(R298<5,INT((A298-1)/Einstellung!$B$4)+1,\"\"))","v":""},""]
[null,null,null,null,null,null,null,null,null,null,null,null,null,null,null,null,null,"",{"$f":"IF(B299=\"\",\"\",IF(R299<5,INT((A299-1)/Einstellung!$B$4)+1,\"\"))","v":""},""]
[null,null,null,null,null,null,null,null,null,null,null,null,null,null,null,null,null,"",{"$f":"IF(B300=\"\",\"\",IF(R300<5,INT((A300-1)/Einstellung!$B$4)+1,\"\"))","v":""},""]
[null,null,null,null,null,null,null,null,null,null,null,null,null,null,null,null,null,"",{"$f":"IF(B301=\"\",\"\",IF(R301<5,INT((A301-1)/Einstellung!$B$4)+1,\"\"))","v":""},""]
[null,null,null,null,null,null,null,null,null,null,null,null,null,null,null,null,null,"",{"$f":"IF(B302=\"\",\"\",IF(R302<5,INT((A302-1)/Einstellung!$B$4)+1,\"\"))","v":""},""]
[null,null,null,null,null,null,null,null,null,null,null,null,null,null,null,null,null,"",{"$f":"IF(B303=\"\",\"\",IF(R303<5,INT((A303-1)/Einstellung!$B$4)+1,\"\"))","v":""},""]
[null,null,null,null,null,null,null,null,null,null,null,null,null,null,null,null,null,"",{"$f":"IF(B304=\"\",\"\",IF(R304<5,INT((A304-1)/Einstellung!$B$4)+1,\"\"))","v":""},""]
[null,null,null,null,null,null,null,null,null,null,null,null,null,null,null,null,null,"",{"$f":"IF(B305=\"\",\"\",IF(R305<5,INT((A305-1)/Einstellung!$B$4)+1,\"\"))","v":""},""]
[null,null,null,null,null,null,null,null,null,null,null,null,null,null,null,null,null,"",{"$f":"IF(B306=\"\",\"\",IF(R306<5,INT((A306-1)/Einstellung!$B$4)+1,\"\"))","v":""},""]
[null,null,null,null,null,null,null,null,null,null,null,null,null,null,null,null,null,"",{"$f":"IF(B307=\"\",\"\",IF(R307<5,INT((A307-1)/Einstellung!$B$4)+1,\"\"))","v":""},""]
[null,null,null,null,null,null,null,null,null,null,null,null,null,null,null,null,null,"",{"$f":"IF(B308=\"\",\"\",IF(R308<5,INT((A308-1)/Einstellung!$B$4)+1,\"\"))","v":""},""]
[null,null,null,null,null,null,null,null,null,null,null,null,null,null,null,null,null,"",{"$f":"IF(B309=\"\",\"\",IF(R309<5,INT((A309-1)/Einstellung!$B$4)+1,\"\"))","v":""},""]
[null,null,null,null,null,null,null,null,null,null,null,null,null,null,null,null,null,"",{"$f":"IF(B310=\"\",\"\",IF(R310<5,INT((A310-1)/Einstellung!$B$4)+1,\"\"))","v":""},""]
[null,null,null,null,null,null,null,null,null,null,null,null,null,null,null,null,null,"",{"$f":"IF(B311=\"\",\"\",IF(R311<5,INT((A311-1)/Einstellung!$B$4)+1,\"\"))","v":""},""]
[null,null,null,null,null,null,null,null,null,null,null,null,null,null,null,null,null,"",{"$f":"IF(B312=\"\",\"\",IF(R312<5,INT((A312-1)/Einstellung!$B$4)+1,\"\"))","v":""},""]
[null,null,null,null,null,null,null,null,null,null,null,null,null,null,null,null,null,"",{"$f":"IF(B313=\"\",\"\",IF(R313<5,INT((A313-1)/Einstellung!$B$4)+1,\"\"))","v":""},""]
[null,null,null,null,null,null,null,null,null,null,null,null,null,null,null,null,null,"",{"$f":"IF(B314=\"\",\"\",IF(R314<5,INT((A314-1)/Einstellung!$B$4)+1,\"\"))","v":""},""]
[null,null,null,null,null,null,null,null,null,null,null,null,null,null,null,null,null,"",{"$f":"IF(B315=\"\",\"\",IF(R315<5,INT((A315-1)/Einstellung!$B$4)+1,\"\"))","v":""},""]
[null,null,null,null,null,null,null,null,null,null,null,null,null,null,null,null,null,"",{"$f":"IF(B316=\"\",\"\",IF(R316<5,INT((A316-1)/Einstellung!$B$4)+1,\"\"))","v":""},""]
[null,null,null,null,null,null,null,null,null,null,null,null,null,null,null,null,null,"",{"$f":"IF(B317=\"\",\"\",IF(R317<5,INT((A317-1)/Einstellung!$B$4)+1,\"\"))","v":""},""]
[null,null,null,null,null,null,null,null,null,null,null,null,null,null,null,null,null,"",{"$f":"IF(B318=\"\",\"\",IF(R318<5,INT((A318-1)/Einstellung!$B$4)+1,\"\"))","v":""},""]
[null,null,null,null,null,null,null,null,null,null,null,null,null,null,null,null,null,"",{"$f":"IF(B319=\"\",\"\",IF(R319<5,INT((A319-1)/Einstellung!$B$4)+1,\"\"))","v":""},""]
[null,null,null,null,null,null,null,null,null,null,null,null,null,null,null,null,null,"",{"$f":"IF(B320=\"\",\"\",IF(R320<5,INT((A320-1)/Einstellung!$B$4)+1,\"\"))","v":""},""]
[null,null,null,null,null,null,null,null,null,null,null,null,null,null,null,null,null,"",{"$f":"IF(B321=\"\",\"\",IF(R321<5,INT((A321-1)/Einstellung!$B$4)+1,\"\"))","v":""},""]
[null,null,null,null,null,null,null,null,null,null,null,null,null,null,null,null,null,"",{"$f":"IF(B322=\"\",\"\",IF(R322<5,INT((A322-1)/Einstellung!$B$4)+1,\"\"))","v":""},""]
[null,null,null,null,null,null,null,null,null,null,null,null,null,null,null,null,null,"",{"$f":"IF(B323=\"\",\"\",IF(R323<5,INT((A323-1)/Einstellung!$B$4)+1,\"\"))","v":""},""]
[null,null,null,null,null,null,null,null,null,null,null,null,null,null,null,null,null,"",{"$f":"IF(B324=\"\",\"\",IF(R324<5,INT((A324-1)/Einstellung!$B$4)+1,\"\"))","v":""},""]
[null,null,null,null,null,null,null,null,null,null,null,null,null,null,null,null,null,"",{"$f":"IF(B325=\"\",\"\",IF(R325<5,INT((A325-1)/Einstellung!$B$4)+1,\"\"))","v":""},""]
[null,null,null,null,null,null,null,null,null,null,null,null,null,null,null,null,null,"",{"$f":"IF(B326=\"\",\"\",IF(R326<5,INT((A326-1)/Einstellung!$B$4)+1,\"\"))","v":""},""]
[null,null,null,null,null,null,null,null,null,null,null,null,null,null,null,null,null,"",{"$f":"IF(B327=\"\",\"\",IF(R327<5,INT((A327-1)/Einstellung!$B$4)+1,\"\"))","v":""},""]
[null,null,null,null,null,null,null,null,null,null,null,null,null,null,null,null,null,{"$f":"IF(B328=\"\",\"\",16-((MID(B$1,1,1)=MID(B328,1,1))+(MID(C$1,1,1)=MID(C328,1,1))+(MID(D$1,1,1)=MID(D328,1,1))+(MID(E$1,1,1)=MID(E328,1,1))+(MID(F$1,1,1)=MID(F328,1,1))+(MID(G$1,1,1)=MID(G328,1,1))+(MID(H$1,1,1)=MID(H328,1,1))+(MID(I$1,1,1)=MID(I328,1,1))+(MID(J$1,1,1)=MID(J328,1,1))+(MID(K$1,1,1)=MID(K328,1,1))+(MID(L$1,1,1)=MID(L328,1,1))+(MID(M$1,1,1)=MID(M328,1,1))+(MID(N$1,1,1)=MID(N328,1,1))+(MID(O$1,1,1)=MID(O328,1,1))+(MID(P$1,1,1)=MID(P328,1,1)))-B$4+C$5)","v":""},{"$f":"IF(B328=\"\",\"\",IF(R328<5,INT((A328-1)/Einstellung!$B$4)+1,\"\"))","v":""},{"$f":"IF(C$5<B$4,\"\",IF(R328>4,\"\",OFFSET(T$2,R328-1,0)))","v":""}]
[null,null,null,null,null,null,null,null,null,null,null,null,null,null,null,null,null,"",{"$f":"IF(B329=\"\",\"\",IF(R329<5,INT((A329-1)/Einstellung!$B$4)+1,\"\"))","v":""},""]
[null,null,null,null,null,null,null,null,null,null,null,null,null,null,null,null,null,"",{"$f":"IF(B330=\"\",\"\",IF(R330<5,INT((A330-1)/Einstellung!$B$4)+1,\"\"))","v":""},""]
[null,null,null,null,null,null,null,null,null,null,null,null,null,null,null,null,null,"",{"$f":"IF(B331=\"\",\"\",IF(R331<5,INT((A331-1)/Einstellung!$B$4)+1,\"\"))","v":""},""]
[null,null,null,null,null,null,null,null,null,null,null,null,null,null,null,null,null,"",{"$f":"IF(B332=\"\",\"\",IF(R332<5,INT((A332-1)/Einstellung!$B$4)+1,\"\"))","v":""},""]
[null,null,null,null,null,null,null,null,null,null,null,null,null,null,null,null,null,"",{"$f":"IF(B333=\"\",\"\",IF(R333<5,INT((A333-1)/Einstellung!$B$4)+1,\"\"))","v":""},""]
[null,null,null,null,null,null,null,null,null,null,null,null,null,null,null,null,null,"",{"$f":"IF(B334=\"\",\"\",IF(R334<5,INT((A334-1)/Einstellung!$B$4)+1,\"\"))","v":""},""]
[null,null,null,null,null,null,null,null,null,null,null,null,null,null,null,null,null,"",{"$f":"IF(B335=\"\",\"\",IF(R335<5,INT((A335-1)/Einstellung!$B$4)+1,\"\"))","v":""},""]
[null,null,null,null,null,null,null,null,null,null,null,null,null,null,null,null,null,"",{"$f":"IF(B336=\"\",\"\",IF(R336<5,INT((A336-1)/Einstellung!$B$4)+1,\"\"))","v":""},""]
[null,null,null,null,null,null,null,null,null,null,null,null,null,null,null,null,null,"",{"$f":"IF(B337=\"\",\"\",IF(R337<5,INT((A337-1)/Einstellung!$B$4)+1,\"\"))","v":""},""]
[null,null,null,null,null,null,null,null,null,null,null,null,null,null,null,null,null,"",{"$f":"IF(B338=\"\",\"\",IF(R338<5,INT((A338-1)/Einstellung!$B$4)+1,\"\"))","v":""},""]
[null,null,null,null,null,null,null,null,null,null,null,null,null,null,null,null,null,"",{"$f":"IF(B339=\"\",\"\",IF(R339<5,INT((A339-1)/Einstellung!$B$4)+1,\"\"))","v":""},""]
[null,null,null,null,null,null,null,null,null,null,null,null,null,null,null,null,null,"",{"$f":"IF(B340=\"\",\"\",IF(R340<5,INT((A340-1)/Einstellung!$B$4)+1,\"\"))","v":""},""]
[null,null,null,null,null,null,null,null,null,null,null,null,null,null,null,null,null,"",{"$f":"IF(B341=\"\",\"\",IF(R341<5,INT((A341-1)/Einstellung!$B$4)+1,\"\"))","v":""},""]
[null,null,null,null,null,null,null,null,null,null,null,null,null,null,null,null,null,"",{"$f":"IF(B342=\"\",\"\",IF(R342<5,INT((A342-1)/Einstellung!$B$4)+1,\"\"))","v":""},""]
[null,null,null,null,null,null,null,null,null,null,null,null,null,null,null,null,null,"",{"$f":"IF(B343=\"\",\"\",IF(R343<5,INT((A343-1)/Einstellung!$B$4)+1,\"\"))","v":""},""]
[null,null,null,null,null,null,null,null,null,null,null,null,null,null,null,null,null,"",{"$f":"IF(B344=\"\",\"\",IF(R344<5,INT((A344-1)/Einstellung!$B$4)+1,\"\"))","v":""},""]
[null,null,null,null,null,null,null,null,null,null,null,null,null,null,null,null,null,"",{"$f":"IF(B345=\"\",\"\",IF(R345<5,INT((A345-1)/Einstellung!$B$4)+1,\"\"))","v":""},""]
[null,null,null,null,null,null,null,null,null,null,null,null,null,null,null,null,null,"",{"$f":"IF(B346=\"\",\"\",IF(R346<5,INT((A346-1)/Einstellung!$B$4)+1,\"\"))","v":""},""]
[null,null,null,null,null,null,null,null,null,null,null,null,null,null,null,null,null,"",{"$f":"IF(B347=\"\",\"\",IF(R347<5,INT((A347-1)/Einstellung!$B$4)+1,\"\"))","v":""},""]
[null,null,null,null,null,null,null,null,null,null,null,null,null,null,null,null,null,"",{"$f":"IF(B348=\"\",\"\",IF(R348<5,INT((A348-1)/Einstellung!$B$4)+1,\"\"))","v":""},""]
[null,null,null,null,null,null,null,null,null,null,null,null,null,null,null,null,null,"",{"$f":"IF(B349=\"\",\"\",IF(R349<5,INT((A349-1)/Einstellung!$B$4)+1,\"\"))","v":""},""]
[null,null,null,null,null,null,null,null,null,null,null,null,null,null,null,null,null,"",{"$f":"IF(B350=\"\",\"\",IF(R350<5,INT((A350-1)/Einstellung!$B$4)+1,\"\"))","v":""},""]
[null,null,null,null,null,null,null,null,null,null,null,null,null,null,null,null,null,"",{"$f":"IF(B351=\"\",\"\",IF(R351<5,INT((A351-1)/Einstellung!$B$4)+1,\"\"))","v":""},""]
[null,null,null,null,null,null,null,null,null,null,null,null,null,null,null,null,null,"",{"$f":"IF(B352=\"\",\"\",IF(R352<5,INT((A352-1)/Einstellung!$B$4)+1,\"\"))","v":""},""]
[null,null,null,null,null,null,null,null,null,null,null,null,null,null,null,null,null,"",{"$f":"IF(B353=\"\",\"\",IF(R353<5,INT((A353-1)/Einstellung!$B$4)+1,\"\"))","v":""},""]
[null,null,null,null,null,null,null,null,null,null,null,null,null,null,null,null,null,"",{"$f":"IF(B354=\"\",\"\",IF(R354<5,INT((A354-1)/Einstellung!$B$4)+1,\"\"))","v":""},""]
[null,null,null,null,null,null,null,null,null,null,null,null,null,null,null,null,null,"",{"$f":"IF(B355=\"\",\"\",IF(R355<5,INT((A355-1)/Einstellung!$B$4)+1,\"\"))","v":""},""]
[null,null,null,null,null,null,null,null,null,null,null,null,null,null,null,null,null,"",{"$f":"IF(B356=\"\",\"\",IF(R356<5,INT((A356-1)/Einstellung!$B$4)+1,\"\"))","v":""},""]
[null,null,null,null,null,null,null,null,null,null,null,null,null,null,null,null,null,"",{"$f":"IF(B357=\"\",\"\",IF(R357<5,INT((A357-1)/Einstellung!$B$4)+1,\"\"))","v":""},""]
[null,null,null,null,null,null,null,null,null,null,null,null,null,null,null,null,null,"",{"$f":"IF(B358=\"\",\"\",IF(R358<5,INT((A358-1)/Einstellung!$B$4)+1,\"\"))","v":""},""]
[null,null,null,null,null,null,null,null,null,null,null,null,null,null,null,null,null,"",{"$f":"IF(B359=\"\",\"\",IF(R359<5,INT((A359-1)/Einstellung!$B$4)+1,\"\"))","v":""},""]
[null,null,null,null,null,null,null,null,null,null,null,null,null,null,null,null,null,"",{"$f":"IF(B360=\"\",\"\",IF(R360<5,INT((A360-1)/Einstellung!$B$4)+1,\"\"))","v":""},""]
[null,null,null,null,null,null,null,null,null,null,null,null,null,null,null,null,null,"",{"$f":"IF(B361=\"\",\"\",IF(R361<5,INT((A361-1)/Einstellung!$B$4)+1,\"\"))","v":""},""]
[null,null,null,null,null,null,null,null,null,null,null,null,null,null,null,null,null,"",{"$f":"IF(B362=\"\",\"\",IF(R362<5,INT((A362-1)/Einstellung!$B$4)+1,\"\"))","v":""},""]
[null,null,null,null,null,null,null,null,null,null,null,null,null,null,null,null,null,"",{"$f":"IF(B363=\"\",\"\",IF(R363<5,INT((A363-1)/Einstellung!$B$4)+1,\"\"))","v":""},""]
[null,null,null,null,null,null,null,null,null,null,null,null,null,null,null,null,null,"",{"$f":"IF(B364=\"\",\"\",IF(R364<5,INT((A364-1)/Einstellung!$B$4)+1,\"\"))","v":""},""]
[null,null,null,null,null,null,null,null,null,null,null,null,null,null,null,null,null,"",{"$f":"IF(B365=\"\",\"\",IF(R365<5,INT((A365-1)/Einstellung!$B$4)+1,\"\"))","v":""},""]
[null,null,null,null,null,null,null,null,null,null,null,null,null,null,null,null,null,"",{"$f":"IF(B366=\"\",\"\",IF(R366<5,INT((A366-1)/Einstellung!$B$4)+1,\"\"))","v":""},""]
[null,null,null,null,null,null,null,null,null,null,null,null,null,null,null,null,null,"",{"$f":"IF(B367=\"\",\"\",IF(R367<5,INT((A367-1)/Einstellung!$B$4)+1,\"\"))","v":""},""]
[null,null,null,null,null,null,null,null,null,null,null,null,null,null,null,null,null,"",{"$f":"IF(B368=\"\",\"\",IF(R368<5,INT((A368-1)/Einstellung!$B$4)+1,\"\"))","v":""},""]
[null,null,null,null,null,null,null,null,null,null,null,null,null,null,null,null,null,"",{"$f":"IF(B369=\"\",\"\",IF(R369<5,INT((A369-1)/Einstellung!$B$4)+1,\"\"))","v":""},""]
[null,null,null,null,null,null,null,null,null,null,null,null,null,null,null,null,null,"",{"$f":"IF(B370=\"\",\"\",IF(R370<5,INT((A370-1)/Einstellung!$B$4)+1,\"\"))","v":""},""]
[null,null,null,null,null,null,null,null,null,null,null,null,null,null,null,null,null,"",{"$f":"IF(B371=\"\",\"\",IF(R371<5,INT((A371-1)/Einstellung!$B$4)+1,\"\"))","v":""},""]
[null,null,null,null,null,null,null,null,null,null,null,null,null,null,null,null,null,"",{"$f":"IF(B372=\"\",\"\",IF(R372<5,INT((A372-1)/Einstellung!$B$4)+1,\"\"))","v":""},""]
[null,null,null,null,null,null,null,null,null,null,null,null,null,null,null,null,null,"",{"$f":"IF(B373=\"\",\"\",IF(R373<5,INT((A373-1)/Einstellung!$B$4)+1,\"\"))","v":""},""]
[null,null,null,null,null,null,null,null,null,null,null,null,null,null,null,null,null,"",{"$f":"IF(B374=\"\",\"\",IF(R374<5,INT((A374-1)/Einstellung!$B$4)+1,\"\"))","v":""},""]
[null,null,null,null,null,null,null,null,null,null,null,null,null,null,null,null,null,"",{"$f":"IF(B375=\"\",\"\",IF(R375<5,INT((A375-1)/Einstellung!$B$4)+1,\"\"))","v":""},""]
[null,null,null,null,null,null,null,null,null,null,null,null,null,null,null,null,null,"",{"$f":"IF(B376=\"\",\"\",IF(R376<5,INT((A376-1)/Einstellung!$B$4)+1,\"\"))","v":""},""]
[null,null,null,null,null,null,null,null,null,null,null,null,null,null,null,null,null,"",{"$f":"IF(B377=\"\",\"\",IF(R377<5,INT((A377-1)/Einstellung!$B$4)+1,\"\"))","v":""},""]
[null,null,null,null,null,null,null,null,null,null,null,null,null,null,null,null,null,"",{"$f":"IF(B378=\"\",\"\",IF(R378<5,INT((A378-1)/Einstellung!$B$4)+1,\"\"))","v":""},""]
[null,null,null,null,null,null,null,null,null,null,null,null,null,null,null,null,null,"",{"$f":"IF(B379=\"\",\"\",IF(R379<5,INT((A379-1)/Einstellung!$B$4)+1,\"\"))","v":""},""]
[null,null,null,null,null,null,null,null,null,null,null,null,null,null,null,null,null,"",{"$f":"IF(B380=\"\",\"\",IF(R380<5,INT((A380-1)/Einstellung!$B$4)+1,\"\"))","v":""},""]
[null,null,null,null,null,null,null,null,null,null,null,null,null,null,null,null,null,"",{"$f":"IF(B381=\"\",\"\",IF(R381<5,INT((A381-1)/Einstellung!$B$4)+1,\"\"))","v":""},""]
[null,null,null,null,null,null,null,null,null,null,null,null,null,null,null,null,null,"",{"$f":"IF(B382=\"\",\"\",IF(R382<5,INT((A382-1)/Einstellung!$B$4)+1,\"\"))","v":""},""]
[null,null,null,null,null,null,null,null,null,null,null,null,null,null,null,null,null,"",{"$f":"IF(B383=\"\",\"\",IF(R383<5,INT((A383-1)/Einstellung!$B$4)+1,\"\"))","v":""},""]
[null,null,null,null,null,null,null,null,null,null,null,null,null,null,null,null,null,"",{"$f":"IF(B384=\"\",\"\",IF(R384<5,INT((A384-1)/Einstellung!$B$4)+1,\"\"))","v":""},""]
[null,null,null,null,null,null,null,null,null,null,null,null,null,null,null,null,null,"",{"$f":"IF(B385=\"\",\"\",IF(R385<5,INT((A385-1)/Einstellung!$B$4)+1,\"\"))","v":""},""]
[null,null,null,null,null,null,null,null,null,null,null,null,null,null,null,null,null,"",{"$f":"IF(B386=\"\",\"\",IF(R386<5,INT((A386-1)/Einstellung!$B$4)+1,\"\"))","v":""},""]
[null,null,null,null,null,null,null,null,null,null,null,null,null,null,null,null,null,"",{"$f":"IF(B387=\"\",\"\",IF(R387<5,INT((A387-1)/Einstellung!$B$4)+1,\"\"))","v":""},""]
[null,null,null,null,null,null,null,null,null,null,null,null,null,null,null,null,null,"",{"$f":"IF(B388=\"\",\"\",IF(R388<5,INT((A388-1)/Einstellung!$B$4)+1,\"\"))","v":""},""]
[null,null,null,null,null,null,null,null,null,null,null,null,null,null,null,null,null,"",{"$f":"IF(B389=\"\",\"\",IF(R389<5,INT((A389-1)/Einstellung!$B$4)+1,\"\"))","v":""},""]
[null,null,null,null,null,null,null,null,null,null,null,null,null,null,null,null,null,"",{"$f":"IF(B390=\"\",\"\",IF(R390<5,INT((A390-1)/Einstellung!$B$4)+1,\"\"))","v":""},""]
[null,null,null,null,null,null,null,null,null,null,null,null,null,null,null,null,null,"",{"$f":"IF(B391=\"\",\"\",IF(R391<5,INT((A391-1)/Einstellung!$B$4)+1,\"\"))","v":""},""]
[null,null,null,null,null,null,null,null,null,null,null,null,null,null,null,null,null,{"$f":"IF(B392=\"\",\"\",16-((MID(B$1,1,1)=MID(B392,1,1))+(MID(C$1,1,1)=MID(C392,1,1))+(MID(D$1,1,1)=MID(D392,1,1))+(MID(E$1,1,1)=MID(E392,1,1))+(MID(F$1,1,1)=MID(F392,1,1))+(MID(G$1,1,1)=MID(G392,1,1))+(MID(H$1,1,1)=MID(H392,1,1))+(MID(I$1,1,1)=MID(I392,1,1))+(MID(J$1,1,1)=MID(J392,1,1))+(MID(K$1,1,1)=MID(K392,1,1))+(MID(L$1,1,1)=MID(L392,1,1))+(MID(M$1,1,1)=MID(M392,1,1))+(MID(N$1,1,1)=MID(N392,1,1))+(MID(O$1,1,1)=MID(O392,1,1))+(MID(P$1,1,1)=MID(P392,1,1)))-B$4+C$5)","v":""},{"$f":"IF(B392=\"\",\"\",IF(R392<5,INT((A392-1)/Einstellung!$B$4)+1,\"\"))","v":""},{"$f":"IF(C$5<B$4,\"\",IF(R392>4,\"\",OFFSET(T$2,R392-1,0)))","v":""}]
[null,null,null,null,null,null,null,null,null,null,null,null,null,null,null,null,null,"",{"$f":"IF(B393=\"\",\"\",IF(R393<5,INT((A393-1)/Einstellung!$B$4)+1,\"\"))","v":""},""]
[null,null,null,null,null,null,null,null,null,null,null,null,null,null,null,null,null,"",{"$f":"IF(B394=\"\",\"\",IF(R394<5,INT((A394-1)/Einstellung!$B$4)+1,\"\"))","v":""},""]
[null,null,null,null,null,null,null,null,null,null,null,null,null,null,null,null,null,"",{"$f":"IF(B395=\"\",\"\",IF(R395<5,INT((A395-1)/Einstellung!$B$4)+1,\"\"))","v":""},""]
[null,null,null,null,null,null,null,null,null,null,null,null,null,null,null,null,null,"",{"$f":"IF(B396=\"\",\"\",IF(R396<5,INT((A396-1)/Einstellung!$B$4)+1,\"\"))","v":""},""]
[null,null,null,null,null,null,null,null,null,null,null,null,null,null,null,null,null,"",{"$f":"IF(B397=\"\",\"\",IF(R397<5,INT((A397-1)/Einstellung!$B$4)+1,\"\"))","v":""},""]
[null,null,null,null,null,null,null,null,null,null,null,null,null,null,null,null,null,"",{"$f":"IF(B398=\"\",\"\",IF(R398<5,INT((A398-1)/Einstellung!$B$4)+1,\"\"))","v":""},""]
[null,null,null,null,null,null,null,null,null,null,null,null,null,null,null,null,null,"",{"$f":"IF(B399=\"\",\"\",IF(R399<5,INT((A399-1)/Einstellung!$B$4)+1,\"\"))","v":""},""]
[null,null,null,null,null,null,null,null,null,null,null,null,null,null,null,null,null,"",{"$f":"IF(B400=\"\",\"\",IF(R400<5,INT((A400-1)/Einstellung!$B$4)+1,\"\"))","v":""},""]
[null,null,null,null,null,null,null,null,null,null,null,null,null,null,null,null,null,"",{"$f":"IF(B401=\"\",\"\",IF(R401<5,INT((A401-1)/Einstellung!$B$4)+1,\"\"))","v":""},""]
[null,null,null,null,null,null,null,null,null,null,null,null,null,null,null,null,null,"",{"$f":"IF(B402=\"\",\"\",IF(R402<5,INT((A402-1)/Einstellung!$B$4)+1,\"\"))","v":""},""]
[null,null,null,null,null,null,null,null,null,null,null,null,null,null,null,null,null,"",{"$f":"IF(B403=\"\",\"\",IF(R403<5,INT((A403-1)/Einstellung!$B$4)+1,\"\"))","v":""},""]
[null,null,null,null,null,null,null,null,null,null,null,null,null,null,null,null,null,"",{"$f":"IF(B404=\"\",\"\",IF(R404<5,INT((A404-1)/Einstellung!$B$4)+1,\"\"))","v":""},""]
[null,null,null,null,null,null,null,null,null,null,null,null,null,null,null,null,null,"",{"$f":"IF(B405=\"\",\"\",IF(R405<5,INT((A405-1)/Einstellung!$B$4)+1,\"\"))","v":""},""]
[null,null,null,null,null,null,null,null,null,null,null,null,null,null,null,null,null,"",{"$f":"IF(B406=\"\",\"\",IF(R406<5,INT((A406-1)/Einstellung!$B$4)+1,\"\"))","v":""},""]
[null,null,null,null,null,null,null,null,null,null,null,null,null,null,null,null,null,"",{"$f":"IF(B407=\"\",\"\",IF(R407<5,INT((A407-1)/Einstellung!$B$4)+1,\"\"))","v":""},""]
[null,null,null,null,null,null,null,null,null,null,null,null,null,null,null,null,null,"",{"$f":"IF(B408=\"\",\"\",IF(R408<5,INT((A408-1)/Einstellung!$B$4)+1,\"\"))","v":""},""]
[null,null,null,null,null,null,null,null,null,null,null,null,null,null,null,null,null,"",{"$f":"IF(B409=\"\",\"\",IF(R409<5,INT((A409-1)/Einstellung!$B$4)+1,\"\"))","v":""},""]
[null,null,null,null,null,null,null,null,null,null,null,null,null,null,null,null,null,"",{"$f":"IF(B410=\"\",\"\",IF(R410<5,INT((A410-1)/Einstellung!$B$4)+1,\"\"))","v":""},""]
[null,null,null,null,null,null,null,null,null,null,null,null,null,null,null,null,null,"",{"$f":"IF(B411=\"\",\"\",IF(R411<5,INT((A411-1)/Einstellung!$B$4)+1,\"\"))","v":""},""]
[null,null,null,null,null,null,null,null,null,null,null,null,null,null,null,null,null,"",{"$f":"IF(B412=\"\",\"\",IF(R412<5,INT((A412-1)/Einstellung!$B$4)+1,\"\"))","v":""},""]
[null,null,null,null,null,null,null,null,null,null,null,null,null,null,null,null,null,"",{"$f":"IF(B413=\"\",\"\",IF(R413<5,INT((A413-1)/Einstellung!$B$4)+1,\"\"))","v":""},""]
[null,null,null,null,null,null,null,null,null,null,null,null,null,null,null,null,null,"",{"$f":"IF(B414=\"\",\"\",IF(R414<5,INT((A414-1)/Einstellung!$B$4)+1,\"\"))","v":""},""]
[null,null,null,null,null,null,null,null,null,null,null,null,null,null,null,null,null,"",{"$f":"IF(B415=\"\",\"\",IF(R415<5,INT((A415-1)/Einstellung!$B$4)+1,\"\"))","v":""},""]
[null,null,null,null,null,null,null,null,null,null,null,null,null,null,null,null,null,"",{"$f":"IF(B416=\"\",\"\",IF(R416<5,INT((A416-1)/Einstellung!$B$4)+1,\"\"))","v":""},""]
[null,null,null,null,null,null,null,null,null,null,null,null,null,null,null,null,null,"",{"$f":"IF(B417=\"\",\"\",IF(R417<5,INT((A417-1)/Einstellung!$B$4)+1,\"\"))","v":""},""]
[null,null,null,null,null,null,null,null,null,null,null,null,null,null,null,null,null,"",{"$f":"IF(B418=\"\",\"\",IF(R418<5,INT((A418-1)/Einstellung!$B$4)+1,\"\"))","v":""},""]
[null,null,null,null,null,null,null,null,null,null,null,null,null,null,null,null,null,"",{"$f":"IF(B419=\"\",\"\",IF(R419<5,INT((A419-1)/Einstellung!$B$4)+1,\"\"))","v":""},""]
[null,null,null,null,null,null,null,null,null,null,null,null,null,null,null,null,null,"",{"$f":"IF(B420=\"\",\"\",IF(R420<5,INT((A420-1)/Einstellung!$B$4)+1,\"\"))","v":""},""]
[null,null,null,null,null,null,null,null,null,null,null,null,null,null,null,null,null,"",{"$f":"IF(B421=\"\",\"\",IF(R421<5,INT((A421-1)/Einstellung!$B$4)+1,\"\"))","v":""},""]
[null,null,null,null,null,null,null,null,null,null,null,null,null,null,null,null,null,"",{"$f":"IF(B422=\"\",\"\",IF(R422<5,INT((A422-1)/Einstellung!$B$4)+1,\"\"))","v":""},""]
[null,null,null,null,null,null,null,null,null,null,null,null,null,null,null,null,null,"",{"$f":"IF(B423=\"\",\"\",IF(R423<5,INT((A423-1)/Einstellung!$B$4)+1,\"\"))","v":""},""]
[null,null,null,null,null,null,null,null,null,null,null,null,null,null,null,null,null,"",{"$f":"IF(B424=\"\",\"\",IF(R424<5,INT((A424-1)/Einstellung!$B$4)+1,\"\"))","v":""},""]
[null,null,null,null,null,null,null,null,null,null,null,null,null,null,null,null,null,"",{"$f":"IF(B425=\"\",\"\",IF(R425<5,INT((A425-1)/Einstellung!$B$4)+1,\"\"))","v":""},""]
[null,null,null,null,null,null,null,null,null,null,null,null,null,null,null,null,null,"",{"$f":"IF(B426=\"\",\"\",IF(R426<5,INT((A426-1)/Einstellung!$B$4)+1,\"\"))","v":""},""]
[null,null,null,null,null,null,null,null,null,null,null,null,null,null,null,null,null,"",{"$f":"IF(B427=\"\",\"\",IF(R427<5,INT((A427-1)/Einstellung!$B$4)+1,\"\"))","v":""},""]
[null,null,null,null,null,null,null,null,null,null,null,null,null,null,null,null,null,"",{"$f":"IF(B428=\"\",\"\",IF(R428<5,INT((A428-1)/Einstellung!$B$4)+1,\"\"))","v":""},""]
[null,null,null,null,null,null,null,null,null,null,null,null,null,null,null,null,null,"",{"$f":"IF(B429=\"\",\"\",IF(R429<5,INT((A429-1)/Einstellung!$B$4)+1,\"\"))","v":""},""]
[null,null,null,null,null,null,null,null,null,null,null,null,null,null,null,null,null,"",{"$f":"IF(B430=\"\",\"\",IF(R430<5,INT((A430-1)/Einstellung!$B$4)+1,\"\"))","v":""},""]
[null,null,null,null,null,null,null,null,null,null,null,null,null,null,null,null,null,"",{"$f":"IF(B431=\"\",\"\",IF(R431<5,INT((A431-1)/Einstellung!$B$4)+1,\"\"))","v":""},""]
[null,null,null,null,null,null,null,null,null,null,null,null,null,null,null,null,null,"",{"$f":"IF(B432=\"\",\"\",IF(R432<5,INT((A432-1)/Einstellung!$B$4)+1,\"\"))","v":""},""]
[null,null,null,null,null,null,null,null,null,null,null,null,null,null,null,null,null,"",{"$f":"IF(B433=\"\",\"\",IF(R433<5,INT((A433-1)/Einstellung!$B$4)+1,\"\"))","v":""},""]
[null,null,null,null,null,null,null,null,null,null,null,null,null,null,null,null,null,"",{"$f":"IF(B434=\"\",\"\",IF(R434<5,INT((A434-1)/Einstellung!$B$4)+1,\"\"))","v":""},""]
[null,null,null,null,null,null,null,null,null,null,null,null,null,null,null,null,null,"",{"$f":"IF(B435=\"\",\"\",IF(R435<5,INT((A435-1)/Einstellung!$B$4)+1,\"\"))","v":""},""]
[null,null,null,null,null,null,null,null,null,null,null,null,null,null,null,null,null,"",{"$f":"IF(B436=\"\",\"\",IF(R436<5,INT((A436-1)/Einstellung!$B$4)+1,\"\"))","v":""},""]
[null,null,null,null,null,null,null,null,null,null,null,null,null,null,null,null,null,"",{"$f":"IF(B437=\"\",\"\",IF(R437<5,INT((A437-1)/Einstellung!$B$4)+1,\"\"))","v":""},""]
[null,null,null,null,null,null,null,null,null,null,null,null,null,null,null,null,null,"",{"$f":"IF(B438=\"\",\"\",IF(R438<5,INT((A438-1)/Einstellung!$B$4)+1,\"\"))","v":""},""]
[null,null,null,null,null,null,null,null,null,null,null,null,null,null,null,null,null,"",{"$f":"IF(B439=\"\",\"\",IF(R439<5,INT((A439-1)/Einstellung!$B$4)+1,\"\"))","v":""},""]
[null,null,null,null,null,null,null,null,null,null,null,null,null,null,null,null,null,"",{"$f":"IF(B440=\"\",\"\",IF(R440<5,INT((A440-1)/Einstellung!$B$4)+1,\"\"))","v":""},""]
[null,null,null,null,null,null,null,null,null,null,null,null,null,null,null,null,null,"",{"$f":"IF(B441=\"\",\"\",IF(R441<5,INT((A441-1)/Einstellung!$B$4)+1,\"\"))","v":""},""]
[null,null,null,null,null,null,null,null,null,null,null,null,null,null,null,null,null,"",{"$f":"IF(B442=\"\",\"\",IF(R442<5,INT((A442-1)/Einstellung!$B$4)+1,\"\"))","v":""},""]
[null,null,null,null,null,null,null,null,null,null,null,null,null,null,null,null,null,"",{"$f":"IF(B443=\"\",\"\",IF(R443<5,INT((A443-1)/Einstellung!$B$4)+1,\"\"))","v":""},""]
[null,null,null,null,null,null,null,null,null,null,null,null,null,null,null,null,null,"",{"$f":"IF(B444=\"\",\"\",IF(R444<5,INT((A444-1)/Einstellung!$B$4)+1,\"\"))","v":""},""]
[null,null,null,null,null,null,null,null,null,null,null,null,null,null,null,null,null,"",{"$f":"IF(B445=\"\",\"\",IF(R445<5,INT((A445-1)/Einstellung!$B$4)+1,\"\"))","v":""},""]
[null,null,null,null,null,null,null,null,null,null,null,null,null,null,null,null,null,"",{"$f":"IF(B446=\"\",\"\",IF(R446<5,INT((A446-1)/Einstellung!$B$4)+1,\"\"))","v":""},""]
[null,null,null,null,null,null,null,null,null,null,null,null,null,null,null,null,null,"",{"$f":"IF(B447=\"\",\"\",IF(R447<5,INT((A447-1)/Einstellung!$B$4)+1,\"\"))","v":""},""]
[null,null,null,null,null,null,null,null,null,null,null,null,null,null,null,null,null,"",{"$f":"IF(B448=\"\",\"\",IF(R448<5,INT((A448-1)/Einstellung!$B$4)+1,\"\"))","v":""},""]
[null,null,null,null,null,null,null,null,null,null,null,null,null,null,null,null,null,"",{"$f":"IF(B449=\"\",\"\",IF(R449<5,INT((A449-1)/Einstellung!$B$4)+1,\"\"))","v":""},""]
[null,null,null,null,null,null,null,null,null,null,null,null,null,null,null,null,null,"",{"$f":"IF(B450=\"\",\"\",IF(R450<5,INT((A450-1)/Einstellung!$B$4)+1,\"\"))","v":""},""]
[null,null,null,null,null,null,null,null,null,null,null,null,null,null,null,null,null,"",{"$f":"IF(B451=\"\",\"\",IF(R451<5,INT((A451-1)/Einstellung!$B$4)+1,\"\"))","v":""},""]
[null,null,null,null,null,null,null,null,null,null,null,null,null,null,null,null,null,"",{"$f":"IF(B452=\"\",\"\",IF(R452<5,INT((A452-1)/Einstellung!$B$4)+1,\"\"))","v":""},""]
[null,null,null,null,null,null,null,null,null,null,null,null,null,null,null,null,null,"",{"$f":"IF(B453=\"\",\"\",IF(R453<5,INT((A453-1)/Einstellung!$B$4)+1,\"\"))","v":""},""]
[null,null,null,null,null,null,null,null,null,null,null,null,null,null,null,null,null,"",{"$f":"IF(B454=\"\",\"\",IF(R454<5,INT((A454-1)/Einstellung!$B$4)+1,\"\"))","v":""},""]
[null,null,null,null,null,null,null,null,null,null,null,null,null,null,null,null,null,"",{"$f":"IF(B455=\"\",\"\",IF(R455<5,INT((A455-1)/Einstellung!$B$4)+1,\"\"))","v":""},""]
[null,null,null,null,null,null,null,null,null,null,null,null,null,null,null,null,null,{"$f":"IF(B456=\"\",\"\",16-((MID(B$1,1,1)=MID(B456,1,1))+(MID(C$1,1,1)=MID(C456,1,1))+(MID(D$1,1,1)=MID(D456,1,1))+(MID(E$1,1,1)=MID(E456,1,1))+(MID(F$1,1,1)=MID(F456,1,1))+(MID(G$1,1,1)=MID(G456,1,1))+(MID(H$1,1,1)=MID(H456,1,1))+(MID(I$1,1,1)=MID(I456,1,1))+(MID(J$1,1,1)=MID(J456,1,1))+(MID(K$1,1,1)=MID(K456,1,1))+(MID(L$1,1,1)=MID(L456,1,1))+(MID(M$1,1,1)=MID(M456,1,1))+(MID(N$1,1,1)=MID(N456,1,1))+(MID(O$1,1,1)=MID(O456,1,1))+(MID(P$1,1,1)=MID(P456,1,1)))-B$4+C$5)","v":""},{"$f":"IF(B456=\"\",\"\",IF(R456<5,INT((A456-1)/Einstellung!$B$4)+1,\"\"))","v":""},{"$f":"IF(C$5<B$4,\"\",IF(R456>4,\"\",OFFSET(T$2,R456-1,0)))","v":""}]
[null,null,null,null,null,null,null,null,null,null,null,null,null,null,null,null,null,"",{"$f":"IF(B457=\"\",\"\",IF(R457<5,INT((A457-1)/Einstellung!$B$4)+1,\"\"))","v":""},""]
[null,null,null,null,null,null,null,null,null,null,null,null,null,null,null,null,null,"",{"$f":"IF(B458=\"\",\"\",IF(R458<5,INT((A458-1)/Einstellung!$B$4)+1,\"\"))","v":""},""]
[null,null,null,null,null,null,null,null,null,null,null,null,null,null,null,null,null,"",{"$f":"IF(B459=\"\",\"\",IF(R459<5,INT((A459-1)/Einstellung!$B$4)+1,\"\"))","v":""},""]
[null,null,null,null,null,null,null,null,null,null,null,null,null,null,null,null,null,"",{"$f":"IF(B460=\"\",\"\",IF(R460<5,INT((A460-1)/Einstellung!$B$4)+1,\"\"))","v":""},""]
[null,null,null,null,null,null,null,null,null,null,null,null,null,null,null,null,null,"",{"$f":"IF(B461=\"\",\"\",IF(R461<5,INT((A461-1)/Einstellung!$B$4)+1,\"\"))","v":""},""]
[null,null,null,null,null,null,null,null,null,null,null,null,null,null,null,null,null,"",{"$f":"IF(B462=\"\",\"\",IF(R462<5,INT((A462-1)/Einstellung!$B$4)+1,\"\"))","v":""},""]
[null,null,null,null,null,null,null,null,null,null,null,null,null,null,null,null,null,"",{"$f":"IF(B463=\"\",\"\",IF(R463<5,INT((A463-1)/Einstellung!$B$4)+1,\"\"))","v":""},""]
[null,null,null,null,null,null,null,null,null,null,null,null,null,null,null,null,null,"",{"$f":"IF(B464=\"\",\"\",IF(R464<5,INT((A464-1)/Einstellung!$B$4)+1,\"\"))","v":""},""]
[null,null,null,null,null,null,null,null,null,null,null,null,null,null,null,null,null,"",{"$f":"IF(B465=\"\",\"\",IF(R465<5,INT((A465-1)/Einstellung!$B$4)+1,\"\"))","v":""},""]
[null,null,null,null,null,null,null,null,null,null,null,null,null,null,null,null,null,"",{"$f":"IF(B466=\"\",\"\",IF(R466<5,INT((A466-1)/Einstellung!$B$4)+1,\"\"))","v":""},""]
[null,null,null,null,null,null,null,null,null,null,null,null,null,null,null,null,null,"",{"$f":"IF(B467=\"\",\"\",IF(R467<5,INT((A467-1)/Einstellung!$B$4)+1,\"\"))","v":""},""]
[null,null,null,null,null,null,null,null,null,null,null,null,null,null,null,null,null,"",{"$f":"IF(B468=\"\",\"\",IF(R468<5,INT((A468-1)/Einstellung!$B$4)+1,\"\"))","v":""},""]
[null,null,null,null,null,null,null,null,null,null,null,null,null,null,null,null,null,"",{"$f":"IF(B469=\"\",\"\",IF(R469<5,INT((A469-1)/Einstellung!$B$4)+1,\"\"))","v":""},""]
[null,null,null,null,null,null,null,null,null,null,null,null,null,null,null,null,null,"",{"$f":"IF(B470=\"\",\"\",IF(R470<5,INT((A470-1)/Einstellung!$B$4)+1,\"\"))","v":""},""]
[null,null,null,null,null,null,null,null,null,null,null,null,null,null,null,null,null,"",{"$f":"IF(B471=\"\",\"\",IF(R471<5,INT((A471-1)/Einstellung!$B$4)+1,\"\"))","v":""},""]
[null,null,null,null,null,null,null,null,null,null,null,null,null,null,null,null,null,"",{"$f":"IF(B472=\"\",\"\",IF(R472<5,INT((A472-1)/Einstellung!$B$4)+1,\"\"))","v":""},""]
[null,null,null,null,null,null,null,null,null,null,null,null,null,null,null,null,null,"",{"$f":"IF(B473=\"\",\"\",IF(R473<5,INT((A473-1)/Einstellung!$B$4)+1,\"\"))","v":""},""]
[null,null,null,null,null,null,null,null,null,null,null,null,null,null,null,null,null,"",{"$f":"IF(B474=\"\",\"\",IF(R474<5,INT((A474-1)/Einstellung!$B$4)+1,\"\"))","v":""},""]
[null,null,null,null,null,null,null,null,null,null,null,null,null,null,null,null,null,"",{"$f":"IF(B475=\"\",\"\",IF(R475<5,INT((A475-1)/Einstellung!$B$4)+1,\"\"))","v":""},""]
[null,null,null,null,null,null,null,null,null,null,null,null,null,null,null,null,null,"",{"$f":"IF(B476=\"\",\"\",IF(R476<5,INT((A476-1)/Einstellung!$B$4)+1,\"\"))","v":""},""]
[null,null,null,null,null,null,null,null,null,null,null,null,null,null,null,null,null,"",{"$f":"IF(B477=\"\",\"\",IF(R477<5,INT((A477-1)/Einstellung!$B$4)+1,\"\"))","v":""},""]
[null,null,null,null,null,null,null,null,null,null,null,null,null,null,null,null,null,"",{"$f":"IF(B478=\"\",\"\",IF(R478<5,INT((A478-1)/Einstellung!$B$4)+1,\"\"))","v":""},""]
[null,null,null,null,null,null,null,null,null,null,null,null,null,null,null,null,null,"",{"$f":"IF(B479=\"\",\"\",IF(R479<5,INT((A479-1)/Einstellung!$B$4)+1,\"\"))","v":""},""]
[null,null,null,null,null,null,null,null,null,null,null,null,null,null,null,null,null,"",{"$f":"IF(B480=\"\",\"\",IF(R480<5,INT((A480-1)/Einstellung!$B$4)+1,\"\"))","v":""},""]
[null,null,null,null,null,null,null,null,null,null,null,null,null,null,null,null,null,"",{"$f":"IF(B481=\"\",\"\",IF(R481<5,INT((A481-1)/Einstellung!$B$4)+1,\"\"))","v":""},""]
[null,null,null,null,null,null,null,null,null,null,null,null,null,null,null,null,null,"",{"$f":"IF(B482=\"\",\"\",IF(R482<5,INT((A482-1)/Einstellung!$B$4)+1,\"\"))","v":""},""]
[null,null,null,null,null,null,null,null,null,null,null,null,null,null,null,null,null,"",{"$f":"IF(B483=\"\",\"\",IF(R483<5,INT((A483-1)/Einstellung!$B$4)+1,\"\"))","v":""},""]
[null,null,null,null,null,null,null,null,null,null,null,null,null,null,null,null,null,"",{"$f":"IF(B484=\"\",\"\",IF(R484<5,INT((A484-1)/Einstellung!$B$4)+1,\"\"))","v":""},""]
[null,null,null,null,null,null,null,null,null,null,null,null,null,null,null,null,null,"",{"$f":"IF(B485=\"\",\"\",IF(R485<5,INT((A485-1)/Einstellung!$B$4)+1,\"\"))","v":""},""]
[null,null,null,null,null,null,null,null,null,null,null,null,null,null,null,null,null,"",{"$f":"IF(B486=\"\",\"\",IF(R486<5,INT((A486-1)/Einstellung!$B$4)+1,\"\"))","v":""},""]
[null,null,null,null,null,null,null,null,null,null,null,null,null,null,null,null,null,"",{"$f":"IF(B487=\"\",\"\",IF(R487<5,INT((A487-1)/Einstellung!$B$4)+1,\"\"))","v":""},""]
[null,null,null,null,null,null,null,null,null,null,null,null,null,null,null,null,null,"",{"$f":"IF(B488=\"\",\"\",IF(R488<5,INT((A488-1)/Einstellung!$B$4)+1,\"\"))","v":""},""]
[null,null,null,null,null,null,null,null,null,null,null,null,null,null,null,null,null,"",{"$f":"IF(B489=\"\",\"\",IF(R489<5,INT((A489-1)/Einstellung!$B$4)+1,\"\"))","v":""},""]
[null,null,null,null,null,null,null,null,null,null,null,null,null,null,null,null,null,"",{"$f":"IF(B490=\"\",\"\",IF(R490<5,INT((A490-1)/Einstellung!$B$4)+1,\"\"))","v":""},""]
[null,null,null,null,null,null,null,null,null,null,null,null,null,null,null,null,null,"",{"$f":"IF(B491=\"\",\"\",IF(R491<5,INT((A491-1)/Einstellung!$B$4)+1,\"\"))","v":""},""]
[null,null,null,null,null,null,null,null,null,null,null,null,null,null,null,null,null,"",{"$f":"IF(B492=\"\",\"\",IF(R492<5,INT((A492-1)/Einstellung!$B$4)+1,\"\"))","v":""},""]
[null,null,null,null,null,null,null,null,null,null,null,null,null,null,null,null,null,"",{"$f":"IF(B493=\"\",\"\",IF(R493<5,INT((A493-1)/Einstellung!$B$4)+1,\"\"))","v":""},""]
[null,null,null,null,null,null,null,null,null,null,null,null,null,null,null,null,null,"",{"$f":"IF(B494=\"\",\"\",IF(R494<5,INT((A494-1)/Einstellung!$B$4)+1,\"\"))","v":""},""]
[null,null,null,null,null,null,null,null,null,null,null,null,null,null,null,null,null,"",{"$f":"IF(B495=\"\",\"\",IF(R495<5,INT((A495-1)/Einstellung!$B$4)+1,\"\"))","v":""},""]
[null,null,null,null,null,null,null,null,null,null,null,null,null,null,null,null,null,"",{"$f":"IF(B496=\"\",\"\",IF(R496<5,INT((A496-1)/Einstellung!$B$4)+1,\"\"))","v":""},""]
[null,null,null,null,null,null,null,null,null,null,null,null,null,null,null,null,null,"",{"$f":"IF(B497=\"\",\"\",IF(R497<5,INT((A497-1)/Einstellung!$B$4)+1,\"\"))","v":""},""]
[null,null,null,null,null,null,null,null,null,null,null,null,null,null,null,null,null,"",{"$f":"IF(B498=\"\",\"\",IF(R498<5,INT((A498-1)/Einstellung!$B$4)+1,\"\"))","v":""},""]
[null,null,null,null,null,null,null,null,null,null,null,null,null,null,null,null,null,"",{"$f":"IF(B499=\"\",\"\",IF(R499<5,INT((A499-1)/Einstellung!$B$4)+1,\"\"))","v":""},""]
[null,null,null,null,null,null,null,null,null,null,null,null,null,null,null,null,null,"",{"$f":"IF(B500=\"\",\"\",IF(R500<5,INT((A500-1)/Einstellung!$B$4)+1,\"\"))","v":""},""]
[null,null,null,null,null,null,null,null,null,null,null,null,null,null,null,null,null,"",{"$f":"IF(B501=\"\",\"\",IF(R501<5,INT((A501-1)/Einstellung!$B$4)+1,\"\"))","v":""},""]
[null,null,null,null,null,null,null,null,null,null,null,null,null,null,null,null,null,"",{"$f":"IF(B502=\"\",\"\",IF(R502<5,INT((A502-1)/Einstellung!$B$4)+1,\"\"))","v":""},""]
[null,null,null,null,null,null,null,null,null,null,null,null,null,null,null,null,null,"",{"$f":"IF(B503=\"\",\"\",IF(R503<5,INT((A503-1)/Einstellung!$B$4)+1,\"\"))","v":""},""]
[null,null,null,null,null,null,null,null,null,null,null,null,null,null,null,null,null,"",{"$f":"IF(B504=\"\",\"\",IF(R504<5,INT((A504-1)/Einstellung!$B$4)+1,\"\"))","v":""},""]
[null,null,null,null,null,null,null,null,null,null,null,null,null,null,null,null,null,"",{"$f":"IF(B505=\"\",\"\",IF(R505<5,INT((A505-1)/Einstellung!$B$4)+1,\"\"))","v":""},""]
[null,null,null,null,null,null,null,null,null,null,null,null,null,null,null,null,null,"",{"$f":"IF(B506=\"\",\"\",IF(R506<5,INT((A506-1)/Einstellung!$B$4)+1,\"\"))","v":""},""]
[null,null,null,null,null,null,null,null,null,null,null,null,null,null,null,null,null,"",{"$f":"IF(B507=\"\",\"\",IF(R507<5,INT((A507-1)/Einstellung!$B$4)+1,\"\"))","v":""},""]
[null,null,null,null,null,null,null,null,null,null,null,null,null,null,null,null,null,"",{"$f":"IF(B508=\"\",\"\",IF(R508<5,INT((A508-1)/Einstellung!$B$4)+1,\"\"))","v":""},""]
[null,null,null,null,null,null,null,null,null,null,null,null,null,null,null,null,null,"",{"$f":"IF(B509=\"\",\"\",IF(R509<5,INT((A509-1)/Einstellung!$B$4)+1,\"\"))","v":""},""]
[null,null,null,null,null,null,null,null,null,null,null,null,null,null,null,null,null,"",{"$f":"IF(B510=\"\",\"\",IF(R510<5,INT((A510-1)/Einstellung!$B$4)+1,\"\"))","v":""},""]
[null,null,null,null,null,null,null,null,null,null,null,null,null,null,null,null,null,"",{"$f":"IF(B511=\"\",\"\",IF(R511<5,INT((A511-1)/Einstellung!$B$4)+1,\"\"))","v":""},""]
[null,null,null,null,null,null,null,null,null,null,null,null,null,null,null,null,null,"",{"$f":"IF(B512=\"\",\"\",IF(R512<5,INT((A512-1)/Einstellung!$B$4)+1,\"\"))","v":""},""]
[null,null,null,null,null,null,null,null,null,null,null,null,null,null,null,null,null,"",{"$f":"IF(B513=\"\",\"\",IF(R513<5,INT((A513-1)/Einstellung!$B$4)+1,\"\"))","v":""},""]
[null,null,null,null,null,null,null,null,null,null,null,null,null,null,null,null,null,"",{"$f":"IF(B514=\"\",\"\",IF(R514<5,INT((A514-1)/Einstellung!$B$4)+1,\"\"))","v":""},""]
[null,null,null,null,null,null,null,null,null,null,null,null,null,null,null,null,null,"",{"$f":"IF(B515=\"\",\"\",IF(R515<5,INT((A515-1)/Einstellung!$B$4)+1,\"\"))","v":""},""]
[null,null,null,null,null,null,null,null,null,null,null,null,null,null,null,null,null,"",{"$f":"IF(B516=\"\",\"\",IF(R516<5,INT((A516-1)/Einstellung!$B$4)+1,\"\"))","v":""},""]
[null,null,null,null,null,null,null,null,null,null,null,null,null,null,null,null,null,"",{"$f":"IF(B517=\"\",\"\",IF(R517<5,INT((A517-1)/Einstellung!$B$4)+1,\"\"))","v":""},""]
[null,null,null,null,null,null,null,null,null,null,null,null,null,null,null,null,null,"",{"$f":"IF(B518=\"\",\"\",IF(R518<5,INT((A518-1)/Einstellung!$B$4)+1,\"\"))","v":""},""]
[null,null,null,null,null,null,null,null,null,null,null,null,null,null,null,null,null,"",{"$f":"IF(B519=\"\",\"\",IF(R519<5,INT((A519-1)/Einstellung!$B$4)+1,\"\"))","v":""},""]
[null,null,null,null,null,null,null,null,null,null,null,null,null,null,null,null,null,{"$f":"IF(B520=\"\",\"\",16-((MID(B$1,1,1)=MID(B520,1,1))+(MID(C$1,1,1)=MID(C520,1,1))+(MID(D$1,1,1)=MID(D520,1,1))+(MID(E$1,1,1)=MID(E520,1,1))+(MID(F$1,1,1)=MID(F520,1,1))+(MID(G$1,1,1)=MID(G520,1,1))+(MID(H$1,1,1)=MID(H520,1,1))+(MID(I$1,1,1)=MID(I520,1,1))+(MID(J$1,1,1)=MID(J520,1,1))+(MID(K$1,1,1)=MID(K520,1,1))+(MID(L$1,1,1)=MID(L520,1,1))+(MID(M$1,1,1)=MID(M520,1,1))+(MID(N$1,1,1)=MID(N520,1,1))+(MID(O$1,1,1)=MID(O520,1,1))+(MID(P$1,1,1)=MID(P520,1,1)))-B$4+C$5)","v":""},{"$f":"IF(B520=\"\",\"\",IF(R520<5,INT((A520-1)/Einstellung!$B$4)+1,\"\"))","v":""},{"$f":"IF(C$5<B$4,\"\",IF(R520>4,\"\",OFFSET(T$2,R520-1,0)))","v":""}]
[null,null,null,null,null,null,null,null,null,null,null,null,null,null,null,null,null,"",{"$f":"IF(B521=\"\",\"\",IF(R521<5,INT((A521-1)/Einstellung!$B$4)+1,\"\"))","v":""},""]
[null,null,null,null,null,null,null,null,null,null,null,null,null,null,null,null,null,"",{"$f":"IF(B522=\"\",\"\",IF(R522<5,INT((A522-1)/Einstellung!$B$4)+1,\"\"))","v":""},""]
[null,null,null,null,null,null,null,null,null,null,null,null,null,null,null,null,null,"",{"$f":"IF(B523=\"\",\"\",IF(R523<5,INT((A523-1)/Einstellung!$B$4)+1,\"\"))","v":""},""]
[null,null,null,null,null,null,null,null,null,null,null,null,null,null,null,null,null,"",{"$f":"IF(B524=\"\",\"\",IF(R524<5,INT((A524-1)/Einstellung!$B$4)+1,\"\"))","v":""},""]
[null,null,null,null,null,null,null,null,null,null,null,null,null,null,null,null,null,"",{"$f":"IF(B525=\"\",\"\",IF(R525<5,INT((A525-1)/Einstellung!$B$4)+1,\"\"))","v":""},""]
[null,null,null,null,null,null,null,null,null,null,null,null,null,null,null,null,null,"",{"$f":"IF(B526=\"\",\"\",IF(R526<5,INT((A526-1)/Einstellung!$B$4)+1,\"\"))","v":""},""]
[null,null,null,null,null,null,null,null,null,null,null,null,null,null,null,null,null,"",{"$f":"IF(B527=\"\",\"\",IF(R527<5,INT((A527-1)/Einstellung!$B$4)+1,\"\"))","v":""},""]
[null,null,null,null,null,null,null,null,null,null,null,null,null,null,null,null,null,"",{"$f":"IF(B528=\"\",\"\",IF(R528<5,INT((A528-1)/Einstellung!$B$4)+1,\"\"))","v":""},""]
[null,null,null,null,null,null,null,null,null,null,null,null,null,null,null,null,null,"",{"$f":"IF(B529=\"\",\"\",IF(R529<5,INT((A529-1)/Einstellung!$B$4)+1,\"\"))","v":""},""]
[null,null,null,null,null,null,null,null,null,null,null,null,null,null,null,null,null,"",{"$f":"IF(B530=\"\",\"\",IF(R530<5,INT((A530-1)/Einstellung!$B$4)+1,\"\"))","v":""},""]
[null,null,null,null,null,null,null,null,null,null,null,null,null,null,null,null,null,"",{"$f":"IF(B531=\"\",\"\",IF(R531<5,INT((A531-1)/Einstellung!$B$4)+1,\"\"))","v":""},""]
[null,null,null,null,null,null,null,null,null,null,null,null,null,null,null,null,null,"",{"$f":"IF(B532=\"\",\"\",IF(R532<5,INT((A532-1)/Einstellung!$B$4)+1,\"\"))","v":""},""]
[null,null,null,null,null,null,null,null,null,null,null,null,null,null,null,null,null,"",{"$f":"IF(B533=\"\",\"\",IF(R533<5,INT((A533-1)/Einstellung!$B$4)+1,\"\"))","v":""},""]
[null,null,null,null,null,null,null,null,null,null,null,null,null,null,null,null,null,"",{"$f":"IF(B534=\"\",\"\",IF(R534<5,INT((A534-1)/Einstellung!$B$4)+1,\"\"))","v":""},""]
[null,null,null,null,null,null,null,null,null,null,null,null,null,null,null,null,null,"",{"$f":"IF(B535=\"\",\"\",IF(R535<5,INT((A535-1)/Einstellung!$B$4)+1,\"\"))","v":""},""]
[null,null,null,null,null,null,null,null,null,null,null,null,null,null,null,null,null,"",{"$f":"IF(B536=\"\",\"\",IF(R536<5,INT((A536-1)/Einstellung!$B$4)+1,\"\"))","v":""},""]
[null,null,null,null,null,null,null,null,null,null,null,null,null,null,null,null,null,"",{"$f":"IF(B537=\"\",\"\",IF(R537<5,INT((A537-1)/Einstellung!$B$4)+1,\"\"))","v":""},""]
[null,null,null,null,null,null,null,null,null,null,null,null,null,null,null,null,null,"",{"$f":"IF(B538=\"\",\"\",IF(R538<5,INT((A538-1)/Einstellung!$B$4)+1,\"\"))","v":""},""]
[null,null,null,null,null,null,null,null,null,null,null,null,null,null,null,null,null,"",{"$f":"IF(B539=\"\",\"\",IF(R539<5,INT((A539-1)/Einstellung!$B$4)+1,\"\"))","v":""},""]
[null,null,null,null,null,null,null,null,null,null,null,null,null,null,null,null,null,"",{"$f":"IF(B540=\"\",\"\",IF(R540<5,INT((A540-1)/Einstellung!$B$4)+1,\"\"))","v":""},""]
[null,null,null,null,null,null,null,null,null,null,null,null,null,null,null,null,null,"",{"$f":"IF(B541=\"\",\"\",IF(R541<5,INT((A541-1)/Einstellung!$B$4)+1,\"\"))","v":""},""]
[null,null,null,null,null,null,null,null,null,null,null,null,null,null,null,null,null,"",{"$f":"IF(B542=\"\",\"\",IF(R542<5,INT((A542-1)/Einstellung!$B$4)+1,\"\"))","v":""},""]
[null,null,null,null,null,null,null,null,null,null,null,null,null,null,null,null,null,"",{"$f":"IF(B543=\"\",\"\",IF(R543<5,INT((A543-1)/Einstellung!$B$4)+1,\"\"))","v":""},""]
[null,null,null,null,null,null,null,null,null,null,null,null,null,null,null,null,null,"",{"$f":"IF(B544=\"\",\"\",IF(R544<5,INT((A544-1)/Einstellung!$B$4)+1,\"\"))","v":""},""]
[null,null,null,null,null,null,null,null,null,null,null,null,null,null,null,null,null,"",{"$f":"IF(B545=\"\",\"\",IF(R545<5,INT((A545-1)/Einstellung!$B$4)+1,\"\"))","v":""},""]
[null,null,null,null,null,null,null,null,null,null,null,null,null,null,null,null,null,"",{"$f":"IF(B546=\"\",\"\",IF(R546<5,INT((A546-1)/Einstellung!$B$4)+1,\"\"))","v":""},""]
[null,null,null,null,null,null,null,null,null,null,null,null,null,null,null,null,null,"",{"$f":"IF(B547=\"\",\"\",IF(R547<5,INT((A547-1)/Einstellung!$B$4)+1,\"\"))","v":""},""]
[null,null,null,null,null,null,null,null,null,null,null,null,null,null,null,null,null,"",{"$f":"IF(B548=\"\",\"\",IF(R548<5,INT((A548-1)/Einstellung!$B$4)+1,\"\"))","v":""},""]
[null,null,null,null,null,null,null,null,null,null,null,null,null,null,null,null,null,"",{"$f":"IF(B549=\"\",\"\",IF(R549<5,INT((A549-1)/Einstellung!$B$4)+1,\"\"))","v":""},""]
[null,null,null,null,null,null,null,null,null,null,null,null,null,null,null,null,null,"",{"$f":"IF(B550=\"\",\"\",IF(R550<5,INT((A550-1)/Einstellung!$B$4)+1,\"\"))","v":""},""]
[null,null,null,null,null,null,null,null,null,null,null,null,null,null,null,null,null,"",{"$f":"IF(B551=\"\",\"\",IF(R551<5,INT((A551-1)/Einstellung!$B$4)+1,\"\"))","v":""},""]
[null,null,null,null,null,null,null,null,null,null,null,null,null,null,null,null,null,"",{"$f":"IF(B552=\"\",\"\",IF(R552<5,INT((A552-1)/Einstellung!$B$4)+1,\"\"))","v":""},""]
[null,null,null,null,null,null,null,null,null,null,null,null,null,null,null,null,null,"",{"$f":"IF(B553=\"\",\"\",IF(R553<5,INT((A553-1)/Einstellung!$B$4)+1,\"\"))","v":""},""]
[null,null,null,null,null,null,null,null,null,null,null,null,null,null,null,null,null,"",{"$f":"IF(B554=\"\",\"\",IF(R554<5,INT((A554-1)/Einstellung!$B$4)+1,\"\"))","v":""},""]
[null,null,null,null,null,null,null,null,null,null,null,null,null,null,null,null,null,"",{"$f":"IF(B555=\"\",\"\",IF(R555<5,INT((A555-1)/Einstellung!$B$4)+1,\"\"))","v":""},""]
[null,null,null,null,null,null,null,null,null,null,null,null,null,null,null,null,null,"",{"$f":"IF(B556=\"\",\"\",IF(R556<5,INT((A556-1)/Einstellung!$B$4)+1,\"\"))","v":""},""]
[null,null,null,null,null,null,null,null,null,null,null,null,null,null,null,null,null,"",{"$f":"IF(B557=\"\",\"\",IF(R557<5,INT((A557-1)/Einstellung!$B$4)+1,\"\"))","v":""},""]
[null,null,null,null,null,null,null,null,null,null,null,null,null,null,null,null,null,"",{"$f":"IF(B558=\"\",\"\",IF(R558<5,INT((A558-1)/Einstellung!$B$4)+1,\"\"))","v":""},""]
[null,null,null,null,null,null,null,null,null,null,null,null,null,null,null,null,null,"",{"$f":"IF(B559=\"\",\"\",IF(R559<5,INT((A559-1)/Einstellung!$B$4)+1,\"\"))","v":""},""]
[null,null,null,null,null,null,null,null,null,null,null,null,null,null,null,null,null,"",{"$f":"IF(B560=\"\",\"\",IF(R560<5,INT((A560-1)/Einstellung!$B$4)+1,\"\"))","v":""},""]
[null,null,null,null,null,null,null,null,null,null,null,null,null,null,null,null,null,"",{"$f":"IF(B561=\"\",\"\",IF(R561<5,INT((A561-1)/Einstellung!$B$4)+1,\"\"))","v":""},""]
[null,null,null,null,null,null,null,null,null,null,null,null,null,null,null,null,null,"",{"$f":"IF(B562=\"\",\"\",IF(R562<5,INT((A562-1)/Einstellung!$B$4)+1,\"\"))","v":""},""]
[null,null,null,null,null,null,null,null,null,null,null,null,null,null,null,null,null,"",{"$f":"IF(B563=\"\",\"\",IF(R563<5,INT((A563-1)/Einstellung!$B$4)+1,\"\"))","v":""},""]
[null,null,null,null,null,null,null,null,null,null,null,null,null,null,null,null,null,"",{"$f":"IF(B564=\"\",\"\",IF(R564<5,INT((A564-1)/Einstellung!$B$4)+1,\"\"))","v":""},""]
[null,null,null,null,null,null,null,null,null,null,null,null,null,null,null,null,null,"",{"$f":"IF(B565=\"\",\"\",IF(R565<5,INT((A565-1)/Einstellung!$B$4)+1,\"\"))","v":""},""]
[null,null,null,null,null,null,null,null,null,null,null,null,null,null,null,null,null,"",{"$f":"IF(B566=\"\",\"\",IF(R566<5,INT((A566-1)/Einstellung!$B$4)+1,\"\"))","v":""},""]
[null,null,null,null,null,null,null,null,null,null,null,null,null,null,null,null,null,"",{"$f":"IF(B567=\"\",\"\",IF(R567<5,INT((A567-1)/Einstellung!$B$4)+1,\"\"))","v":""},""]
[null,null,null,null,null,null,null,null,null,null,null,null,null,null,null,null,null,"",{"$f":"IF(B568=\"\",\"\",IF(R568<5,INT((A568-1)/Einstellung!$B$4)+1,\"\"))","v":""},""]
[null,null,null,null,null,null,null,null,null,null,null,null,null,null,null,null,null,"",{"$f":"IF(B569=\"\",\"\",IF(R569<5,INT((A569-1)/Einstellung!$B$4)+1,\"\"))","v":""},""]
[null,null,null,null,null,null,null,null,null,null,null,null,null,null,null,null,null,"",{"$f":"IF(B570=\"\",\"\",IF(R570<5,INT((A570-1)/Einstellung!$B$4)+1,\"\"))","v":""},""]
[null,null,null,null,null,null,null,null,null,null,null,null,null,null,null,null,null,"",{"$f":"IF(B571=\"\",\"\",IF(R571<5,INT((A571-1)/Einstellung!$B$4)+1,\"\"))","v":""},""]
[null,null,null,null,null,null,null,null,null,null,null,null,null,null,null,null,null,"",{"$f":"IF(B572=\"\",\"\",IF(R572<5,INT((A572-1)/Einstellung!$B$4)+1,\"\"))","v":""},""]
[null,null,null,null,null,null,null,null,null,null,null,null,null,null,null,null,null,"",{"$f":"IF(B573=\"\",\"\",IF(R573<5,INT((A573-1)/Einstellung!$B$4)+1,\"\"))","v":""},""]
[null,null,null,null,null,null,null,null,null,null,null,null,null,null,null,null,null,"",{"$f":"IF(B574=\"\",\"\",IF(R574<5,INT((A574-1)/Einstellung!$B$4)+1,\"\"))","v":""},""]
[null,null,null,null,null,null,null,null,null,null,null,null,null,null,null,null,null,"",{"$f":"IF(B575=\"\",\"\",IF(R575<5,INT((A575-1)/Einstellung!$B$4)+1,\"\"))","v":""},""]
[null,null,null,null,null,null,null,null,null,null,null,null,null,null,null,null,null,"",{"$f":"IF(B576=\"\",\"\",IF(R576<5,INT((A576-1)/Einstellung!$B$4)+1,\"\"))","v":""},""]
[null,null,null,null,null,null,null,null,null,null,null,null,null,null,null,null,null,"",{"$f":"IF(B577=\"\",\"\",IF(R577<5,INT((A577-1)/Einstellung!$B$4)+1,\"\"))","v":""},""]
[null,null,null,null,null,null,null,null,null,null,null,null,null,null,null,null,null,"",{"$f":"IF(B578=\"\",\"\",IF(R578<5,INT((A578-1)/Einstellung!$B$4)+1,\"\"))","v":""},""]
[null,null,null,null,null,null,null,null,null,null,null,null,null,null,null,null,null,"",{"$f":"IF(B579=\"\",\"\",IF(R579<5,INT((A579-1)/Einstellung!$B$4)+1,\"\"))","v":""},""]
[null,null,null,null,null,null,null,null,null,null,null,null,null,null,null,null,null,"",{"$f":"IF(B580=\"\",\"\",IF(R580<5,INT((A580-1)/Einstellung!$B$4)+1,\"\"))","v":""},""]
[null,null,null,null,null,null,null,null,null,null,null,null,null,null,null,null,null,"",{"$f":"IF(B581=\"\",\"\",IF(R581<5,INT((A581-1)/Einstellung!$B$4)+1,\"\"))","v":""},""]
[null,null,null,null,null,null,null,null,null,null,null,null,null,null,null,null,null,"",{"$f":"IF(B582=\"\",\"\",IF(R582<5,INT((A582-1)/Einstellung!$B$4)+1,\"\"))","v":""},""]
[null,null,null,null,null,null,null,null,null,null,null,null,null,null,null,null,null,"",{"$f":"IF(B583=\"\",\"\",IF(R583<5,INT((A583-1)/Einstellung!$B$4)+1,\"\"))","v":""},""]
[null,null,null,null,null,null,null,null,null,null,null,null,null,null,null,null,null,{"$f":"IF(B584=\"\",\"\",16-((MID(B$1,1,1)=MID(B584,1,1))+(MID(C$1,1,1)=MID(C584,1,1))+(MID(D$1,1,1)=MID(D584,1,1))+(MID(E$1,1,1)=MID(E584,1,1))+(MID(F$1,1,1)=MID(F584,1,1))+(MID(G$1,1,1)=MID(G584,1,1))+(MID(H$1,1,1)=MID(H584,1,1))+(MID(I$1,1,1)=MID(I584,1,1))+(MID(J$1,1,1)=MID(J584,1,1))+(MID(K$1,1,1)=MID(K584,1,1))+(MID(L$1,1,1)=MID(L584,1,1))+(MID(M$1,1,1)=MID(M584,1,1))+(MID(N$1,1,1)=MID(N584,1,1))+(MID(O$1,1,1)=MID(O584,1,1))+(MID(P$1,1,1)=MID(P584,1,1)))-B$4+C$5)","v":""},{"$f":"IF(B584=\"\",\"\",IF(R584<5,INT((A584-1)/Einstellung!$B$4)+1,\"\"))","v":""},{"$f":"IF(C$5<B$4,\"\",IF(R584>4,\"\",OFFSET(T$2,R584-1,0)))","v":""}]
[null,null,null,null,null,null,null,null,null,null,null,null,null,null,null,null,null,"",{"$f":"IF(B585=\"\",\"\",IF(R585<5,INT((A585-1)/Einstellung!$B$4)+1,\"\"))","v":""},""]
[null,null,null,null,null,null,null,null,null,null,null,null,null,null,null,null,null,"",{"$f":"IF(B586=\"\",\"\",IF(R586<5,INT((A586-1)/Einstellung!$B$4)+1,\"\"))","v":""},""]
[null,null,null,null,null,null,null,null,null,null,null,null,null,null,null,null,null,"",{"$f":"IF(B587=\"\",\"\",IF(R587<5,INT((A587-1)/Einstellung!$B$4)+1,\"\"))","v":""},""]
[null,null,null,null,null,null,null,null,null,null,null,null,null,null,null,null,null,"",{"$f":"IF(B588=\"\",\"\",IF(R588<5,INT((A588-1)/Einstellung!$B$4)+1,\"\"))","v":""},""]
[null,null,null,null,null,null,null,null,null,null,null,null,null,null,null,null,null,"",{"$f":"IF(B589=\"\",\"\",IF(R589<5,INT((A589-1)/Einstellung!$B$4)+1,\"\"))","v":""},""]
[null,null,null,null,null,null,null,null,null,null,null,null,null,null,null,null,null,"",{"$f":"IF(B590=\"\",\"\",IF(R590<5,INT((A590-1)/Einstellung!$B$4)+1,\"\"))","v":""},""]
[null,null,null,null,null,null,null,null,null,null,null,null,null,null,null,null,null,"",{"$f":"IF(B591=\"\",\"\",IF(R591<5,INT((A591-1)/Einstellung!$B$4)+1,\"\"))","v":""},""]
[null,null,null,null,null,null,null,null,null,null,null,null,null,null,null,null,null,"",{"$f":"IF(B592=\"\",\"\",IF(R592<5,INT((A592-1)/Einstellung!$B$4)+1,\"\"))","v":""},""]
[null,null,null,null,null,null,null,null,null,null,null,null,null,null,null,null,null,"",{"$f":"IF(B593=\"\",\"\",IF(R593<5,INT((A593-1)/Einstellung!$B$4)+1,\"\"))","v":""},""]
[null,null,null,null,null,null,null,null,null,null,null,null,null,null,null,null,null,"",{"$f":"IF(B594=\"\",\"\",IF(R594<5,INT((A594-1)/Einstellung!$B$4)+1,\"\"))","v":""},""]
[null,null,null,null,null,null,null,null,null,null,null,null,null,null,null,null,null,"",{"$f":"IF(B595=\"\",\"\",IF(R595<5,INT((A595-1)/Einstellung!$B$4)+1,\"\"))","v":""},""]
[null,null,null,null,null,null,null,null,null,null,null,null,null,null,null,null,null,"",{"$f":"IF(B596=\"\",\"\",IF(R596<5,INT((A596-1)/Einstellung!$B$4)+1,\"\"))","v":""},""]
[null,null,null,null,null,null,null,null,null,null,null,null,null,null,null,null,null,"",{"$f":"IF(B597=\"\",\"\",IF(R597<5,INT((A597-1)/Einstellung!$B$4)+1,\"\"))","v":""},""]
[null,null,null,null,null,null,null,null,null,null,null,null,null,null,null,null,null,"",{"$f":"IF(B598=\"\",\"\",IF(R598<5,INT((A598-1)/Einstellung!$B$4)+1,\"\"))","v":""},""]
[null,null,null,null,null,null,null,null,null,null,null,null,null,null,null,null,null,"",{"$f":"IF(B599=\"\",\"\",IF(R599<5,INT((A599-1)/Einstellung!$B$4)+1,\"\"))","v":""},""]
[null,null,null,null,null,null,null,null,null,null,null,null,null,null,null,null,null,"",{"$f":"IF(B600=\"\",\"\",IF(R600<5,INT((A600-1)/Einstellung!$B$4)+1,\"\"))","v":""},""]
[null,null,null,null,null,null,null,null,null,null,null,null,null,null,null,null,null,"",{"$f":"IF(B601=\"\",\"\",IF(R601<5,INT((A601-1)/Einstellung!$B$4)+1,\"\"))","v":""},""]
[null,null,null,null,null,null,null,null,null,null,null,null,null,null,null,null,null,"",{"$f":"IF(B602=\"\",\"\",IF(R602<5,INT((A602-1)/Einstellung!$B$4)+1,\"\"))","v":""},""]
[null,null,null,null,null,null,null,null,null,null,null,null,null,null,null,null,null,"",{"$f":"IF(B603=\"\",\"\",IF(R603<5,INT((A603-1)/Einstellung!$B$4)+1,\"\"))","v":""},""]
[null,null,null,null,null,null,null,null,null,null,null,null,null,null,null,null,null,"",{"$f":"IF(B604=\"\",\"\",IF(R604<5,INT((A604-1)/Einstellung!$B$4)+1,\"\"))","v":""},""]
[null,null,null,null,null,null,null,null,null,null,null,null,null,null,null,null,null,"",{"$f":"IF(B605=\"\",\"\",IF(R605<5,INT((A605-1)/Einstellung!$B$4)+1,\"\"))","v":""},""]
[null,null,null,null,null,null,null,null,null,null,null,null,null,null,null,null,null,"",{"$f":"IF(B606=\"\",\"\",IF(R606<5,INT((A606-1)/Einstellung!$B$4)+1,\"\"))","v":""},""]
[null,null,null,null,null,null,null,null,null,null,null,null,null,null,null,null,null,"",{"$f":"IF(B607=\"\",\"\",IF(R607<5,INT((A607-1)/Einstellung!$B$4)+1,\"\"))","v":""},""]
[null,null,null,null,null,null,null,null,null,null,null,null,null,null,null,null,null,"",{"$f":"IF(B608=\"\",\"\",IF(R608<5,INT((A608-1)/Einstellung!$B$4)+1,\"\"))","v":""},""]
[null,null,null,null,null,null,null,null,null,null,null,null,null,null,null,null,null,"",{"$f":"IF(B609=\"\",\"\",IF(R609<5,INT((A609-1)/Einstellung!$B$4)+1,\"\"))","v":""},""]
[null,null,null,null,null,null,null,null,null,null,null,null,null,null,null,null,null,"",{"$f":"IF(B610=\"\",\"\",IF(R610<5,INT((A610-1)/Einstellung!$B$4)+1,\"\"))","v":""},""]
[null,null,null,null,null,null,null,null,null,null,null,null,null,null,null,null,null,"",{"$f":"IF(B611=\"\",\"\",IF(R611<5,INT((A611-1)/Einstellung!$B$4)+1,\"\"))","v":""},""]
[null,null,null,null,null,null,null,null,null,null,null,null,null,null,null,null,null,"",{"$f":"IF(B612=\"\",\"\",IF(R612<5,INT((A612-1)/Einstellung!$B$4)+1,\"\"))","v":""},""]
[null,null,null,null,null,null,null,null,null,null,null,null,null,null,null,null,null,"",{"$f":"IF(B613=\"\",\"\",IF(R613<5,INT((A613-1)/Einstellung!$B$4)+1,\"\"))","v":""},""]
[null,null,null,null,null,null,null,null,null,null,null,null,null,null,null,null,null,"",{"$f":"IF(B614=\"\",\"\",IF(R614<5,INT((A614-1)/Einstellung!$B$4)+1,\"\"))","v":""},""]
[null,null,null,null,null,null,null,null,null,null,null,null,null,null,null,null,null,"",{"$f":"IF(B615=\"\",\"\",IF(R615<5,INT((A615-1)/Einstellung!$B$4)+1,\"\"))","v":""},""]
[null,null,null,null,null,null,null,null,null,null,null,null,null,null,null,null,null,"",{"$f":"IF(B616=\"\",\"\",IF(R616<5,INT((A616-1)/Einstellung!$B$4)+1,\"\"))","v":""},""]
[null,null,null,null,null,null,null,null,null,null,null,null,null,null,null,null,null,"",{"$f":"IF(B617=\"\",\"\",IF(R617<5,INT((A617-1)/Einstellung!$B$4)+1,\"\"))","v":""},""]
[null,null,null,null,null,null,null,null,null,null,null,null,null,null,null,null,null,"",{"$f":"IF(B618=\"\",\"\",IF(R618<5,INT((A618-1)/Einstellung!$B$4)+1,\"\"))","v":""},""]
[null,null,null,null,null,null,null,null,null,null,null,null,null,null,null,null,null,"",{"$f":"IF(B619=\"\",\"\",IF(R619<5,INT((A619-1)/Einstellung!$B$4)+1,\"\"))","v":""},""]
[null,null,null,null,null,null,null,null,null,null,null,null,null,null,null,null,null,"",{"$f":"IF(B620=\"\",\"\",IF(R620<5,INT((A620-1)/Einstellung!$B$4)+1,\"\"))","v":""},""]
[null,null,null,null,null,null,null,null,null,null,null,null,null,null,null,null,null,"",{"$f":"IF(B621=\"\",\"\",IF(R621<5,INT((A621-1)/Einstellung!$B$4)+1,\"\"))","v":""},""]
[null,null,null,null,null,null,null,null,null,null,null,null,null,null,null,null,null,"",{"$f":"IF(B622=\"\",\"\",IF(R622<5,INT((A622-1)/Einstellung!$B$4)+1,\"\"))","v":""},""]
[null,null,null,null,null,null,null,null,null,null,null,null,null,null,null,null,null,"",{"$f":"IF(B623=\"\",\"\",IF(R623<5,INT((A623-1)/Einstellung!$B$4)+1,\"\"))","v":""},""]
[null,null,null,null,null,null,null,null,null,null,null,null,null,null,null,null,null,"",{"$f":"IF(B624=\"\",\"\",IF(R624<5,INT((A624-1)/Einstellung!$B$4)+1,\"\"))","v":""},""]
[null,null,null,null,null,null,null,null,null,null,null,null,null,null,null,null,null,"",{"$f":"IF(B625=\"\",\"\",IF(R625<5,INT((A625-1)/Einstellung!$B$4)+1,\"\"))","v":""},""]
[null,null,null,null,null,null,null,null,null,null,null,null,null,null,null,null,null,"",{"$f":"IF(B626=\"\",\"\",IF(R626<5,INT((A626-1)/Einstellung!$B$4)+1,\"\"))","v":""},""]
[null,null,null,null,null,null,null,null,null,null,null,null,null,null,null,null,null,"",{"$f":"IF(B627=\"\",\"\",IF(R627<5,INT((A627-1)/Einstellung!$B$4)+1,\"\"))","v":""},""]
[null,null,null,null,null,null,null,null,null,null,null,null,null,null,null,null,null,"",{"$f":"IF(B628=\"\",\"\",IF(R628<5,INT((A628-1)/Einstellung!$B$4)+1,\"\"))","v":""},""]
[null,null,null,null,null,null,null,null,null,null,null,null,null,null,null,null,null,"",{"$f":"IF(B629=\"\",\"\",IF(R629<5,INT((A629-1)/Einstellung!$B$4)+1,\"\"))","v":""},""]
[null,null,null,null,null,null,null,null,null,null,null,null,null,null,null,null,null,"",{"$f":"IF(B630=\"\",\"\",IF(R630<5,INT((A630-1)/Einstellung!$B$4)+1,\"\"))","v":""},""]
[null,null,null,null,null,null,null,null,null,null,null,null,null,null,null,null,null,"",{"$f":"IF(B631=\"\",\"\",IF(R631<5,INT((A631-1)/Einstellung!$B$4)+1,\"\"))","v":""},""]
[null,null,null,null,null,null,null,null,null,null,null,null,null,null,null,null,null,"",{"$f":"IF(B632=\"\",\"\",IF(R632<5,INT((A632-1)/Einstellung!$B$4)+1,\"\"))","v":""},""]
[null,null,null,null,null,null,null,null,null,null,null,null,null,null,null,null,null,"",{"$f":"IF(B633=\"\",\"\",IF(R633<5,INT((A633-1)/Einstellung!$B$4)+1,\"\"))","v":""},""]
[null,null,null,null,null,null,null,null,null,null,null,null,null,null,null,null,null,"",{"$f":"IF(B634=\"\",\"\",IF(R634<5,INT((A634-1)/Einstellung!$B$4)+1,\"\"))","v":""},""]
[null,null,null,null,null,null,null,null,null,null,null,null,null,null,null,null,null,"",{"$f":"IF(B635=\"\",\"\",IF(R635<5,INT((A635-1)/Einstellung!$B$4)+1,\"\"))","v":""},""]
[null,null,null,null,null,null,null,null,null,null,null,null,null,null,null,null,null,"",{"$f":"IF(B636=\"\",\"\",IF(R636<5,INT((A636-1)/Einstellung!$B$4)+1,\"\"))","v":""},""]
[null,null,null,null,null,null,null,null,null,null,null,null,null,null,null,null,null,"",{"$f":"IF(B637=\"\",\"\",IF(R637<5,INT((A637-1)/Einstellung!$B$4)+1,\"\"))","v":""},""]
[null,null,null,null,null,null,null,null,null,null,null,null,null,null,null,null,null,"",{"$f":"IF(B638=\"\",\"\",IF(R638<5,INT((A638-1)/Einstellung!$B$4)+1,\"\"))","v":""},""]
[null,null,null,null,null,null,null,null,null,null,null,null,null,null,null,null,null,"",{"$f":"IF(B639=\"\",\"\",IF(R639<5,INT((A639-1)/Einstellung!$B$4)+1,\"\"))","v":""},""]
[null,null,null,null,null,null,null,null,null,null,null,null,null,null,null,null,null,"",{"$f":"IF(B640=\"\",\"\",IF(R640<5,INT((A640-1)/Einstellung!$B$4)+1,\"\"))","v":""},""]
[null,null,null,null,null,null,null,null,null,null,null,null,null,null,null,null,null,"",{"$f":"IF(B641=\"\",\"\",IF(R641<5,INT((A641-1)/Einstellung!$B$4)+1,\"\"))","v":""},""]
[null,null,null,null,null,null,null,null,null,null,null,null,null,null,null,null,null,"",{"$f":"IF(B642=\"\",\"\",IF(R642<5,INT((A642-1)/Einstellung!$B$4)+1,\"\"))","v":""},""]
[null,null,null,null,null,null,null,null,null,null,null,null,null,null,null,null,null,"",{"$f":"IF(B643=\"\",\"\",IF(R643<5,INT((A643-1)/Einstellung!$B$4)+1,\"\"))","v":""},""]
[null,null,null,null,null,null,null,null,null,null,null,null,null,null,null,null,null,"",{"$f":"IF(B644=\"\",\"\",IF(R644<5,INT((A644-1)/Einstellung!$B$4)+1,\"\"))","v":""},""]
[null,null,null,null,null,null,null,null,null,null,null,null,null,null,null,null,null,"",{"$f":"IF(B645=\"\",\"\",IF(R645<5,INT((A645-1)/Einstellung!$B$4)+1,\"\"))","v":""},""]
[null,null,null,null,null,null,null,null,null,null,null,null,null,null,null,null,null,"",{"$f":"IF(B646=\"\",\"\",IF(R646<5,INT((A646-1)/Einstellung!$B$4)+1,\"\"))","v":""},""]
[null,null,null,null,null,null,null,null,null,null,null,null,null,null,null,null,null,"",{"$f":"IF(B647=\"\",\"\",IF(R647<5,INT((A647-1)/Einstellung!$B$4)+1,\"\"))","v":""},""]
[null,null,null,null,null,null,null,null,null,null,null,null,null,null,null,null,null,{"$f":"IF(B648=\"\",\"\",16-((MID(B$1,1,1)=MID(B648,1,1))+(MID(C$1,1,1)=MID(C648,1,1))+(MID(D$1,1,1)=MID(D648,1,1))+(MID(E$1,1,1)=MID(E648,1,1))+(MID(F$1,1,1)=MID(F648,1,1))+(MID(G$1,1,1)=MID(G648,1,1))+(MID(H$1,1,1)=MID(H648,1,1))+(MID(I$1,1,1)=MID(I648,1,1))+(MID(J$1,1,1)=MID(J648,1,1))+(MID(K$1,1,1)=MID(K648,1,1))+(MID(L$1,1,1)=MID(L648,1,1))+(MID(M$1,1,1)=MID(M648,1,1))+(MID(N$1,1,1)=MID(N648,1,1))+(MID(O$1,1,1)=MID(O648,1,1))+(MID(P$1,1,1)=MID(P648,1,1)))-B$4+C$5)","v":""},{"$f":"IF(B648=\"\",\"\",IF(R648<5,INT((A648-1)/Einstellung!$B$4)+1,\"\"))","v":""},{"$f":"IF(C$5<B$4,\"\",IF(R648>4,\"\",OFFSET(T$2,R648-1,0)))","v":""}]
[null,null,null,null,null,null,null,null,null,null,null,null,null,null,null,null,null,"",{"$f":"IF(B649=\"\",\"\",IF(R649<5,INT((A649-1)/Einstellung!$B$4)+1,\"\"))","v":""},""]
[null,null,null,null,null,null,null,null,null,null,null,null,null,null,null,null,null,"",{"$f":"IF(B650=\"\",\"\",IF(R650<5,INT((A650-1)/Einstellung!$B$4)+1,\"\"))","v":""},""]
[null,null,null,null,null,null,null,null,null,null,null,null,null,null,null,null,null,"",{"$f":"IF(B651=\"\",\"\",IF(R651<5,INT((A651-1)/Einstellung!$B$4)+1,\"\"))","v":""},""]
[null,null,null,null,null,null,null,null,null,null,null,null,null,null,null,null,null,"",{"$f":"IF(B652=\"\",\"\",IF(R652<5,INT((A652-1)/Einstellung!$B$4)+1,\"\"))","v":""},""]
[null,null,null,null,null,null,null,null,null,null,null,null,null,null,null,null,null,"",{"$f":"IF(B653=\"\",\"\",IF(R653<5,INT((A653-1)/Einstellung!$B$4)+1,\"\"))","v":""},""]
[null,null,null,null,null,null,null,null,null,null,null,null,null,null,null,null,null,"",{"$f":"IF(B654=\"\",\"\",IF(R654<5,INT((A654-1)/Einstellung!$B$4)+1,\"\"))","v":""},""]
[null,null,null,null,null,null,null,null,null,null,null,null,null,null,null,null,null,"",{"$f":"IF(B655=\"\",\"\",IF(R655<5,INT((A655-1)/Einstellung!$B$4)+1,\"\"))","v":""},""]
[null,null,null,null,null,null,null,null,null,null,null,null,null,null,null,null,null,"",{"$f":"IF(B656=\"\",\"\",IF(R656<5,INT((A656-1)/Einstellung!$B$4)+1,\"\"))","v":""},""]
[null,null,null,null,null,null,null,null,null,null,null,null,null,null,null,null,null,"",{"$f":"IF(B657=\"\",\"\",IF(R657<5,INT((A657-1)/Einstellung!$B$4)+1,\"\"))","v":""},""]
[null,null,null,null,null,null,null,null,null,null,null,null,null,null,null,null,null,"",{"$f":"IF(B658=\"\",\"\",IF(R658<5,INT((A658-1)/Einstellung!$B$4)+1,\"\"))","v":""},""]
[null,null,null,null,null,null,null,null,null,null,null,null,null,null,null,null,null,"",{"$f":"IF(B659=\"\",\"\",IF(R659<5,INT((A659-1)/Einstellung!$B$4)+1,\"\"))","v":""},""]
[null,null,null,null,null,null,null,null,null,null,null,null,null,null,null,null,null,"",{"$f":"IF(B660=\"\",\"\",IF(R660<5,INT((A660-1)/Einstellung!$B$4)+1,\"\"))","v":""},""]
[null,null,null,null,null,null,null,null,null,null,null,null,null,null,null,null,null,"",{"$f":"IF(B661=\"\",\"\",IF(R661<5,INT((A661-1)/Einstellung!$B$4)+1,\"\"))","v":""},""]
[null,null,null,null,null,null,null,null,null,null,null,null,null,null,null,null,null,"",{"$f":"IF(B662=\"\",\"\",IF(R662<5,INT((A662-1)/Einstellung!$B$4)+1,\"\"))","v":""},""]
[null,null,null,null,null,null,null,null,null,null,null,null,null,null,null,null,null,"",{"$f":"IF(B663=\"\",\"\",IF(R663<5,INT((A663-1)/Einstellung!$B$4)+1,\"\"))","v":""},""]
[null,null,null,null,null,null,null,null,null,null,null,null,null,null,null,null,null,"",{"$f":"IF(B664=\"\",\"\",IF(R664<5,INT((A664-1)/Einstellung!$B$4)+1,\"\"))","v":""},""]
[null,null,null,null,null,null,null,null,null,null,null,null,null,null,null,null,null,"",{"$f":"IF(B665=\"\",\"\",IF(R665<5,INT((A665-1)/Einstellung!$B$4)+1,\"\"))","v":""},""]
[null,null,null,null,null,null,null,null,null,null,null,null,null,null,null,null,null,"",{"$f":"IF(B666=\"\",\"\",IF(R666<5,INT((A666-1)/Einstellung!$B$4)+1,\"\"))","v":""},""]
[null,null,null,null,null,null,null,null,null,null,null,null,null,null,null,null,null,"",{"$f":"IF(B667=\"\",\"\",IF(R667<5,INT((A667-1)/Einstellung!$B$4)+1,\"\"))","v":""},""]
[null,null,null,null,null,null,null,null,null,null,null,null,null,null,null,null,null,"",{"$f":"IF(B668=\"\",\"\",IF(R668<5,INT((A668-1)/Einstellung!$B$4)+1,\"\"))","v":""},""]
[null,null,null,null,null,null,null,null,null,null,null,null,null,null,null,null,null,"",{"$f":"IF(B669=\"\",\"\",IF(R669<5,INT((A669-1)/Einstellung!$B$4)+1,\"\"))","v":""},""]
[null,null,null,null,null,null,null,null,null,null,null,null,null,null,null,null,null,"",{"$f":"IF(B670=\"\",\"\",IF(R670<5,INT((A670-1)/Einstellung!$B$4)+1,\"\"))","v":""},""]
[null,null,null,null,null,null,null,null,null,null,null,null,null,null,null,null,null,"",{"$f":"IF(B671=\"\",\"\",IF(R671<5,INT((A671-1)/Einstellung!$B$4)+1,\"\"))","v":""},""]
[null,null,null,null,null,null,null,null,null,null,null,null,null,null,null,null,null,"",{"$f":"IF(B672=\"\",\"\",IF(R672<5,INT((A672-1)/Einstellung!$B$4)+1,\"\"))","v":""},""]
[null,null,null,null,null,null,null,null,null,null,null,null,null,null,null,null,null,"",{"$f":"IF(B673=\"\",\"\",IF(R673<5,INT((A673-1)/Einstellung!$B$4)+1,\"\"))","v":""},""]
[null,null,null,null,null,null,null,null,null,null,null,null,null,null,null,null,null,"",{"$f":"IF(B674=\"\",\"\",IF(R674<5,INT((A674-1)/Einstellung!$B$4)+1,\"\"))","v":""},""]
[null,null,null,null,null,null,null,null,null,null,null,null,null,null,null,null,null,"",{"$f":"IF(B675=\"\",\"\",IF(R675<5,INT((A675-1)/Einstellung!$B$4)+1,\"\"))","v":""},""]
[null,null,null,null,null,null,null,null,null,null,null,null,null,null,null,null,null,"",{"$f":"IF(B676=\"\",\"\",IF(R676<5,INT((A676-1)/Einstellung!$B$4)+1,\"\"))","v":""},""]
[null,null,null,null,null,null,null,null,null,null,null,null,null,null,null,null,null,"",{"$f":"IF(B677=\"\",\"\",IF(R677<5,INT((A677-1)/Einstellung!$B$4)+1,\"\"))","v":""},""]
[null,null,null,null,null,null,null,null,null,null,null,null,null,null,null,null,null,"",{"$f":"IF(B678=\"\",\"\",IF(R678<5,INT((A678-1)/Einstellung!$B$4)+1,\"\"))","v":""},""]
[null,null,null,null,null,null,null,null,null,null,null,null,null,null,null,null,null,"",{"$f":"IF(B679=\"\",\"\",IF(R679<5,INT((A679-1)/Einstellung!$B$4)+1,\"\"))","v":""},""]
[null,null,null,null,null,null,null,null,null,null,null,null,null,null,null,null,null,"",{"$f":"IF(B680=\"\",\"\",IF(R680<5,INT((A680-1)/Einstellung!$B$4)+1,\"\"))","v":""},""]
[null,null,null,null,null,null,null,null,null,null,null,null,null,null,null,null,null,"",{"$f":"IF(B681=\"\",\"\",IF(R681<5,INT((A681-1)/Einstellung!$B$4)+1,\"\"))","v":""},""]
[null,null,null,null,null,null,null,null,null,null,null,null,null,null,null,null,null,"",{"$f":"IF(B682=\"\",\"\",IF(R682<5,INT((A682-1)/Einstellung!$B$4)+1,\"\"))","v":""},""]
[null,null,null,null,null,null,null,null,null,null,null,null,null,null,null,null,null,"",{"$f":"IF(B683=\"\",\"\",IF(R683<5,INT((A683-1)/Einstellung!$B$4)+1,\"\"))","v":""},""]
[null,null,null,null,null,null,null,null,null,null,null,null,null,null,null,null,null,"",{"$f":"IF(B684=\"\",\"\",IF(R684<5,INT((A684-1)/Einstellung!$B$4)+1,\"\"))","v":""},""]
[null,null,null,null,null,null,null,null,null,null,null,null,null,null,null,null,null,"",{"$f":"IF(B685=\"\",\"\",IF(R685<5,INT((A685-1)/Einstellung!$B$4)+1,\"\"))","v":""},""]
[null,null,null,null,null,null,null,null,null,null,null,null,null,null,null,null,null,"",{"$f":"IF(B686=\"\",\"\",IF(R686<5,INT((A686-1)/Einstellung!$B$4)+1,\"\"))","v":""},""]
[null,null,null,null,null,null,null,null,null,null,null,null,null,null,null,null,null,"",{"$f":"IF(B687=\"\",\"\",IF(R687<5,INT((A687-1)/Einstellung!$B$4)+1,\"\"))","v":""},""]
[null,null,null,null,null,null,null,null,null,null,null,null,null,null,null,null,null,"",{"$f":"IF(B688=\"\",\"\",IF(R688<5,INT((A688-1)/Einstellung!$B$4)+1,\"\"))","v":""},""]
[null,null,null,null,null,null,null,null,null,null,null,null,null,null,null,null,null,"",{"$f":"IF(B689=\"\",\"\",IF(R689<5,INT((A689-1)/Einstellung!$B$4)+1,\"\"))","v":""},""]
[null,null,null,null,null,null,null,null,null,null,null,null,null,null,null,null,null,"",{"$f":"IF(B690=\"\",\"\",IF(R690<5,INT((A690-1)/Einstellung!$B$4)+1,\"\"))","v":""},""]
[null,null,null,null,null,null,null,null,null,null,null,null,null,null,null,null,null,"",{"$f":"IF(B691=\"\",\"\",IF(R691<5,INT((A691-1)/Einstellung!$B$4)+1,\"\"))","v":""},""]
[null,null,null,null,null,null,null,null,null,null,null,null,null,null,null,null,null,"",{"$f":"IF(B692=\"\",\"\",IF(R692<5,INT((A692-1)/Einstellung!$B$4)+1,\"\"))","v":""},""]
[null,null,null,null,null,null,null,null,null,null,null,null,null,null,null,null,null,"",{"$f":"IF(B693=\"\",\"\",IF(R693<5,INT((A693-1)/Einstellung!$B$4)+1,\"\"))","v":""},""]
[null,null,null,null,null,null,null,null,null,null,null,null,null,null,null,null,null,"",{"$f":"IF(B694=\"\",\"\",IF(R694<5,INT((A694-1)/Einstellung!$B$4)+1,\"\"))","v":""},""]
[null,null,null,null,null,null,null,null,null,null,null,null,null,null,null,null,null,"",{"$f":"IF(B695=\"\",\"\",IF(R695<5,INT((A695-1)/Einstellung!$B$4)+1,\"\"))","v":""},""]
[null,null,null,null,null,null,null,null,null,null,null,null,null,null,null,null,null,"",{"$f":"IF(B696=\"\",\"\",IF(R696<5,INT((A696-1)/Einstellung!$B$4)+1,\"\"))","v":""},""]
[null,null,null,null,null,null,null,null,null,null,null,null,null,null,null,null,null,"",{"$f":"IF(B697=\"\",\"\",IF(R697<5,INT((A697-1)/Einstellung!$B$4)+1,\"\"))","v":""},""]
[null,null,null,null,null,null,null,null,null,null,null,null,null,null,null,null,null,"",{"$f":"IF(B698=\"\",\"\",IF(R698<5,INT((A698-1)/Einstellung!$B$4)+1,\"\"))","v":""},""]
[null,null,null,null,null,null,null,null,null,null,null,null,null,null,null,null,null,"",{"$f":"IF(B699=\"\",\"\",IF(R699<5,INT((A699-1)/Einstellung!$B$4)+1,\"\"))","v":""},""]
[null,null,null,null,null,null,null,null,null,null,null,null,null,null,null,null,null,"",{"$f":"IF(B700=\"\",\"\",IF(R700<5,INT((A700-1)/Einstellung!$B$4)+1,\"\"))","v":""},""]
[null,null,null,null,null,null,null,null,null,null,null,null,null,null,null,null,null,"",{"$f":"IF(B701=\"\",\"\",IF(R701<5,INT((A701-1)/Einstellung!$B$4)+1,\"\"))","v":""},""]
[null,null,null,null,null,null,null,null,null,null,null,null,null,null,null,null,null,"",{"$f":"IF(B702=\"\",\"\",IF(R702<5,INT((A702-1)/Einstellung!$B$4)+1,\"\"))","v":""},""]
[null,null,null,null,null,null,null,null,null,null,null,null,null,null,null,null,null,"",{"$f":"IF(B703=\"\",\"\",IF(R703<5,INT((A703-1)/Einstellung!$B$4)+1,\"\"))","v":""},""]
[null,null,null,null,null,null,null,null,null,null,null,null,null,null,null,null,null,"",{"$f":"IF(B704=\"\",\"\",IF(R704<5,INT((A704-1)/Einstellung!$B$4)+1,\"\"))","v":""},""]
[null,null,null,null,null,null,null,null,null,null,null,null,null,null,null,null,null,"",{"$f":"IF(B705=\"\",\"\",IF(R705<5,INT((A705-1)/Einstellung!$B$4)+1,\"\"))","v":""},""]
[null,null,null,null,null,null,null,null,null,null,null,null,null,null,null,null,null,"",{"$f":"IF(B706=\"\",\"\",IF(R706<5,INT((A706-1)/Einstellung!$B$4)+1,\"\"))","v":""},""]
[null,null,null,null,null,null,null,null,null,null,null,null,null,null,null,null,null,"",{"$f":"IF(B707=\"\",\"\",IF(R707<5,INT((A707-1)/Einstellung!$B$4)+1,\"\"))","v":""},""]
[null,null,null,null,null,null,null,null,null,null,null,null,null,null,null,null,null,"",{"$f":"IF(B708=\"\",\"\",IF(R708<5,INT((A708-1)/Einstellung!$B$4)+1,\"\"))","v":""},""]
[null,null,null,null,null,null,null,null,null,null,null,null,null,null,null,null,null,"",{"$f":"IF(B709=\"\",\"\",IF(R709<5,INT((A709-1)/Einstellung!$B$4)+1,\"\"))","v":""},""]
[null,null,null,null,null,null,null,null,null,null,null,null,null,null,null,null,null,"",{"$f":"IF(B710=\"\",\"\",IF(R710<5,INT((A710-1)/Einstellung!$B$4)+1,\"\"))","v":""},""]
[null,null,null,null,null,null,null,null,null,null,null,null,null,null,null,null,null,"",{"$f":"IF(B711=\"\",\"\",IF(R711<5,INT((A711-1)/Einstellung!$B$4)+1,\"\"))","v":""},""]
[null,null,null,null,null,null,null,null,null,null,null,null,null,null,null,null,null,{"$f":"IF(B712=\"\",\"\",16-((MID(B$1,1,1)=MID(B712,1,1))+(MID(C$1,1,1)=MID(C712,1,1))+(MID(D$1,1,1)=MID(D712,1,1))+(MID(E$1,1,1)=MID(E712,1,1))+(MID(F$1,1,1)=MID(F712,1,1))+(MID(G$1,1,1)=MID(G712,1,1))+(MID(H$1,1,1)=MID(H712,1,1))+(MID(I$1,1,1)=MID(I712,1,1))+(MID(J$1,1,1)=MID(J712,1,1))+(MID(K$1,1,1)=MID(K712,1,1))+(MID(L$1,1,1)=MID(L712,1,1))+(MID(M$1,1,1)=MID(M712,1,1))+(MID(N$1,1,1)=MID(N712,1,1))+(MID(O$1,1,1)=MID(O712,1,1))+(MID(P$1,1,1)=MID(P712,1,1)))-B$4+C$5)","v":""},{"$f":"IF(B712=\"\",\"\",IF(R712<5,INT((A712-1)/Einstellung!$B$4)+1,\"\"))","v":""},{"$f":"IF(C$5<B$4,\"\",IF(R712>4,\"\",OFFSET(T$2,R712-1,0)))","v":""}]
[null,null,null,null,null,null,null,null,null,null,null,null,null,null,null,null,null,"",{"$f":"IF(B713=\"\",\"\",IF(R713<5,INT((A713-1)/Einstellung!$B$4)+1,\"\"))","v":""},""]
[null,null,null,null,null,null,null,null,null,null,null,null,null,null,null,null,null,"",{"$f":"IF(B714=\"\",\"\",IF(R714<5,INT((A714-1)/Einstellung!$B$4)+1,\"\"))","v":""},""]
[null,null,null,null,null,null,null,null,null,null,null,null,null,null,null,null,null,"",{"$f":"IF(B715=\"\",\"\",IF(R715<5,INT((A715-1)/Einstellung!$B$4)+1,\"\"))","v":""},""]
[null,null,null,null,null,null,null,null,null,null,null,null,null,null,null,null,null,"",{"$f":"IF(B716=\"\",\"\",IF(R716<5,INT((A716-1)/Einstellung!$B$4)+1,\"\"))","v":""},""]
[null,null,null,null,null,null,null,null,null,null,null,null,null,null,null,null,null,"",{"$f":"IF(B717=\"\",\"\",IF(R717<5,INT((A717-1)/Einstellung!$B$4)+1,\"\"))","v":""},""]
[null,null,null,null,null,null,null,null,null,null,null,null,null,null,null,null,null,"",{"$f":"IF(B718=\"\",\"\",IF(R718<5,INT((A718-1)/Einstellung!$B$4)+1,\"\"))","v":""},""]
[null,null,null,null,null,null,null,null,null,null,null,null,null,null,null,null,null,"",{"$f":"IF(B719=\"\",\"\",IF(R719<5,INT((A719-1)/Einstellung!$B$4)+1,\"\"))","v":""},""]
[null,null,null,null,null,null,null,null,null,null,null,null,null,null,null,null,null,"",{"$f":"IF(B720=\"\",\"\",IF(R720<5,INT((A720-1)/Einstellung!$B$4)+1,\"\"))","v":""},""]
[null,null,null,null,null,null,null,null,null,null,null,null,null,null,null,null,null,"",{"$f":"IF(B721=\"\",\"\",IF(R721<5,INT((A721-1)/Einstellung!$B$4)+1,\"\"))","v":""},""]
[null,null,null,null,null,null,null,null,null,null,null,null,null,null,null,null,null,"",{"$f":"IF(B722=\"\",\"\",IF(R722<5,INT((A722-1)/Einstellung!$B$4)+1,\"\"))","v":""},""]
[null,null,null,null,null,null,null,null,null,null,null,null,null,null,null,null,null,"",{"$f":"IF(B723=\"\",\"\",IF(R723<5,INT((A723-1)/Einstellung!$B$4)+1,\"\"))","v":""},""]
[null,null,null,null,null,null,null,null,null,null,null,null,null,null,null,null,null,"",{"$f":"IF(B724=\"\",\"\",IF(R724<5,INT((A724-1)/Einstellung!$B$4)+1,\"\"))","v":""},""]
[null,null,null,null,null,null,null,null,null,null,null,null,null,null,null,null,null,"",{"$f":"IF(B725=\"\",\"\",IF(R725<5,INT((A725-1)/Einstellung!$B$4)+1,\"\"))","v":""},""]
[null,null,null,null,null,null,null,null,null,null,null,null,null,null,null,null,null,"",{"$f":"IF(B726=\"\",\"\",IF(R726<5,INT((A726-1)/Einstellung!$B$4)+1,\"\"))","v":""},""]
[null,null,null,null,null,null,null,null,null,null,null,null,null,null,null,null,null,"",{"$f":"IF(B727=\"\",\"\",IF(R727<5,INT((A727-1)/Einstellung!$B$4)+1,\"\"))","v":""},""]
[null,null,null,null,null,null,null,null,null,null,null,null,null,null,null,null,null,"",{"$f":"IF(B728=\"\",\"\",IF(R728<5,INT((A728-1)/Einstellung!$B$4)+1,\"\"))","v":""},""]
[null,null,null,null,null,null,null,null,null,null,null,null,null,null,null,null,null,"",{"$f":"IF(B729=\"\",\"\",IF(R729<5,INT((A729-1)/Einstellung!$B$4)+1,\"\"))","v":""},""]
[null,null,null,null,null,null,null,null,null,null,null,null,null,null,null,null,null,"",{"$f":"IF(B730=\"\",\"\",IF(R730<5,INT((A730-1)/Einstellung!$B$4)+1,\"\"))","v":""},""]
[null,null,null,null,null,null,null,null,null,null,null,null,null,null,null,null,null,"",{"$f":"IF(B731=\"\",\"\",IF(R731<5,INT((A731-1)/Einstellung!$B$4)+1,\"\"))","v":""},""]
[null,null,null,null,null,null,null,null,null,null,null,null,null,null,null,null,null,"",{"$f":"IF(B732=\"\",\"\",IF(R732<5,INT((A732-1)/Einstellung!$B$4)+1,\"\"))","v":""},""]
[null,null,null,null,null,null,null,null,null,null,null,null,null,null,null,null,null,"",{"$f":"IF(B733=\"\",\"\",IF(R733<5,INT((A733-1)/Einstellung!$B$4)+1,\"\"))","v":""},""]
[null,null,null,null,null,null,null,null,null,null,null,null,null,null,null,null,null,"",{"$f":"IF(B734=\"\",\"\",IF(R734<5,INT((A734-1)/Einstellung!$B$4)+1,\"\"))","v":""},""]
[null,null,null,null,null,null,null,null,null,null,null,null,null,null,null,null,null,"",{"$f":"IF(B735=\"\",\"\",IF(R735<5,INT((A735-1)/Einstellung!$B$4)+1,\"\"))","v":""},""]
[null,null,null,null,null,null,null,null,null,null,null,null,null,null,null,null,null,"",{"$f":"IF(B736=\"\",\"\",IF(R736<5,INT((A736-1)/Einstellung!$B$4)+1,\"\"))","v":""},""]
[null,null,null,null,null,null,null,null,null,null,null,null,null,null,null,null,null,"",{"$f":"IF(B737=\"\",\"\",IF(R737<5,INT((A737-1)/Einstellung!$B$4)+1,\"\"))","v":""},""]
[null,null,null,null,null,null,null,null,null,null,null,null,null,null,null,null,null,"",{"$f":"IF(B738=\"\",\"\",IF(R738<5,INT((A738-1)/Einstellung!$B$4)+1,\"\"))","v":""},""]
[null,null,null,null,null,null,null,null,null,null,null,null,null,null,null,null,null,"",{"$f":"IF(B739=\"\",\"\",IF(R739<5,INT((A739-1)/Einstellung!$B$4)+1,\"\"))","v":""},""]
[null,null,null,null,null,null,null,null,null,null,null,null,null,null,null,null,null,"",{"$f":"IF(B740=\"\",\"\",IF(R740<5,INT((A740-1)/Einstellung!$B$4)+1,\"\"))","v":""},""]
[null,null,null,null,null,null,null,null,null,null,null,null,null,null,null,null,null,"",{"$f":"IF(B741=\"\",\"\",IF(R741<5,INT((A741-1)/Einstellung!$B$4)+1,\"\"))","v":""},""]
[null,null,null,null,null,null,null,null,null,null,null,null,null,null,null,null,null,"",{"$f":"IF(B742=\"\",\"\",IF(R742<5,INT((A742-1)/Einstellung!$B$4)+1,\"\"))","v":""},""]
[null,null,null,null,null,null,null,null,null,null,null,null,null,null,null,null,null,"",{"$f":"IF(B743=\"\",\"\",IF(R743<5,INT((A743-1)/Einstellung!$B$4)+1,\"\"))","v":""},""]
[null,null,null,null,null,null,null,null,null,null,null,null,null,null,null,null,null,"",{"$f":"IF(B744=\"\",\"\",IF(R744<5,INT((A744-1)/Einstellung!$B$4)+1,\"\"))","v":""},""]
[null,null,null,null,null,null,null,null,null,null,null,null,null,null,null,null,null,"",{"$f":"IF(B745=\"\",\"\",IF(R745<5,INT((A745-1)/Einstellung!$B$4)+1,\"\"))","v":""},""]
[null,null,null,null,null,null,null,null,null,null,null,null,null,null,null,null,null,"",{"$f":"IF(B746=\"\",\"\",IF(R746<5,INT((A746-1)/Einstellung!$B$4)+1,\"\"))","v":""},""]
[null,null,null,null,null,null,null,null,null,null,null,null,null,null,null,null,null,"",{"$f":"IF(B747=\"\",\"\",IF(R747<5,INT((A747-1)/Einstellung!$B$4)+1,\"\"))","v":""},""]
[null,null,null,null,null,null,null,null,null,null,null,null,null,null,null,null,null,"",{"$f":"IF(B748=\"\",\"\",IF(R748<5,INT((A748-1)/Einstellung!$B$4)+1,\"\"))","v":""},""]
[null,null,null,null,null,null,null,null,null,null,null,null,null,null,null,null,null,"",{"$f":"IF(B749=\"\",\"\",IF(R749<5,INT((A749-1)/Einstellung!$B$4)+1,\"\"))","v":""},""]
[null,null,null,null,null,null,null,null,null,null,null,null,null,null,null,null,null,"",{"$f":"IF(B750=\"\",\"\",IF(R750<5,INT((A750-1)/Einstellung!$B$4)+1,\"\"))","v":""},""]
[null,null,null,null,null,null,null,null,null,null,null,null,null,null,null,null,null,"",{"$f":"IF(B751=\"\",\"\",IF(R751<5,INT((A751-1)/Einstellung!$B$4)+1,\"\"))","v":""},""]
[null,null,null,null,null,null,null,null,null,null,null,null,null,null,null,null,null,"",{"$f":"IF(B752=\"\",\"\",IF(R752<5,INT((A752-1)/Einstellung!$B$4)+1,\"\"))","v":""},""]
[null,null,null,null,null,null,null,null,null,null,null,null,null,null,null,null,null,"",{"$f":"IF(B753=\"\",\"\",IF(R753<5,INT((A753-1)/Einstellung!$B$4)+1,\"\"))","v":""},""]
[null,null,null,null,null,null,null,null,null,null,null,null,null,null,null,null,null,"",{"$f":"IF(B754=\"\",\"\",IF(R754<5,INT((A754-1)/Einstellung!$B$4)+1,\"\"))","v":""},""]
[null,null,null,null,null,null,null,null,null,null,null,null,null,null,null,null,null,"",{"$f":"IF(B755=\"\",\"\",IF(R755<5,INT((A755-1)/Einstellung!$B$4)+1,\"\"))","v":""},""]
[null,null,null,null,null,null,null,null,null,null,null,null,null,null,null,null,null,"",{"$f":"IF(B756=\"\",\"\",IF(R756<5,INT((A756-1)/Einstellung!$B$4)+1,\"\"))","v":""},""]
[null,null,null,null,null,null,null,null,null,null,null,null,null,null,null,null,null,"",{"$f":"IF(B757=\"\",\"\",IF(R757<5,INT((A757-1)/Einstellung!$B$4)+1,\"\"))","v":""},""]
[null,null,null,null,null,null,null,null,null,null,null,null,null,null,null,null,null,"",{"$f":"IF(B758=\"\",\"\",IF(R758<5,INT((A758-1)/Einstellung!$B$4)+1,\"\"))","v":""},""]
[null,null,null,null,null,null,null,null,null,null,null,null,null,null,null,null,null,"",{"$f":"IF(B759=\"\",\"\",IF(R759<5,INT((A759-1)/Einstellung!$B$4)+1,\"\"))","v":""},""]
[null,null,null,null,null,null,null,null,null,null,null,null,null,null,null,null,null,"",{"$f":"IF(B760=\"\",\"\",IF(R760<5,INT((A760-1)/Einstellung!$B$4)+1,\"\"))","v":""},""]
[null,null,null,null,null,null,null,null,null,null,null,null,null,null,null,null,null,"",{"$f":"IF(B761=\"\",\"\",IF(R761<5,INT((A761-1)/Einstellung!$B$4)+1,\"\"))","v":""},""]
[null,null,null,null,null,null,null,null,null,null,null,null,null,null,null,null,null,"",{"$f":"IF(B762=\"\",\"\",IF(R762<5,INT((A762-1)/Einstellung!$B$4)+1,\"\"))","v":""},""]
[null,null,null,null,null,null,null,null,null,null,null,null,null,null,null,null,null,"",{"$f":"IF(B763=\"\",\"\",IF(R763<5,INT((A763-1)/Einstellung!$B$4)+1,\"\"))","v":""},""]
[null,null,null,null,null,null,null,null,null,null,null,null,null,null,null,null,null,"",{"$f":"IF(B764=\"\",\"\",IF(R764<5,INT((A764-1)/Einstellung!$B$4)+1,\"\"))","v":""},""]
[null,null,null,null,null,null,null,null,null,null,null,null,null,null,null,null,null,"",{"$f":"IF(B765=\"\",\"\",IF(R765<5,INT((A765-1)/Einstellung!$B$4)+1,\"\"))","v":""},""]
[null,null,null,null,null,null,null,null,null,null,null,null,null,null,null,null,null,"",{"$f":"IF(B766=\"\",\"\",IF(R766<5,INT((A766-1)/Einstellung!$B$4)+1,\"\"))","v":""},""]
[null,null,null,null,null,null,null,null,null,null,null,null,null,null,null,null,null,"",{"$f":"IF(B767=\"\",\"\",IF(R767<5,INT((A767-1)/Einstellung!$B$4)+1,\"\"))","v":""},""]
[null,null,null,null,null,null,null,null,null,null,null,null,null,null,null,null,null,"",{"$f":"IF(B768=\"\",\"\",IF(R768<5,INT((A768-1)/Einstellung!$B$4)+1,\"\"))","v":""},""]
[null,null,null,null,null,null,null,null,null,null,null,null,null,null,null,null,null,"",{"$f":"IF(B769=\"\",\"\",IF(R769<5,INT((A769-1)/Einstellung!$B$4)+1,\"\"))","v":""},""]
[null,null,null,null,null,null,null,null,null,null,null,null,null,null,null,null,null,"",{"$f":"IF(B770=\"\",\"\",IF(R770<5,INT((A770-1)/Einstellung!$B$4)+1,\"\"))","v":""},""]
[null,null,null,null,null,null,null,null,null,null,null,null,null,null,null,null,null,"",{"$f":"IF(B771=\"\",\"\",IF(R771<5,INT((A771-1)/Einstellung!$B$4)+1,\"\"))","v":""},""]
[null,null,null,null,null,null,null,null,null,null,null,null,null,null,null,null,null,"",{"$f":"IF(B772=\"\",\"\",IF(R772<5,INT((A772-1)/Einstellung!$B$4)+1,\"\"))","v":""},""]
[null,null,null,null,null,null,null,null,null,null,null,null,null,null,null,null,null,"",{"$f":"IF(B773=\"\",\"\",IF(R773<5,INT((A773-1)/Einstellung!$B$4)+1,\"\"))","v":""},""]
[null,null,null,null,null,null,null,null,null,null,null,null,null,null,null,null,null,"",{"$f":"IF(B774=\"\",\"\",IF(R774<5,INT((A774-1)/Einstellung!$B$4)+1,\"\"))","v":""},""]
[null,null,null,null,null,null,null,null,null,null,null,null,null,null,null,null,null,"",{"$f":"IF(B775=\"\",\"\",IF(R775<5,INT((A775-1)/Einstellung!$B$4)+1,\"\"))","v":""},""]
[null,null,null,null,null,null,null,null,null,null,null,null,null,null,null,null,null,{"$f":"IF(B776=\"\",\"\",16-((MID(B$1,1,1)=MID(B776,1,1))+(MID(C$1,1,1)=MID(C776,1,1))+(MID(D$1,1,1)=MID(D776,1,1))+(MID(E$1,1,1)=MID(E776,1,1))+(MID(F$1,1,1)=MID(F776,1,1))+(MID(G$1,1,1)=MID(G776,1,1))+(MID(H$1,1,1)=MID(H776,1,1))+(MID(I$1,1,1)=MID(I776,1,1))+(MID(J$1,1,1)=MID(J776,1,1))+(MID(K$1,1,1)=MID(K776,1,1))+(MID(L$1,1,1)=MID(L776,1,1))+(MID(M$1,1,1)=MID(M776,1,1))+(MID(N$1,1,1)=MID(N776,1,1))+(MID(O$1,1,1)=MID(O776,1,1))+(MID(P$1,1,1)=MID(P776,1,1)))-B$4+C$5)","v":""},{"$f":"IF(B776=\"\",\"\",IF(R776<5,INT((A776-1)/Einstellung!$B$4)+1,\"\"))","v":""},{"$f":"IF(C$5<B$4,\"\",IF(R776>4,\"\",OFFSET(T$2,R776-1,0)))","v":""}]
[null,null,null,null,null,null,null,null,null,null,null,null,null,null,null,null,null,"",{"$f":"IF(B777=\"\",\"\",IF(R777<5,INT((A777-1)/Einstellung!$B$4)+1,\"\"))","v":""},""]
[null,null,null,null,null,null,null,null,null,null,null,null,null,null,null,null,null,"",{"$f":"IF(B778=\"\",\"\",IF(R778<5,INT((A778-1)/Einstellung!$B$4)+1,\"\"))","v":""},""]
[null,null,null,null,null,null,null,null,null,null,null,null,null,null,null,null,null,"",{"$f":"IF(B779=\"\",\"\",IF(R779<5,INT((A779-1)/Einstellung!$B$4)+1,\"\"))","v":""},""]
[null,null,null,null,null,null,null,null,null,null,null,null,null,null,null,null,null,"",{"$f":"IF(B780=\"\",\"\",IF(R780<5,INT((A780-1)/Einstellung!$B$4)+1,\"\"))","v":""},""]
[null,null,null,null,null,null,null,null,null,null,null,null,null,null,null,null,null,"",{"$f":"IF(B781=\"\",\"\",IF(R781<5,INT((A781-1)/Einstellung!$B$4)+1,\"\"))","v":""},""]
[null,null,null,null,null,null,null,null,null,null,null,null,null,null,null,null,null,"",{"$f":"IF(B782=\"\",\"\",IF(R782<5,INT((A782-1)/Einstellung!$B$4)+1,\"\"))","v":""},""]
[null,null,null,null,null,null,null,null,null,null,null,null,null,null,null,null,null,"",{"$f":"IF(B783=\"\",\"\",IF(R783<5,INT((A783-1)/Einstellung!$B$4)+1,\"\"))","v":""},""]
[null,null,null,null,null,null,null,null,null,null,null,null,null,null,null,null,null,"",{"$f":"IF(B784=\"\",\"\",IF(R784<5,INT((A784-1)/Einstellung!$B$4)+1,\"\"))","v":""},""]
[null,null,null,null,null,null,null,null,null,null,null,null,null,null,null,null,null,"",{"$f":"IF(B785=\"\",\"\",IF(R785<5,INT((A785-1)/Einstellung!$B$4)+1,\"\"))","v":""},""]
[null,null,null,null,null,null,null,null,null,null,null,null,null,null,null,null,null,"",{"$f":"IF(B786=\"\",\"\",IF(R786<5,INT((A786-1)/Einstellung!$B$4)+1,\"\"))","v":""},""]
[null,null,null,null,null,null,null,null,null,null,null,null,null,null,null,null,null,"",{"$f":"IF(B787=\"\",\"\",IF(R787<5,INT((A787-1)/Einstellung!$B$4)+1,\"\"))","v":""},""]
[null,null,null,null,null,null,null,null,null,null,null,null,null,null,null,null,null,"",{"$f":"IF(B788=\"\",\"\",IF(R788<5,INT((A788-1)/Einstellung!$B$4)+1,\"\"))","v":""},""]
[null,null,null,null,null,null,null,null,null,null,null,null,null,null,null,null,null,"",{"$f":"IF(B789=\"\",\"\",IF(R789<5,INT((A789-1)/Einstellung!$B$4)+1,\"\"))","v":""},""]
[null,null,null,null,null,null,null,null,null,null,null,null,null,null,null,null,null,"",{"$f":"IF(B790=\"\",\"\",IF(R790<5,INT((A790-1)/Einstellung!$B$4)+1,\"\"))","v":""},""]
[null,null,null,null,null,null,null,null,null,null,null,null,null,null,null,null,null,"",{"$f":"IF(B791=\"\",\"\",IF(R791<5,INT((A791-1)/Einstellung!$B$4)+1,\"\"))","v":""},""]
[null,null,null,null,null,null,null,null,null,null,null,null,null,null,null,null,null,"",{"$f":"IF(B792=\"\",\"\",IF(R792<5,INT((A792-1)/Einstellung!$B$4)+1,\"\"))","v":""},""]
[null,null,null,null,null,null,null,null,null,null,null,null,null,null,null,null,null,"",{"$f":"IF(B793=\"\",\"\",IF(R793<5,INT((A793-1)/Einstellung!$B$4)+1,\"\"))","v":""},""]
[null,null,null,null,null,null,null,null,null,null,null,null,null,null,null,null,null,"",{"$f":"IF(B794=\"\",\"\",IF(R794<5,INT((A794-1)/Einstellung!$B$4)+1,\"\"))","v":""},""]
[null,null,null,null,null,null,null,null,null,null,null,null,null,null,null,null,null,"",{"$f":"IF(B795=\"\",\"\",IF(R795<5,INT((A795-1)/Einstellung!$B$4)+1,\"\"))","v":""},""]
[null,null,null,null,null,null,null,null,null,null,null,null,null,null,null,null,null,"",{"$f":"IF(B796=\"\",\"\",IF(R796<5,INT((A796-1)/Einstellung!$B$4)+1,\"\"))","v":""},""]
[null,null,null,null,null,null,null,null,null,null,null,null,null,null,null,null,null,"",{"$f":"IF(B797=\"\",\"\",IF(R797<5,INT((A797-1)/Einstellung!$B$4)+1,\"\"))","v":""},""]
[null,null,null,null,null,null,null,null,null,null,null,null,null,null,null,null,null,"",{"$f":"IF(B798=\"\",\"\",IF(R798<5,INT((A798-1)/Einstellung!$B$4)+1,\"\"))","v":""},""]
[null,null,null,null,null,null,null,null,null,null,null,null,null,null,null,null,null,"",{"$f":"IF(B799=\"\",\"\",IF(R799<5,INT((A799-1)/Einstellung!$B$4)+1,\"\"))","v":""},""]
[null,null,null,null,null,null,null,null,null,null,null,null,null,null,null,null,null,"",{"$f":"IF(B800=\"\",\"\",IF(R800<5,INT((A800-1)/Einstellung!$B$4)+1,\"\"))","v":""},""]
[null,null,null,null,null,null,null,null,null,null,null,null,null,null,null,null,null,"",{"$f":"IF(B801=\"\",\"\",IF(R801<5,INT((A801-1)/Einstellung!$B$4)+1,\"\"))","v":""},""]
[null,null,null,null,null,null,null,null,null,null,null,null,null,null,null,null,null,"",{"$f":"IF(B802=\"\",\"\",IF(R802<5,INT((A802-1)/Einstellung!$B$4)+1,\"\"))","v":""},""]
[null,null,null,null,null,null,null,null,null,null,null,null,null,null,null,null,null,"",{"$f":"IF(B803=\"\",\"\",IF(R803<5,INT((A803-1)/Einstellung!$B$4)+1,\"\"))","v":""},""]
[null,null,null,null,null,null,null,null,null,null,null,null,null,null,null,null,null,"",{"$f":"IF(B804=\"\",\"\",IF(R804<5,INT((A804-1)/Einstellung!$B$4)+1,\"\"))","v":""},""]
[null,null,null,null,null,null,null,null,null,null,null,null,null,null,null,null,null,"",{"$f":"IF(B805=\"\",\"\",IF(R805<5,INT((A805-1)/Einstellung!$B$4)+1,\"\"))","v":""},""]
[null,null,null,null,null,null,null,null,null,null,null,null,null,null,null,null,null,"",{"$f":"IF(B806=\"\",\"\",IF(R806<5,INT((A806-1)/Einstellung!$B$4)+1,\"\"))","v":""},""]
[null,null,null,null,null,null,null,null,null,null,null,null,null,null,null,null,null,"",{"$f":"IF(B807=\"\",\"\",IF(R807<5,INT((A807-1)/Einstellung!$B$4)+1,\"\"))","v":""},""]
[null,null,null,null,null,null,null,null,null,null,null,null,null,null,null,null,null,"",{"$f":"IF(B808=\"\",\"\",IF(R808<5,INT((A808-1)/Einstellung!$B$4)+1,\"\"))","v":""},""]
[null,null,null,null,null,null,null,null,null,null,null,null,null,null,null,null,null,"",{"$f":"IF(B809=\"\",\"\",IF(R809<5,INT((A809-1)/Einstellung!$B$4)+1,\"\"))","v":""},""]
[null,null,null,null,null,null,null,null,null,null,null,null,null,null,null,null,null,"",{"$f":"IF(B810=\"\",\"\",IF(R810<5,INT((A810-1)/Einstellung!$B$4)+1,\"\"))","v":""},""]
[null,null,null,null,null,null,null,null,null,null,null,null,null,null,null,null,null,"",{"$f":"IF(B811=\"\",\"\",IF(R811<5,INT((A811-1)/Einstellung!$B$4)+1,\"\"))","v":""},""]
[null,null,null,null,null,null,null,null,null,null,null,null,null,null,null,null,null,"",{"$f":"IF(B812=\"\",\"\",IF(R812<5,INT((A812-1)/Einstellung!$B$4)+1,\"\"))","v":""},""]
[null,null,null,null,null,null,null,null,null,null,null,null,null,null,null,null,null,"",{"$f":"IF(B813=\"\",\"\",IF(R813<5,INT((A813-1)/Einstellung!$B$4)+1,\"\"))","v":""},""]
[null,null,null,null,null,null,null,null,null,null,null,null,null,null,null,null,null,"",{"$f":"IF(B814=\"\",\"\",IF(R814<5,INT((A814-1)/Einstellung!$B$4)+1,\"\"))","v":""},""]
[null,null,null,null,null,null,null,null,null,null,null,null,null,null,null,null,null,"",{"$f":"IF(B815=\"\",\"\",IF(R815<5,INT((A815-1)/Einstellung!$B$4)+1,\"\"))","v":""},""]
[null,null,null,null,null,null,null,null,null,null,null,null,null,null,null,null,null,"",{"$f":"IF(B816=\"\",\"\",IF(R816<5,INT((A816-1)/Einstellung!$B$4)+1,\"\"))","v":""},""]
[null,null,null,null,null,null,null,null,null,null,null,null,null,null,null,null,null,"",{"$f":"IF(B817=\"\",\"\",IF(R817<5,INT((A817-1)/Einstellung!$B$4)+1,\"\"))","v":""},""]
[null,null,null,null,null,null,null,null,null,null,null,null,null,null,null,null,null,"",{"$f":"IF(B818=\"\",\"\",IF(R818<5,INT((A818-1)/Einstellung!$B$4)+1,\"\"))","v":""},""]
[null,null,null,null,null,null,null,null,null,null,null,null,null,null,null,null,null,"",{"$f":"IF(B819=\"\",\"\",IF(R819<5,INT((A819-1)/Einstellung!$B$4)+1,\"\"))","v":""},""]
[null,null,null,null,null,null,null,null,null,null,null,null,null,null,null,null,null,"",{"$f":"IF(B820=\"\",\"\",IF(R820<5,INT((A820-1)/Einstellung!$B$4)+1,\"\"))","v":""},""]
[null,null,null,null,null,null,null,null,null,null,null,null,null,null,null,null,null,"",{"$f":"IF(B821=\"\",\"\",IF(R821<5,INT((A821-1)/Einstellung!$B$4)+1,\"\"))","v":""},""]
[null,null,null,null,null,null,null,null,null,null,null,null,null,null,null,null,null,"",{"$f":"IF(B822=\"\",\"\",IF(R822<5,INT((A822-1)/Einstellung!$B$4)+1,\"\"))","v":""},""]
[null,null,null,null,null,null,null,null,null,null,null,null,null,null,null,null,null,"",{"$f":"IF(B823=\"\",\"\",IF(R823<5,INT((A823-1)/Einstellung!$B$4)+1,\"\"))","v":""},""]
[null,null,null,null,null,null,null,null,null,null,null,null,null,null,null,null,null,"",{"$f":"IF(B824=\"\",\"\",IF(R824<5,INT((A824-1)/Einstellung!$B$4)+1,\"\"))","v":""},""]
[null,null,null,null,null,null,null,null,null,null,null,null,null,null,null,null,null,"",{"$f":"IF(B825=\"\",\"\",IF(R825<5,INT((A825-1)/Einstellung!$B$4)+1,\"\"))","v":""},""]
[null,null,null,null,null,null,null,null,null,null,null,null,null,null,null,null,null,"",{"$f":"IF(B826=\"\",\"\",IF(R826<5,INT((A826-1)/Einstellung!$B$4)+1,\"\"))","v":""},""]
[null,null,null,null,null,null,null,null,null,null,null,null,null,null,null,null,null,"",{"$f":"IF(B827=\"\",\"\",IF(R827<5,INT((A827-1)/Einstellung!$B$4)+1,\"\"))","v":""},""]
[null,null,null,null,null,null,null,null,null,null,null,null,null,null,null,null,null,"",{"$f":"IF(B828=\"\",\"\",IF(R828<5,INT((A828-1)/Einstellung!$B$4)+1,\"\"))","v":""},""]
[null,null,null,null,null,null,null,null,null,null,null,null,null,null,null,null,null,"",{"$f":"IF(B829=\"\",\"\",IF(R829<5,INT((A829-1)/Einstellung!$B$4)+1,\"\"))","v":""},""]
[null,null,null,null,null,null,null,null,null,null,null,null,null,null,null,null,null,"",{"$f":"IF(B830=\"\",\"\",IF(R830<5,INT((A830-1)/Einstellung!$B$4)+1,\"\"))","v":""},""]
[null,null,null,null,null,null,null,null,null,null,null,null,null,null,null,null,null,"",{"$f":"IF(B831=\"\",\"\",IF(R831<5,INT((A831-1)/Einstellung!$B$4)+1,\"\"))","v":""},""]
[null,null,null,null,null,null,null,null,null,null,null,null,null,null,null,null,null,"",{"$f":"IF(B832=\"\",\"\",IF(R832<5,INT((A832-1)/Einstellung!$B$4)+1,\"\"))","v":""},""]
[null,null,null,null,null,null,null,null,null,null,null,null,null,null,null,null,null,"",{"$f":"IF(B833=\"\",\"\",IF(R833<5,INT((A833-1)/Einstellung!$B$4)+1,\"\"))","v":""},""]
[null,null,null,null,null,null,null,null,null,null,null,null,null,null,null,null,null,"",{"$f":"IF(B834=\"\",\"\",IF(R834<5,INT((A834-1)/Einstellung!$B$4)+1,\"\"))","v":""},""]
[null,null,null,null,null,null,null,null,null,null,null,null,null,null,null,null,null,"",{"$f":"IF(B835=\"\",\"\",IF(R835<5,INT((A835-1)/Einstellung!$B$4)+1,\"\"))","v":""},""]
[null,null,null,null,null,null,null,null,null,null,null,null,null,null,null,null,null,"",{"$f":"IF(B836=\"\",\"\",IF(R836<5,INT((A836-1)/Einstellung!$B$4)+1,\"\"))","v":""},""]
[null,null,null,null,null,null,null,null,null,null,null,null,null,null,null,null,null,"",{"$f":"IF(B837=\"\",\"\",IF(R837<5,INT((A837-1)/Einstellung!$B$4)+1,\"\"))","v":""},""]
[null,null,null,null,null,null,null,null,null,null,null,null,null,null,null,null,null,"",{"$f":"IF(B838=\"\",\"\",IF(R838<5,INT((A838-1)/Einstellung!$B$4)+1,\"\"))","v":""},""]
[null,null,null,null,null,null,null,null,null,null,null,null,null,null,null,null,null,"",{"$f":"IF(B839=\"\",\"\",IF(R839<5,INT((A839-1)/Einstellung!$B$4)+1,\"\"))","v":""},""]
[null,null,null,null,null,null,null,null,null,null,null,null,null,null,null,null,null,{"$f":"IF(B840=\"\",\"\",16-((MID(B$1,1,1)=MID(B840,1,1))+(MID(C$1,1,1)=MID(C840,1,1))+(MID(D$1,1,1)=MID(D840,1,1))+(MID(E$1,1,1)=MID(E840,1,1))+(MID(F$1,1,1)=MID(F840,1,1))+(MID(G$1,1,1)=MID(G840,1,1))+(MID(H$1,1,1)=MID(H840,1,1))+(MID(I$1,1,1)=MID(I840,1,1))+(MID(J$1,1,1)=MID(J840,1,1))+(MID(K$1,1,1)=MID(K840,1,1))+(MID(L$1,1,1)=MID(L840,1,1))+(MID(M$1,1,1)=MID(M840,1,1))+(MID(N$1,1,1)=MID(N840,1,1))+(MID(O$1,1,1)=MID(O840,1,1))+(MID(P$1,1,1)=MID(P840,1,1)))-B$4+C$5)","v":""},{"$f":"IF(B840=\"\",\"\",IF(R840<5,INT((A840-1)/Einstellung!$B$4)+1,\"\"))","v":""},{"$f":"IF(C$5<B$4,\"\",IF(R840>4,\"\",OFFSET(T$2,R840-1,0)))","v":""}]
[null,null,null,null,null,null,null,null,null,null,null,null,null,null,null,null,null,"",{"$f":"IF(B841=\"\",\"\",IF(R841<5,INT((A841-1)/Einstellung!$B$4)+1,\"\"))","v":""},""]
[null,null,null,null,null,null,null,null,null,null,null,null,null,null,null,null,null,"",{"$f":"IF(B842=\"\",\"\",IF(R842<5,INT((A842-1)/Einstellung!$B$4)+1,\"\"))","v":""},""]
[null,null,null,null,null,null,null,null,null,null,null,null,null,null,null,null,null,"",{"$f":"IF(B843=\"\",\"\",IF(R843<5,INT((A843-1)/Einstellung!$B$4)+1,\"\"))","v":""},""]
[null,null,null,null,null,null,null,null,null,null,null,null,null,null,null,null,null,"",{"$f":"IF(B844=\"\",\"\",IF(R844<5,INT((A844-1)/Einstellung!$B$4)+1,\"\"))","v":""},""]
[null,null,null,null,null,null,null,null,null,null,null,null,null,null,null,null,null,"",{"$f":"IF(B845=\"\",\"\",IF(R845<5,INT((A845-1)/Einstellung!$B$4)+1,\"\"))","v":""},""]
[null,null,null,null,null,null,null,null,null,null,null,null,null,null,null,null,null,"",{"$f":"IF(B846=\"\",\"\",IF(R846<5,INT((A846-1)/Einstellung!$B$4)+1,\"\"))","v":""},""]
[null,null,null,null,null,null,null,null,null,null,null,null,null,null,null,null,null,"",{"$f":"IF(B847=\"\",\"\",IF(R847<5,INT((A847-1)/Einstellung!$B$4)+1,\"\"))","v":""},""]
[null,null,null,null,null,null,null,null,null,null,null,null,null,null,null,null,null,"",{"$f":"IF(B848=\"\",\"\",IF(R848<5,INT((A848-1)/Einstellung!$B$4)+1,\"\"))","v":""},""]
[null,null,null,null,null,null,null,null,null,null,null,null,null,null,null,null,null,"",{"$f":"IF(B849=\"\",\"\",IF(R849<5,INT((A849-1)/Einstellung!$B$4)+1,\"\"))","v":""},""]
[null,null,null,null,null,null,null,null,null,null,null,null,null,null,null,null,null,"",{"$f":"IF(B850=\"\",\"\",IF(R850<5,INT((A850-1)/Einstellung!$B$4)+1,\"\"))","v":""},""]
[null,null,null,null,null,null,null,null,null,null,null,null,null,null,null,null,null,"",{"$f":"IF(B851=\"\",\"\",IF(R851<5,INT((A851-1)/Einstellung!$B$4)+1,\"\"))","v":""},""]
[null,null,null,null,null,null,null,null,null,null,null,null,null,null,null,null,null,"",{"$f":"IF(B852=\"\",\"\",IF(R852<5,INT((A852-1)/Einstellung!$B$4)+1,\"\"))","v":""},""]
[null,null,null,null,null,null,null,null,null,null,null,null,null,null,null,null,null,"",{"$f":"IF(B853=\"\",\"\",IF(R853<5,INT((A853-1)/Einstellung!$B$4)+1,\"\"))","v":""},""]
[null,null,null,null,null,null,null,null,null,null,null,null,null,null,null,null,null,"",{"$f":"IF(B854=\"\",\"\",IF(R854<5,INT((A854-1)/Einstellung!$B$4)+1,\"\"))","v":""},""]
[null,null,null,null,null,null,null,null,null,null,null,null,null,null,null,null,null,"",{"$f":"IF(B855=\"\",\"\",IF(R855<5,INT((A855-1)/Einstellung!$B$4)+1,\"\"))","v":""},""]
[null,null,null,null,null,null,null,null,null,null,null,null,null,null,null,null,null,"",{"$f":"IF(B856=\"\",\"\",IF(R856<5,INT((A856-1)/Einstellung!$B$4)+1,\"\"))","v":""},""]
[null,null,null,null,null,null,null,null,null,null,null,null,null,null,null,null,null,"",{"$f":"IF(B857=\"\",\"\",IF(R857<5,INT((A857-1)/Einstellung!$B$4)+1,\"\"))","v":""},""]
[null,null,null,null,null,null,null,null,null,null,null,null,null,null,null,null,null,"",{"$f":"IF(B858=\"\",\"\",IF(R858<5,INT((A858-1)/Einstellung!$B$4)+1,\"\"))","v":""},""]
[null,null,null,null,null,null,null,null,null,null,null,null,null,null,null,null,null,"",{"$f":"IF(B859=\"\",\"\",IF(R859<5,INT((A859-1)/Einstellung!$B$4)+1,\"\"))","v":""},""]
[null,null,null,null,null,null,null,null,null,null,null,null,null,null,null,null,null,"",{"$f":"IF(B860=\"\",\"\",IF(R860<5,INT((A860-1)/Einstellung!$B$4)+1,\"\"))","v":""},""]
[null,null,null,null,null,null,null,null,null,null,null,null,null,null,null,null,null,"",{"$f":"IF(B861=\"\",\"\",IF(R861<5,INT((A861-1)/Einstellung!$B$4)+1,\"\"))","v":""},""]
[null,null,null,null,null,null,null,null,null,null,null,null,null,null,null,null,null,"",{"$f":"IF(B862=\"\",\"\",IF(R862<5,INT((A862-1)/Einstellung!$B$4)+1,\"\"))","v":""},""]
[null,null,null,null,null,null,null,null,null,null,null,null,null,null,null,null,null,"",{"$f":"IF(B863=\"\",\"\",IF(R863<5,INT((A863-1)/Einstellung!$B$4)+1,\"\"))","v":""},""]
[null,null,null,null,null,null,null,null,null,null,null,null,null,null,null,null,null,"",{"$f":"IF(B864=\"\",\"\",IF(R864<5,INT((A864-1)/Einstellung!$B$4)+1,\"\"))","v":""},""]
[null,null,null,null,null,null,null,null,null,null,null,null,null,null,null,null,null,"",{"$f":"IF(B865=\"\",\"\",IF(R865<5,INT((A865-1)/Einstellung!$B$4)+1,\"\"))","v":""},""]
[null,null,null,null,null,null,null,null,null,null,null,null,null,null,null,null,null,"",{"$f":"IF(B866=\"\",\"\",IF(R866<5,INT((A866-1)/Einstellung!$B$4)+1,\"\"))","v":""},""]
[null,null,null,null,null,null,null,null,null,null,null,null,null,null,null,null,null,"",{"$f":"IF(B867=\"\",\"\",IF(R867<5,INT((A867-1)/Einstellung!$B$4)+1,\"\"))","v":""},""]
[null,null,null,null,null,null,null,null,null,null,null,null,null,null,null,null,null,"",{"$f":"IF(B868=\"\",\"\",IF(R868<5,INT((A868-1)/Einstellung!$B$4)+1,\"\"))","v":""},""]
[null,null,null,null,null,null,null,null,null,null,null,null,null,null,null,null,null,"",{"$f":"IF(B869=\"\",\"\",IF(R869<5,INT((A869-1)/Einstellung!$B$4)+1,\"\"))","v":""},""]
[null,null,null,null,null,null,null,null,null,null,null,null,null,null,null,null,null,"",{"$f":"IF(B870=\"\",\"\",IF(R870<5,INT((A870-1)/Einstellung!$B$4)+1,\"\"))","v":""},""]
[null,null,null,null,null,null,null,null,null,null,null,null,null,null,null,null,null,"",{"$f":"IF(B871=\"\",\"\",IF(R871<5,INT((A871-1)/Einstellung!$B$4)+1,\"\"))","v":""},""]
[null,null,null,null,null,null,null,null,null,null,null,null,null,null,null,null,null,"",{"$f":"IF(B872=\"\",\"\",IF(R872<5,INT((A872-1)/Einstellung!$B$4)+1,\"\"))","v":""},""]
[null,null,null,null,null,null,null,null,null,null,null,null,null,null,null,null,null,"",{"$f":"IF(B873=\"\",\"\",IF(R873<5,INT((A873-1)/Einstellung!$B$4)+1,\"\"))","v":""},""]
[null,null,null,null,null,null,null,null,null,null,null,null,null,null,null,null,null,"",{"$f":"IF(B874=\"\",\"\",IF(R874<5,INT((A874-1)/Einstellung!$B$4)+1,\"\"))","v":""},""]
[null,null,null,null,null,null,null,null,null,null,null,null,null,null,null,null,null,"",{"$f":"IF(B875=\"\",\"\",IF(R875<5,INT((A875-1)/Einstellung!$B$4)+1,\"\"))","v":""},""]
[null,null,null,null,null,null,null,null,null,null,null,null,null,null,null,null,null,"",{"$f":"IF(B876=\"\",\"\",IF(R876<5,INT((A876-1)/Einstellung!$B$4)+1,\"\"))","v":""},""]
[null,null,null,null,null,null,null,null,null,null,null,null,null,null,null,null,null,"",{"$f":"IF(B877=\"\",\"\",IF(R877<5,INT((A877-1)/Einstellung!$B$4)+1,\"\"))","v":""},""]
[null,null,null,null,null,null,null,null,null,null,null,null,null,null,null,null,null,"",{"$f":"IF(B878=\"\",\"\",IF(R878<5,INT((A878-1)/Einstellung!$B$4)+1,\"\"))","v":""},""]
[null,null,null,null,null,null,null,null,null,null,null,null,null,null,null,null,null,"",{"$f":"IF(B879=\"\",\"\",IF(R879<5,INT((A879-1)/Einstellung!$B$4)+1,\"\"))","v":""},""]
[null,null,null,null,null,null,null,null,null,null,null,null,null,null,null,null,null,"",{"$f":"IF(B880=\"\",\"\",IF(R880<5,INT((A880-1)/Einstellung!$B$4)+1,\"\"))","v":""},""]
[null,null,null,null,null,null,null,null,null,null,null,null,null,null,null,null,null,"",{"$f":"IF(B881=\"\",\"\",IF(R881<5,INT((A881-1)/Einstellung!$B$4)+1,\"\"))","v":""},""]
[null,null,null,null,null,null,null,null,null,null,null,null,null,null,null,null,null,"",{"$f":"IF(B882=\"\",\"\",IF(R882<5,INT((A882-1)/Einstellung!$B$4)+1,\"\"))","v":""},""]
[null,null,null,null,null,null,null,null,null,null,null,null,null,null,null,null,null,"",{"$f":"IF(B883=\"\",\"\",IF(R883<5,INT((A883-1)/Einstellung!$B$4)+1,\"\"))","v":""},""]
[null,null,null,null,null,null,null,null,null,null,null,null,null,null,null,null,null,"",{"$f":"IF(B884=\"\",\"\",IF(R884<5,INT((A884-1)/Einstellung!$B$4)+1,\"\"))","v":""},""]
[null,null,null,null,null,null,null,null,null,null,null,null,null,null,null,null,null,"",{"$f":"IF(B885=\"\",\"\",IF(R885<5,INT((A885-1)/Einstellung!$B$4)+1,\"\"))","v":""},""]
[null,null,null,null,null,null,null,null,null,null,null,null,null,null,null,null,null,"",{"$f":"IF(B886=\"\",\"\",IF(R886<5,INT((A886-1)/Einstellung!$B$4)+1,\"\"))","v":""},""]
[null,null,null,null,null,null,null,null,null,null,null,null,null,null,null,null,null,"",{"$f":"IF(B887=\"\",\"\",IF(R887<5,INT((A887-1)/Einstellung!$B$4)+1,\"\"))","v":""},""]
[null,null,null,null,null,null,null,null,null,null,null,null,null,null,null,null,null,"",{"$f":"IF(B888=\"\",\"\",IF(R888<5,INT((A888-1)/Einstellung!$B$4)+1,\"\"))","v":""},""]
[null,null,null,null,null,null,null,null,null,null,null,null,null,null,null,null,null,"",{"$f":"IF(B889=\"\",\"\",IF(R889<5,INT((A889-1)/Einstellung!$B$4)+1,\"\"))","v":""},""]
[null,null,null,null,null,null,null,null,null,null,null,null,null,null,null,null,null,"",{"$f":"IF(B890=\"\",\"\",IF(R890<5,INT((A890-1)/Einstellung!$B$4)+1,\"\"))","v":""},""]
[null,null,null,null,null,null,null,null,null,null,null,null,null,null,null,null,null,"",{"$f":"IF(B891=\"\",\"\",IF(R891<5,INT((A891-1)/Einstellung!$B$4)+1,\"\"))","v":""},""]
[null,null,null,null,null,null,null,null,null,null,null,null,null,null,null,null,null,"",{"$f":"IF(B892=\"\",\"\",IF(R892<5,INT((A892-1)/Einstellung!$B$4)+1,\"\"))","v":""},""]
[null,null,null,null,null,null,null,null,null,null,null,null,null,null,null,null,null,"",{"$f":"IF(B893=\"\",\"\",IF(R893<5,INT((A893-1)/Einstellung!$B$4)+1,\"\"))","v":""},""]
[null,null,null,null,null,null,null,null,null,null,null,null,null,null,null,null,null,"",{"$f":"IF(B894=\"\",\"\",IF(R894<5,INT((A894-1)/Einstellung!$B$4)+1,\"\"))","v":""},""]
[null,null,null,null,null,null,null,null,null,null,null,null,null,null,null,null,null,"",{"$f":"IF(B895=\"\",\"\",IF(R895<5,INT((A895-1)/Einstellung!$B$4)+1,\"\"))","v":""},""]
[null,null,null,null,null,null,null,null,null,null,null,null,null,null,null,null,null,"",{"$f":"IF(B896=\"\",\"\",IF(R896<5,INT((A896-1)/Einstellung!$B$4)+1,\"\"))","v":""},""]
[null,null,null,null,null,null,null,null,null,null,null,null,null,null,null,null,null,"",{"$f":"IF(B897=\"\",\"\",IF(R897<5,INT((A897-1)/Einstellung!$B$4)+1,\"\"))","v":""},""]
[null,null,null,null,null,null,null,null,null,null,null,null,null,null,null,null,null,"",{"$f":"IF(B898=\"\",\"\",IF(R898<5,INT((A898-1)/Einstellung!$B$4)+1,\"\"))","v":""},""]
[null,null,null,null,null,null,null,null,null,null,null,null,null,null,null,null,null,"",{"$f":"IF(B899=\"\",\"\",IF(R899<5,INT((A899-1)/Einstellung!$B$4)+1,\"\"))","v":""},""]
[null,null,null,null,null,null,null,null,null,null,null,null,null,null,null,null,null,"",{"$f":"IF(B900=\"\",\"\",IF(R900<5,INT((A900-1)/Einstellung!$B$4)+1,\"\"))","v":""},""]
[null,null,null,null,null,null,null,null,null,null,null,null,null,null,null,null,null,"",{"$f":"IF(B901=\"\",\"\",IF(R901<5,INT((A901-1)/Einstellung!$B$4)+1,\"\"))","v":""},""]
[null,null,null,null,null,null,null,null,null,null,null,null,null,null,null,null,null,"",{"$f":"IF(B902=\"\",\"\",IF(R902<5,INT((A902-1)/Einstellung!$B$4)+1,\"\"))","v":""},""]
[null,null,null,null,null,null,null,null,null,null,null,null,null,null,null,null,null,"",{"$f":"IF(B903=\"\",\"\",IF(R903<5,INT((A903-1)/Einstellung!$B$4)+1,\"\"))","v":""},""]
[null,null,null,null,null,null,null,null,null,null,null,null,null,null,null,null,null,{"$f":"IF(B904=\"\",\"\",16-((MID(B$1,1,1)=MID(B904,1,1))+(MID(C$1,1,1)=MID(C904,1,1))+(MID(D$1,1,1)=MID(D904,1,1))+(MID(E$1,1,1)=MID(E904,1,1))+(MID(F$1,1,1)=MID(F904,1,1))+(MID(G$1,1,1)=MID(G904,1,1))+(MID(H$1,1,1)=MID(H904,1,1))+(MID(I$1,1,1)=MID(I904,1,1))+(MID(J$1,1,1)=MID(J904,1,1))+(MID(K$1,1,1)=MID(K904,1,1))+(MID(L$1,1,1)=MID(L904,1,1))+(MID(M$1,1,1)=MID(M904,1,1))+(MID(N$1,1,1)=MID(N904,1,1))+(MID(O$1,1,1)=MID(O904,1,1))+(MID(P$1,1,1)=MID(P904,1,1)))-B$4+C$5)","v":""},{"$f":"IF(B904=\"\",\"\",IF(R904<5,INT((A904-1)/Einstellung!$B$4)+1,\"\"))","v":""},{"$f":"IF(C$5<B$4,\"\",IF(R904>4,\"\",OFFSET(T$2,R904-1,0)))","v":""}]
[null,null,null,null,null,null,null,null,null,null,null,null,null,null,null,null,null,"",{"$f":"IF(B905=\"\",\"\",IF(R905<5,INT((A905-1)/Einstellung!$B$4)+1,\"\"))","v":""},""]
[null,null,null,null,null,null,null,null,null,null,null,null,null,null,null,null,null,"",{"$f":"IF(B906=\"\",\"\",IF(R906<5,INT((A906-1)/Einstellung!$B$4)+1,\"\"))","v":""},""]
[null,null,null,null,null,null,null,null,null,null,null,null,null,null,null,null,null,"",{"$f":"IF(B907=\"\",\"\",IF(R907<5,INT((A907-1)/Einstellung!$B$4)+1,\"\"))","v":""},""]
[null,null,null,null,null,null,null,null,null,null,null,null,null,null,null,null,null,"",{"$f":"IF(B908=\"\",\"\",IF(R908<5,INT((A908-1)/Einstellung!$B$4)+1,\"\"))","v":""},""]
[null,null,null,null,null,null,null,null,null,null,null,null,null,null,null,null,null,"",{"$f":"IF(B909=\"\",\"\",IF(R909<5,INT((A909-1)/Einstellung!$B$4)+1,\"\"))","v":""},""]
[null,null,null,null,null,null,null,null,null,null,null,null,null,null,null,null,null,"",{"$f":"IF(B910=\"\",\"\",IF(R910<5,INT((A910-1)/Einstellung!$B$4)+1,\"\"))","v":""},""]
[null,null,null,null,null,null,null,null,null,null,null,null,null,null,null,null,null,"",{"$f":"IF(B911=\"\",\"\",IF(R911<5,INT((A911-1)/Einstellung!$B$4)+1,\"\"))","v":""},""]
[null,null,null,null,null,null,null,null,null,null,null,null,null,null,null,null,null,"",{"$f":"IF(B912=\"\",\"\",IF(R912<5,INT((A912-1)/Einstellung!$B$4)+1,\"\"))","v":""},""]
[null,null,null,null,null,null,null,null,null,null,null,null,null,null,null,null,null,"",{"$f":"IF(B913=\"\",\"\",IF(R913<5,INT((A913-1)/Einstellung!$B$4)+1,\"\"))","v":""},""]
[null,null,null,null,null,null,null,null,null,null,null,null,null,null,null,null,null,"",{"$f":"IF(B914=\"\",\"\",IF(R914<5,INT((A914-1)/Einstellung!$B$4)+1,\"\"))","v":""},""]
[null,null,null,null,null,null,null,null,null,null,null,null,null,null,null,null,null,"",{"$f":"IF(B915=\"\",\"\",IF(R915<5,INT((A915-1)/Einstellung!$B$4)+1,\"\"))","v":""},""]
[null,null,null,null,null,null,null,null,null,null,null,null,null,null,null,null,null,"",{"$f":"IF(B916=\"\",\"\",IF(R916<5,INT((A916-1)/Einstellung!$B$4)+1,\"\"))","v":""},""]
[null,null,null,null,null,null,null,null,null,null,null,null,null,null,null,null,null,"",{"$f":"IF(B917=\"\",\"\",IF(R917<5,INT((A917-1)/Einstellung!$B$4)+1,\"\"))","v":""},""]
[null,null,null,null,null,null,null,null,null,null,null,null,null,null,null,null,null,"",{"$f":"IF(B918=\"\",\"\",IF(R918<5,INT((A918-1)/Einstellung!$B$4)+1,\"\"))","v":""},""]
[null,null,null,null,null,null,null,null,null,null,null,null,null,null,null,null,null,"",{"$f":"IF(B919=\"\",\"\",IF(R919<5,INT((A919-1)/Einstellung!$B$4)+1,\"\"))","v":""},""]
[null,null,null,null,null,null,null,null,null,null,null,null,null,null,null,null,null,"",{"$f":"IF(B920=\"\",\"\",IF(R920<5,INT((A920-1)/Einstellung!$B$4)+1,\"\"))","v":""},""]
[null,null,null,null,null,null,null,null,null,null,null,null,null,null,null,null,null,"",{"$f":"IF(B921=\"\",\"\",IF(R921<5,INT((A921-1)/Einstellung!$B$4)+1,\"\"))","v":""},""]
[null,null,null,null,null,null,null,null,null,null,null,null,null,null,null,null,null,"",{"$f":"IF(B922=\"\",\"\",IF(R922<5,INT((A922-1)/Einstellung!$B$4)+1,\"\"))","v":""},""]
[null,null,null,null,null,null,null,null,null,null,null,null,null,null,null,null,null,"",{"$f":"IF(B923=\"\",\"\",IF(R923<5,INT((A923-1)/Einstellung!$B$4)+1,\"\"))","v":""},""]
[null,null,null,null,null,null,null,null,null,null,null,null,null,null,null,null,null,"",{"$f":"IF(B924=\"\",\"\",IF(R924<5,INT((A924-1)/Einstellung!$B$4)+1,\"\"))","v":""},""]
[null,null,null,null,null,null,null,null,null,null,null,null,null,null,null,null,null,"",{"$f":"IF(B925=\"\",\"\",IF(R925<5,INT((A925-1)/Einstellung!$B$4)+1,\"\"))","v":""},""]
[null,null,null,null,null,null,null,null,null,null,null,null,null,null,null,null,null,"",{"$f":"IF(B926=\"\",\"\",IF(R926<5,INT((A926-1)/Einstellung!$B$4)+1,\"\"))","v":""},""]
[null,null,null,null,null,null,null,null,null,null,null,null,null,null,null,null,null,"",{"$f":"IF(B927=\"\",\"\",IF(R927<5,INT((A927-1)/Einstellung!$B$4)+1,\"\"))","v":""},""]
[null,null,null,null,null,null,null,null,null,null,null,null,null,null,null,null,null,"",{"$f":"IF(B928=\"\",\"\",IF(R928<5,INT((A928-1)/Einstellung!$B$4)+1,\"\"))","v":""},""]
[null,null,null,null,null,null,null,null,null,null,null,null,null,null,null,null,null,"",{"$f":"IF(B929=\"\",\"\",IF(R929<5,INT((A929-1)/Einstellung!$B$4)+1,\"\"))","v":""},""]
[null,null,null,null,null,null,null,null,null,null,null,null,null,null,null,null,null,"",{"$f":"IF(B930=\"\",\"\",IF(R930<5,INT((A930-1)/Einstellung!$B$4)+1,\"\"))","v":""},""]
[null,null,null,null,null,null,null,null,null,null,null,null,null,null,null,null,null,"",{"$f":"IF(B931=\"\",\"\",IF(R931<5,INT((A931-1)/Einstellung!$B$4)+1,\"\"))","v":""},""]
[null,null,null,null,null,null,null,null,null,null,null,null,null,null,null,null,null,"",{"$f":"IF(B932=\"\",\"\",IF(R932<5,INT((A932-1)/Einstellung!$B$4)+1,\"\"))","v":""},""]
[null,null,null,null,null,null,null,null,null,null,null,null,null,null,null,null,null,"",{"$f":"IF(B933=\"\",\"\",IF(R933<5,INT((A933-1)/Einstellung!$B$4)+1,\"\"))","v":""},""]
[null,null,null,null,null,null,null,null,null,null,null,null,null,null,null,null,null,"",{"$f":"IF(B934=\"\",\"\",IF(R934<5,INT((A934-1)/Einstellung!$B$4)+1,\"\"))","v":""},""]
[null,null,null,null,null,null,null,null,null,null,null,null,null,null,null,null,null,"",{"$f":"IF(B935=\"\",\"\",IF(R935<5,INT((A935-1)/Einstellung!$B$4)+1,\"\"))","v":""},""]
[null,null,null,null,null,null,null,null,null,null,null,null,null,null,null,null,null,"",{"$f":"IF(B936=\"\",\"\",IF(R936<5,INT((A936-1)/Einstellung!$B$4)+1,\"\"))","v":""},""]
[null,null,null,null,null,null,null,null,null,null,null,null,null,null,null,null,null,"",{"$f":"IF(B937=\"\",\"\",IF(R937<5,INT((A937-1)/Einstellung!$B$4)+1,\"\"))","v":""},""]
[null,null,null,null,null,null,null,null,null,null,null,null,null,null,null,null,null,"",{"$f":"IF(B938=\"\",\"\",IF(R938<5,INT((A938-1)/Einstellung!$B$4)+1,\"\"))","v":""},""]
[null,null,null,null,null,null,null,null,null,null,null,null,null,null,null,null,null,"",{"$f":"IF(B939=\"\",\"\",IF(R939<5,INT((A939-1)/Einstellung!$B$4)+1,\"\"))","v":""},""]
[null,null,null,null,null,null,null,null,null,null,null,null,null,null,null,null,null,"",{"$f":"IF(B940=\"\",\"\",IF(R940<5,INT((A940-1)/Einstellung!$B$4)+1,\"\"))","v":""},""]
[null,null,null,null,null,null,null,null,null,null,null,null,null,null,null,null,null,"",{"$f":"IF(B941=\"\",\"\",IF(R941<5,INT((A941-1)/Einstellung!$B$4)+1,\"\"))","v":""},""]
[null,null,null,null,null,null,null,null,null,null,null,null,null,null,null,null,null,"",{"$f":"IF(B942=\"\",\"\",IF(R942<5,INT((A942-1)/Einstellung!$B$4)+1,\"\"))","v":""},""]
[null,null,null,null,null,null,null,null,null,null,null,null,null,null,null,null,null,"",{"$f":"IF(B943=\"\",\"\",IF(R943<5,INT((A943-1)/Einstellung!$B$4)+1,\"\"))","v":""},""]
[null,null,null,null,null,null,null,null,null,null,null,null,null,null,null,null,null,"",{"$f":"IF(B944=\"\",\"\",IF(R944<5,INT((A944-1)/Einstellung!$B$4)+1,\"\"))","v":""},""]
[null,null,null,null,null,null,null,null,null,null,null,null,null,null,null,null,null,"",{"$f":"IF(B945=\"\",\"\",IF(R945<5,INT((A945-1)/Einstellung!$B$4)+1,\"\"))","v":""},""]
[null,null,null,null,null,null,null,null,null,null,null,null,null,null,null,null,null,"",{"$f":"IF(B946=\"\",\"\",IF(R946<5,INT((A946-1)/Einstellung!$B$4)+1,\"\"))","v":""},""]
[null,null,null,null,null,null,null,null,null,null,null,null,null,null,null,null,null,"",{"$f":"IF(B947=\"\",\"\",IF(R947<5,INT((A947-1)/Einstellung!$B$4)+1,\"\"))","v":""},""]
[null,null,null,null,null,null,null,null,null,null,null,null,null,null,null,null,null,"",{"$f":"IF(B948=\"\",\"\",IF(R948<5,INT((A948-1)/Einstellung!$B$4)+1,\"\"))","v":""},""]
[null,null,null,null,null,null,null,null,null,null,null,null,null,null,null,null,null,"",{"$f":"IF(B949=\"\",\"\",IF(R949<5,INT((A949-1)/Einstellung!$B$4)+1,\"\"))","v":""},""]
[null,null,null,null,null,null,null,null,null,null,null,null,null,null,null,null,null,"",{"$f":"IF(B950=\"\",\"\",IF(R950<5,INT((A950-1)/Einstellung!$B$4)+1,\"\"))","v":""},""]
[null,null,null,null,null,null,null,null,null,null,null,null,null,null,null,null,null,"",{"$f":"IF(B951=\"\",\"\",IF(R951<5,INT((A951-1)/Einstellung!$B$4)+1,\"\"))","v":""},""]
[null,null,null,null,null,null,null,null,null,null,null,null,null,null,null,null,null,"",{"$f":"IF(B952=\"\",\"\",IF(R952<5,INT((A952-1)/Einstellung!$B$4)+1,\"\"))","v":""},""]
[null,null,null,null,null,null,null,null,null,null,null,null,null,null,null,null,null,"",{"$f":"IF(B953=\"\",\"\",IF(R953<5,INT((A953-1)/Einstellung!$B$4)+1,\"\"))","v":""},""]
[null,null,null,null,null,null,null,null,null,null,null,null,null,null,null,null,null,"",{"$f":"IF(B954=\"\",\"\",IF(R954<5,INT((A954-1)/Einstellung!$B$4)+1,\"\"))","v":""},""]
[null,null,null,null,null,null,null,null,null,null,null,null,null,null,null,null,null,"",{"$f":"IF(B955=\"\",\"\",IF(R955<5,INT((A955-1)/Einstellung!$B$4)+1,\"\"))","v":""},""]
[null,null,null,null,null,null,null,null,null,null,null,null,null,null,null,null,null,"",{"$f":"IF(B956=\"\",\"\",IF(R956<5,INT((A956-1)/Einstellung!$B$4)+1,\"\"))","v":""},""]
[null,null,null,null,null,null,null,null,null,null,null,null,null,null,null,null,null,"",{"$f":"IF(B957=\"\",\"\",IF(R957<5,INT((A957-1)/Einstellung!$B$4)+1,\"\"))","v":""},""]
[null,null,null,null,null,null,null,null,null,null,null,null,null,null,null,null,null,"",{"$f":"IF(B958=\"\",\"\",IF(R958<5,INT((A958-1)/Einstellung!$B$4)+1,\"\"))","v":""},""]
[null,null,null,null,null,null,null,null,null,null,null,null,null,null,null,null,null,"",{"$f":"IF(B959=\"\",\"\",IF(R959<5,INT((A959-1)/Einstellung!$B$4)+1,\"\"))","v":""},""]
[null,null,null,null,null,null,null,null,null,null,null,null,null,null,null,null,null,"",{"$f":"IF(B960=\"\",\"\",IF(R960<5,INT((A960-1)/Einstellung!$B$4)+1,\"\"))","v":""},""]
[null,null,null,null,null,null,null,null,null,null,null,null,null,null,null,null,null,"",{"$f":"IF(B961=\"\",\"\",IF(R961<5,INT((A961-1)/Einstellung!$B$4)+1,\"\"))","v":""},""]
[null,null,null,null,null,null,null,null,null,null,null,null,null,null,null,null,null,"",{"$f":"IF(B962=\"\",\"\",IF(R962<5,INT((A962-1)/Einstellung!$B$4)+1,\"\"))","v":""},""]
[null,null,null,null,null,null,null,null,null,null,null,null,null,null,null,null,null,"",{"$f":"IF(B963=\"\",\"\",IF(R963<5,INT((A963-1)/Einstellung!$B$4)+1,\"\"))","v":""},""]
[null,null,null,null,null,null,null,null,null,null,null,null,null,null,null,null,null,"",{"$f":"IF(B964=\"\",\"\",IF(R964<5,INT((A964-1)/Einstellung!$B$4)+1,\"\"))","v":""},""]
[null,null,null,null,null,null,null,null,null,null,null,null,null,null,null,null,null,"",{"$f":"IF(B965=\"\",\"\",IF(R965<5,INT((A965-1)/Einstellung!$B$4)+1,\"\"))","v":""},""]
[null,null,null,null,null,null,null,null,null,null,null,null,null,null,null,null,null,"",{"$f":"IF(B966=\"\",\"\",IF(R966<5,INT((A966-1)/Einstellung!$B$4)+1,\"\"))","v":""},""]
[null,null,null,null,null,null,null,null,null,null,null,null,null,null,null,null,null,"",{"$f":"IF(B967=\"\",\"\",IF(R967<5,INT((A967-1)/Einstellung!$B$4)+1,\"\"))","v":""},""]
[null,null,null,null,null,null,null,null,null,null,null,null,null,null,null,null,null,{"$f":"IF(B968=\"\",\"\",16-((MID(B$1,1,1)=MID(B968,1,1))+(MID(C$1,1,1)=MID(C968,1,1))+(MID(D$1,1,1)=MID(D968,1,1))+(MID(E$1,1,1)=MID(E968,1,1))+(MID(F$1,1,1)=MID(F968,1,1))+(MID(G$1,1,1)=MID(G968,1,1))+(MID(H$1,1,1)=MID(H968,1,1))+(MID(I$1,1,1)=MID(I968,1,1))+(MID(J$1,1,1)=MID(J968,1,1))+(MID(K$1,1,1)=MID(K968,1,1))+(MID(L$1,1,1)=MID(L968,1,1))+(MID(M$1,1,1)=MID(M968,1,1))+(MID(N$1,1,1)=MID(N968,1,1))+(MID(O$1,1,1)=MID(O968,1,1))+(MID(P$1,1,1)=MID(P968,1,1)))-B$4+C$5)","v":""},{"$f":"IF(B968=\"\",\"\",IF(R968<5,INT((A968-1)/Einstellung!$B$4)+1,\"\"))","v":""},{"$f":"IF(C$5<B$4,\"\",IF(R968>4,\"\",OFFSET(T$2,R968-1,0)))","v":""}]
[null,null,null,null,null,null,null,null,null,null,null,null,null,null,null,null,null,"",{"$f":"IF(B969=\"\",\"\",IF(R969<5,INT((A969-1)/Einstellung!$B$4)+1,\"\"))","v":""},""]
[null,null,null,null,null,null,null,null,null,null,null,null,null,null,null,null,null,"",{"$f":"IF(B970=\"\",\"\",IF(R970<5,INT((A970-1)/Einstellung!$B$4)+1,\"\"))","v":""},""]
[null,null,null,null,null,null,null,null,null,null,null,null,null,null,null,null,null,"",{"$f":"IF(B971=\"\",\"\",IF(R971<5,INT((A971-1)/Einstellung!$B$4)+1,\"\"))","v":""},""]
[null,null,null,null,null,null,null,null,null,null,null,null,null,null,null,null,null,"",{"$f":"IF(B972=\"\",\"\",IF(R972<5,INT((A972-1)/Einstellung!$B$4)+1,\"\"))","v":""},""]
[null,null,null,null,null,null,null,null,null,null,null,null,null,null,null,null,null,"",{"$f":"IF(B973=\"\",\"\",IF(R973<5,INT((A973-1)/Einstellung!$B$4)+1,\"\"))","v":""},""]
[null,null,null,null,null,null,null,null,null,null,null,null,null,null,null,null,null,"",{"$f":"IF(B974=\"\",\"\",IF(R974<5,INT((A974-1)/Einstellung!$B$4)+1,\"\"))","v":""},""]
[null,null,null,null,null,null,null,null,null,null,null,null,null,null,null,null,null,"",{"$f":"IF(B975=\"\",\"\",IF(R975<5,INT((A975-1)/Einstellung!$B$4)+1,\"\"))","v":""},""]
[null,null,null,null,null,null,null,null,null,null,null,null,null,null,null,null,null,"",{"$f":"IF(B976=\"\",\"\",IF(R976<5,INT((A976-1)/Einstellung!$B$4)+1,\"\"))","v":""},""]
[null,null,null,null,null,null,null,null,null,null,null,null,null,null,null,null,null,"",{"$f":"IF(B977=\"\",\"\",IF(R977<5,INT((A977-1)/Einstellung!$B$4)+1,\"\"))","v":""},""]
[null,null,null,null,null,null,null,null,null,null,null,null,null,null,null,null,null,"",{"$f":"IF(B978=\"\",\"\",IF(R978<5,INT((A978-1)/Einstellung!$B$4)+1,\"\"))","v":""},""]
[null,null,null,null,null,null,null,null,null,null,null,null,null,null,null,null,null,"",{"$f":"IF(B979=\"\",\"\",IF(R979<5,INT((A979-1)/Einstellung!$B$4)+1,\"\"))","v":""},""]
[null,null,null,null,null,null,null,null,null,null,null,null,null,null,null,null,null,"",{"$f":"IF(B980=\"\",\"\",IF(R980<5,INT((A980-1)/Einstellung!$B$4)+1,\"\"))","v":""},""]
[null,null,null,null,null,null,null,null,null,null,null,null,null,null,null,null,null,"",{"$f":"IF(B981=\"\",\"\",IF(R981<5,INT((A981-1)/Einstellung!$B$4)+1,\"\"))","v":""},""]
[null,null,null,null,null,null,null,null,null,null,null,null,null,null,null,null,null,"",{"$f":"IF(B982=\"\",\"\",IF(R982<5,INT((A982-1)/Einstellung!$B$4)+1,\"\"))","v":""},""]
[null,null,null,null,null,null,null,null,null,null,null,null,null,null,null,null,null,"",{"$f":"IF(B983=\"\",\"\",IF(R983<5,INT((A983-1)/Einstellung!$B$4)+1,\"\"))","v":""},""]
[null,null,null,null,null,null,null,null,null,null,null,null,null,null,null,null,null,"",{"$f":"IF(B984=\"\",\"\",IF(R984<5,INT((A984-1)/Einstellung!$B$4)+1,\"\"))","v":""},""]
[null,null,null,null,null,null,null,null,null,null,null,null,null,null,null,null,null,"",{"$f":"IF(B985=\"\",\"\",IF(R985<5,INT((A985-1)/Einstellung!$B$4)+1,\"\"))","v":""},""]
[null,null,null,null,null,null,null,null,null,null,null,null,null,null,null,null,null,"",{"$f":"IF(B986=\"\",\"\",IF(R986<5,INT((A986-1)/Einstellung!$B$4)+1,\"\"))","v":""},""]
[null,null,null,null,null,null,null,null,null,null,null,null,null,null,null,null,null,"",{"$f":"IF(B987=\"\",\"\",IF(R987<5,INT((A987-1)/Einstellung!$B$4)+1,\"\"))","v":""},""]
[null,null,null,null,null,null,null,null,null,null,null,null,null,null,null,null,null,"",{"$f":"IF(B988=\"\",\"\",IF(R988<5,INT((A988-1)/Einstellung!$B$4)+1,\"\"))","v":""},""]
[null,null,null,null,null,null,null,null,null,null,null,null,null,null,null,null,null,"",{"$f":"IF(B989=\"\",\"\",IF(R989<5,INT((A989-1)/Einstellung!$B$4)+1,\"\"))","v":""},""]
[null,null,null,null,null,null,null,null,null,null,null,null,null,null,null,null,null,"",{"$f":"IF(B990=\"\",\"\",IF(R990<5,INT((A990-1)/Einstellung!$B$4)+1,\"\"))","v":""},""]
[null,null,null,null,null,null,null,null,null,null,null,null,null,null,null,null,null,"",{"$f":"IF(B991=\"\",\"\",IF(R991<5,INT((A991-1)/Einstellung!$B$4)+1,\"\"))","v":""},""]
[null,null,null,null,null,null,null,null,null,null,null,null,null,null,null,null,null,"",{"$f":"IF(B992=\"\",\"\",IF(R992<5,INT((A992-1)/Einstellung!$B$4)+1,\"\"))","v":""},""]
[null,null,null,null,null,null,null,null,null,null,null,null,null,null,null,null,null,"",{"$f":"IF(B993=\"\",\"\",IF(R993<5,INT((A993-1)/Einstellung!$B$4)+1,\"\"))","v":""},""]
[null,null,null,null,null,null,null,null,null,null,null,null,null,null,null,null,null,"",{"$f":"IF(B994=\"\",\"\",IF(R994<5,INT((A994-1)/Einstellung!$B$4)+1,\"\"))","v":""},""]
[null,null,null,null,null,null,null,null,null,null,null,null,null,null,null,null,null,"",{"$f":"IF(B995=\"\",\"\",IF(R995<5,INT((A995-1)/Einstellung!$B$4)+1,\"\"))","v":""},""]
[null,null,null,null,null,null,null,null,null,null,null,null,null,null,null,null,null,"",{"$f":"IF(B996=\"\",\"\",IF(R996<5,INT((A996-1)/Einstellung!$B$4)+1,\"\"))","v":""},""]
[null,null,null,null,null,null,null,null,null,null,null,null,null,null,null,null,null,"",{"$f":"IF(B997=\"\",\"\",IF(R997<5,INT((A997-1)/Einstellung!$B$4)+1,\"\"))","v":""},""]
[null,null,null,null,null,null,null,null,null,null,null,null,null,null,null,null,null,"",{"$f":"IF(B998=\"\",\"\",IF(R998<5,INT((A998-1)/Einstellung!$B$4)+1,\"\"))","v":""},""]
[null,null,null,null,null,null,null,null,null,null,null,null,null,null,null,null,null,"",{"$f":"IF(B999=\"\",\"\",IF(R999<5,INT((A999-1)/Einstellung!$B$4)+1,\"\"))","v":""},""]
[null,null,null,null,null,null,null,null,null,null,null,null,null,null,null,null,null,"",{"$f":"IF(B1000=\"\",\"\",IF(R1000<5,INT((A1000-1)/Einstellung!$B$4)+1,\"\"))","v":""},""]
[null,null,null,null,null,null,null,null,null,null,null,null,null,null,null,null,null,"",{"$f":"IF(B1001=\"\",\"\",IF(R1001<5,INT((A1001-1)/Einstellung!$B$4)+1,\"\"))","v":""},""]
[null,null,null,null,null,null,null,null,null,null,null,null,null,null,null,null,null,"",{"$f":"IF(B1002=\"\",\"\",IF(R1002<5,INT((A1002-1)/Einstellung!$B$4)+1,\"\"))","v":""},""]
[null,null,null,null,null,null,null,null,null,null,null,null,null,null,null,null,null,"",{"$f":"IF(B1003=\"\",\"\",IF(R1003<5,INT((A1003-1)/Einstellung!$B$4)+1,\"\"))","v":""},""]
[null,null,null,null,null,null,null,null,null,null,null,null,null,null,null,null,null,"",{"$f":"IF(B1004=\"\",\"\",IF(R1004<5,INT((A1004-1)/Einstellung!$B$4)+1,\"\"))","v":""},""]
[null,null,null,null,null,null,null,null,null,null,null,null,null,null,null,null,null,"",{"$f":"IF(B1005=\"\",\"\",IF(R1005<5,INT((A1005-1)/Einstellung!$B$4)+1,\"\"))","v":""},""]
[null,null,null,null,null,null,null,null,null,null,null,null,null,null,null,null,null,"",{"$f":"IF(B1006=\"\",\"\",IF(R1006<5,INT((A1006-1)/Einstellung!$B$4)+1,\"\"))","v":""},""]
[null,null,null,null,null,null,null,null,null,null,null,null,null,null,null,null,null,"",{"$f":"IF(B1007=\"\",\"\",IF(R1007<5,INT((A1007-1)/Einstellung!$B$4)+1,\"\"))","v":""},""]
[null,null,null,null,null,null,null,null,null,null,null,null,null,null,null,null,null,"",{"$f":"IF(B1008=\"\",\"\",IF(R1008<5,INT((A1008-1)/Einstellung!$B$4)+1,\"\"))","v":""},""]
[null,null,null,null,null,null,null,null,null,null,null,null,null,null,null,null,null,"",{"$f":"IF(B1009=\"\",\"\",IF(R1009<5,INT((A1009-1)/Einstellung!$B$4)+1,\"\"))","v":""},""]
[null,null,null,null,null,null,null,null,null,null,null,null,null,null,null,null,null,"",{"$f":"IF(B1010=\"\",\"\",IF(R1010<5,INT((A1010-1)/Einstellung!$B$4)+1,\"\"))","v":""},""]
[null,null,null,null,null,null,null,null,null,null,null,null,null,null,null,null,null,"",{"$f":"IF(B1011=\"\",\"\",IF(R1011<5,INT((A1011-1)/Einstellung!$B$4)+1,\"\"))","v":""},""]
[null,null,null,null,null,null,null,null,null,null,null,null,null,null,null,null,null,"",{"$f":"IF(B1012=\"\",\"\",IF(R1012<5,INT((A1012-1)/Einstellung!$B$4)+1,\"\"))","v":""},""]
[null,null,null,null,null,null,null,null,null,null,null,null,null,null,null,null,null,"",{"$f":"IF(B1013=\"\",\"\",IF(R1013<5,INT((A1013-1)/Einstellung!$B$4)+1,\"\"))","v":""},""]
[null,null,null,null,null,null,null,null,null,null,null,null,null,null,null,null,null,"",{"$f":"IF(B1014=\"\",\"\",IF(R1014<5,INT((A1014-1)/Einstellung!$B$4)+1,\"\"))","v":""},""]
[null,null,null,null,null,null,null,null,null,null,null,null,null,null,null,null,null,"",{"$f":"IF(B1015=\"\",\"\",IF(R1015<5,INT((A1015-1)/Einstellung!$B$4)+1,\"\"))","v":""},""]
[null,null,null,null,null,null,null,null,null,null,null,null,null,null,null,null,null,"",{"$f":"IF(B1016=\"\",\"\",IF(R1016<5,INT((A1016-1)/Einstellung!$B$4)+1,\"\"))","v":""},""]
[null,null,null,null,null,null,null,null,null,null,null,null,null,null,null,null,null,"",{"$f":"IF(B1017=\"\",\"\",IF(R1017<5,INT((A1017-1)/Einstellung!$B$4)+1,\"\"))","v":""},""]
[null,null,null,null,null,null,null,null,null,null,null,null,null,null,null,null,null,"",{"$f":"IF(B1018=\"\",\"\",IF(R1018<5,INT((A1018-1)/Einstellung!$B$4)+1,\"\"))","v":""},""]
[null,null,null,null,null,null,null,null,null,null,null,null,null,null,null,null,null,"",{"$f":"IF(B1019=\"\",\"\",IF(R1019<5,INT((A1019-1)/Einstellung!$B$4)+1,\"\"))","v":""},""]
[null,null,null,null,null,null,null,null,null,null,null,null,null,null,null,null,null,"",{"$f":"IF(B1020=\"\",\"\",IF(R1020<5,INT((A1020-1)/Einstellung!$B$4)+1,\"\"))","v":""},""]
[null,null,null,null,null,null,null,null,null,null,null,null,null,null,null,null,null,"",{"$f":"IF(B1021=\"\",\"\",IF(R1021<5,INT((A1021-1)/Einstellung!$B$4)+1,\"\"))","v":""},""]
[null,null,null,null,null,null,null,null,null,null,null,null,null,null,null,null,null,"",{"$f":"IF(B1022=\"\",\"\",IF(R1022<5,INT((A1022-1)/Einstellung!$B$4)+1,\"\"))","v":""},""]
[null,null,null,null,null,null,null,null,null,null,null,null,null,null,null,null,null,"",{"$f":"IF(B1023=\"\",\"\",IF(R1023<5,INT((A1023-1)/Einstellung!$B$4)+1,\"\"))","v":""},""]
[null,null,null,null,null,null,null,null,null,null,null,null,null,null,null,null,null,"",{"$f":"IF(B1024=\"\",\"\",IF(R1024<5,INT((A1024-1)/Einstellung!$B$4)+1,\"\"))","v":""},""]
[null,null,null,null,null,null,null,null,null,null,null,null,null,null,null,null,null,"",{"$f":"IF(B1025=\"\",\"\",IF(R1025<5,INT((A1025-1)/Einstellung!$B$4)+1,\"\"))","v":""},""]
[null,null,null,null,null,null,null,null,null,null,null,null,null,null,null,null,null,"",{"$f":"IF(B1026=\"\",\"\",IF(R1026<5,INT((A1026-1)/Einstellung!$B$4)+1,\"\"))","v":""},""]
[null,null,null,null,null,null,null,null,null,null,null,null,null,null,null,null,null,"",{"$f":"IF(B1027=\"\",\"\",IF(R1027<5,INT((A1027-1)/Einstellung!$B$4)+1,\"\"))","v":""},""]
[null,null,null,null,null,null,null,null,null,null,null,null,null,null,null,null,null,"",{"$f":"IF(B1028=\"\",\"\",IF(R1028<5,INT((A1028-1)/Einstellung!$B$4)+1,\"\"))","v":""},""]
[null,null,null,null,null,null,null,null,null,null,null,null,null,null,null,null,null,"",{"$f":"IF(B1029=\"\",\"\",IF(R1029<5,INT((A1029-1)/Einstellung!$B$4)+1,\"\"))","v":""},""]
[null,null,null,null,null,null,null,null,null,null,null,null,null,null,null,null,null,"",{"$f":"IF(B1030=\"\",\"\",IF(R1030<5,INT((A1030-1)/Einstellung!$B$4)+1,\"\"))","v":""},""]
[null,null,null,null,null,null,null,null,null,null,null,null,null,null,null,null,null,"",{"$f":"IF(B1031=\"\",\"\",IF(R1031<5,INT((A1031-1)/Einstellung!$B$4)+1,\"\"))","v":""},""]
[null,null,null,null,null,null,null,null,null,null,null,null,null,null,null,null,null,{"$f":"IF(B1032=\"\",\"\",16-((MID(B$1,1,1)=MID(B1032,1,1))+(MID(C$1,1,1)=MID(C1032,1,1))+(MID(D$1,1,1)=MID(D1032,1,1))+(MID(E$1,1,1)=MID(E1032,1,1))+(MID(F$1,1,1)=MID(F1032,1,1))+(MID(G$1,1,1)=MID(G1032,1,1))+(MID(H$1,1,1)=MID(H1032,1,1))+(MID(I$1,1,1)=MID(I1032,1,1))+(MID(J$1,1,1)=MID(J1032,1,1))+(MID(K$1,1,1)=MID(K1032,1,1))+(MID(L$1,1,1)=MID(L1032,1,1))+(MID(M$1,1,1)=MID(M1032,1,1))+(MID(N$1,1,1)=MID(N1032,1,1))+(MID(O$1,1,1)=MID(O1032,1,1))+(MID(P$1,1,1)=MID(P1032,1,1)))-B$4+C$5)","v":""},{"$f":"IF(B1032=\"\",\"\",IF(R1032<5,INT((A1032-1)/Einstellung!$B$4)+1,\"\"))","v":""},{"$f":"IF(C$5<B$4,\"\",IF(R1032>4,\"\",OFFSET(T$2,R1032-1,0)))","v":""}]
[null,null,null,null,null,null,null,null,null,null,null,null,null,null,null,null,null,"",{"$f":"IF(B1033=\"\",\"\",IF(R1033<5,INT((A1033-1)/Einstellung!$B$4)+1,\"\"))","v":""},""]
[null,null,null,null,null,null,null,null,null,null,null,null,null,null,null,null,null,"",{"$f":"IF(B1034=\"\",\"\",IF(R1034<5,INT((A1034-1)/Einstellung!$B$4)+1,\"\"))","v":""},""]
[null,null,null,null,null,null,null,null,null,null,null,null,null,null,null,null,null,"",{"$f":"IF(B1035=\"\",\"\",IF(R1035<5,INT((A1035-1)/Einstellung!$B$4)+1,\"\"))","v":""},""]
[null,null,null,null,null,null,null,null,null,null,null,null,null,null,null,null,null,"",{"$f":"IF(B1036=\"\",\"\",IF(R1036<5,INT((A1036-1)/Einstellung!$B$4)+1,\"\"))","v":""},""]
[null,null,null,null,null,null,null,null,null,null,null,null,null,null,null,null,null,"",{"$f":"IF(B1037=\"\",\"\",IF(R1037<5,INT((A1037-1)/Einstellung!$B$4)+1,\"\"))","v":""},""]
[null,null,null,null,null,null,null,null,null,null,null,null,null,null,null,null,null,"",{"$f":"IF(B1038=\"\",\"\",IF(R1038<5,INT((A1038-1)/Einstellung!$B$4)+1,\"\"))","v":""},""]
[null,null,null,null,null,null,null,null,null,null,null,null,null,null,null,null,null,"",{"$f":"IF(B1039=\"\",\"\",IF(R1039<5,INT((A1039-1)/Einstellung!$B$4)+1,\"\"))","v":""},""]
[null,null,null,null,null,null,null,null,null,null,null,null,null,null,null,null,null,"",{"$f":"IF(B1040=\"\",\"\",IF(R1040<5,INT((A1040-1)/Einstellung!$B$4)+1,\"\"))","v":""},""]
[null,null,null,null,null,null,null,null,null,null,null,null,null,null,null,null,null,"",{"$f":"IF(B1041=\"\",\"\",IF(R1041<5,INT((A1041-1)/Einstellung!$B$4)+1,\"\"))","v":""},""]
[null,null,null,null,null,null,null,null,null,null,null,null,null,null,null,null,null,"",{"$f":"IF(B1042=\"\",\"\",IF(R1042<5,INT((A1042-1)/Einstellung!$B$4)+1,\"\"))","v":""},""]
[null,null,null,null,null,null,null,null,null,null,null,null,null,null,null,null,null,"",{"$f":"IF(B1043=\"\",\"\",IF(R1043<5,INT((A1043-1)/Einstellung!$B$4)+1,\"\"))","v":""},""]
[null,null,null,null,null,null,null,null,null,null,null,null,null,null,null,null,null,"",{"$f":"IF(B1044=\"\",\"\",IF(R1044<5,INT((A1044-1)/Einstellung!$B$4)+1,\"\"))","v":""},""]
[null,null,null,null,null,null,null,null,null,null,null,null,null,null,null,null,null,"",{"$f":"IF(B1045=\"\",\"\",IF(R1045<5,INT((A1045-1)/Einstellung!$B$4)+1,\"\"))","v":""},""]
[null,null,null,null,null,null,null,null,null,null,null,null,null,null,null,null,null,"",{"$f":"IF(B1046=\"\",\"\",IF(R1046<5,INT((A1046-1)/Einstellung!$B$4)+1,\"\"))","v":""},""]
[null,null,null,null,null,null,null,null,null,null,null,null,null,null,null,null,null,"",{"$f":"IF(B1047=\"\",\"\",IF(R1047<5,INT((A1047-1)/Einstellung!$B$4)+1,\"\"))","v":""},""]
[null,null,null,null,null,null,null,null,null,null,null,null,null,null,null,null,null,"",{"$f":"IF(B1048=\"\",\"\",IF(R1048<5,INT((A1048-1)/Einstellung!$B$4)+1,\"\"))","v":""},""]
[null,null,null,null,null,null,null,null,null,null,null,null,null,null,null,null,null,"",{"$f":"IF(B1049=\"\",\"\",IF(R1049<5,INT((A1049-1)/Einstellung!$B$4)+1,\"\"))","v":""},""]
[null,null,null,null,null,null,null,null,null,null,null,null,null,null,null,null,null,"",{"$f":"IF(B1050=\"\",\"\",IF(R1050<5,INT((A1050-1)/Einstellung!$B$4)+1,\"\"))","v":""},""]
[null,null,null,null,null,null,null,null,null,null,null,null,null,null,null,null,null,"",{"$f":"IF(B1051=\"\",\"\",IF(R1051<5,INT((A1051-1)/Einstellung!$B$4)+1,\"\"))","v":""},""]
[null,null,null,null,null,null,null,null,null,null,null,null,null,null,null,null,null,"",{"$f":"IF(B1052=\"\",\"\",IF(R1052<5,INT((A1052-1)/Einstellung!$B$4)+1,\"\"))","v":""},""]
[null,null,null,null,null,null,null,null,null,null,null,null,null,null,null,null,null,"",{"$f":"IF(B1053=\"\",\"\",IF(R1053<5,INT((A1053-1)/Einstellung!$B$4)+1,\"\"))","v":""},""]
[null,null,null,null,null,null,null,null,null,null,null,null,null,null,null,null,null,"",{"$f":"IF(B1054=\"\",\"\",IF(R1054<5,INT((A1054-1)/Einstellung!$B$4)+1,\"\"))","v":""},""]
[null,null,null,null,null,null,null,null,null,null,null,null,null,null,null,null,null,"",{"$f":"IF(B1055=\"\",\"\",IF(R1055<5,INT((A1055-1)/Einstellung!$B$4)+1,\"\"))","v":""},""]
[null,null,null,null,null,null,null,null,null,null,null,null,null,null,null,null,null,"",{"$f":"IF(B1056=\"\",\"\",IF(R1056<5,INT((A1056-1)/Einstellung!$B$4)+1,\"\"))","v":""},""]
[null,null,null,null,null,null,null,null,null,null,null,null,null,null,null,null,null,"",{"$f":"IF(B1057=\"\",\"\",IF(R1057<5,INT((A1057-1)/Einstellung!$B$4)+1,\"\"))","v":""},""]
[null,null,null,null,null,null,null,null,null,null,null,null,null,null,null,null,null,"",{"$f":"IF(B1058=\"\",\"\",IF(R1058<5,INT((A1058-1)/Einstellung!$B$4)+1,\"\"))","v":""},""]
[null,null,null,null,null,null,null,null,null,null,null,null,null,null,null,null,null,"",{"$f":"IF(B1059=\"\",\"\",IF(R1059<5,INT((A1059-1)/Einstellung!$B$4)+1,\"\"))","v":""},""]
[null,null,null,null,null,null,null,null,null,null,null,null,null,null,null,null,null,"",{"$f":"IF(B1060=\"\",\"\",IF(R1060<5,INT((A1060-1)/Einstellung!$B$4)+1,\"\"))","v":""},""]
[null,null,null,null,null,null,null,null,null,null,null,null,null,null,null,null,null,"",{"$f":"IF(B1061=\"\",\"\",IF(R1061<5,INT((A1061-1)/Einstellung!$B$4)+1,\"\"))","v":""},""]
[null,null,null,null,null,null,null,null,null,null,null,null,null,null,null,null,null,"",{"$f":"IF(B1062=\"\",\"\",IF(R1062<5,INT((A1062-1)/Einstellung!$B$4)+1,\"\"))","v":""},""]
[null,null,null,null,null,null,null,null,null,null,null,null,null,null,null,null,null,"",{"$f":"IF(B1063=\"\",\"\",IF(R1063<5,INT((A1063-1)/Einstellung!$B$4)+1,\"\"))","v":""},""]
[null,null,null,null,null,null,null,null,null,null,null,null,null,null,null,null,null,"",{"$f":"IF(B1064=\"\",\"\",IF(R1064<5,INT((A1064-1)/Einstellung!$B$4)+1,\"\"))","v":""},""]
[null,null,null,null,null,null,null,null,null,null,null,null,null,null,null,null,null,"",{"$f":"IF(B1065=\"\",\"\",IF(R1065<5,INT((A1065-1)/Einstellung!$B$4)+1,\"\"))","v":""},""]
[null,null,null,null,null,null,null,null,null,null,null,null,null,null,null,null,null,"",{"$f":"IF(B1066=\"\",\"\",IF(R1066<5,INT((A1066-1)/Einstellung!$B$4)+1,\"\"))","v":""},""]
[null,null,null,null,null,null,null,null,null,null,null,null,null,null,null,null,null,"",{"$f":"IF(B1067=\"\",\"\",IF(R1067<5,INT((A1067-1)/Einstellung!$B$4)+1,\"\"))","v":""},""]
[null,null,null,null,null,null,null,null,null,null,null,null,null,null,null,null,null,"",{"$f":"IF(B1068=\"\",\"\",IF(R1068<5,INT((A1068-1)/Einstellung!$B$4)+1,\"\"))","v":""},""]
[null,null,null,null,null,null,null,null,null,null,null,null,null,null,null,null,null,"",{"$f":"IF(B1069=\"\",\"\",IF(R1069<5,INT((A1069-1)/Einstellung!$B$4)+1,\"\"))","v":""},""]
[null,null,null,null,null,null,null,null,null,null,null,null,null,null,null,null,null,"",{"$f":"IF(B1070=\"\",\"\",IF(R1070<5,INT((A1070-1)/Einstellung!$B$4)+1,\"\"))","v":""},""]
[null,null,null,null,null,null,null,null,null,null,null,null,null,null,null,null,null,"",{"$f":"IF(B1071=\"\",\"\",IF(R1071<5,INT((A1071-1)/Einstellung!$B$4)+1,\"\"))","v":""},""]
[null,null,null,null,null,null,null,null,null,null,null,null,null,null,null,null,null,"",{"$f":"IF(B1072=\"\",\"\",IF(R1072<5,INT((A1072-1)/Einstellung!$B$4)+1,\"\"))","v":""},""]
[null,null,null,null,null,null,null,null,null,null,null,null,null,null,null,null,null,"",{"$f":"IF(B1073=\"\",\"\",IF(R1073<5,INT((A1073-1)/Einstellung!$B$4)+1,\"\"))","v":""},""]
[null,null,null,null,null,null,null,null,null,null,null,null,null,null,null,null,null,"",{"$f":"IF(B1074=\"\",\"\",IF(R1074<5,INT((A1074-1)/Einstellung!$B$4)+1,\"\"))","v":""},""]
[null,null,null,null,null,null,null,null,null,null,null,null,null,null,null,null,null,"",{"$f":"IF(B1075=\"\",\"\",IF(R1075<5,INT((A1075-1)/Einstellung!$B$4)+1,\"\"))","v":""},""]
[null,null,null,null,null,null,null,null,null,null,null,null,null,null,null,null,null,"",{"$f":"IF(B1076=\"\",\"\",IF(R1076<5,INT((A1076-1)/Einstellung!$B$4)+1,\"\"))","v":""},""]
[null,null,null,null,null,null,null,null,null,null,null,null,null,null,null,null,null,"",{"$f":"IF(B1077=\"\",\"\",IF(R1077<5,INT((A1077-1)/Einstellung!$B$4)+1,\"\"))","v":""},""]
[null,null,null,null,null,null,null,null,null,null,null,null,null,null,null,null,null,"",{"$f":"IF(B1078=\"\",\"\",IF(R1078<5,INT((A1078-1)/Einstellung!$B$4)+1,\"\"))","v":""},""]
[null,null,null,null,null,null,null,null,null,null,null,null,null,null,null,null,null,"",{"$f":"IF(B1079=\"\",\"\",IF(R1079<5,INT((A1079-1)/Einstellung!$B$4)+1,\"\"))","v":""},""]
[null,null,null,null,null,null,null,null,null,null,null,null,null,null,null,null,null,"",{"$f":"IF(B1080=\"\",\"\",IF(R1080<5,INT((A1080-1)/Einstellung!$B$4)+1,\"\"))","v":""},""]
[null,null,null,null,null,null,null,null,null,null,null,null,null,null,null,null,null,"",{"$f":"IF(B1081=\"\",\"\",IF(R1081<5,INT((A1081-1)/Einstellung!$B$4)+1,\"\"))","v":""},""]
[null,null,null,null,null,null,null,null,null,null,null,null,null,null,null,null,null,"",{"$f":"IF(B1082=\"\",\"\",IF(R1082<5,INT((A1082-1)/Einstellung!$B$4)+1,\"\"))","v":""},""]
[null,null,null,null,null,null,null,null,null,null,null,null,null,null,null,null,null,"",{"$f":"IF(B1083=\"\",\"\",IF(R1083<5,INT((A1083-1)/Einstellung!$B$4)+1,\"\"))","v":""},""]
[null,null,null,null,null,null,null,null,null,null,null,null,null,null,null,null,null,"",{"$f":"IF(B1084=\"\",\"\",IF(R1084<5,INT((A1084-1)/Einstellung!$B$4)+1,\"\"))","v":""},""]
[null,null,null,null,null,null,null,null,null,null,null,null,null,null,null,null,null,"",{"$f":"IF(B1085=\"\",\"\",IF(R1085<5,INT((A1085-1)/Einstellung!$B$4)+1,\"\"))","v":""},""]
[null,null,null,null,null,null,null,null,null,null,null,null,null,null,null,null,null,"",{"$f":"IF(B1086=\"\",\"\",IF(R1086<5,INT((A1086-1)/Einstellung!$B$4)+1,\"\"))","v":""},""]
[null,null,null,null,null,null,null,null,null,null,null,null,null,null,null,null,null,"",{"$f":"IF(B1087=\"\",\"\",IF(R1087<5,INT((A1087-1)/Einstellung!$B$4)+1,\"\"))","v":""},""]
[null,null,null,null,null,null,null,null,null,null,null,null,null,null,null,null,null,"",{"$f":"IF(B1088=\"\",\"\",IF(R1088<5,INT((A1088-1)/Einstellung!$B$4)+1,\"\"))","v":""},""]
[null,null,null,null,null,null,null,null,null,null,null,null,null,null,null,null,null,"",{"$f":"IF(B1089=\"\",\"\",IF(R1089<5,INT((A1089-1)/Einstellung!$B$4)+1,\"\"))","v":""},""]
[null,null,null,null,null,null,null,null,null,null,null,null,null,null,null,null,null,"",{"$f":"IF(B1090=\"\",\"\",IF(R1090<5,INT((A1090-1)/Einstellung!$B$4)+1,\"\"))","v":""},""]
[null,null,null,null,null,null,null,null,null,null,null,null,null,null,null,null,null,"",{"$f":"IF(B1091=\"\",\"\",IF(R1091<5,INT((A1091-1)/Einstellung!$B$4)+1,\"\"))","v":""},""]
[null,null,null,null,null,null,null,null,null,null,null,null,null,null,null,null,null,"",{"$f":"IF(B1092=\"\",\"\",IF(R1092<5,INT((A1092-1)/Einstellung!$B$4)+1,\"\"))","v":""},""]
[null,null,null,null,null,null,null,null,null,null,null,null,null,null,null,null,null,"",{"$f":"IF(B1093=\"\",\"\",IF(R1093<5,INT((A1093-1)/Einstellung!$B$4)+1,\"\"))","v":""},""]
[null,null,null,null,null,null,null,null,null,null,null,null,null,null,null,null,null,"",{"$f":"IF(B1094=\"\",\"\",IF(R1094<5,INT((A1094-1)/Einstellung!$B$4)+1,\"\"))","v":""},""]
[null,null,null,null,null,null,null,null,null,null,null,null,null,null,null,null,null,"",{"$f":"IF(B1095=\"\",\"\",IF(R1095<5,INT((A1095-1)/Einstellung!$B$4)+1,\"\"))","v":""},""]
[null,null,null,null,null,null,null,null,null,null,null,null,null,null,null,null,null,{"$f":"IF(B1096=\"\",\"\",16-((MID(B$1,1,1)=MID(B1096,1,1))+(MID(C$1,1,1)=MID(C1096,1,1))+(MID(D$1,1,1)=MID(D1096,1,1))+(MID(E$1,1,1)=MID(E1096,1,1))+(MID(F$1,1,1)=MID(F1096,1,1))+(MID(G$1,1,1)=MID(G1096,1,1))+(MID(H$1,1,1)=MID(H1096,1,1))+(MID(I$1,1,1)=MID(I1096,1,1))+(MID(J$1,1,1)=MID(J1096,1,1))+(MID(K$1,1,1)=MID(K1096,1,1))+(MID(L$1,1,1)=MID(L1096,1,1))+(MID(M$1,1,1)=MID(M1096,1,1))+(MID(N$1,1,1)=MID(N1096,1,1))+(MID(O$1,1,1)=MID(O1096,1,1))+(MID(P$1,1,1)=MID(P1096,1,1)))-B$4+C$5)","v":""},{"$f":"IF(B1096=\"\",\"\",IF(R1096<5,INT((A1096-1)/Einstellung!$B$4)+1,\"\"))","v":""},{"$f":"IF(C$5<B$4,\"\",IF(R1096>4,\"\",OFFSET(T$2,R1096-1,0)))","v":""}]
[null,null,null,null,null,null,null,null,null,null,null,null,null,null,null,null,null,"",{"$f":"IF(B1097=\"\",\"\",IF(R1097<5,INT((A1097-1)/Einstellung!$B$4)+1,\"\"))","v":""},""]
[null,null,null,null,null,null,null,null,null,null,null,null,null,null,null,null,null,"",{"$f":"IF(B1098=\"\",\"\",IF(R1098<5,INT((A1098-1)/Einstellung!$B$4)+1,\"\"))","v":""},""]
[null,null,null,null,null,null,null,null,null,null,null,null,null,null,null,null,null,"",{"$f":"IF(B1099=\"\",\"\",IF(R1099<5,INT((A1099-1)/Einstellung!$B$4)+1,\"\"))","v":""},""]
[null,null,null,null,null,null,null,null,null,null,null,null,null,null,null,null,null,"",{"$f":"IF(B1100=\"\",\"\",IF(R1100<5,INT((A1100-1)/Einstellung!$B$4)+1,\"\"))","v":""},""]
[null,null,null,null,null,null,null,null,null,null,null,null,null,null,null,null,null,"",{"$f":"IF(B1101=\"\",\"\",IF(R1101<5,INT((A1101-1)/Einstellung!$B$4)+1,\"\"))","v":""},""]
[null,null,null,null,null,null,null,null,null,null,null,null,null,null,null,null,null,"",{"$f":"IF(B1102=\"\",\"\",IF(R1102<5,INT((A1102-1)/Einstellung!$B$4)+1,\"\"))","v":""},""]
[null,null,null,null,null,null,null,null,null,null,null,null,null,null,null,null,null,"",{"$f":"IF(B1103=\"\",\"\",IF(R1103<5,INT((A1103-1)/Einstellung!$B$4)+1,\"\"))","v":""},""]
[null,null,null,null,null,null,null,null,null,null,null,null,null,null,null,null,null,"",{"$f":"IF(B1104=\"\",\"\",IF(R1104<5,INT((A1104-1)/Einstellung!$B$4)+1,\"\"))","v":""},""]
[null,null,null,null,null,null,null,null,null,null,null,null,null,null,null,null,null,"",{"$f":"IF(B1105=\"\",\"\",IF(R1105<5,INT((A1105-1)/Einstellung!$B$4)+1,\"\"))","v":""},""]
[null,null,null,null,null,null,null,null,null,null,null,null,null,null,null,null,null,"",{"$f":"IF(B1106=\"\",\"\",IF(R1106<5,INT((A1106-1)/Einstellung!$B$4)+1,\"\"))","v":""},""]
[null,null,null,null,null,null,null,null,null,null,null,null,null,null,null,null,null,"",{"$f":"IF(B1107=\"\",\"\",IF(R1107<5,INT((A1107-1)/Einstellung!$B$4)+1,\"\"))","v":""},""]
[null,null,null,null,null,null,null,null,null,null,null,null,null,null,null,null,null,"",{"$f":"IF(B1108=\"\",\"\",IF(R1108<5,INT((A1108-1)/Einstellung!$B$4)+1,\"\"))","v":""},""]
[null,null,null,null,null,null,null,null,null,null,null,null,null,null,null,null,null,"",{"$f":"IF(B1109=\"\",\"\",IF(R1109<5,INT((A1109-1)/Einstellung!$B$4)+1,\"\"))","v":""},""]
[null,null,null,null,null,null,null,null,null,null,null,null,null,null,null,null,null,"",{"$f":"IF(B1110=\"\",\"\",IF(R1110<5,INT((A1110-1)/Einstellung!$B$4)+1,\"\"))","v":""},""]
[null,null,null,null,null,null,null,null,null,null,null,null,null,null,null,null,null,"",{"$f":"IF(B1111=\"\",\"\",IF(R1111<5,INT((A1111-1)/Einstellung!$B$4)+1,\"\"))","v":""},""]
[null,null,null,null,null,null,null,null,null,null,null,null,null,null,null,null,null,"",{"$f":"IF(B1112=\"\",\"\",IF(R1112<5,INT((A1112-1)/Einstellung!$B$4)+1,\"\"))","v":""},""]
[null,null,null,null,null,null,null,null,null,null,null,null,null,null,null,null,null,"",{"$f":"IF(B1113=\"\",\"\",IF(R1113<5,INT((A1113-1)/Einstellung!$B$4)+1,\"\"))","v":""},""]
[null,null,null,null,null,null,null,null,null,null,null,null,null,null,null,null,null,"",{"$f":"IF(B1114=\"\",\"\",IF(R1114<5,INT((A1114-1)/Einstellung!$B$4)+1,\"\"))","v":""},""]
[null,null,null,null,null,null,null,null,null,null,null,null,null,null,null,null,null,"",{"$f":"IF(B1115=\"\",\"\",IF(R1115<5,INT((A1115-1)/Einstellung!$B$4)+1,\"\"))","v":""},""]
[null,null,null,null,null,null,null,null,null,null,null,null,null,null,null,null,null,"",{"$f":"IF(B1116=\"\",\"\",IF(R1116<5,INT((A1116-1)/Einstellung!$B$4)+1,\"\"))","v":""},""]
[null,null,null,null,null,null,null,null,null,null,null,null,null,null,null,null,null,"",{"$f":"IF(B1117=\"\",\"\",IF(R1117<5,INT((A1117-1)/Einstellung!$B$4)+1,\"\"))","v":""},""]
[null,null,null,null,null,null,null,null,null,null,null,null,null,null,null,null,null,"",{"$f":"IF(B1118=\"\",\"\",IF(R1118<5,INT((A1118-1)/Einstellung!$B$4)+1,\"\"))","v":""},""]
[null,null,null,null,null,null,null,null,null,null,null,null,null,null,null,null,null,"",{"$f":"IF(B1119=\"\",\"\",IF(R1119<5,INT((A1119-1)/Einstellung!$B$4)+1,\"\"))","v":""},""]
[null,null,null,null,null,null,null,null,null,null,null,null,null,null,null,null,null,"",{"$f":"IF(B1120=\"\",\"\",IF(R1120<5,INT((A1120-1)/Einstellung!$B$4)+1,\"\"))","v":""},""]
[null,null,null,null,null,null,null,null,null,null,null,null,null,null,null,null,null,"",{"$f":"IF(B1121=\"\",\"\",IF(R1121<5,INT((A1121-1)/Einstellung!$B$4)+1,\"\"))","v":""},""]
[null,null,null,null,null,null,null,null,null,null,null,null,null,null,null,null,null,"",{"$f":"IF(B1122=\"\",\"\",IF(R1122<5,INT((A1122-1)/Einstellung!$B$4)+1,\"\"))","v":""},""]
[null,null,null,null,null,null,null,null,null,null,null,null,null,null,null,null,null,"",{"$f":"IF(B1123=\"\",\"\",IF(R1123<5,INT((A1123-1)/Einstellung!$B$4)+1,\"\"))","v":""},""]
[null,null,null,null,null,null,null,null,null,null,null,null,null,null,null,null,null,"",{"$f":"IF(B1124=\"\",\"\",IF(R1124<5,INT((A1124-1)/Einstellung!$B$4)+1,\"\"))","v":""},""]
[null,null,null,null,null,null,null,null,null,null,null,null,null,null,null,null,null,"",{"$f":"IF(B1125=\"\",\"\",IF(R1125<5,INT((A1125-1)/Einstellung!$B$4)+1,\"\"))","v":""},""]
[null,null,null,null,null,null,null,null,null,null,null,null,null,null,null,null,null,"",{"$f":"IF(B1126=\"\",\"\",IF(R1126<5,INT((A1126-1)/Einstellung!$B$4)+1,\"\"))","v":""},""]
[null,null,null,null,null,null,null,null,null,null,null,null,null,null,null,null,null,"",{"$f":"IF(B1127=\"\",\"\",IF(R1127<5,INT((A1127-1)/Einstellung!$B$4)+1,\"\"))","v":""},""]
[null,null,null,null,null,null,null,null,null,null,null,null,null,null,null,null,null,"",{"$f":"IF(B1128=\"\",\"\",IF(R1128<5,INT((A1128-1)/Einstellung!$B$4)+1,\"\"))","v":""},""]
[null,null,null,null,null,null,null,null,null,null,null,null,null,null,null,null,null,"",{"$f":"IF(B1129=\"\",\"\",IF(R1129<5,INT((A1129-1)/Einstellung!$B$4)+1,\"\"))","v":""},""]
[null,null,null,null,null,null,null,null,null,null,null,null,null,null,null,null,null,"",{"$f":"IF(B1130=\"\",\"\",IF(R1130<5,INT((A1130-1)/Einstellung!$B$4)+1,\"\"))","v":""},""]
[null,null,null,null,null,null,null,null,null,null,null,null,null,null,null,null,null,"",{"$f":"IF(B1131=\"\",\"\",IF(R1131<5,INT((A1131-1)/Einstellung!$B$4)+1,\"\"))","v":""},""]
[null,null,null,null,null,null,null,null,null,null,null,null,null,null,null,null,null,"",{"$f":"IF(B1132=\"\",\"\",IF(R1132<5,INT((A1132-1)/Einstellung!$B$4)+1,\"\"))","v":""},""]
[null,null,null,null,null,null,null,null,null,null,null,null,null,null,null,null,null,"",{"$f":"IF(B1133=\"\",\"\",IF(R1133<5,INT((A1133-1)/Einstellung!$B$4)+1,\"\"))","v":""},""]
[null,null,null,null,null,null,null,null,null,null,null,null,null,null,null,null,null,"",{"$f":"IF(B1134=\"\",\"\",IF(R1134<5,INT((A1134-1)/Einstellung!$B$4)+1,\"\"))","v":""},""]
[null,null,null,null,null,null,null,null,null,null,null,null,null,null,null,null,null,"",{"$f":"IF(B1135=\"\",\"\",IF(R1135<5,INT((A1135-1)/Einstellung!$B$4)+1,\"\"))","v":""},""]
[null,null,null,null,null,null,null,null,null,null,null,null,null,null,null,null,null,"",{"$f":"IF(B1136=\"\",\"\",IF(R1136<5,INT((A1136-1)/Einstellung!$B$4)+1,\"\"))","v":""},""]
[null,null,null,null,null,null,null,null,null,null,null,null,null,null,null,null,null,"",{"$f":"IF(B1137=\"\",\"\",IF(R1137<5,INT((A1137-1)/Einstellung!$B$4)+1,\"\"))","v":""},""]
[null,null,null,null,null,null,null,null,null,null,null,null,null,null,null,null,null,"",{"$f":"IF(B1138=\"\",\"\",IF(R1138<5,INT((A1138-1)/Einstellung!$B$4)+1,\"\"))","v":""},""]
[null,null,null,null,null,null,null,null,null,null,null,null,null,null,null,null,null,"",{"$f":"IF(B1139=\"\",\"\",IF(R1139<5,INT((A1139-1)/Einstellung!$B$4)+1,\"\"))","v":""},""]
[null,null,null,null,null,null,null,null,null,null,null,null,null,null,null,null,null,"",{"$f":"IF(B1140=\"\",\"\",IF(R1140<5,INT((A1140-1)/Einstellung!$B$4)+1,\"\"))","v":""},""]
[null,null,null,null,null,null,null,null,null,null,null,null,null,null,null,null,null,"",{"$f":"IF(B1141=\"\",\"\",IF(R1141<5,INT((A1141-1)/Einstellung!$B$4)+1,\"\"))","v":""},""]
[null,null,null,null,null,null,null,null,null,null,null,null,null,null,null,null,null,"",{"$f":"IF(B1142=\"\",\"\",IF(R1142<5,INT((A1142-1)/Einstellung!$B$4)+1,\"\"))","v":""},""]
[null,null,null,null,null,null,null,null,null,null,null,null,null,null,null,null,null,"",{"$f":"IF(B1143=\"\",\"\",IF(R1143<5,INT((A1143-1)/Einstellung!$B$4)+1,\"\"))","v":""},""]
[null,null,null,null,null,null,null,null,null,null,null,null,null,null,null,null,null,"",{"$f":"IF(B1144=\"\",\"\",IF(R1144<5,INT((A1144-1)/Einstellung!$B$4)+1,\"\"))","v":""},""]
[null,null,null,null,null,null,null,null,null,null,null,null,null,null,null,null,null,"",{"$f":"IF(B1145=\"\",\"\",IF(R1145<5,INT((A1145-1)/Einstellung!$B$4)+1,\"\"))","v":""},""]
[null,null,null,null,null,null,null,null,null,null,null,null,null,null,null,null,null,"",{"$f":"IF(B1146=\"\",\"\",IF(R1146<5,INT((A1146-1)/Einstellung!$B$4)+1,\"\"))","v":""},""]
[null,null,null,null,null,null,null,null,null,null,null,null,null,null,null,null,null,"",{"$f":"IF(B1147=\"\",\"\",IF(R1147<5,INT((A1147-1)/Einstellung!$B$4)+1,\"\"))","v":""},""]
[null,null,null,null,null,null,null,null,null,null,null,null,null,null,null,null,null,"",{"$f":"IF(B1148=\"\",\"\",IF(R1148<5,INT((A1148-1)/Einstellung!$B$4)+1,\"\"))","v":""},""]
[null,null,null,null,null,null,null,null,null,null,null,null,null,null,null,null,null,"",{"$f":"IF(B1149=\"\",\"\",IF(R1149<5,INT((A1149-1)/Einstellung!$B$4)+1,\"\"))","v":""},""]
[null,null,null,null,null,null,null,null,null,null,null,null,null,null,null,null,null,"",{"$f":"IF(B1150=\"\",\"\",IF(R1150<5,INT((A1150-1)/Einstellung!$B$4)+1,\"\"))","v":""},""]
[null,null,null,null,null,null,null,null,null,null,null,null,null,null,null,null,null,"",{"$f":"IF(B1151=\"\",\"\",IF(R1151<5,INT((A1151-1)/Einstellung!$B$4)+1,\"\"))","v":""},""]
[null,null,null,null,null,null,null,null,null,null,null,null,null,null,null,null,null,"",{"$f":"IF(B1152=\"\",\"\",IF(R1152<5,INT((A1152-1)/Einstellung!$B$4)+1,\"\"))","v":""},""]
[null,null,null,null,null,null,null,null,null,null,null,null,null,null,null,null,null,"",{"$f":"IF(B1153=\"\",\"\",IF(R1153<5,INT((A1153-1)/Einstellung!$B$4)+1,\"\"))","v":""},""]
[null,null,null,null,null,null,null,null,null,null,null,null,null,null,null,null,null,"",{"$f":"IF(B1154=\"\",\"\",IF(R1154<5,INT((A1154-1)/Einstellung!$B$4)+1,\"\"))","v":""},""]
[null,null,null,null,null,null,null,null,null,null,null,null,null,null,null,null,null,"",{"$f":"IF(B1155=\"\",\"\",IF(R1155<5,INT((A1155-1)/Einstellung!$B$4)+1,\"\"))","v":""},""]
[null,null,null,null,null,null,null,null,null,null,null,null,null,null,null,null,null,"",{"$f":"IF(B1156=\"\",\"\",IF(R1156<5,INT((A1156-1)/Einstellung!$B$4)+1,\"\"))","v":""},""]
[null,null,null,null,null,null,null,null,null,null,null,null,null,null,null,null,null,"",{"$f":"IF(B1157=\"\",\"\",IF(R1157<5,INT((A1157-1)/Einstellung!$B$4)+1,\"\"))","v":""},""]
[null,null,null,null,null,null,null,null,null,null,null,null,null,null,null,null,null,"",{"$f":"IF(B1158=\"\",\"\",IF(R1158<5,INT((A1158-1)/Einstellung!$B$4)+1,\"\"))","v":""},""]
[null,null,null,null,null,null,null,null,null,null,null,null,null,null,null,null,null,"",{"$f":"IF(B1159=\"\",\"\",IF(R1159<5,INT((A1159-1)/Einstellung!$B$4)+1,\"\"))","v":""},""]
[null,null,null,null,null,null,null,null,null,null,null,null,null,null,null,null,null,{"$f":"IF(B1160=\"\",\"\",16-((MID(B$1,1,1)=MID(B1160,1,1))+(MID(C$1,1,1)=MID(C1160,1,1))+(MID(D$1,1,1)=MID(D1160,1,1))+(MID(E$1,1,1)=MID(E1160,1,1))+(MID(F$1,1,1)=MID(F1160,1,1))+(MID(G$1,1,1)=MID(G1160,1,1))+(MID(H$1,1,1)=MID(H1160,1,1))+(MID(I$1,1,1)=MID(I1160,1,1))+(MID(J$1,1,1)=MID(J1160,1,1))+(MID(K$1,1,1)=MID(K1160,1,1))+(MID(L$1,1,1)=MID(L1160,1,1))+(MID(M$1,1,1)=MID(M1160,1,1))+(MID(N$1,1,1)=MID(N1160,1,1))+(MID(O$1,1,1)=MID(O1160,1,1))+(MID(P$1,1,1)=MID(P1160,1,1)))-B$4+C$5)","v":""},{"$f":"IF(B1160=\"\",\"\",IF(R1160<5,INT((A1160-1)/Einstellung!$B$4)+1,\"\"))","v":""},{"$f":"IF(C$5<B$4,\"\",IF(R1160>4,\"\",OFFSET(T$2,R1160-1,0)))","v":""}]
[null,null,null,null,null,null,null,null,null,null,null,null,null,null,null,null,null,"",{"$f":"IF(B1161=\"\",\"\",IF(R1161<5,INT((A1161-1)/Einstellung!$B$4)+1,\"\"))","v":""},""]
[null,null,null,null,null,null,null,null,null,null,null,null,null,null,null,null,null,"",{"$f":"IF(B1162=\"\",\"\",IF(R1162<5,INT((A1162-1)/Einstellung!$B$4)+1,\"\"))","v":""},""]
[null,null,null,null,null,null,null,null,null,null,null,null,null,null,null,null,null,"",{"$f":"IF(B1163=\"\",\"\",IF(R1163<5,INT((A1163-1)/Einstellung!$B$4)+1,\"\"))","v":""},""]
[null,null,null,null,null,null,null,null,null,null,null,null,null,null,null,null,null,"",{"$f":"IF(B1164=\"\",\"\",IF(R1164<5,INT((A1164-1)/Einstellung!$B$4)+1,\"\"))","v":""},""]
[null,null,null,null,null,null,null,null,null,null,null,null,null,null,null,null,null,"",{"$f":"IF(B1165=\"\",\"\",IF(R1165<5,INT((A1165-1)/Einstellung!$B$4)+1,\"\"))","v":""},""]
[null,null,null,null,null,null,null,null,null,null,null,null,null,null,null,null,null,"",{"$f":"IF(B1166=\"\",\"\",IF(R1166<5,INT((A1166-1)/Einstellung!$B$4)+1,\"\"))","v":""},""]
[null,null,null,null,null,null,null,null,null,null,null,null,null,null,null,null,null,"",{"$f":"IF(B1167=\"\",\"\",IF(R1167<5,INT((A1167-1)/Einstellung!$B$4)+1,\"\"))","v":""},""]
[null,null,null,null,null,null,null,null,null,null,null,null,null,null,null,null,null,"",{"$f":"IF(B1168=\"\",\"\",IF(R1168<5,INT((A1168-1)/Einstellung!$B$4)+1,\"\"))","v":""},""]
[null,null,null,null,null,null,null,null,null,null,null,null,null,null,null,null,null,"",{"$f":"IF(B1169=\"\",\"\",IF(R1169<5,INT((A1169-1)/Einstellung!$B$4)+1,\"\"))","v":""},""]
[null,null,null,null,null,null,null,null,null,null,null,null,null,null,null,null,null,"",{"$f":"IF(B1170=\"\",\"\",IF(R1170<5,INT((A1170-1)/Einstellung!$B$4)+1,\"\"))","v":""},""]
[null,null,null,null,null,null,null,null,null,null,null,null,null,null,null,null,null,"",{"$f":"IF(B1171=\"\",\"\",IF(R1171<5,INT((A1171-1)/Einstellung!$B$4)+1,\"\"))","v":""},""]
[null,null,null,null,null,null,null,null,null,null,null,null,null,null,null,null,null,"",{"$f":"IF(B1172=\"\",\"\",IF(R1172<5,INT((A1172-1)/Einstellung!$B$4)+1,\"\"))","v":""},""]
[null,null,null,null,null,null,null,null,null,null,null,null,null,null,null,null,null,"",{"$f":"IF(B1173=\"\",\"\",IF(R1173<5,INT((A1173-1)/Einstellung!$B$4)+1,\"\"))","v":""},""]
[null,null,null,null,null,null,null,null,null,null,null,null,null,null,null,null,null,"",{"$f":"IF(B1174=\"\",\"\",IF(R1174<5,INT((A1174-1)/Einstellung!$B$4)+1,\"\"))","v":""},""]
[null,null,null,null,null,null,null,null,null,null,null,null,null,null,null,null,null,"",{"$f":"IF(B1175=\"\",\"\",IF(R1175<5,INT((A1175-1)/Einstellung!$B$4)+1,\"\"))","v":""},""]
[null,null,null,null,null,null,null,null,null,null,null,null,null,null,null,null,null,"",{"$f":"IF(B1176=\"\",\"\",IF(R1176<5,INT((A1176-1)/Einstellung!$B$4)+1,\"\"))","v":""},""]
[null,null,null,null,null,null,null,null,null,null,null,null,null,null,null,null,null,"",{"$f":"IF(B1177=\"\",\"\",IF(R1177<5,INT((A1177-1)/Einstellung!$B$4)+1,\"\"))","v":""},""]
[null,null,null,null,null,null,null,null,null,null,null,null,null,null,null,null,null,"",{"$f":"IF(B1178=\"\",\"\",IF(R1178<5,INT((A1178-1)/Einstellung!$B$4)+1,\"\"))","v":""},""]
[null,null,null,null,null,null,null,null,null,null,null,null,null,null,null,null,null,"",{"$f":"IF(B1179=\"\",\"\",IF(R1179<5,INT((A1179-1)/Einstellung!$B$4)+1,\"\"))","v":""},""]
[null,null,null,null,null,null,null,null,null,null,null,null,null,null,null,null,null,"",{"$f":"IF(B1180=\"\",\"\",IF(R1180<5,INT((A1180-1)/Einstellung!$B$4)+1,\"\"))","v":""},""]
[null,null,null,null,null,null,null,null,null,null,null,null,null,null,null,null,null,"",{"$f":"IF(B1181=\"\",\"\",IF(R1181<5,INT((A1181-1)/Einstellung!$B$4)+1,\"\"))","v":""},""]
[null,null,null,null,null,null,null,null,null,null,null,null,null,null,null,null,null,"",{"$f":"IF(B1182=\"\",\"\",IF(R1182<5,INT((A1182-1)/Einstellung!$B$4)+1,\"\"))","v":""},""]
[null,null,null,null,null,null,null,null,null,null,null,null,null,null,null,null,null,"",{"$f":"IF(B1183=\"\",\"\",IF(R1183<5,INT((A1183-1)/Einstellung!$B$4)+1,\"\"))","v":""},""]
[null,null,null,null,null,null,null,null,null,null,null,null,null,null,null,null,null,"",{"$f":"IF(B1184=\"\",\"\",IF(R1184<5,INT((A1184-1)/Einstellung!$B$4)+1,\"\"))","v":""},""]
[null,null,null,null,null,null,null,null,null,null,null,null,null,null,null,null,null,"",{"$f":"IF(B1185=\"\",\"\",IF(R1185<5,INT((A1185-1)/Einstellung!$B$4)+1,\"\"))","v":""},""]
[null,null,null,null,null,null,null,null,null,null,null,null,null,null,null,null,null,"",{"$f":"IF(B1186=\"\",\"\",IF(R1186<5,INT((A1186-1)/Einstellung!$B$4)+1,\"\"))","v":""},""]
[null,null,null,null,null,null,null,null,null,null,null,null,null,null,null,null,null,"",{"$f":"IF(B1187=\"\",\"\",IF(R1187<5,INT((A1187-1)/Einstellung!$B$4)+1,\"\"))","v":""},""]
[null,null,null,null,null,null,null,null,null,null,null,null,null,null,null,null,null,"",{"$f":"IF(B1188=\"\",\"\",IF(R1188<5,INT((A1188-1)/Einstellung!$B$4)+1,\"\"))","v":""},""]
[null,null,null,null,null,null,null,null,null,null,null,null,null,null,null,null,null,"",{"$f":"IF(B1189=\"\",\"\",IF(R1189<5,INT((A1189-1)/Einstellung!$B$4)+1,\"\"))","v":""},""]
[null,null,null,null,null,null,null,null,null,null,null,null,null,null,null,null,null,"",{"$f":"IF(B1190=\"\",\"\",IF(R1190<5,INT((A1190-1)/Einstellung!$B$4)+1,\"\"))","v":""},""]
[null,null,null,null,null,null,null,null,null,null,null,null,null,null,null,null,null,"",{"$f":"IF(B1191=\"\",\"\",IF(R1191<5,INT((A1191-1)/Einstellung!$B$4)+1,\"\"))","v":""},""]
[null,null,null,null,null,null,null,null,null,null,null,null,null,null,null,null,null,"",{"$f":"IF(B1192=\"\",\"\",IF(R1192<5,INT((A1192-1)/Einstellung!$B$4)+1,\"\"))","v":""},""]
[null,null,null,null,null,null,null,null,null,null,null,null,null,null,null,null,null,"",{"$f":"IF(B1193=\"\",\"\",IF(R1193<5,INT((A1193-1)/Einstellung!$B$4)+1,\"\"))","v":""},""]
[null,null,null,null,null,null,null,null,null,null,null,null,null,null,null,null,null,"",{"$f":"IF(B1194=\"\",\"\",IF(R1194<5,INT((A1194-1)/Einstellung!$B$4)+1,\"\"))","v":""},""]
[null,null,null,null,null,null,null,null,null,null,null,null,null,null,null,null,null,"",{"$f":"IF(B1195=\"\",\"\",IF(R1195<5,INT((A1195-1)/Einstellung!$B$4)+1,\"\"))","v":""},""]
[null,null,null,null,null,null,null,null,null,null,null,null,null,null,null,null,null,"",{"$f":"IF(B1196=\"\",\"\",IF(R1196<5,INT((A1196-1)/Einstellung!$B$4)+1,\"\"))","v":""},""]
[null,null,null,null,null,null,null,null,null,null,null,null,null,null,null,null,null,"",{"$f":"IF(B1197=\"\",\"\",IF(R1197<5,INT((A1197-1)/Einstellung!$B$4)+1,\"\"))","v":""},""]
[null,null,null,null,null,null,null,null,null,null,null,null,null,null,null,null,null,"",{"$f":"IF(B1198=\"\",\"\",IF(R1198<5,INT((A1198-1)/Einstellung!$B$4)+1,\"\"))","v":""},""]
[null,null,null,null,null,null,null,null,null,null,null,null,null,null,null,null,null,"",{"$f":"IF(B1199=\"\",\"\",IF(R1199<5,INT((A1199-1)/Einstellung!$B$4)+1,\"\"))","v":""},""]
[null,null,null,null,null,null,null,null,null,null,null,null,null,null,null,null,null,"",{"$f":"IF(B1200=\"\",\"\",IF(R1200<5,INT((A1200-1)/Einstellung!$B$4)+1,\"\"))","v":""},""]
[null,null,null,null,null,null,null,null,null,null,null,null,null,null,null,null,null,"",{"$f":"IF(B1201=\"\",\"\",IF(R1201<5,INT((A1201-1)/Einstellung!$B$4)+1,\"\"))","v":""},""]
[null,null,null,null,null,null,null,null,null,null,null,null,null,null,null,null,null,"",{"$f":"IF(B1202=\"\",\"\",IF(R1202<5,INT((A1202-1)/Einstellung!$B$4)+1,\"\"))","v":""},""]
[null,null,null,null,null,null,null,null,null,null,null,null,null,null,null,null,null,"",{"$f":"IF(B1203=\"\",\"\",IF(R1203<5,INT((A1203-1)/Einstellung!$B$4)+1,\"\"))","v":""},""]
[null,null,null,null,null,null,null,null,null,null,null,null,null,null,null,null,null,"",{"$f":"IF(B1204=\"\",\"\",IF(R1204<5,INT((A1204-1)/Einstellung!$B$4)+1,\"\"))","v":""},""]
[null,null,null,null,null,null,null,null,null,null,null,null,null,null,null,null,null,"",{"$f":"IF(B1205=\"\",\"\",IF(R1205<5,INT((A1205-1)/Einstellung!$B$4)+1,\"\"))","v":""},""]
[null,null,null,null,null,null,null,null,null,null,null,null,null,null,null,null,null,"",{"$f":"IF(B1206=\"\",\"\",IF(R1206<5,INT((A1206-1)/Einstellung!$B$4)+1,\"\"))","v":""},""]
[null,null,null,null,null,null,null,null,null,null,null,null,null,null,null,null,null,"",{"$f":"IF(B1207=\"\",\"\",IF(R1207<5,INT((A1207-1)/Einstellung!$B$4)+1,\"\"))","v":""},""]
[null,null,null,null,null,null,null,null,null,null,null,null,null,null,null,null,null,"",{"$f":"IF(B1208=\"\",\"\",IF(R1208<5,INT((A1208-1)/Einstellung!$B$4)+1,\"\"))","v":""},""]
[null,null,null,null,null,null,null,null,null,null,null,null,null,null,null,null,null,"",{"$f":"IF(B1209=\"\",\"\",IF(R1209<5,INT((A1209-1)/Einstellung!$B$4)+1,\"\"))","v":""},""]
[null,null,null,null,null,null,null,null,null,null,null,null,null,null,null,null,null,"",{"$f":"IF(B1210=\"\",\"\",IF(R1210<5,INT((A1210-1)/Einstellung!$B$4)+1,\"\"))","v":""},""]
[null,null,null,null,null,null,null,null,null,null,null,null,null,null,null,null,null,"",{"$f":"IF(B1211=\"\",\"\",IF(R1211<5,INT((A1211-1)/Einstellung!$B$4)+1,\"\"))","v":""},""]
[null,null,null,null,null,null,null,null,null,null,null,null,null,null,null,null,null,"",{"$f":"IF(B1212=\"\",\"\",IF(R1212<5,INT((A1212-1)/Einstellung!$B$4)+1,\"\"))","v":""},""]
[null,null,null,null,null,null,null,null,null,null,null,null,null,null,null,null,null,"",{"$f":"IF(B1213=\"\",\"\",IF(R1213<5,INT((A1213-1)/Einstellung!$B$4)+1,\"\"))","v":""},""]
[null,null,null,null,null,null,null,null,null,null,null,null,null,null,null,null,null,"",{"$f":"IF(B1214=\"\",\"\",IF(R1214<5,INT((A1214-1)/Einstellung!$B$4)+1,\"\"))","v":""},""]
[null,null,null,null,null,null,null,null,null,null,null,null,null,null,null,null,null,"",{"$f":"IF(B1215=\"\",\"\",IF(R1215<5,INT((A1215-1)/Einstellung!$B$4)+1,\"\"))","v":""},""]
[null,null,null,null,null,null,null,null,null,null,null,null,null,null,null,null,null,"",{"$f":"IF(B1216=\"\",\"\",IF(R1216<5,INT((A1216-1)/Einstellung!$B$4)+1,\"\"))","v":""},""]
[null,null,null,null,null,null,null,null,null,null,null,null,null,null,null,null,null,"",{"$f":"IF(B1217=\"\",\"\",IF(R1217<5,INT((A1217-1)/Einstellung!$B$4)+1,\"\"))","v":""},""]
[null,null,null,null,null,null,null,null,null,null,null,null,null,null,null,null,null,"",{"$f":"IF(B1218=\"\",\"\",IF(R1218<5,INT((A1218-1)/Einstellung!$B$4)+1,\"\"))","v":""},""]
[null,null,null,null,null,null,null,null,null,null,null,null,null,null,null,null,null,"",{"$f":"IF(B1219=\"\",\"\",IF(R1219<5,INT((A1219-1)/Einstellung!$B$4)+1,\"\"))","v":""},""]
[null,null,null,null,null,null,null,null,null,null,null,null,null,null,null,null,null,"",{"$f":"IF(B1220=\"\",\"\",IF(R1220<5,INT((A1220-1)/Einstellung!$B$4)+1,\"\"))","v":""},""]
[null,null,null,null,null,null,null,null,null,null,null,null,null,null,null,null,null,"",{"$f":"IF(B1221=\"\",\"\",IF(R1221<5,INT((A1221-1)/Einstellung!$B$4)+1,\"\"))","v":""},""]
[null,null,null,null,null,null,null,null,null,null,null,null,null,null,null,null,null,"",{"$f":"IF(B1222=\"\",\"\",IF(R1222<5,INT((A1222-1)/Einstellung!$B$4)+1,\"\"))","v":""},""]
[null,null,null,null,null,null,null,null,null,null,null,null,null,null,null,null,null,"",{"$f":"IF(B1223=\"\",\"\",IF(R1223<5,INT((A1223-1)/Einstellung!$B$4)+1,\"\"))","v":""},""]
[null,null,null,null,null,null,null,null,null,null,null,null,null,null,null,null,null,{"$f":"IF(B1224=\"\",\"\",16-((MID(B$1,1,1)=MID(B1224,1,1))+(MID(C$1,1,1)=MID(C1224,1,1))+(MID(D$1,1,1)=MID(D1224,1,1))+(MID(E$1,1,1)=MID(E1224,1,1))+(MID(F$1,1,1)=MID(F1224,1,1))+(MID(G$1,1,1)=MID(G1224,1,1))+(MID(H$1,1,1)=MID(H1224,1,1))+(MID(I$1,1,1)=MID(I1224,1,1))+(MID(J$1,1,1)=MID(J1224,1,1))+(MID(K$1,1,1)=MID(K1224,1,1))+(MID(L$1,1,1)=MID(L1224,1,1))+(MID(M$1,1,1)=MID(M1224,1,1))+(MID(N$1,1,1)=MID(N1224,1,1))+(MID(O$1,1,1)=MID(O1224,1,1))+(MID(P$1,1,1)=MID(P1224,1,1)))-B$4+C$5)","v":""},{"$f":"IF(B1224=\"\",\"\",IF(R1224<5,INT((A1224-1)/Einstellung!$B$4)+1,\"\"))","v":""},{"$f":"IF(C$5<B$4,\"\",IF(R1224>4,\"\",OFFSET(T$2,R1224-1,0)))","v":""}]
[null,null,null,null,null,null,null,null,null,null,null,null,null,null,null,null,null,"",{"$f":"IF(B1225=\"\",\"\",IF(R1225<5,INT((A1225-1)/Einstellung!$B$4)+1,\"\"))","v":""},""]
[null,null,null,null,null,null,null,null,null,null,null,null,null,null,null,null,null,"",{"$f":"IF(B1226=\"\",\"\",IF(R1226<5,INT((A1226-1)/Einstellung!$B$4)+1,\"\"))","v":""},""]
[null,null,null,null,null,null,null,null,null,null,null,null,null,null,null,null,null,"",{"$f":"IF(B1227=\"\",\"\",IF(R1227<5,INT((A1227-1)/Einstellung!$B$4)+1,\"\"))","v":""},""]
[null,null,null,null,null,null,null,null,null,null,null,null,null,null,null,null,null,"",{"$f":"IF(B1228=\"\",\"\",IF(R1228<5,INT((A1228-1)/Einstellung!$B$4)+1,\"\"))","v":""},""]
[null,null,null,null,null,null,null,null,null,null,null,null,null,null,null,null,null,"",{"$f":"IF(B1229=\"\",\"\",IF(R1229<5,INT((A1229-1)/Einstellung!$B$4)+1,\"\"))","v":""},""]
[null,null,null,null,null,null,null,null,null,null,null,null,null,null,null,null,null,"",{"$f":"IF(B1230=\"\",\"\",IF(R1230<5,INT((A1230-1)/Einstellung!$B$4)+1,\"\"))","v":""},""]
[null,null,null,null,null,null,null,null,null,null,null,null,null,null,null,null,null,"",{"$f":"IF(B1231=\"\",\"\",IF(R1231<5,INT((A1231-1)/Einstellung!$B$4)+1,\"\"))","v":""},""]
[null,null,null,null,null,null,null,null,null,null,null,null,null,null,null,null,null,"",{"$f":"IF(B1232=\"\",\"\",IF(R1232<5,INT((A1232-1)/Einstellung!$B$4)+1,\"\"))","v":""},""]
[null,null,null,null,null,null,null,null,null,null,null,null,null,null,null,null,null,"",{"$f":"IF(B1233=\"\",\"\",IF(R1233<5,INT((A1233-1)/Einstellung!$B$4)+1,\"\"))","v":""},""]
[null,null,null,null,null,null,null,null,null,null,null,null,null,null,null,null,null,"",{"$f":"IF(B1234=\"\",\"\",IF(R1234<5,INT((A1234-1)/Einstellung!$B$4)+1,\"\"))","v":""},""]
[null,null,null,null,null,null,null,null,null,null,null,null,null,null,null,null,null,"",{"$f":"IF(B1235=\"\",\"\",IF(R1235<5,INT((A1235-1)/Einstellung!$B$4)+1,\"\"))","v":""},""]
[null,null,null,null,null,null,null,null,null,null,null,null,null,null,null,null,null,"",{"$f":"IF(B1236=\"\",\"\",IF(R1236<5,INT((A1236-1)/Einstellung!$B$4)+1,\"\"))","v":""},""]
[null,null,null,null,null,null,null,null,null,null,null,null,null,null,null,null,null,"",{"$f":"IF(B1237=\"\",\"\",IF(R1237<5,INT((A1237-1)/Einstellung!$B$4)+1,\"\"))","v":""},""]
[null,null,null,null,null,null,null,null,null,null,null,null,null,null,null,null,null,"",{"$f":"IF(B1238=\"\",\"\",IF(R1238<5,INT((A1238-1)/Einstellung!$B$4)+1,\"\"))","v":""},""]
[null,null,null,null,null,null,null,null,null,null,null,null,null,null,null,null,null,"",{"$f":"IF(B1239=\"\",\"\",IF(R1239<5,INT((A1239-1)/Einstellung!$B$4)+1,\"\"))","v":""},""]
[null,null,null,null,null,null,null,null,null,null,null,null,null,null,null,null,null,"",{"$f":"IF(B1240=\"\",\"\",IF(R1240<5,INT((A1240-1)/Einstellung!$B$4)+1,\"\"))","v":""},""]
[null,null,null,null,null,null,null,null,null,null,null,null,null,null,null,null,null,"",{"$f":"IF(B1241=\"\",\"\",IF(R1241<5,INT((A1241-1)/Einstellung!$B$4)+1,\"\"))","v":""},""]
[null,null,null,null,null,null,null,null,null,null,null,null,null,null,null,null,null,"",{"$f":"IF(B1242=\"\",\"\",IF(R1242<5,INT((A1242-1)/Einstellung!$B$4)+1,\"\"))","v":""},""]
[null,null,null,null,null,null,null,null,null,null,null,null,null,null,null,null,null,"",{"$f":"IF(B1243=\"\",\"\",IF(R1243<5,INT((A1243-1)/Einstellung!$B$4)+1,\"\"))","v":""},""]
[null,null,null,null,null,null,null,null,null,null,null,null,null,null,null,null,null,"",{"$f":"IF(B1244=\"\",\"\",IF(R1244<5,INT((A1244-1)/Einstellung!$B$4)+1,\"\"))","v":""},""]
[null,null,null,null,null,null,null,null,null,null,null,null,null,null,null,null,null,"",{"$f":"IF(B1245=\"\",\"\",IF(R1245<5,INT((A1245-1)/Einstellung!$B$4)+1,\"\"))","v":""},""]
[null,null,null,null,null,null,null,null,null,null,null,null,null,null,null,null,null,"",{"$f":"IF(B1246=\"\",\"\",IF(R1246<5,INT((A1246-1)/Einstellung!$B$4)+1,\"\"))","v":""},""]
[null,null,null,null,null,null,null,null,null,null,null,null,null,null,null,null,null,"",{"$f":"IF(B1247=\"\",\"\",IF(R1247<5,INT((A1247-1)/Einstellung!$B$4)+1,\"\"))","v":""},""]
[null,null,null,null,null,null,null,null,null,null,null,null,null,null,null,null,null,"",{"$f":"IF(B1248=\"\",\"\",IF(R1248<5,INT((A1248-1)/Einstellung!$B$4)+1,\"\"))","v":""},""]
[null,null,null,null,null,null,null,null,null,null,null,null,null,null,null,null,null,"",{"$f":"IF(B1249=\"\",\"\",IF(R1249<5,INT((A1249-1)/Einstellung!$B$4)+1,\"\"))","v":""},""]
[null,null,null,null,null,null,null,null,null,null,null,null,null,null,null,null,null,"",{"$f":"IF(B1250=\"\",\"\",IF(R1250<5,INT((A1250-1)/Einstellung!$B$4)+1,\"\"))","v":""},""]
[null,null,null,null,null,null,null,null,null,null,null,null,null,null,null,null,null,"",{"$f":"IF(B1251=\"\",\"\",IF(R1251<5,INT((A1251-1)/Einstellung!$B$4)+1,\"\"))","v":""},""]
[null,null,null,null,null,null,null,null,null,null,null,null,null,null,null,null,null,"",{"$f":"IF(B1252=\"\",\"\",IF(R1252<5,INT((A1252-1)/Einstellung!$B$4)+1,\"\"))","v":""},""]
[null,null,null,null,null,null,null,null,null,null,null,null,null,null,null,null,null,"",{"$f":"IF(B1253=\"\",\"\",IF(R1253<5,INT((A1253-1)/Einstellung!$B$4)+1,\"\"))","v":""},""]
[null,null,null,null,null,null,null,null,null,null,null,null,null,null,null,null,null,"",{"$f":"IF(B1254=\"\",\"\",IF(R1254<5,INT((A1254-1)/Einstellung!$B$4)+1,\"\"))","v":""},""]
[null,null,null,null,null,null,null,null,null,null,null,null,null,null,null,null,null,"",{"$f":"IF(B1255=\"\",\"\",IF(R1255<5,INT((A1255-1)/Einstellung!$B$4)+1,\"\"))","v":""},""]
[null,null,null,null,null,null,null,null,null,null,null,null,null,null,null,null,null,"",{"$f":"IF(B1256=\"\",\"\",IF(R1256<5,INT((A1256-1)/Einstellung!$B$4)+1,\"\"))","v":""},""]
[null,null,null,null,null,null,null,null,null,null,null,null,null,null,null,null,null,"",{"$f":"IF(B1257=\"\",\"\",IF(R1257<5,INT((A1257-1)/Einstellung!$B$4)+1,\"\"))","v":""},""]
[null,null,null,null,null,null,null,null,null,null,null,null,null,null,null,null,null,"",{"$f":"IF(B1258=\"\",\"\",IF(R1258<5,INT((A1258-1)/Einstellung!$B$4)+1,\"\"))","v":""},""]
[null,null,null,null,null,null,null,null,null,null,null,null,null,null,null,null,null,"",{"$f":"IF(B1259=\"\",\"\",IF(R1259<5,INT((A1259-1)/Einstellung!$B$4)+1,\"\"))","v":""},""]
[null,null,null,null,null,null,null,null,null,null,null,null,null,null,null,null,null,"",{"$f":"IF(B1260=\"\",\"\",IF(R1260<5,INT((A1260-1)/Einstellung!$B$4)+1,\"\"))","v":""},""]
[null,null,null,null,null,null,null,null,null,null,null,null,null,null,null,null,null,"",{"$f":"IF(B1261=\"\",\"\",IF(R1261<5,INT((A1261-1)/Einstellung!$B$4)+1,\"\"))","v":""},""]
[null,null,null,null,null,null,null,null,null,null,null,null,null,null,null,null,null,"",{"$f":"IF(B1262=\"\",\"\",IF(R1262<5,INT((A1262-1)/Einstellung!$B$4)+1,\"\"))","v":""},""]
[null,null,null,null,null,null,null,null,null,null,null,null,null,null,null,null,null,"",{"$f":"IF(B1263=\"\",\"\",IF(R1263<5,INT((A1263-1)/Einstellung!$B$4)+1,\"\"))","v":""},""]
[null,null,null,null,null,null,null,null,null,null,null,null,null,null,null,null,null,"",{"$f":"IF(B1264=\"\",\"\",IF(R1264<5,INT((A1264-1)/Einstellung!$B$4)+1,\"\"))","v":""},""]
[null,null,null,null,null,null,null,null,null,null,null,null,null,null,null,null,null,"",{"$f":"IF(B1265=\"\",\"\",IF(R1265<5,INT((A1265-1)/Einstellung!$B$4)+1,\"\"))","v":""},""]
[null,null,null,null,null,null,null,null,null,null,null,null,null,null,null,null,null,"",{"$f":"IF(B1266=\"\",\"\",IF(R1266<5,INT((A1266-1)/Einstellung!$B$4)+1,\"\"))","v":""},""]
[null,null,null,null,null,null,null,null,null,null,null,null,null,null,null,null,null,"",{"$f":"IF(B1267=\"\",\"\",IF(R1267<5,INT((A1267-1)/Einstellung!$B$4)+1,\"\"))","v":""},""]
[null,null,null,null,null,null,null,null,null,null,null,null,null,null,null,null,null,"",{"$f":"IF(B1268=\"\",\"\",IF(R1268<5,INT((A1268-1)/Einstellung!$B$4)+1,\"\"))","v":""},""]
[null,null,null,null,null,null,null,null,null,null,null,null,null,null,null,null,null,"",{"$f":"IF(B1269=\"\",\"\",IF(R1269<5,INT((A1269-1)/Einstellung!$B$4)+1,\"\"))","v":""},""]
[null,null,null,null,null,null,null,null,null,null,null,null,null,null,null,null,null,"",{"$f":"IF(B1270=\"\",\"\",IF(R1270<5,INT((A1270-1)/Einstellung!$B$4)+1,\"\"))","v":""},""]
[null,null,null,null,null,null,null,null,null,null,null,null,null,null,null,null,null,"",{"$f":"IF(B1271=\"\",\"\",IF(R1271<5,INT((A1271-1)/Einstellung!$B$4)+1,\"\"))","v":""},""]
[null,null,null,null,null,null,null,null,null,null,null,null,null,null,null,null,null,"",{"$f":"IF(B1272=\"\",\"\",IF(R1272<5,INT((A1272-1)/Einstellung!$B$4)+1,\"\"))","v":""},""]
[null,null,null,null,null,null,null,null,null,null,null,null,null,null,null,null,null,"",{"$f":"IF(B1273=\"\",\"\",IF(R1273<5,INT((A1273-1)/Einstellung!$B$4)+1,\"\"))","v":""},""]
[null,null,null,null,null,null,null,null,null,null,null,null,null,null,null,null,null,"",{"$f":"IF(B1274=\"\",\"\",IF(R1274<5,INT((A1274-1)/Einstellung!$B$4)+1,\"\"))","v":""},""]
[null,null,null,null,null,null,null,null,null,null,null,null,null,null,null,null,null,"",{"$f":"IF(B1275=\"\",\"\",IF(R1275<5,INT((A1275-1)/Einstellung!$B$4)+1,\"\"))","v":""},""]
[null,null,null,null,null,null,null,null,null,null,null,null,null,null,null,null,null,"",{"$f":"IF(B1276=\"\",\"\",IF(R1276<5,INT((A1276-1)/Einstellung!$B$4)+1,\"\"))","v":""},""]
[null,null,null,null,null,null,null,null,null,null,null,null,null,null,null,null,null,"",{"$f":"IF(B1277=\"\",\"\",IF(R1277<5,INT((A1277-1)/Einstellung!$B$4)+1,\"\"))","v":""},""]
[null,null,null,null,null,null,null,null,null,null,null,null,null,null,null,null,null,"",{"$f":"IF(B1278=\"\",\"\",IF(R1278<5,INT((A1278-1)/Einstellung!$B$4)+1,\"\"))","v":""},""]
[null,null,null,null,null,null,null,null,null,null,null,null,null,null,null,null,null,"",{"$f":"IF(B1279=\"\",\"\",IF(R1279<5,INT((A1279-1)/Einstellung!$B$4)+1,\"\"))","v":""},""]
[null,null,null,null,null,null,null,null,null,null,null,null,null,null,null,null,null,"",{"$f":"IF(B1280=\"\",\"\",IF(R1280<5,INT((A1280-1)/Einstellung!$B$4)+1,\"\"))","v":""},""]
[null,null,null,null,null,null,null,null,null,null,null,null,null,null,null,null,null,"",{"$f":"IF(B1281=\"\",\"\",IF(R1281<5,INT((A1281-1)/Einstellung!$B$4)+1,\"\"))","v":""},""]
[null,null,null,null,null,null,null,null,null,null,null,null,null,null,null,null,null,"",{"$f":"IF(B1282=\"\",\"\",IF(R1282<5,INT((A1282-1)/Einstellung!$B$4)+1,\"\"))","v":""},""]
[null,null,null,null,null,null,null,null,null,null,null,null,null,null,null,null,null,"",{"$f":"IF(B1283=\"\",\"\",IF(R1283<5,INT((A1283-1)/Einstellung!$B$4)+1,\"\"))","v":""},""]
[null,null,null,null,null,null,null,null,null,null,null,null,null,null,null,null,null,"",{"$f":"IF(B1284=\"\",\"\",IF(R1284<5,INT((A1284-1)/Einstellung!$B$4)+1,\"\"))","v":""},""]
[null,null,null,null,null,null,null,null,null,null,null,null,null,null,null,null,null,"",{"$f":"IF(B1285=\"\",\"\",IF(R1285<5,INT((A1285-1)/Einstellung!$B$4)+1,\"\"))","v":""},""]
[null,null,null,null,null,null,null,null,null,null,null,null,null,null,null,null,null,"",{"$f":"IF(B1286=\"\",\"\",IF(R1286<5,INT((A1286-1)/Einstellung!$B$4)+1,\"\"))","v":""},""]
[null,null,null,null,null,null,null,null,null,null,null,null,null,null,null,null,null,"",{"$f":"IF(B1287=\"\",\"\",IF(R1287<5,INT((A1287-1)/Einstellung!$B$4)+1,\"\"))","v":""},""]
[null,null,null,null,null,null,null,null,null,null,null,null,null,null,null,null,null,{"$f":"IF(B1288=\"\",\"\",16-((MID(B$1,1,1)=MID(B1288,1,1))+(MID(C$1,1,1)=MID(C1288,1,1))+(MID(D$1,1,1)=MID(D1288,1,1))+(MID(E$1,1,1)=MID(E1288,1,1))+(MID(F$1,1,1)=MID(F1288,1,1))+(MID(G$1,1,1)=MID(G1288,1,1))+(MID(H$1,1,1)=MID(H1288,1,1))+(MID(I$1,1,1)=MID(I1288,1,1))+(MID(J$1,1,1)=MID(J1288,1,1))+(MID(K$1,1,1)=MID(K1288,1,1))+(MID(L$1,1,1)=MID(L1288,1,1))+(MID(M$1,1,1)=MID(M1288,1,1))+(MID(N$1,1,1)=MID(N1288,1,1))+(MID(O$1,1,1)=MID(O1288,1,1))+(MID(P$1,1,1)=MID(P1288,1,1)))-B$4+C$5)","v":""},{"$f":"IF(B1288=\"\",\"\",IF(R1288<5,INT((A1288-1)/Einstellung!$B$4)+1,\"\"))","v":""},{"$f":"IF(C$5<B$4,\"\",IF(R1288>4,\"\",OFFSET(T$2,R1288-1,0)))","v":""}]
[null,null,null,null,null,null,null,null,null,null,null,null,null,null,null,null,null,"",{"$f":"IF(B1289=\"\",\"\",IF(R1289<5,INT((A1289-1)/Einstellung!$B$4)+1,\"\"))","v":""},""]
[null,null,null,null,null,null,null,null,null,null,null,null,null,null,null,null,null,"",{"$f":"IF(B1290=\"\",\"\",IF(R1290<5,INT((A1290-1)/Einstellung!$B$4)+1,\"\"))","v":""},""]
[null,null,null,null,null,null,null,null,null,null,null,null,null,null,null,null,null,"",{"$f":"IF(B1291=\"\",\"\",IF(R1291<5,INT((A1291-1)/Einstellung!$B$4)+1,\"\"))","v":""},""]
[null,null,null,null,null,null,null,null,null,null,null,null,null,null,null,null,null,"",{"$f":"IF(B1292=\"\",\"\",IF(R1292<5,INT((A1292-1)/Einstellung!$B$4)+1,\"\"))","v":""},""]
[null,null,null,null,null,null,null,null,null,null,null,null,null,null,null,null,null,"",{"$f":"IF(B1293=\"\",\"\",IF(R1293<5,INT((A1293-1)/Einstellung!$B$4)+1,\"\"))","v":""},""]
[null,null,null,null,null,null,null,null,null,null,null,null,null,null,null,null,null,"",{"$f":"IF(B1294=\"\",\"\",IF(R1294<5,INT((A1294-1)/Einstellung!$B$4)+1,\"\"))","v":""},""]
[null,null,null,null,null,null,null,null,null,null,null,null,null,null,null,null,null,"",{"$f":"IF(B1295=\"\",\"\",IF(R1295<5,INT((A1295-1)/Einstellung!$B$4)+1,\"\"))","v":""},""]
[null,null,null,null,null,null,null,null,null,null,null,null,null,null,null,null,null,"",{"$f":"IF(B1296=\"\",\"\",IF(R1296<5,INT((A1296-1)/Einstellung!$B$4)+1,\"\"))","v":""},""]
[null,null,null,null,null,null,null,null,null,null,null,null,null,null,null,null,null,"",{"$f":"IF(B1297=\"\",\"\",IF(R1297<5,INT((A1297-1)/Einstellung!$B$4)+1,\"\"))","v":""},""]
[null,null,null,null,null,null,null,null,null,null,null,null,null,null,null,null,null,"",{"$f":"IF(B1298=\"\",\"\",IF(R1298<5,INT((A1298-1)/Einstellung!$B$4)+1,\"\"))","v":""},""]
[null,null,null,null,null,null,null,null,null,null,null,null,null,null,null,null,null,"",{"$f":"IF(B1299=\"\",\"\",IF(R1299<5,INT((A1299-1)/Einstellung!$B$4)+1,\"\"))","v":""},""]
[null,null,null,null,null,null,null,null,null,null,null,null,null,null,null,null,null,"",{"$f":"IF(B1300=\"\",\"\",IF(R1300<5,INT((A1300-1)/Einstellung!$B$4)+1,\"\"))","v":""},""]
[null,null,null,null,null,null,null,null,null,null,null,null,null,null,null,null,null,"",{"$f":"IF(B1301=\"\",\"\",IF(R1301<5,INT((A1301-1)/Einstellung!$B$4)+1,\"\"))","v":""},""]
[null,null,null,null,null,null,null,null,null,null,null,null,null,null,null,null,null,"",{"$f":"IF(B1302=\"\",\"\",IF(R1302<5,INT((A1302-1)/Einstellung!$B$4)+1,\"\"))","v":""},""]
[null,null,null,null,null,null,null,null,null,null,null,null,null,null,null,null,null,"",{"$f":"IF(B1303=\"\",\"\",IF(R1303<5,INT((A1303-1)/Einstellung!$B$4)+1,\"\"))","v":""},""]
[null,null,null,null,null,null,null,null,null,null,null,null,null,null,null,null,null,"",{"$f":"IF(B1304=\"\",\"\",IF(R1304<5,INT((A1304-1)/Einstellung!$B$4)+1,\"\"))","v":""},""]
[null,null,null,null,null,null,null,null,null,null,null,null,null,null,null,null,null,"",{"$f":"IF(B1305=\"\",\"\",IF(R1305<5,INT((A1305-1)/Einstellung!$B$4)+1,\"\"))","v":""},""]
[null,null,null,null,null,null,null,null,null,null,null,null,null,null,null,null,null,"",{"$f":"IF(B1306=\"\",\"\",IF(R1306<5,INT((A1306-1)/Einstellung!$B$4)+1,\"\"))","v":""},""]
[null,null,null,null,null,null,null,null,null,null,null,null,null,null,null,null,null,"",{"$f":"IF(B1307=\"\",\"\",IF(R1307<5,INT((A1307-1)/Einstellung!$B$4)+1,\"\"))","v":""},""]
[null,null,null,null,null,null,null,null,null,null,null,null,null,null,null,null,null,"",{"$f":"IF(B1308=\"\",\"\",IF(R1308<5,INT((A1308-1)/Einstellung!$B$4)+1,\"\"))","v":""},""]
[null,null,null,null,null,null,null,null,null,null,null,null,null,null,null,null,null,"",{"$f":"IF(B1309=\"\",\"\",IF(R1309<5,INT((A1309-1)/Einstellung!$B$4)+1,\"\"))","v":""},""]
[null,null,null,null,null,null,null,null,null,null,null,null,null,null,null,null,null,"",{"$f":"IF(B1310=\"\",\"\",IF(R1310<5,INT((A1310-1)/Einstellung!$B$4)+1,\"\"))","v":""},""]
[null,null,null,null,null,null,null,null,null,null,null,null,null,null,null,null,null,"",{"$f":"IF(B1311=\"\",\"\",IF(R1311<5,INT((A1311-1)/Einstellung!$B$4)+1,\"\"))","v":""},""]
[null,null,null,null,null,null,null,null,null,null,null,null,null,null,null,null,null,"",{"$f":"IF(B1312=\"\",\"\",IF(R1312<5,INT((A1312-1)/Einstellung!$B$4)+1,\"\"))","v":""},""]
[null,null,null,null,null,null,null,null,null,null,null,null,null,null,null,null,null,"",{"$f":"IF(B1313=\"\",\"\",IF(R1313<5,INT((A1313-1)/Einstellung!$B$4)+1,\"\"))","v":""},""]
[null,null,null,null,null,null,null,null,null,null,null,null,null,null,null,null,null,"",{"$f":"IF(B1314=\"\",\"\",IF(R1314<5,INT((A1314-1)/Einstellung!$B$4)+1,\"\"))","v":""},""]
[null,null,null,null,null,null,null,null,null,null,null,null,null,null,null,null,null,"",{"$f":"IF(B1315=\"\",\"\",IF(R1315<5,INT((A1315-1)/Einstellung!$B$4)+1,\"\"))","v":""},""]
[null,null,null,null,null,null,null,null,null,null,null,null,null,null,null,null,null,"",{"$f":"IF(B1316=\"\",\"\",IF(R1316<5,INT((A1316-1)/Einstellung!$B$4)+1,\"\"))","v":""},""]
[null,null,null,null,null,null,null,null,null,null,null,null,null,null,null,null,null,"",{"$f":"IF(B1317=\"\",\"\",IF(R1317<5,INT((A1317-1)/Einstellung!$B$4)+1,\"\"))","v":""},""]
[null,null,null,null,null,null,null,null,null,null,null,null,null,null,null,null,null,"",{"$f":"IF(B1318=\"\",\"\",IF(R1318<5,INT((A1318-1)/Einstellung!$B$4)+1,\"\"))","v":""},""]
[null,null,null,null,null,null,null,null,null,null,null,null,null,null,null,null,null,"",{"$f":"IF(B1319=\"\",\"\",IF(R1319<5,INT((A1319-1)/Einstellung!$B$4)+1,\"\"))","v":""},""]
[null,null,null,null,null,null,null,null,null,null,null,null,null,null,null,null,null,"",{"$f":"IF(B1320=\"\",\"\",IF(R1320<5,INT((A1320-1)/Einstellung!$B$4)+1,\"\"))","v":""},""]
[null,null,null,null,null,null,null,null,null,null,null,null,null,null,null,null,null,"",{"$f":"IF(B1321=\"\",\"\",IF(R1321<5,INT((A1321-1)/Einstellung!$B$4)+1,\"\"))","v":""},""]
[null,null,null,null,null,null,null,null,null,null,null,null,null,null,null,null,null,"",{"$f":"IF(B1322=\"\",\"\",IF(R1322<5,INT((A1322-1)/Einstellung!$B$4)+1,\"\"))","v":""},""]
[null,null,null,null,null,null,null,null,null,null,null,null,null,null,null,null,null,"",{"$f":"IF(B1323=\"\",\"\",IF(R1323<5,INT((A1323-1)/Einstellung!$B$4)+1,\"\"))","v":""},""]
[null,null,null,null,null,null,null,null,null,null,null,null,null,null,null,null,null,"",{"$f":"IF(B1324=\"\",\"\",IF(R1324<5,INT((A1324-1)/Einstellung!$B$4)+1,\"\"))","v":""},""]
[null,null,null,null,null,null,null,null,null,null,null,null,null,null,null,null,null,"",{"$f":"IF(B1325=\"\",\"\",IF(R1325<5,INT((A1325-1)/Einstellung!$B$4)+1,\"\"))","v":""},""]
[null,null,null,null,null,null,null,null,null,null,null,null,null,null,null,null,null,"",{"$f":"IF(B1326=\"\",\"\",IF(R1326<5,INT((A1326-1)/Einstellung!$B$4)+1,\"\"))","v":""},""]
[null,null,null,null,null,null,null,null,null,null,null,null,null,null,null,null,null,"",{"$f":"IF(B1327=\"\",\"\",IF(R1327<5,INT((A1327-1)/Einstellung!$B$4)+1,\"\"))","v":""},""]
[null,null,null,null,null,null,null,null,null,null,null,null,null,null,null,null,null,"",{"$f":"IF(B1328=\"\",\"\",IF(R1328<5,INT((A1328-1)/Einstellung!$B$4)+1,\"\"))","v":""},""]
[null,null,null,null,null,null,null,null,null,null,null,null,null,null,null,null,null,"",{"$f":"IF(B1329=\"\",\"\",IF(R1329<5,INT((A1329-1)/Einstellung!$B$4)+1,\"\"))","v":""},""]
[null,null,null,null,null,null,null,null,null,null,null,null,null,null,null,null,null,"",{"$f":"IF(B1330=\"\",\"\",IF(R1330<5,INT((A1330-1)/Einstellung!$B$4)+1,\"\"))","v":""},""]
[null,null,null,null,null,null,null,null,null,null,null,null,null,null,null,null,null,"",{"$f":"IF(B1331=\"\",\"\",IF(R1331<5,INT((A1331-1)/Einstellung!$B$4)+1,\"\"))","v":""},""]
[null,null,null,null,null,null,null,null,null,null,null,null,null,null,null,null,null,"",{"$f":"IF(B1332=\"\",\"\",IF(R1332<5,INT((A1332-1)/Einstellung!$B$4)+1,\"\"))","v":""},""]
[null,null,null,null,null,null,null,null,null,null,null,null,null,null,null,null,null,"",{"$f":"IF(B1333=\"\",\"\",IF(R1333<5,INT((A1333-1)/Einstellung!$B$4)+1,\"\"))","v":""},""]
[null,null,null,null,null,null,null,null,null,null,null,null,null,null,null,null,null,"",{"$f":"IF(B1334=\"\",\"\",IF(R1334<5,INT((A1334-1)/Einstellung!$B$4)+1,\"\"))","v":""},""]
[null,null,null,null,null,null,null,null,null,null,null,null,null,null,null,null,null,"",{"$f":"IF(B1335=\"\",\"\",IF(R1335<5,INT((A1335-1)/Einstellung!$B$4)+1,\"\"))","v":""},""]
[null,null,null,null,null,null,null,null,null,null,null,null,null,null,null,null,null,"",{"$f":"IF(B1336=\"\",\"\",IF(R1336<5,INT((A1336-1)/Einstellung!$B$4)+1,\"\"))","v":""},""]
[null,null,null,null,null,null,null,null,null,null,null,null,null,null,null,null,null,"",{"$f":"IF(B1337=\"\",\"\",IF(R1337<5,INT((A1337-1)/Einstellung!$B$4)+1,\"\"))","v":""},""]
[null,null,null,null,null,null,null,null,null,null,null,null,null,null,null,null,null,"",{"$f":"IF(B1338=\"\",\"\",IF(R1338<5,INT((A1338-1)/Einstellung!$B$4)+1,\"\"))","v":""},""]
[null,null,null,null,null,null,null,null,null,null,null,null,null,null,null,null,null,"",{"$f":"IF(B1339=\"\",\"\",IF(R1339<5,INT((A1339-1)/Einstellung!$B$4)+1,\"\"))","v":""},""]
[null,null,null,null,null,null,null,null,null,null,null,null,null,null,null,null,null,"",{"$f":"IF(B1340=\"\",\"\",IF(R1340<5,INT((A1340-1)/Einstellung!$B$4)+1,\"\"))","v":""},""]
[null,null,null,null,null,null,null,null,null,null,null,null,null,null,null,null,null,"",{"$f":"IF(B1341=\"\",\"\",IF(R1341<5,INT((A1341-1)/Einstellung!$B$4)+1,\"\"))","v":""},""]
[null,null,null,null,null,null,null,null,null,null,null,null,null,null,null,null,null,"",{"$f":"IF(B1342=\"\",\"\",IF(R1342<5,INT((A1342-1)/Einstellung!$B$4)+1,\"\"))","v":""},""]
[null,null,null,null,null,null,null,null,null,null,null,null,null,null,null,null,null,"",{"$f":"IF(B1343=\"\",\"\",IF(R1343<5,INT((A1343-1)/Einstellung!$B$4)+1,\"\"))","v":""},""]
[null,null,null,null,null,null,null,null,null,null,null,null,null,null,null,null,null,"",{"$f":"IF(B1344=\"\",\"\",IF(R1344<5,INT((A1344-1)/Einstellung!$B$4)+1,\"\"))","v":""},""]
[null,null,null,null,null,null,null,null,null,null,null,null,null,null,null,null,null,"",{"$f":"IF(B1345=\"\",\"\",IF(R1345<5,INT((A1345-1)/Einstellung!$B$4)+1,\"\"))","v":""},""]
[null,null,null,null,null,null,null,null,null,null,null,null,null,null,null,null,null,"",{"$f":"IF(B1346=\"\",\"\",IF(R1346<5,INT((A1346-1)/Einstellung!$B$4)+1,\"\"))","v":""},""]
[null,null,null,null,null,null,null,null,null,null,null,null,null,null,null,null,null,"",{"$f":"IF(B1347=\"\",\"\",IF(R1347<5,INT((A1347-1)/Einstellung!$B$4)+1,\"\"))","v":""},""]
[null,null,null,null,null,null,null,null,null,null,null,null,null,null,null,null,null,"",{"$f":"IF(B1348=\"\",\"\",IF(R1348<5,INT((A1348-1)/Einstellung!$B$4)+1,\"\"))","v":""},""]
[null,null,null,null,null,null,null,null,null,null,null,null,null,null,null,null,null,"",{"$f":"IF(B1349=\"\",\"\",IF(R1349<5,INT((A1349-1)/Einstellung!$B$4)+1,\"\"))","v":""},""]
[null,null,null,null,null,null,null,null,null,null,null,null,null,null,null,null,null,"",{"$f":"IF(B1350=\"\",\"\",IF(R1350<5,INT((A1350-1)/Einstellung!$B$4)+1,\"\"))","v":""},""]
[null,null,null,null,null,null,null,null,null,null,null,null,null,null,null,null,null,"",{"$f":"IF(B1351=\"\",\"\",IF(R1351<5,INT((A1351-1)/Einstellung!$B$4)+1,\"\"))","v":""},""]
[null,null,null,null,null,null,null,null,null,null,null,null,null,null,null,null,null,{"$f":"IF(B1352=\"\",\"\",16-((MID(B$1,1,1)=MID(B1352,1,1))+(MID(C$1,1,1)=MID(C1352,1,1))+(MID(D$1,1,1)=MID(D1352,1,1))+(MID(E$1,1,1)=MID(E1352,1,1))+(MID(F$1,1,1)=MID(F1352,1,1))+(MID(G$1,1,1)=MID(G1352,1,1))+(MID(H$1,1,1)=MID(H1352,1,1))+(MID(I$1,1,1)=MID(I1352,1,1))+(MID(J$1,1,1)=MID(J1352,1,1))+(MID(K$1,1,1)=MID(K1352,1,1))+(MID(L$1,1,1)=MID(L1352,1,1))+(MID(M$1,1,1)=MID(M1352,1,1))+(MID(N$1,1,1)=MID(N1352,1,1))+(MID(O$1,1,1)=MID(O1352,1,1))+(MID(P$1,1,1)=MID(P1352,1,1)))-B$4+C$5)","v":""},{"$f":"IF(B1352=\"\",\"\",IF(R1352<5,INT((A1352-1)/Einstellung!$B$4)+1,\"\"))","v":""},{"$f":"IF(C$5<B$4,\"\",IF(R1352>4,\"\",OFFSET(T$2,R1352-1,0)))","v":""}]
[null,null,null,null,null,null,null,null,null,null,null,null,null,null,null,null,null,"",{"$f":"IF(B1353=\"\",\"\",IF(R1353<5,INT((A1353-1)/Einstellung!$B$4)+1,\"\"))","v":""},""]
[null,null,null,null,null,null,null,null,null,null,null,null,null,null,null,null,null,"",{"$f":"IF(B1354=\"\",\"\",IF(R1354<5,INT((A1354-1)/Einstellung!$B$4)+1,\"\"))","v":""},""]
[null,null,null,null,null,null,null,null,null,null,null,null,null,null,null,null,null,"",{"$f":"IF(B1355=\"\",\"\",IF(R1355<5,INT((A1355-1)/Einstellung!$B$4)+1,\"\"))","v":""},""]
[null,null,null,null,null,null,null,null,null,null,null,null,null,null,null,null,null,"",{"$f":"IF(B1356=\"\",\"\",IF(R1356<5,INT((A1356-1)/Einstellung!$B$4)+1,\"\"))","v":""},""]
[null,null,null,null,null,null,null,null,null,null,null,null,null,null,null,null,null,"",{"$f":"IF(B1357=\"\",\"\",IF(R1357<5,INT((A1357-1)/Einstellung!$B$4)+1,\"\"))","v":""},""]
[null,null,null,null,null,null,null,null,null,null,null,null,null,null,null,null,null,"",{"$f":"IF(B1358=\"\",\"\",IF(R1358<5,INT((A1358-1)/Einstellung!$B$4)+1,\"\"))","v":""},""]
[null,null,null,null,null,null,null,null,null,null,null,null,null,null,null,null,null,"",{"$f":"IF(B1359=\"\",\"\",IF(R1359<5,INT((A1359-1)/Einstellung!$B$4)+1,\"\"))","v":""},""]
[null,null,null,null,null,null,null,null,null,null,null,null,null,null,null,null,null,"",{"$f":"IF(B1360=\"\",\"\",IF(R1360<5,INT((A1360-1)/Einstellung!$B$4)+1,\"\"))","v":""},""]
[null,null,null,null,null,null,null,null,null,null,null,null,null,null,null,null,null,"",{"$f":"IF(B1361=\"\",\"\",IF(R1361<5,INT((A1361-1)/Einstellung!$B$4)+1,\"\"))","v":""},""]
[null,null,null,null,null,null,null,null,null,null,null,null,null,null,null,null,null,"",{"$f":"IF(B1362=\"\",\"\",IF(R1362<5,INT((A1362-1)/Einstellung!$B$4)+1,\"\"))","v":""},""]
[null,null,null,null,null,null,null,null,null,null,null,null,null,null,null,null,null,"",{"$f":"IF(B1363=\"\",\"\",IF(R1363<5,INT((A1363-1)/Einstellung!$B$4)+1,\"\"))","v":""},""]
[null,null,null,null,null,null,null,null,null,null,null,null,null,null,null,null,null,"",{"$f":"IF(B1364=\"\",\"\",IF(R1364<5,INT((A1364-1)/Einstellung!$B$4)+1,\"\"))","v":""},""]
[null,null,null,null,null,null,null,null,null,null,null,null,null,null,null,null,null,"",{"$f":"IF(B1365=\"\",\"\",IF(R1365<5,INT((A1365-1)/Einstellung!$B$4)+1,\"\"))","v":""},""]
[null,null,null,null,null,null,null,null,null,null,null,null,null,null,null,null,null,"",{"$f":"IF(B1366=\"\",\"\",IF(R1366<5,INT((A1366-1)/Einstellung!$B$4)+1,\"\"))","v":""},""]
[null,null,null,null,null,null,null,null,null,null,null,null,null,null,null,null,null,"",{"$f":"IF(B1367=\"\",\"\",IF(R1367<5,INT((A1367-1)/Einstellung!$B$4)+1,\"\"))","v":""},""]
[null,null,null,null,null,null,null,null,null,null,null,null,null,null,null,null,null,"",{"$f":"IF(B1368=\"\",\"\",IF(R1368<5,INT((A1368-1)/Einstellung!$B$4)+1,\"\"))","v":""},""]
[null,null,null,null,null,null,null,null,null,null,null,null,null,null,null,null,null,"",{"$f":"IF(B1369=\"\",\"\",IF(R1369<5,INT((A1369-1)/Einstellung!$B$4)+1,\"\"))","v":""},""]
[null,null,null,null,null,null,null,null,null,null,null,null,null,null,null,null,null,"",{"$f":"IF(B1370=\"\",\"\",IF(R1370<5,INT((A1370-1)/Einstellung!$B$4)+1,\"\"))","v":""},""]
[null,null,null,null,null,null,null,null,null,null,null,null,null,null,null,null,null,"",{"$f":"IF(B1371=\"\",\"\",IF(R1371<5,INT((A1371-1)/Einstellung!$B$4)+1,\"\"))","v":""},""]
[null,null,null,null,null,null,null,null,null,null,null,null,null,null,null,null,null,"",{"$f":"IF(B1372=\"\",\"\",IF(R1372<5,INT((A1372-1)/Einstellung!$B$4)+1,\"\"))","v":""},""]
[null,null,null,null,null,null,null,null,null,null,null,null,null,null,null,null,null,"",{"$f":"IF(B1373=\"\",\"\",IF(R1373<5,INT((A1373-1)/Einstellung!$B$4)+1,\"\"))","v":""},""]
[null,null,null,null,null,null,null,null,null,null,null,null,null,null,null,null,null,"",{"$f":"IF(B1374=\"\",\"\",IF(R1374<5,INT((A1374-1)/Einstellung!$B$4)+1,\"\"))","v":""},""]
[null,null,null,null,null,null,null,null,null,null,null,null,null,null,null,null,null,"",{"$f":"IF(B1375=\"\",\"\",IF(R1375<5,INT((A1375-1)/Einstellung!$B$4)+1,\"\"))","v":""},""]
[null,null,null,null,null,null,null,null,null,null,null,null,null,null,null,null,null,"",{"$f":"IF(B1376=\"\",\"\",IF(R1376<5,INT((A1376-1)/Einstellung!$B$4)+1,\"\"))","v":""},""]
[null,null,null,null,null,null,null,null,null,null,null,null,null,null,null,null,null,"",{"$f":"IF(B1377=\"\",\"\",IF(R1377<5,INT((A1377-1)/Einstellung!$B$4)+1,\"\"))","v":""},""]
[null,null,null,null,null,null,null,null,null,null,null,null,null,null,null,null,null,"",{"$f":"IF(B1378=\"\",\"\",IF(R1378<5,INT((A1378-1)/Einstellung!$B$4)+1,\"\"))","v":""},""]
[null,null,null,null,null,null,null,null,null,null,null,null,null,null,null,null,null,"",{"$f":"IF(B1379=\"\",\"\",IF(R1379<5,INT((A1379-1)/Einstellung!$B$4)+1,\"\"))","v":""},""]
[null,null,null,null,null,null,null,null,null,null,null,null,null,null,null,null,null,"",{"$f":"IF(B1380=\"\",\"\",IF(R1380<5,INT((A1380-1)/Einstellung!$B$4)+1,\"\"))","v":""},""]
[null,null,null,null,null,null,null,null,null,null,null,null,null,null,null,null,null,"",{"$f":"IF(B1381=\"\",\"\",IF(R1381<5,INT((A1381-1)/Einstellung!$B$4)+1,\"\"))","v":""},""]
[null,null,null,null,null,null,null,null,null,null,null,null,null,null,null,null,null,"",{"$f":"IF(B1382=\"\",\"\",IF(R1382<5,INT((A1382-1)/Einstellung!$B$4)+1,\"\"))","v":""},""]
[null,null,null,null,null,null,null,null,null,null,null,null,null,null,null,null,null,"",{"$f":"IF(B1383=\"\",\"\",IF(R1383<5,INT((A1383-1)/Einstellung!$B$4)+1,\"\"))","v":""},""]
[null,null,null,null,null,null,null,null,null,null,null,null,null,null,null,null,null,"",{"$f":"IF(B1384=\"\",\"\",IF(R1384<5,INT((A1384-1)/Einstellung!$B$4)+1,\"\"))","v":""},""]
[null,null,null,null,null,null,null,null,null,null,null,null,null,null,null,null,null,"",{"$f":"IF(B1385=\"\",\"\",IF(R1385<5,INT((A1385-1)/Einstellung!$B$4)+1,\"\"))","v":""},""]
[null,null,null,null,null,null,null,null,null,null,null,null,null,null,null,null,null,"",{"$f":"IF(B1386=\"\",\"\",IF(R1386<5,INT((A1386-1)/Einstellung!$B$4)+1,\"\"))","v":""},""]
[null,null,null,null,null,null,null,null,null,null,null,null,null,null,null,null,null,"",{"$f":"IF(B1387=\"\",\"\",IF(R1387<5,INT((A1387-1)/Einstellung!$B$4)+1,\"\"))","v":""},""]
[null,null,null,null,null,null,null,null,null,null,null,null,null,null,null,null,null,"",{"$f":"IF(B1388=\"\",\"\",IF(R1388<5,INT((A1388-1)/Einstellung!$B$4)+1,\"\"))","v":""},""]
[null,null,null,null,null,null,null,null,null,null,null,null,null,null,null,null,null,"",{"$f":"IF(B1389=\"\",\"\",IF(R1389<5,INT((A1389-1)/Einstellung!$B$4)+1,\"\"))","v":""},""]
[null,null,null,null,null,null,null,null,null,null,null,null,null,null,null,null,null,"",{"$f":"IF(B1390=\"\",\"\",IF(R1390<5,INT((A1390-1)/Einstellung!$B$4)+1,\"\"))","v":""},""]
[null,null,null,null,null,null,null,null,null,null,null,null,null,null,null,null,null,"",{"$f":"IF(B1391=\"\",\"\",IF(R1391<5,INT((A1391-1)/Einstellung!$B$4)+1,\"\"))","v":""},""]
[null,null,null,null,null,null,null,null,null,null,null,null,null,null,null,null,null,"",{"$f":"IF(B1392=\"\",\"\",IF(R1392<5,INT((A1392-1)/Einstellung!$B$4)+1,\"\"))","v":""},""]
[null,null,null,null,null,null,null,null,null,null,null,null,null,null,null,null,null,"",{"$f":"IF(B1393=\"\",\"\",IF(R1393<5,INT((A1393-1)/Einstellung!$B$4)+1,\"\"))","v":""},""]
[null,null,null,null,null,null,null,null,null,null,null,null,null,null,null,null,null,"",{"$f":"IF(B1394=\"\",\"\",IF(R1394<5,INT((A1394-1)/Einstellung!$B$4)+1,\"\"))","v":""},""]
[null,null,null,null,null,null,null,null,null,null,null,null,null,null,null,null,null,"",{"$f":"IF(B1395=\"\",\"\",IF(R1395<5,INT((A1395-1)/Einstellung!$B$4)+1,\"\"))","v":""},""]
[null,null,null,null,null,null,null,null,null,null,null,null,null,null,null,null,null,"",{"$f":"IF(B1396=\"\",\"\",IF(R1396<5,INT((A1396-1)/Einstellung!$B$4)+1,\"\"))","v":""},""]
[{"$f":"IF(B1397=\"\",\"\",ROW()-7)","v":""},null,null,null,null,null,null,null,null,null,null,null,null,null,null,null,null,"",{"$f":"IF(B1397=\"\",\"\",IF(R1397<5,INT((A1397-1)/Einstellung!$B$4)+1,\"\"))","v":""},""]
["",null,null,null,null,null,null,null,null,null,null,null,null,null,null,null,null,"",{"$f":"IF(B1398=\"\",\"\",IF(R1398<5,INT((A1398-1)/Einstellung!$B$4)+1,\"\"))","v":""},""]
["",null,null,null,null,null,null,null,null,null,null,null,null,null,null,null,null,"",{"$f":"IF(B1399=\"\",\"\",IF(R1399<5,INT((A1399-1)/Einstellung!$B$4)+1,\"\"))","v":""},""]
["",null,null,null,null,null,null,null,null,null,null,null,null,null,null,null,null,"",{"$f":"IF(B1400=\"\",\"\",IF(R1400<5,INT((A1400-1)/Einstellung!$B$4)+1,\"\"))","v":""},""]
["",null,null,null,null,null,null,null,null,null,null,null,null,null,null,null,null,"",{"$f":"IF(B1401=\"\",\"\",IF(R1401<5,INT((A1401-1)/Einstellung!$B$4)+1,\"\"))","v":""},""]
["",null,null,null,null,null,null,null,null,null,null,null,null,null,null,null,null,"",{"$f":"IF(B1402=\"\",\"\",IF(R1402<5,INT((A1402-1)/Einstellung!$B$4)+1,\"\"))","v":""},""]
["",null,null,null,null,null,null,null,null,null,null,null,null,null,null,null,null,"",{"$f":"IF(B1403=\"\",\"\",IF(R1403<5,INT((A1403-1)/Einstellung!$B$4)+1,\"\"))","v":""},""]
["",null,null,null,null,null,null,null,null,null,null,null,null,null,null,null,null,"",{"$f":"IF(B1404=\"\",\"\",IF(R1404<5,INT((A1404-1)/Einstellung!$B$4)+1,\"\"))","v":""},""]
["",null,null,null,null,null,null,null,null,null,null,null,null,null,null,null,null,"",{"$f":"IF(B1405=\"\",\"\",IF(R1405<5,INT((A1405-1)/Einstellung!$B$4)+1,\"\"))","v":""},""]
["",null,null,null,null,null,null,null,null,null,null,null,null,null,null,null,null,"",{"$f":"IF(B1406=\"\",\"\",IF(R1406<5,INT((A1406-1)/Einstellung!$B$4)+1,\"\"))","v":""},""]
["",null,null,null,null,null,null,null,null,null,null,null,null,null,null,null,null,"",{"$f":"IF(B1407=\"\",\"\",IF(R1407<5,INT((A1407-1)/Einstellung!$B$4)+1,\"\"))","v":""},""]
["",null,null,null,null,null,null,null,null,null,null,null,null,null,null,null,null,"",{"$f":"IF(B1408=\"\",\"\",IF(R1408<5,INT((A1408-1)/Einstellung!$B$4)+1,\"\"))","v":""},""]
["",null,null,null,null,null,null,null,null,null,null,null,null,null,null,null,null,"",{"$f":"IF(B1409=\"\",\"\",IF(R1409<5,INT((A1409-1)/Einstellung!$B$4)+1,\"\"))","v":""},""]
["",null,null,null,null,null,null,null,null,null,null,null,null,null,null,null,null,"",{"$f":"IF(B1410=\"\",\"\",IF(R1410<5,INT((A1410-1)/Einstellung!$B$4)+1,\"\"))","v":""},""]
["",null,null,null,null,null,null,null,null,null,null,null,null,null,null,null,null,"",{"$f":"IF(B1411=\"\",\"\",IF(R1411<5,INT((A1411-1)/Einstellung!$B$4)+1,\"\"))","v":""},""]
["",null,null,null,null,null,null,null,null,null,null,null,null,null,null,null,null,"",{"$f":"IF(B1412=\"\",\"\",IF(R1412<5,INT((A1412-1)/Einstellung!$B$4)+1,\"\"))","v":""},""]
["",null,null,null,null,null,null,null,null,null,null,null,null,null,null,null,null,"",{"$f":"IF(B1413=\"\",\"\",IF(R1413<5,INT((A1413-1)/Einstellung!$B$4)+1,\"\"))","v":""},""]
["",null,null,null,null,null,null,null,null,null,null,null,null,null,null,null,null,"",{"$f":"IF(B1414=\"\",\"\",IF(R1414<5,INT((A1414-1)/Einstellung!$B$4)+1,\"\"))","v":""},""]
["",null,null,null,null,null,null,null,null,null,null,null,null,null,null,null,null,"",{"$f":"IF(B1415=\"\",\"\",IF(R1415<5,INT((A1415-1)/Einstellung!$B$4)+1,\"\"))","v":""},""]
["",null,null,null,null,null,null,null,null,null,null,null,null,null,null,null,null,{"$f":"IF(B1416=\"\",\"\",16-((MID(B$1,1,1)=MID(B1416,1,1))+(MID(C$1,1,1)=MID(C1416,1,1))+(MID(D$1,1,1)=MID(D1416,1,1))+(MID(E$1,1,1)=MID(E1416,1,1))+(MID(F$1,1,1)=MID(F1416,1,1))+(MID(G$1,1,1)=MID(G1416,1,1))+(MID(H$1,1,1)=MID(H1416,1,1))+(MID(I$1,1,1)=MID(I1416,1,1))+(MID(J$1,1,1)=MID(J1416,1,1))+(MID(K$1,1,1)=MID(K1416,1,1))+(MID(L$1,1,1)=MID(L1416,1,1))+(MID(M$1,1,1)=MID(M1416,1,1))+(MID(N$1,1,1)=MID(N1416,1,1))+(MID(O$1,1,1)=MID(O1416,1,1))+(MID(P$1,1,1)=MID(P1416,1,1)))-B$4+C$5)","v":""},{"$f":"IF(B1416=\"\",\"\",IF(R1416<5,INT((A1416-1)/Einstellung!$B$4)+1,\"\"))","v":""},{"$f":"IF(C$5<B$4,\"\",IF(R1416>4,\"\",OFFSET(T$2,R1416-1,0)))","v":""}]
["",null,null,null,null,null,null,null,null,null,null,null,null,null,null,null,null,"",{"$f":"IF(B1417=\"\",\"\",IF(R1417<5,INT((A1417-1)/Einstellung!$B$4)+1,\"\"))","v":""},""]
["",null,null,null,null,null,null,null,null,null,null,null,null,null,null,null,null,"",{"$f":"IF(B1418=\"\",\"\",IF(R1418<5,INT((A1418-1)/Einstellung!$B$4)+1,\"\"))","v":""},""]
["",null,null,null,null,null,null,null,null,null,null,null,null,null,null,null,null,"",{"$f":"IF(B1419=\"\",\"\",IF(R1419<5,INT((A1419-1)/Einstellung!$B$4)+1,\"\"))","v":""},""]
["",null,null,null,null,null,null,null,null,null,null,null,null,null,null,null,null,"",{"$f":"IF(B1420=\"\",\"\",IF(R1420<5,INT((A1420-1)/Einstellung!$B$4)+1,\"\"))","v":""},""]
["",null,null,null,null,null,null,null,null,null,null,null,null,null,null,null,null,"",{"$f":"IF(B1421=\"\",\"\",IF(R1421<5,INT((A1421-1)/Einstellung!$B$4)+1,\"\"))","v":""},""]
["",null,null,null,null,null,null,null,null,null,null,null,null,null,null,null,null,"",{"$f":"IF(B1422=\"\",\"\",IF(R1422<5,INT((A1422-1)/Einstellung!$B$4)+1,\"\"))","v":""},""]
["",null,null,null,null,null,null,null,null,null,null,null,null,null,null,null,null,"",{"$f":"IF(B1423=\"\",\"\",IF(R1423<5,INT((A1423-1)/Einstellung!$B$4)+1,\"\"))","v":""},""]
["",null,null,null,null,null,null,null,null,null,null,null,null,null,null,null,null,"",{"$f":"IF(B1424=\"\",\"\",IF(R1424<5,INT((A1424-1)/Einstellung!$B$4)+1,\"\"))","v":""},""]
["",null,null,null,null,null,null,null,null,null,null,null,null,null,null,null,null,"",{"$f":"IF(B1425=\"\",\"\",IF(R1425<5,INT((A1425-1)/Einstellung!$B$4)+1,\"\"))","v":""},""]
["",null,null,null,null,null,null,null,null,null,null,null,null,null,null,null,null,"",{"$f":"IF(B1426=\"\",\"\",IF(R1426<5,INT((A1426-1)/Einstellung!$B$4)+1,\"\"))","v":""},""]
["",null,null,null,null,null,null,null,null,null,null,null,null,null,null,null,null,"",{"$f":"IF(B1427=\"\",\"\",IF(R1427<5,INT((A1427-1)/Einstellung!$B$4)+1,\"\"))","v":""},""]
["",null,null,null,null,null,null,null,null,null,null,null,null,null,null,null,null,"",{"$f":"IF(B1428=\"\",\"\",IF(R1428<5,INT((A1428-1)/Einstellung!$B$4)+1,\"\"))","v":""},""]
["",null,null,null,null,null,null,null,null,null,null,null,null,null,null,null,null,"",{"$f":"IF(B1429=\"\",\"\",IF(R1429<5,INT((A1429-1)/Einstellung!$B$4)+1,\"\"))","v":""},""]
["",null,null,null,null,null,null,null,null,null,null,null,null,null,null,null,null,"",{"$f":"IF(B1430=\"\",\"\",IF(R1430<5,INT((A1430-1)/Einstellung!$B$4)+1,\"\"))","v":""},""]
["",null,null,null,null,null,null,null,null,null,null,null,null,null,null,null,null,"",{"$f":"IF(B1431=\"\",\"\",IF(R1431<5,INT((A1431-1)/Einstellung!$B$4)+1,\"\"))","v":""},""]
["",null,null,null,null,null,null,null,null,null,null,null,null,null,null,null,null,"",{"$f":"IF(B1432=\"\",\"\",IF(R1432<5,INT((A1432-1)/Einstellung!$B$4)+1,\"\"))","v":""},""]
["",null,null,null,null,null,null,null,null,null,null,null,null,null,null,null,null,"",{"$f":"IF(B1433=\"\",\"\",IF(R1433<5,INT((A1433-1)/Einstellung!$B$4)+1,\"\"))","v":""},""]
["",null,null,null,null,null,null,null,null,null,null,null,null,null,null,null,null,"",{"$f":"IF(B1434=\"\",\"\",IF(R1434<5,INT((A1434-1)/Einstellung!$B$4)+1,\"\"))","v":""},""]
["",null,null,null,null,null,null,null,null,null,null,null,null,null,null,null,null,"",{"$f":"IF(B1435=\"\",\"\",IF(R1435<5,INT((A1435-1)/Einstellung!$B$4)+1,\"\"))","v":""},""]
["",null,null,null,null,null,null,null,null,null,null,null,null,null,null,null,null,"",{"$f":"IF(B1436=\"\",\"\",IF(R1436<5,INT((A1436-1)/Einstellung!$B$4)+1,\"\"))","v":""},""]
["",null,null,null,null,null,null,null,null,null,null,null,null,null,null,null,null,"",{"$f":"IF(B1437=\"\",\"\",IF(R1437<5,INT((A1437-1)/Einstellung!$B$4)+1,\"\"))","v":""},""]
["",null,null,null,null,null,null,null,null,null,null,null,null,null,null,null,null,"",{"$f":"IF(B1438=\"\",\"\",IF(R1438<5,INT((A1438-1)/Einstellung!$B$4)+1,\"\"))","v":""},""]
["",null,null,null,null,null,null,null,null,null,null,null,null,null,null,null,null,"",{"$f":"IF(B1439=\"\",\"\",IF(R1439<5,INT((A1439-1)/Einstellung!$B$4)+1,\"\"))","v":""},""]
["",null,null,null,null,null,null,null,null,null,null,null,null,null,null,null,null,"",{"$f":"IF(B1440=\"\",\"\",IF(R1440<5,INT((A1440-1)/Einstellung!$B$4)+1,\"\"))","v":""},""]
["",null,null,null,null,null,null,null,null,null,null,null,null,null,null,null,null,"",{"$f":"IF(B1441=\"\",\"\",IF(R1441<5,INT((A1441-1)/Einstellung!$B$4)+1,\"\"))","v":""},""]
["",null,null,null,null,null,null,null,null,null,null,null,null,null,null,null,null,"",{"$f":"IF(B1442=\"\",\"\",IF(R1442<5,INT((A1442-1)/Einstellung!$B$4)+1,\"\"))","v":""},""]
["",null,null,null,null,null,null,null,null,null,null,null,null,null,null,null,null,"",{"$f":"IF(B1443=\"\",\"\",IF(R1443<5,INT((A1443-1)/Einstellung!$B$4)+1,\"\"))","v":""},""]
["",null,null,null,null,null,null,null,null,null,null,null,null,null,null,null,null,"",{"$f":"IF(B1444=\"\",\"\",IF(R1444<5,INT((A1444-1)/Einstellung!$B$4)+1,\"\"))","v":""},""]
["",null,null,null,null,null,null,null,null,null,null,null,null,null,null,null,null,"",{"$f":"IF(B1445=\"\",\"\",IF(R1445<5,INT((A1445-1)/Einstellung!$B$4)+1,\"\"))","v":""},""]
["",null,null,null,null,null,null,null,null,null,null,null,null,null,null,null,null,"",{"$f":"IF(B1446=\"\",\"\",IF(R1446<5,INT((A1446-1)/Einstellung!$B$4)+1,\"\"))","v":""},""]
["",null,null,null,null,null,null,null,null,null,null,null,null,null,null,null,null,"",{"$f":"IF(B1447=\"\",\"\",IF(R1447<5,INT((A1447-1)/Einstellung!$B$4)+1,\"\"))","v":""},""]
["",null,null,null,null,null,null,null,null,null,null,null,null,null,null,null,null,"",{"$f":"IF(B1448=\"\",\"\",IF(R1448<5,INT((A1448-1)/Einstellung!$B$4)+1,\"\"))","v":""},""]
["",null,null,null,null,null,null,null,null,null,null,null,null,null,null,null,null,"",{"$f":"IF(B1449=\"\",\"\",IF(R1449<5,INT((A1449-1)/Einstellung!$B$4)+1,\"\"))","v":""},""]
[{"$f":"IF(B1450=\"\",\"\",ROW()-7)","v":""},null,null,null,null,null,null,null,null,null,null,null,null,null,null,null,null,"",{"$f":"IF(B1450=\"\",\"\",IF(R1450<5,INT((A1450-1)/Einstellung!$B$4)+1,\"\"))","v":""},""]
["",null,null,null,null,null,null,null,null,null,null,null,null,null,null,null,null,"",{"$f":"IF(B1451=\"\",\"\",IF(R1451<5,INT((A1451-1)/Einstellung!$B$4)+1,\"\"))","v":""},""]
["",null,null,null,null,null,null,null,null,null,null,null,null,null,null,null,null,"",{"$f":"IF(B1452=\"\",\"\",IF(R1452<5,INT((A1452-1)/Einstellung!$B$4)+1,\"\"))","v":""},""]
["",null,null,null,null,null,null,null,null,null,null,null,null,null,null,null,null,"",{"$f":"IF(B1453=\"\",\"\",IF(R1453<5,INT((A1453-1)/Einstellung!$B$4)+1,\"\"))","v":""},""]
["",null,null,null,null,null,null,null,null,null,null,null,null,null,null,null,null,"",{"$f":"IF(B1454=\"\",\"\",IF(R1454<5,INT((A1454-1)/Einstellung!$B$4)+1,\"\"))","v":""},""]
["",null,null,null,null,null,null,null,null,null,null,null,null,null,null,null,null,"",{"$f":"IF(B1455=\"\",\"\",IF(R1455<5,INT((A1455-1)/Einstellung!$B$4)+1,\"\"))","v":""},""]
["",null,null,null,null,null,null,null,null,null,null,null,null,null,null,null,null,"",{"$f":"IF(B1456=\"\",\"\",IF(R1456<5,INT((A1456-1)/Einstellung!$B$4)+1,\"\"))","v":""},""]
["",null,null,null,null,null,null,null,null,null,null,null,null,null,null,null,null,"",{"$f":"IF(B1457=\"\",\"\",IF(R1457<5,INT((A1457-1)/Einstellung!$B$4)+1,\"\"))","v":""},""]
["",null,null,null,null,null,null,null,null,null,null,null,null,null,null,null,null,"",{"$f":"IF(B1458=\"\",\"\",IF(R1458<5,INT((A1458-1)/Einstellung!$B$4)+1,\"\"))","v":""},""]
["",null,null,null,null,null,null,null,null,null,null,null,null,null,null,null,null,"",{"$f":"IF(B1459=\"\",\"\",IF(R1459<5,INT((A1459-1)/Einstellung!$B$4)+1,\"\"))","v":""},""]
["",null,null,null,null,null,null,null,null,null,null,null,null,null,null,null,null,"",{"$f":"IF(B1460=\"\",\"\",IF(R1460<5,INT((A1460-1)/Einstellung!$B$4)+1,\"\"))","v":""},""]
["",null,null,null,null,null,null,null,null,null,null,null,null,null,null,null,null,"",{"$f":"IF(B1461=\"\",\"\",IF(R1461<5,INT((A1461-1)/Einstellung!$B$4)+1,\"\"))","v":""},""]
["",null,null,null,null,null,null,null,null,null,null,null,null,null,null,null,null,"",{"$f":"IF(B1462=\"\",\"\",IF(R1462<5,INT((A1462-1)/Einstellung!$B$4)+1,\"\"))","v":""},""]
["",null,null,null,null,null,null,null,null,null,null,null,null,null,null,null,null,"",{"$f":"IF(B1463=\"\",\"\",IF(R1463<5,INT((A1463-1)/Einstellung!$B$4)+1,\"\"))","v":""},""]
["",null,null,null,null,null,null,null,null,null,null,null,null,null,null,null,null,"",{"$f":"IF(B1464=\"\",\"\",IF(R1464<5,INT((A1464-1)/Einstellung!$B$4)+1,\"\"))","v":""},""]
["",null,null,null,null,null,null,null,null,null,null,null,null,null,null,null,null,"",{"$f":"IF(B1465=\"\",\"\",IF(R1465<5,INT((A1465-1)/Einstellung!$B$4)+1,\"\"))","v":""},""]
["",null,null,null,null,null,null,null,null,null,null,null,null,null,null,null,null,"",{"$f":"IF(B1466=\"\",\"\",IF(R1466<5,INT((A1466-1)/Einstellung!$B$4)+1,\"\"))","v":""},""]
["",null,null,null,null,null,null,null,null,null,null,null,null,null,null,null,null,"",{"$f":"IF(B1467=\"\",\"\",IF(R1467<5,INT((A1467-1)/Einstellung!$B$4)+1,\"\"))","v":""},""]
["",null,null,null,null,null,null,null,null,null,null,null,null,null,null,null,null,"",{"$f":"IF(B1468=\"\",\"\",IF(R1468<5,INT((A1468-1)/Einstellung!$B$4)+1,\"\"))","v":""},""]
["",null,null,null,null,null,null,null,null,null,null,null,null,null,null,null,null,"",{"$f":"IF(B1469=\"\",\"\",IF(R1469<5,INT((A1469-1)/Einstellung!$B$4)+1,\"\"))","v":""},""]
["",null,null,null,null,null,null,null,null,null,null,null,null,null,null,null,null,"",{"$f":"IF(B1470=\"\",\"\",IF(R1470<5,INT((A1470-1)/Einstellung!$B$4)+1,\"\"))","v":""},""]
["",null,null,null,null,null,null,null,null,null,null,null,null,null,null,null,null,"",{"$f":"IF(B1471=\"\",\"\",IF(R1471<5,INT((A1471-1)/Einstellung!$B$4)+1,\"\"))","v":""},""]
["",null,null,null,null,null,null,null,null,null,null,null,null,null,null,null,null,"",{"$f":"IF(B1472=\"\",\"\",IF(R1472<5,INT((A1472-1)/Einstellung!$B$4)+1,\"\"))","v":""},""]
["",null,null,null,null,null,null,null,null,null,null,null,null,null,null,null,null,"",{"$f":"IF(B1473=\"\",\"\",IF(R1473<5,INT((A1473-1)/Einstellung!$B$4)+1,\"\"))","v":""},""]
["",null,null,null,null,null,null,null,null,null,null,null,null,null,null,null,null,"",{"$f":"IF(B1474=\"\",\"\",IF(R1474<5,INT((A1474-1)/Einstellung!$B$4)+1,\"\"))","v":""},""]
["",null,null,null,null,null,null,null,null,null,null,null,null,null,null,null,null,"",{"$f":"IF(B1475=\"\",\"\",IF(R1475<5,INT((A1475-1)/Einstellung!$B$4)+1,\"\"))","v":""},""]
["",null,null,null,null,null,null,null,null,null,null,null,null,null,null,null,null,"",{"$f":"IF(B1476=\"\",\"\",IF(R1476<5,INT((A1476-1)/Einstellung!$B$4)+1,\"\"))","v":""},""]
["",null,null,null,null,null,null,null,null,null,null,null,null,null,null,null,null,"",{"$f":"IF(B1477=\"\",\"\",IF(R1477<5,INT((A1477-1)/Einstellung!$B$4)+1,\"\"))","v":""},""]
["",null,null,null,null,null,null,null,null,null,null,null,null,null,null,null,null,"",{"$f":"IF(B1478=\"\",\"\",IF(R1478<5,INT((A1478-1)/Einstellung!$B$4)+1,\"\"))","v":""},""]
["",null,null,null,null,null,null,null,null,null,null,null,null,null,null,null,null,"",{"$f":"IF(B1479=\"\",\"\",IF(R1479<5,INT((A1479-1)/Einstellung!$B$4)+1,\"\"))","v":""},""]
["",null,null,null,null,null,null,null,null,null,null,null,null,null,null,null,null,{"$f":"IF(B1480=\"\",\"\",16-((MID(B$1,1,1)=MID(B1480,1,1))+(MID(C$1,1,1)=MID(C1480,1,1))+(MID(D$1,1,1)=MID(D1480,1,1))+(MID(E$1,1,1)=MID(E1480,1,1))+(MID(F$1,1,1)=MID(F1480,1,1))+(MID(G$1,1,1)=MID(G1480,1,1))+(MID(H$1,1,1)=MID(H1480,1,1))+(MID(I$1,1,1)=MID(I1480,1,1))+(MID(J$1,1,1)=MID(J1480,1,1))+(MID(K$1,1,1)=MID(K1480,1,1))+(MID(L$1,1,1)=MID(L1480,1,1))+(MID(M$1,1,1)=MID(M1480,1,1))+(MID(N$1,1,1)=MID(N1480,1,1))+(MID(O$1,1,1)=MID(O1480,1,1))+(MID(P$1,1,1)=MID(P1480,1,1)))-B$4+C$5)","v":""},{"$f":"IF(B1480=\"\",\"\",IF(R1480<5,INT((A1480-1)/Einstellung!$B$4)+1,\"\"))","v":""},{"$f":"IF(C$5<B$4,\"\",IF(R1480>4,\"\",OFFSET(T$2,R1480-1,0)))","v":""}]
["",null,null,null,null,null,null,null,null,null,null,null,null,null,null,null,null,"",{"$f":"IF(B1481=\"\",\"\",IF(R1481<5,INT((A1481-1)/Einstellung!$B$4)+1,\"\"))","v":""},""]
["",null,null,null,null,null,null,null,null,null,null,null,null,null,null,null,null,"",{"$f":"IF(B1482=\"\",\"\",IF(R1482<5,INT((A1482-1)/Einstellung!$B$4)+1,\"\"))","v":""},""]
["",null,null,null,null,null,null,null,null,null,null,null,null,null,null,null,null,"",{"$f":"IF(B1483=\"\",\"\",IF(R1483<5,INT((A1483-1)/Einstellung!$B$4)+1,\"\"))","v":""},""]
["",null,null,null,null,null,null,null,null,null,null,null,null,null,null,null,null,"",{"$f":"IF(B1484=\"\",\"\",IF(R1484<5,INT((A1484-1)/Einstellung!$B$4)+1,\"\"))","v":""},""]
["",null,null,null,null,null,null,null,null,null,null,null,null,null,null,null,null,"",{"$f":"IF(B1485=\"\",\"\",IF(R1485<5,INT((A1485-1)/Einstellung!$B$4)+1,\"\"))","v":""},""]
["",null,null,null,null,null,null,null,null,null,null,null,null,null,null,null,null,"",{"$f":"IF(B1486=\"\",\"\",IF(R1486<5,INT((A1486-1)/Einstellung!$B$4)+1,\"\"))","v":""},""]
["",null,null,null,null,null,null,null,null,null,null,null,null,null,null,null,null,"",{"$f":"IF(B1487=\"\",\"\",IF(R1487<5,INT((A1487-1)/Einstellung!$B$4)+1,\"\"))","v":""},""]
["",null,null,null,null,null,null,null,null,null,null,null,null,null,null,null,null,"",{"$f":"IF(B1488=\"\",\"\",IF(R1488<5,INT((A1488-1)/Einstellung!$B$4)+1,\"\"))","v":""},""]
["",null,null,null,null,null,null,null,null,null,null,null,null,null,null,null,null,"",{"$f":"IF(B1489=\"\",\"\",IF(R1489<5,INT((A1489-1)/Einstellung!$B$4)+1,\"\"))","v":""},""]
["",null,null,null,null,null,null,null,null,null,null,null,null,null,null,null,null,"",{"$f":"IF(B1490=\"\",\"\",IF(R1490<5,INT((A1490-1)/Einstellung!$B$4)+1,\"\"))","v":""},""]
["",null,null,null,null,null,null,null,null,null,null,null,null,null,null,null,null,"",{"$f":"IF(B1491=\"\",\"\",IF(R1491<5,INT((A1491-1)/Einstellung!$B$4)+1,\"\"))","v":""},""]
["",null,null,null,null,null,null,null,null,null,null,null,null,null,null,null,null,"",{"$f":"IF(B1492=\"\",\"\",IF(R1492<5,INT((A1492-1)/Einstellung!$B$4)+1,\"\"))","v":""},""]
["",null,null,null,null,null,null,null,null,null,null,null,null,null,null,null,null,"",{"$f":"IF(B1493=\"\",\"\",IF(R1493<5,INT((A1493-1)/Einstellung!$B$4)+1,\"\"))","v":""},""]
["",null,null,null,null,null,null,null,null,null,null,null,null,null,null,null,null,"",{"$f":"IF(B1494=\"\",\"\",IF(R1494<5,INT((A1494-1)/Einstellung!$B$4)+1,\"\"))","v":""},""]
["",null,null,null,null,null,null,null,null,null,null,null,null,null,null,null,null,"",{"$f":"IF(B1495=\"\",\"\",IF(R1495<5,INT((A1495-1)/Einstellung!$B$4)+1,\"\"))","v":""},""]
["",null,null,null,null,null,null,null,null,null,null,null,null,null,null,null,null,"",{"$f":"IF(B1496=\"\",\"\",IF(R1496<5,INT((A1496-1)/Einstellung!$B$4)+1,\"\"))","v":""},""]
["",null,null,null,null,null,null,null,null,null,null,null,null,null,null,null,null,"",{"$f":"IF(B1497=\"\",\"\",IF(R1497<5,INT((A1497-1)/Einstellung!$B$4)+1,\"\"))","v":""},""]
["",null,null,null,null,null,null,null,null,null,null,null,null,null,null,null,null,"",{"$f":"IF(B1498=\"\",\"\",IF(R1498<5,INT((A1498-1)/Einstellung!$B$4)+1,\"\"))","v":""},""]
["",null,null,null,null,null,null,null,null,null,null,null,null,null,null,null,null,"",{"$f":"IF(B1499=\"\",\"\",IF(R1499<5,INT((A1499-1)/Einstellung!$B$4)+1,\"\"))","v":""},""]
["",null,null,null,null,null,null,null,null,null,null,null,null,null,null,null,null,"",{"$f":"IF(B1500=\"\",\"\",IF(R1500<5,INT((A1500-1)/Einstellung!$B$4)+1,\"\"))","v":""},""]
["",null,null,null,null,null,null,null,null,null,null,null,null,null,null,null,null,"",{"$f":"IF(B1501=\"\",\"\",IF(R1501<5,INT((A1501-1)/Einstellung!$B$4)+1,\"\"))","v":""},""]
["",null,null,null,null,null,null,null,null,null,null,null,null,null,null,null,null,"",{"$f":"IF(B1502=\"\",\"\",IF(R1502<5,INT((A1502-1)/Einstellung!$B$4)+1,\"\"))","v":""},""]
["",null,null,null,null,null,null,null,null,null,null,null,null,null,null,null,null,"",{"$f":"IF(B1503=\"\",\"\",IF(R1503<5,INT((A1503-1)/Einstellung!$B$4)+1,\"\"))","v":""},""]
["",null,null,null,null,null,null,null,null,null,null,null,null,null,null,null,null,"",{"$f":"IF(B1504=\"\",\"\",IF(R1504<5,INT((A1504-1)/Einstellung!$B$4)+1,\"\"))","v":""},""]
["",null,null,null,null,null,null,null,null,null,null,null,null,null,null,null,null,"",{"$f":"IF(B1505=\"\",\"\",IF(R1505<5,INT((A1505-1)/Einstellung!$B$4)+1,\"\"))","v":""},""]
["",null,null,null,null,null,null,null,null,null,null,null,null,null,null,null,null,"",{"$f":"IF(B1506=\"\",\"\",IF(R1506<5,INT((A1506-1)/Einstellung!$B$4)+1,\"\"))","v":""},""]
["",null,null,null,null,null,null,null,null,null,null,null,null,null,null,null,null,"",{"$f":"IF(B1507=\"\",\"\",IF(R1507<5,INT((A1507-1)/Einstellung!$B$4)+1,\"\"))","v":""},""]
["",null,null,null,null,null,null,null,null,null,null,null,null,null,null,null,null,"",{"$f":"IF(B1508=\"\",\"\",IF(R1508<5,INT((A1508-1)/Einstellung!$B$4)+1,\"\"))","v":""},""]
["",null,null,null,null,null,null,null,null,null,null,null,null,null,null,null,null,"",{"$f":"IF(B1509=\"\",\"\",IF(R1509<5,INT((A1509-1)/Einstellung!$B$4)+1,\"\"))","v":""},""]
["",null,null,null,null,null,null,null,null,null,null,null,null,null,null,null,null,"",{"$f":"IF(B1510=\"\",\"\",IF(R1510<5,INT((A1510-1)/Einstellung!$B$4)+1,\"\"))","v":""},""]
["",null,null,null,null,null,null,null,null,null,null,null,null,null,null,null,null,"",{"$f":"IF(B1511=\"\",\"\",IF(R1511<5,INT((A1511-1)/Einstellung!$B$4)+1,\"\"))","v":""},""]
["",null,null,null,null,null,null,null,null,null,null,null,null,null,null,null,null,"",{"$f":"IF(B1512=\"\",\"\",IF(R1512<5,INT((A1512-1)/Einstellung!$B$4)+1,\"\"))","v":""},""]
["",null,null,null,null,null,null,null,null,null,null,null,null,null,null,null,null,"",{"$f":"IF(B1513=\"\",\"\",IF(R1513<5,INT((A1513-1)/Einstellung!$B$4)+1,\"\"))","v":""},""]
[{"$f":"IF(B1514=\"\",\"\",ROW()-7)","v":""},null,null,null,null,null,null,null,null,null,null,null,null,null,null,null,null,"",{"$f":"IF(B1514=\"\",\"\",IF(R1514<5,INT((A1514-1)/Einstellung!$B$4)+1,\"\"))","v":""},""]
["",null,null,null,null,null,null,null,null,null,null,null,null,null,null,null,null,"",{"$f":"IF(B1515=\"\",\"\",IF(R1515<5,INT((A1515-1)/Einstellung!$B$4)+1,\"\"))","v":""},""]
["",null,null,null,null,null,null,null,null,null,null,null,null,null,null,null,null,"",{"$f":"IF(B1516=\"\",\"\",IF(R1516<5,INT((A1516-1)/Einstellung!$B$4)+1,\"\"))","v":""},""]
["",null,null,null,null,null,null,null,null,null,null,null,null,null,null,null,null,"",{"$f":"IF(B1517=\"\",\"\",IF(R1517<5,INT((A1517-1)/Einstellung!$B$4)+1,\"\"))","v":""},""]
["",null,null,null,null,null,null,null,null,null,null,null,null,null,null,null,null,"",{"$f":"IF(B1518=\"\",\"\",IF(R1518<5,INT((A1518-1)/Einstellung!$B$4)+1,\"\"))","v":""},""]
["",null,null,null,null,null,null,null,null,null,null,null,null,null,null,null,null,"",{"$f":"IF(B1519=\"\",\"\",IF(R1519<5,INT((A1519-1)/Einstellung!$B$4)+1,\"\"))","v":""},""]
["",null,null,null,null,null,null,null,null,null,null,null,null,null,null,null,null,"",{"$f":"IF(B1520=\"\",\"\",IF(R1520<5,INT((A1520-1)/Einstellung!$B$4)+1,\"\"))","v":""},""]
["",null,null,null,null,null,null,null,null,null,null,null,null,null,null,null,null,"",{"$f":"IF(B1521=\"\",\"\",IF(R1521<5,INT((A1521-1)/Einstellung!$B$4)+1,\"\"))","v":""},""]
["",null,null,null,null,null,null,null,null,null,null,null,null,null,null,null,null,"",{"$f":"IF(B1522=\"\",\"\",IF(R1522<5,INT((A1522-1)/Einstellung!$B$4)+1,\"\"))","v":""},""]
["",null,null,null,null,null,null,null,null,null,null,null,null,null,null,null,null,"",{"$f":"IF(B1523=\"\",\"\",IF(R1523<5,INT((A1523-1)/Einstellung!$B$4)+1,\"\"))","v":""},""]
["",null,null,null,null,null,null,null,null,null,null,null,null,null,null,null,null,"",{"$f":"IF(B1524=\"\",\"\",IF(R1524<5,INT((A1524-1)/Einstellung!$B$4)+1,\"\"))","v":""},""]
["",null,null,null,null,null,null,null,null,null,null,null,null,null,null,null,null,"",{"$f":"IF(B1525=\"\",\"\",IF(R1525<5,INT((A1525-1)/Einstellung!$B$4)+1,\"\"))","v":""},""]
["",null,null,null,null,null,null,null,null,null,null,null,null,null,null,null,null,"",{"$f":"IF(B1526=\"\",\"\",IF(R1526<5,INT((A1526-1)/Einstellung!$B$4)+1,\"\"))","v":""},""]
["",null,null,null,null,null,null,null,null,null,null,null,null,null,null,null,null,"",{"$f":"IF(B1527=\"\",\"\",IF(R1527<5,INT((A1527-1)/Einstellung!$B$4)+1,\"\"))","v":""},""]
["",null,null,null,null,null,null,null,null,null,null,null,null,null,null,null,null,"",{"$f":"IF(B1528=\"\",\"\",IF(R1528<5,INT((A1528-1)/Einstellung!$B$4)+1,\"\"))","v":""},""]
["",null,null,null,null,null,null,null,null,null,null,null,null,null,null,null,null,"",{"$f":"IF(B1529=\"\",\"\",IF(R1529<5,INT((A1529-1)/Einstellung!$B$4)+1,\"\"))","v":""},""]
["",null,null,null,null,null,null,null,null,null,null,null,null,null,null,null,null,"",{"$f":"IF(B1530=\"\",\"\",IF(R1530<5,INT((A1530-1)/Einstellung!$B$4)+1,\"\"))","v":""},""]
["",null,null,null,null,null,null,null,null,null,null,null,null,null,null,null,null,"",{"$f":"IF(B1531=\"\",\"\",IF(R1531<5,INT((A1531-1)/Einstellung!$B$4)+1,\"\"))","v":""},""]
["",null,null,null,null,null,null,null,null,null,null,null,null,null,null,null,null,"",{"$f":"IF(B1532=\"\",\"\",IF(R1532<5,INT((A1532-1)/Einstellung!$B$4)+1,\"\"))","v":""},""]
["",null,null,null,null,null,null,null,null,null,null,null,null,null,null,null,null,"",{"$f":"IF(B1533=\"\",\"\",IF(R1533<5,INT((A1533-1)/Einstellung!$B$4)+1,\"\"))","v":""},""]
["",null,null,null,null,null,null,null,null,null,null,null,null,null,null,null,null,"",{"$f":"IF(B1534=\"\",\"\",IF(R1534<5,INT((A1534-1)/Einstellung!$B$4)+1,\"\"))","v":""},""]
["",null,null,null,null,null,null,null,null,null,null,null,null,null,null,null,null,"",{"$f":"IF(B1535=\"\",\"\",IF(R1535<5,INT((A1535-1)/Einstellung!$B$4)+1,\"\"))","v":""},""]
["",null,null,null,null,null,null,null,null,null,null,null,null,null,null,null,null,"",{"$f":"IF(B1536=\"\",\"\",IF(R1536<5,INT((A1536-1)/Einstellung!$B$4)+1,\"\"))","v":""},""]
["",null,null,null,null,null,null,null,null,null,null,null,null,null,null,null,null,"",{"$f":"IF(B1537=\"\",\"\",IF(R1537<5,INT((A1537-1)/Einstellung!$B$4)+1,\"\"))","v":""},""]
["",null,null,null,null,null,null,null,null,null,null,null,null,null,null,null,null,"",{"$f":"IF(B1538=\"\",\"\",IF(R1538<5,INT((A1538-1)/Einstellung!$B$4)+1,\"\"))","v":""},""]
["",null,null,null,null,null,null,null,null,null,null,null,null,null,null,null,null,"",{"$f":"IF(B1539=\"\",\"\",IF(R1539<5,INT((A1539-1)/Einstellung!$B$4)+1,\"\"))","v":""},""]
["",null,null,null,null,null,null,null,null,null,null,null,null,null,null,null,null,"",{"$f":"IF(B1540=\"\",\"\",IF(R1540<5,INT((A1540-1)/Einstellung!$B$4)+1,\"\"))","v":""},""]
["",null,null,null,null,null,null,null,null,null,null,null,null,null,null,null,null,"",{"$f":"IF(B1541=\"\",\"\",IF(R1541<5,INT((A1541-1)/Einstellung!$B$4)+1,\"\"))","v":""},""]
["",null,null,null,null,null,null,null,null,null,null,null,null,null,null,null,null,"",{"$f":"IF(B1542=\"\",\"\",IF(R1542<5,INT((A1542-1)/Einstellung!$B$4)+1,\"\"))","v":""},""]
["",null,null,null,null,null,null,null,null,null,null,null,null,null,null,null,null,"",{"$f":"IF(B1543=\"\",\"\",IF(R1543<5,INT((A1543-1)/Einstellung!$B$4)+1,\"\"))","v":""},""]
["",null,null,null,null,null,null,null,null,null,null,null,null,null,null,null,null,{"$f":"IF(B1544=\"\",\"\",16-((MID(B$1,1,1)=MID(B1544,1,1))+(MID(C$1,1,1)=MID(C1544,1,1))+(MID(D$1,1,1)=MID(D1544,1,1))+(MID(E$1,1,1)=MID(E1544,1,1))+(MID(F$1,1,1)=MID(F1544,1,1))+(MID(G$1,1,1)=MID(G1544,1,1))+(MID(H$1,1,1)=MID(H1544,1,1))+(MID(I$1,1,1)=MID(I1544,1,1))+(MID(J$1,1,1)=MID(J1544,1,1))+(MID(K$1,1,1)=MID(K1544,1,1))+(MID(L$1,1,1)=MID(L1544,1,1))+(MID(M$1,1,1)=MID(M1544,1,1))+(MID(N$1,1,1)=MID(N1544,1,1))+(MID(O$1,1,1)=MID(O1544,1,1))+(MID(P$1,1,1)=MID(P1544,1,1)))-B$4+C$5)","v":""},{"$f":"IF(B1544=\"\",\"\",IF(R1544<5,INT((A1544-1)/Einstellung!$B$4)+1,\"\"))","v":""},{"$f":"IF(C$5<B$4,\"\",IF(R1544>4,\"\",OFFSET(T$2,R1544-1,0)))","v":""}]
["",null,null,null,null,null,null,null,null,null,null,null,null,null,null,null,null,"",{"$f":"IF(B1545=\"\",\"\",IF(R1545<5,INT((A1545-1)/Einstellung!$B$4)+1,\"\"))","v":""},""]
["",null,null,null,null,null,null,null,null,null,null,null,null,null,null,null,null,"",{"$f":"IF(B1546=\"\",\"\",IF(R1546<5,INT((A1546-1)/Einstellung!$B$4)+1,\"\"))","v":""},""]
["",null,null,null,null,null,null,null,null,null,null,null,null,null,null,null,null,"",{"$f":"IF(B1547=\"\",\"\",IF(R1547<5,INT((A1547-1)/Einstellung!$B$4)+1,\"\"))","v":""},""]
["",null,null,null,null,null,null,null,null,null,null,null,null,null,null,null,null,"",{"$f":"IF(B1548=\"\",\"\",IF(R1548<5,INT((A1548-1)/Einstellung!$B$4)+1,\"\"))","v":""},""]
["",null,null,null,null,null,null,null,null,null,null,null,null,null,null,null,null,"",{"$f":"IF(B1549=\"\",\"\",IF(R1549<5,INT((A1549-1)/Einstellung!$B$4)+1,\"\"))","v":""},""]
["",null,null,null,null,null,null,null,null,null,null,null,null,null,null,null,null,"",{"$f":"IF(B1550=\"\",\"\",IF(R1550<5,INT((A1550-1)/Einstellung!$B$4)+1,\"\"))","v":""},""]
["",null,null,null,null,null,null,null,null,null,null,null,null,null,null,null,null,"",{"$f":"IF(B1551=\"\",\"\",IF(R1551<5,INT((A1551-1)/Einstellung!$B$4)+1,\"\"))","v":""},""]
["",null,null,null,null,null,null,null,null,null,null,null,null,null,null,null,null,"",{"$f":"IF(B1552=\"\",\"\",IF(R1552<5,INT((A1552-1)/Einstellung!$B$4)+1,\"\"))","v":""},""]
["",null,null,null,null,null,null,null,null,null,null,null,null,null,null,null,null,"",{"$f":"IF(B1553=\"\",\"\",IF(R1553<5,INT((A1553-1)/Einstellung!$B$4)+1,\"\"))","v":""},""]
["",null,null,null,null,null,null,null,null,null,null,null,null,null,null,null,null,"",{"$f":"IF(B1554=\"\",\"\",IF(R1554<5,INT((A1554-1)/Einstellung!$B$4)+1,\"\"))","v":""},""]
["",null,null,null,null,null,null,null,null,null,null,null,null,null,null,null,null,"",{"$f":"IF(B1555=\"\",\"\",IF(R1555<5,INT((A1555-1)/Einstellung!$B$4)+1,\"\"))","v":""},""]
["",null,null,null,null,null,null,null,null,null,null,null,null,null,null,null,null,"",{"$f":"IF(B1556=\"\",\"\",IF(R1556<5,INT((A1556-1)/Einstellung!$B$4)+1,\"\"))","v":""},""]
["",null,null,null,null,null,null,null,null,null,null,null,null,null,null,null,null,"",{"$f":"IF(B1557=\"\",\"\",IF(R1557<5,INT((A1557-1)/Einstellung!$B$4)+1,\"\"))","v":""},""]
["",null,null,null,null,null,null,null,null,null,null,null,null,null,null,null,null,"",{"$f":"IF(B1558=\"\",\"\",IF(R1558<5,INT((A1558-1)/Einstellung!$B$4)+1,\"\"))","v":""},""]
["",null,null,null,null,null,null,null,null,null,null,null,null,null,null,null,null,"",{"$f":"IF(B1559=\"\",\"\",IF(R1559<5,INT((A1559-1)/Einstellung!$B$4)+1,\"\"))","v":""},""]
["",null,null,null,null,null,null,null,null,null,null,null,null,null,null,null,null,"",{"$f":"IF(B1560=\"\",\"\",IF(R1560<5,INT((A1560-1)/Einstellung!$B$4)+1,\"\"))","v":""},""]
["",null,null,null,null,null,null,null,null,null,null,null,null,null,null,null,null,"",{"$f":"IF(B1561=\"\",\"\",IF(R1561<5,INT((A1561-1)/Einstellung!$B$4)+1,\"\"))","v":""},""]
["",null,null,null,null,null,null,null,null,null,null,null,null,null,null,null,null,"",{"$f":"IF(B1562=\"\",\"\",IF(R1562<5,INT((A1562-1)/Einstellung!$B$4)+1,\"\"))","v":""},""]
["",null,null,null,null,null,null,null,null,null,null,null,null,null,null,null,null,"",{"$f":"IF(B1563=\"\",\"\",IF(R1563<5,INT((A1563-1)/Einstellung!$B$4)+1,\"\"))","v":""},""]
["",null,null,null,null,null,null,null,null,null,null,null,null,null,null,null,null,"",{"$f":"IF(B1564=\"\",\"\",IF(R1564<5,INT((A1564-1)/Einstellung!$B$4)+1,\"\"))","v":""},""]
["",null,null,null,null,null,null,null,null,null,null,null,null,null,null,null,null,"",{"$f":"IF(B1565=\"\",\"\",IF(R1565<5,INT((A1565-1)/Einstellung!$B$4)+1,\"\"))","v":""},""]
["",null,null,null,null,null,null,null,null,null,null,null,null,null,null,null,null,"",{"$f":"IF(B1566=\"\",\"\",IF(R1566<5,INT((A1566-1)/Einstellung!$B$4)+1,\"\"))","v":""},""]
["",null,null,null,null,null,null,null,null,null,null,null,null,null,null,null,null,"",{"$f":"IF(B1567=\"\",\"\",IF(R1567<5,INT((A1567-1)/Einstellung!$B$4)+1,\"\"))","v":""},""]
["",null,null,null,null,null,null,null,null,null,null,null,null,null,null,null,null,"",{"$f":"IF(B1568=\"\",\"\",IF(R1568<5,INT((A1568-1)/Einstellung!$B$4)+1,\"\"))","v":""},""]
["",null,null,null,null,null,null,null,null,null,null,null,null,null,null,null,null,"",{"$f":"IF(B1569=\"\",\"\",IF(R1569<5,INT((A1569-1)/Einstellung!$B$4)+1,\"\"))","v":""},""]
["",null,null,null,null,null,null,null,null,null,null,null,null,null,null,null,null,"",{"$f":"IF(B1570=\"\",\"\",IF(R1570<5,INT((A1570-1)/Einstellung!$B$4)+1,\"\"))","v":""},""]
["",null,null,null,null,null,null,null,null,null,null,null,null,null,null,null,null,"",{"$f":"IF(B1571=\"\",\"\",IF(R1571<5,INT((A1571-1)/Einstellung!$B$4)+1,\"\"))","v":""},""]
["",null,null,null,null,null,null,null,null,null,null,null,null,null,null,null,null,"",{"$f":"IF(B1572=\"\",\"\",IF(R1572<5,INT((A1572-1)/Einstellung!$B$4)+1,\"\"))","v":""},""]
["",null,null,null,null,null,null,null,null,null,null,null,null,null,null,null,null,"",{"$f":"IF(B1573=\"\",\"\",IF(R1573<5,INT((A1573-1)/Einstellung!$B$4)+1,\"\"))","v":""},""]
["",null,null,null,null,null,null,null,null,null,null,null,null,null,null,null,null,"",{"$f":"IF(B1574=\"\",\"\",IF(R1574<5,INT((A1574-1)/Einstellung!$B$4)+1,\"\"))","v":""},""]
["",null,null,null,null,null,null,null,null,null,null,null,null,null,null,null,null,"",{"$f":"IF(B1575=\"\",\"\",IF(R1575<5,INT((A1575-1)/Einstellung!$B$4)+1,\"\"))","v":""},""]
["",null,null,null,null,null,null,null,null,null,null,null,null,null,null,null,null,"",{"$f":"IF(B1576=\"\",\"\",IF(R1576<5,INT((A1576-1)/Einstellung!$B$4)+1,\"\"))","v":""},""]
["",null,null,null,null,null,null,null,null,null,null,null,null,null,null,null,null,"",{"$f":"IF(B1577=\"\",\"\",IF(R1577<5,INT((A1577-1)/Einstellung!$B$4)+1,\"\"))","v":""},""]
[{"$f":"IF(B1578=\"\",\"\",ROW()-7)","v":""},null,null,null,null,null,null,null,null,null,null,null,null,null,null,null,null,"",{"$f":"IF(B1578=\"\",\"\",IF(R1578<5,INT((A1578-1)/Einstellung!$B$4)+1,\"\"))","v":""},""]
["",null,null,null,null,null,null,null,null,null,null,null,null,null,null,null,null,"",{"$f":"IF(B1579=\"\",\"\",IF(R1579<5,INT((A1579-1)/Einstellung!$B$4)+1,\"\"))","v":""},""]
["",null,null,null,null,null,null,null,null,null,null,null,null,null,null,null,null,"",{"$f":"IF(B1580=\"\",\"\",IF(R1580<5,INT((A1580-1)/Einstellung!$B$4)+1,\"\"))","v":""},""]
["",null,null,null,null,null,null,null,null,null,null,null,null,null,null,null,null,"",{"$f":"IF(B1581=\"\",\"\",IF(R1581<5,INT((A1581-1)/Einstellung!$B$4)+1,\"\"))","v":""},""]
["",null,null,null,null,null,null,null,null,null,null,null,null,null,null,null,null,"",{"$f":"IF(B1582=\"\",\"\",IF(R1582<5,INT((A1582-1)/Einstellung!$B$4)+1,\"\"))","v":""},""]
["",null,null,null,null,null,null,null,null,null,null,null,null,null,null,null,null,"",{"$f":"IF(B1583=\"\",\"\",IF(R1583<5,INT((A1583-1)/Einstellung!$B$4)+1,\"\"))","v":""},""]
["",null,null,null,null,null,null,null,null,null,null,null,null,null,null,null,null,"",{"$f":"IF(B1584=\"\",\"\",IF(R1584<5,INT((A1584-1)/Einstellung!$B$4)+1,\"\"))","v":""},""]
["",null,null,null,null,null,null,null,null,null,null,null,null,null,null,null,null,"",{"$f":"IF(B1585=\"\",\"\",IF(R1585<5,INT((A1585-1)/Einstellung!$B$4)+1,\"\"))","v":""},""]
["",null,null,null,null,null,null,null,null,null,null,null,null,null,null,null,null,"",{"$f":"IF(B1586=\"\",\"\",IF(R1586<5,INT((A1586-1)/Einstellung!$B$4)+1,\"\"))","v":""},""]
["",null,null,null,null,null,null,null,null,null,null,null,null,null,null,null,null,"",{"$f":"IF(B1587=\"\",\"\",IF(R1587<5,INT((A1587-1)/Einstellung!$B$4)+1,\"\"))","v":""},""]
["",null,null,null,null,null,null,null,null,null,null,null,null,null,null,null,null,"",{"$f":"IF(B1588=\"\",\"\",IF(R1588<5,INT((A1588-1)/Einstellung!$B$4)+1,\"\"))","v":""},""]
["",null,null,null,null,null,null,null,null,null,null,null,null,null,null,null,null,"",{"$f":"IF(B1589=\"\",\"\",IF(R1589<5,INT((A1589-1)/Einstellung!$B$4)+1,\"\"))","v":""},""]
["",null,null,null,null,null,null,null,null,null,null,null,null,null,null,null,null,"",{"$f":"IF(B1590=\"\",\"\",IF(R1590<5,INT((A1590-1)/Einstellung!$B$4)+1,\"\"))","v":""},""]
["",null,null,null,null,null,null,null,null,null,null,null,null,null,null,null,null,"",{"$f":"IF(B1591=\"\",\"\",IF(R1591<5,INT((A1591-1)/Einstellung!$B$4)+1,\"\"))","v":""},""]
["",null,null,null,null,null,null,null,null,null,null,null,null,null,null,null,null,"",{"$f":"IF(B1592=\"\",\"\",IF(R1592<5,INT((A1592-1)/Einstellung!$B$4)+1,\"\"))","v":""},""]
["",null,null,null,null,null,null,null,null,null,null,null,null,null,null,null,null,"",{"$f":"IF(B1593=\"\",\"\",IF(R1593<5,INT((A1593-1)/Einstellung!$B$4)+1,\"\"))","v":""},""]
["",null,null,null,null,null,null,null,null,null,null,null,null,null,null,null,null,"",{"$f":"IF(B1594=\"\",\"\",IF(R1594<5,INT((A1594-1)/Einstellung!$B$4)+1,\"\"))","v":""},""]
["",null,null,null,null,null,null,null,null,null,null,null,null,null,null,null,null,"",{"$f":"IF(B1595=\"\",\"\",IF(R1595<5,INT((A1595-1)/Einstellung!$B$4)+1,\"\"))","v":""},""]
["",null,null,null,null,null,null,null,null,null,null,null,null,null,null,null,null,"",{"$f":"IF(B1596=\"\",\"\",IF(R1596<5,INT((A1596-1)/Einstellung!$B$4)+1,\"\"))","v":""},""]
["",null,null,null,null,null,null,null,null,null,null,null,null,null,null,null,null,"",{"$f":"IF(B1597=\"\",\"\",IF(R1597<5,INT((A1597-1)/Einstellung!$B$4)+1,\"\"))","v":""},""]
["",null,null,null,null,null,null,null,null,null,null,null,null,null,null,null,null,"",{"$f":"IF(B1598=\"\",\"\",IF(R1598<5,INT((A1598-1)/Einstellung!$B$4)+1,\"\"))","v":""},""]
["",null,null,null,null,null,null,null,null,null,null,null,null,null,null,null,null,"",{"$f":"IF(B1599=\"\",\"\",IF(R1599<5,INT((A1599-1)/Einstellung!$B$4)+1,\"\"))","v":""},""]
["",null,null,null,null,null,null,null,null,null,null,null,null,null,null,null,null,"",{"$f":"IF(B1600=\"\",\"\",IF(R1600<5,INT((A1600-1)/Einstellung!$B$4)+1,\"\"))","v":""},""]
["",null,null,null,null,null,null,null,null,null,null,null,null,null,null,null,null,"",{"$f":"IF(B1601=\"\",\"\",IF(R1601<5,INT((A1601-1)/Einstellung!$B$4)+1,\"\"))","v":""},""]
["",null,null,null,null,null,null,null,null,null,null,null,null,null,null,null,null,"",{"$f":"IF(B1602=\"\",\"\",IF(R1602<5,INT((A1602-1)/Einstellung!$B$4)+1,\"\"))","v":""},""]
["",null,null,null,null,null,null,null,null,null,null,null,null,null,null,null,null,"",{"$f":"IF(B1603=\"\",\"\",IF(R1603<5,INT((A1603-1)/Einstellung!$B$4)+1,\"\"))","v":""},""]
["",null,null,null,null,null,null,null,null,null,null,null,null,null,null,null,null,"",{"$f":"IF(B1604=\"\",\"\",IF(R1604<5,INT((A1604-1)/Einstellung!$B$4)+1,\"\"))","v":""},""]
["",null,null,null,null,null,null,null,null,null,null,null,null,null,null,null,null,"",{"$f":"IF(B1605=\"\",\"\",IF(R1605<5,INT((A1605-1)/Einstellung!$B$4)+1,\"\"))","v":""},""]
["",null,null,null,null,null,null,null,null,null,null,null,null,null,null,null,null,"",{"$f":"IF(B1606=\"\",\"\",IF(R1606<5,INT((A1606-1)/Einstellung!$B$4)+1,\"\"))","v":""},""]
["",null,null,null,null,null,null,null,null,null,null,null,null,null,null,null,null,"",{"$f":"IF(B1607=\"\",\"\",IF(R1607<5,INT((A1607-1)/Einstellung!$B$4)+1,\"\"))","v":""},""]
["",null,null,null,null,null,null,null,null,null,null,null,null,null,null,null,null,{"$f":"IF(B1608=\"\",\"\",16-((MID(B$1,1,1)=MID(B1608,1,1))+(MID(C$1,1,1)=MID(C1608,1,1))+(MID(D$1,1,1)=MID(D1608,1,1))+(MID(E$1,1,1)=MID(E1608,1,1))+(MID(F$1,1,1)=MID(F1608,1,1))+(MID(G$1,1,1)=MID(G1608,1,1))+(MID(H$1,1,1)=MID(H1608,1,1))+(MID(I$1,1,1)=MID(I1608,1,1))+(MID(J$1,1,1)=MID(J1608,1,1))+(MID(K$1,1,1)=MID(K1608,1,1))+(MID(L$1,1,1)=MID(L1608,1,1))+(MID(M$1,1,1)=MID(M1608,1,1))+(MID(N$1,1,1)=MID(N1608,1,1))+(MID(O$1,1,1)=MID(O1608,1,1))+(MID(P$1,1,1)=MID(P1608,1,1)))-B$4+C$5)","v":""},{"$f":"IF(B1608=\"\",\"\",IF(R1608<5,INT((A1608-1)/Einstellung!$B$4)+1,\"\"))","v":""},{"$f":"IF(C$5<B$4,\"\",IF(R1608>4,\"\",OFFSET(T$2,R1608-1,0)))","v":""}]
["",null,null,null,null,null,null,null,null,null,null,null,null,null,null,null,null,"",{"$f":"IF(B1609=\"\",\"\",IF(R1609<5,INT((A1609-1)/Einstellung!$B$4)+1,\"\"))","v":""},""]
["",null,null,null,null,null,null,null,null,null,null,null,null,null,null,null,null,"",{"$f":"IF(B1610=\"\",\"\",IF(R1610<5,INT((A1610-1)/Einstellung!$B$4)+1,\"\"))","v":""},""]
["",null,null,null,null,null,null,null,null,null,null,null,null,null,null,null,null,"",{"$f":"IF(B1611=\"\",\"\",IF(R1611<5,INT((A1611-1)/Einstellung!$B$4)+1,\"\"))","v":""},""]
["",null,null,null,null,null,null,null,null,null,null,null,null,null,null,null,null,"",{"$f":"IF(B1612=\"\",\"\",IF(R1612<5,INT((A1612-1)/Einstellung!$B$4)+1,\"\"))","v":""},""]
["",null,null,null,null,null,null,null,null,null,null,null,null,null,null,null,null,"",{"$f":"IF(B1613=\"\",\"\",IF(R1613<5,INT((A1613-1)/Einstellung!$B$4)+1,\"\"))","v":""},""]
["",null,null,null,null,null,null,null,null,null,null,null,null,null,null,null,null,"",{"$f":"IF(B1614=\"\",\"\",IF(R1614<5,INT((A1614-1)/Einstellung!$B$4)+1,\"\"))","v":""},""]
["",null,null,null,null,null,null,null,null,null,null,null,null,null,null,null,null,"",{"$f":"IF(B1615=\"\",\"\",IF(R1615<5,INT((A1615-1)/Einstellung!$B$4)+1,\"\"))","v":""},""]
["",null,null,null,null,null,null,null,null,null,null,null,null,null,null,null,null,"",{"$f":"IF(B1616=\"\",\"\",IF(R1616<5,INT((A1616-1)/Einstellung!$B$4)+1,\"\"))","v":""},""]
["",null,null,null,null,null,null,null,null,null,null,null,null,null,null,null,null,"",{"$f":"IF(B1617=\"\",\"\",IF(R1617<5,INT((A1617-1)/Einstellung!$B$4)+1,\"\"))","v":""},""]
["",null,null,null,null,null,null,null,null,null,null,null,null,null,null,null,null,"",{"$f":"IF(B1618=\"\",\"\",IF(R1618<5,INT((A1618-1)/Einstellung!$B$4)+1,\"\"))","v":""},""]
["",null,null,null,null,null,null,null,null,null,null,null,null,null,null,null,null,"",{"$f":"IF(B1619=\"\",\"\",IF(R1619<5,INT((A1619-1)/Einstellung!$B$4)+1,\"\"))","v":""},""]
["",null,null,null,null,null,null,null,null,null,null,null,null,null,null,null,null,"",{"$f":"IF(B1620=\"\",\"\",IF(R1620<5,INT((A1620-1)/Einstellung!$B$4)+1,\"\"))","v":""},""]
["",null,null,null,null,null,null,null,null,null,null,null,null,null,null,null,null,"",{"$f":"IF(B1621=\"\",\"\",IF(R1621<5,INT((A1621-1)/Einstellung!$B$4)+1,\"\"))","v":""},""]
["",null,null,null,null,null,null,null,null,null,null,null,null,null,null,null,null,"",{"$f":"IF(B1622=\"\",\"\",IF(R1622<5,INT((A1622-1)/Einstellung!$B$4)+1,\"\"))","v":""},""]
["",null,null,null,null,null,null,null,null,null,null,null,null,null,null,null,null,"",{"$f":"IF(B1623=\"\",\"\",IF(R1623<5,INT((A1623-1)/Einstellung!$B$4)+1,\"\"))","v":""},""]
["",null,null,null,null,null,null,null,null,null,null,null,null,null,null,null,null,"",{"$f":"IF(B1624=\"\",\"\",IF(R1624<5,INT((A1624-1)/Einstellung!$B$4)+1,\"\"))","v":""},""]
["",null,null,null,null,null,null,null,null,null,null,null,null,null,null,null,null,"",{"$f":"IF(B1625=\"\",\"\",IF(R1625<5,INT((A1625-1)/Einstellung!$B$4)+1,\"\"))","v":""},""]
["",null,null,null,null,null,null,null,null,null,null,null,null,null,null,null,null,"",{"$f":"IF(B1626=\"\",\"\",IF(R1626<5,INT((A1626-1)/Einstellung!$B$4)+1,\"\"))","v":""},""]
["",null,null,null,null,null,null,null,null,null,null,null,null,null,null,null,null,"",{"$f":"IF(B1627=\"\",\"\",IF(R1627<5,INT((A1627-1)/Einstellung!$B$4)+1,\"\"))","v":""},""]
["",null,null,null,null,null,null,null,null,null,null,null,null,null,null,null,null,"",{"$f":"IF(B1628=\"\",\"\",IF(R1628<5,INT((A1628-1)/Einstellung!$B$4)+1,\"\"))","v":""},""]
["",null,null,null,null,null,null,null,null,null,null,null,null,null,null,null,null,"",{"$f":"IF(B1629=\"\",\"\",IF(R1629<5,INT((A1629-1)/Einstellung!$B$4)+1,\"\"))","v":""},""]
["",null,null,null,null,null,null,null,null,null,null,null,null,null,null,null,null,"",{"$f":"IF(B1630=\"\",\"\",IF(R1630<5,INT((A1630-1)/Einstellung!$B$4)+1,\"\"))","v":""},""]
["",null,null,null,null,null,null,null,null,null,null,null,null,null,null,null,null,"",{"$f":"IF(B1631=\"\",\"\",IF(R1631<5,INT((A1631-1)/Einstellung!$B$4)+1,\"\"))","v":""},""]
["",null,null,null,null,null,null,null,null,null,null,null,null,null,null,null,null,"",{"$f":"IF(B1632=\"\",\"\",IF(R1632<5,INT((A1632-1)/Einstellung!$B$4)+1,\"\"))","v":""},""]
["",null,null,null,null,null,null,null,null,null,null,null,null,null,null,null,null,"",{"$f":"IF(B1633=\"\",\"\",IF(R1633<5,INT((A1633-1)/Einstellung!$B$4)+1,\"\"))","v":""},""]
["",null,null,null,null,null,null,null,null,null,null,null,null,null,null,null,null,"",{"$f":"IF(B1634=\"\",\"\",IF(R1634<5,INT((A1634-1)/Einstellung!$B$4)+1,\"\"))","v":""},""]
["",null,null,null,null,null,null,null,null,null,null,null,null,null,null,null,null,"",{"$f":"IF(B1635=\"\",\"\",IF(R1635<5,INT((A1635-1)/Einstellung!$B$4)+1,\"\"))","v":""},""]
["",null,null,null,null,null,null,null,null,null,null,null,null,null,null,null,null,"",{"$f":"IF(B1636=\"\",\"\",IF(R1636<5,INT((A1636-1)/Einstellung!$B$4)+1,\"\"))","v":""},""]
["",null,null,null,null,null,null,null,null,null,null,null,null,null,null,null,null,"",{"$f":"IF(B1637=\"\",\"\",IF(R1637<5,INT((A1637-1)/Einstellung!$B$4)+1,\"\"))","v":""},""]
["",null,null,null,null,null,null,null,null,null,null,null,null,null,null,null,null,"",{"$f":"IF(B1638=\"\",\"\",IF(R1638<5,INT((A1638-1)/Einstellung!$B$4)+1,\"\"))","v":""},""]
["",null,null,null,null,null,null,null,null,null,null,null,null,null,null,null,null,"",{"$f":"IF(B1639=\"\",\"\",IF(R1639<5,INT((A1639-1)/Einstellung!$B$4)+1,\"\"))","v":""},""]
["",null,null,null,null,null,null,null,null,null,null,null,null,null,null,null,null,"",{"$f":"IF(B1640=\"\",\"\",IF(R1640<5,INT((A1640-1)/Einstellung!$B$4)+1,\"\"))","v":""},""]
["",null,null,null,null,null,null,null,null,null,null,null,null,null,null,null,null,"",{"$f":"IF(B1641=\"\",\"\",IF(R1641<5,INT((A1641-1)/Einstellung!$B$4)+1,\"\"))","v":""},""]
[{"$f":"IF(B1642=\"\",\"\",ROW()-7)","v":""},null,null,null,null,null,null,null,null,null,null,null,null,null,null,null,null,"",{"$f":"IF(B1642=\"\",\"\",IF(R1642<5,INT((A1642-1)/Einstellung!$B$4)+1,\"\"))","v":""},""]
["",null,null,null,null,null,null,null,null,null,null,null,null,null,null,null,null,"",{"$f":"IF(B1643=\"\",\"\",IF(R1643<5,INT((A1643-1)/Einstellung!$B$4)+1,\"\"))","v":""},""]
["",null,null,null,null,null,null,null,null,null,null,null,null,null,null,null,null,"",{"$f":"IF(B1644=\"\",\"\",IF(R1644<5,INT((A1644-1)/Einstellung!$B$4)+1,\"\"))","v":""},""]
["",null,null,null,null,null,null,null,null,null,null,null,null,null,null,null,null,"",{"$f":"IF(B1645=\"\",\"\",IF(R1645<5,INT((A1645-1)/Einstellung!$B$4)+1,\"\"))","v":""},""]
["",null,null,null,null,null,null,null,null,null,null,null,null,null,null,null,null,"",{"$f":"IF(B1646=\"\",\"\",IF(R1646<5,INT((A1646-1)/Einstellung!$B$4)+1,\"\"))","v":""},""]
["",null,null,null,null,null,null,null,null,null,null,null,null,null,null,null,null,"",{"$f":"IF(B1647=\"\",\"\",IF(R1647<5,INT((A1647-1)/Einstellung!$B$4)+1,\"\"))","v":""},""]
["",null,null,null,null,null,null,null,null,null,null,null,null,null,null,null,null,"",{"$f":"IF(B1648=\"\",\"\",IF(R1648<5,INT((A1648-1)/Einstellung!$B$4)+1,\"\"))","v":""},""]
["",null,null,null,null,null,null,null,null,null,null,null,null,null,null,null,null,"",{"$f":"IF(B1649=\"\",\"\",IF(R1649<5,INT((A1649-1)/Einstellung!$B$4)+1,\"\"))","v":""},""]
["",null,null,null,null,null,null,null,null,null,null,null,null,null,null,null,null,"",{"$f":"IF(B1650=\"\",\"\",IF(R1650<5,INT((A1650-1)/Einstellung!$B$4)+1,\"\"))","v":""},""]
["",null,null,null,null,null,null,null,null,null,null,null,null,null,null,null,null,"",{"$f":"IF(B1651=\"\",\"\",IF(R1651<5,INT((A1651-1)/Einstellung!$B$4)+1,\"\"))","v":""},""]
["",null,null,null,null,null,null,null,null,null,null,null,null,null,null,null,null,"",{"$f":"IF(B1652=\"\",\"\",IF(R1652<5,INT((A1652-1)/Einstellung!$B$4)+1,\"\"))","v":""},""]
["",null,null,null,null,null,null,null,null,null,null,null,null,null,null,null,null,"",{"$f":"IF(B1653=\"\",\"\",IF(R1653<5,INT((A1653-1)/Einstellung!$B$4)+1,\"\"))","v":""},""]
["",null,null,null,null,null,null,null,null,null,null,null,null,null,null,null,null,"",{"$f":"IF(B1654=\"\",\"\",IF(R1654<5,INT((A1654-1)/Einstellung!$B$4)+1,\"\"))","v":""},""]
["",null,null,null,null,null,null,null,null,null,null,null,null,null,null,null,null,"",{"$f":"IF(B1655=\"\",\"\",IF(R1655<5,INT((A1655-1)/Einstellung!$B$4)+1,\"\"))","v":""},""]
["",null,null,null,null,null,null,null,null,null,null,null,null,null,null,null,null,"",{"$f":"IF(B1656=\"\",\"\",IF(R1656<5,INT((A1656-1)/Einstellung!$B$4)+1,\"\"))","v":""},""]
["",null,null,null,null,null,null,null,null,null,null,null,null,null,null,null,null,"",{"$f":"IF(B1657=\"\",\"\",IF(R1657<5,INT((A1657-1)/Einstellung!$B$4)+1,\"\"))","v":""},""]
["",null,null,null,null,null,null,null,null,null,null,null,null,null,null,null,null,"",{"$f":"IF(B1658=\"\",\"\",IF(R1658<5,INT((A1658-1)/Einstellung!$B$4)+1,\"\"))","v":""},""]
["",null,null,null,null,null,null,null,null,null,null,null,null,null,null,null,null,"",{"$f":"IF(B1659=\"\",\"\",IF(R1659<5,INT((A1659-1)/Einstellung!$B$4)+1,\"\"))","v":""},""]
["",null,null,null,null,null,null,null,null,null,null,null,null,null,null,null,null,"",{"$f":"IF(B1660=\"\",\"\",IF(R1660<5,INT((A1660-1)/Einstellung!$B$4)+1,\"\"))","v":""},""]
["",null,null,null,null,null,null,null,null,null,null,null,null,null,null,null,null,"",{"$f":"IF(B1661=\"\",\"\",IF(R1661<5,INT((A1661-1)/Einstellung!$B$4)+1,\"\"))","v":""},""]
["",null,null,null,null,null,null,null,null,null,null,null,null,null,null,null,null,"",{"$f":"IF(B1662=\"\",\"\",IF(R1662<5,INT((A1662-1)/Einstellung!$B$4)+1,\"\"))","v":""},""]
["",null,null,null,null,null,null,null,null,null,null,null,null,null,null,null,null,"",{"$f":"IF(B1663=\"\",\"\",IF(R1663<5,INT((A1663-1)/Einstellung!$B$4)+1,\"\"))","v":""},""]
["",null,null,null,null,null,null,null,null,null,null,null,null,null,null,null,null,"",{"$f":"IF(B1664=\"\",\"\",IF(R1664<5,INT((A1664-1)/Einstellung!$B$4)+1,\"\"))","v":""},""]
["",null,null,null,null,null,null,null,null,null,null,null,null,null,null,null,null,"",{"$f":"IF(B1665=\"\",\"\",IF(R1665<5,INT((A1665-1)/Einstellung!$B$4)+1,\"\"))","v":""},""]
["",null,null,null,null,null,null,null,null,null,null,null,null,null,null,null,null,"",{"$f":"IF(B1666=\"\",\"\",IF(R1666<5,INT((A1666-1)/Einstellung!$B$4)+1,\"\"))","v":""},""]
["",null,null,null,null,null,null,null,null,null,null,null,null,null,null,null,null,"",{"$f":"IF(B1667=\"\",\"\",IF(R1667<5,INT((A1667-1)/Einstellung!$B$4)+1,\"\"))","v":""},""]
["",null,null,null,null,null,null,null,null,null,null,null,null,null,null,null,null,"",{"$f":"IF(B1668=\"\",\"\",IF(R1668<5,INT((A1668-1)/Einstellung!$B$4)+1,\"\"))","v":""},""]
["",null,null,null,null,null,null,null,null,null,null,null,null,null,null,null,null,"",{"$f":"IF(B1669=\"\",\"\",IF(R1669<5,INT((A1669-1)/Einstellung!$B$4)+1,\"\"))","v":""},""]
["",null,null,null,null,null,null,null,null,null,null,null,null,null,null,null,null,"",{"$f":"IF(B1670=\"\",\"\",IF(R1670<5,INT((A1670-1)/Einstellung!$B$4)+1,\"\"))","v":""},""]
["",null,null,null,null,null,null,null,null,null,null,null,null,null,null,null,null,"",{"$f":"IF(B1671=\"\",\"\",IF(R1671<5,INT((A1671-1)/Einstellung!$B$4)+1,\"\"))","v":""},""]
["",null,null,null,null,null,null,null,null,null,null,null,null,null,null,null,null,{"$f":"IF(B1672=\"\",\"\",16-((MID(B$1,1,1)=MID(B1672,1,1))+(MID(C$1,1,1)=MID(C1672,1,1))+(MID(D$1,1,1)=MID(D1672,1,1))+(MID(E$1,1,1)=MID(E1672,1,1))+(MID(F$1,1,1)=MID(F1672,1,1))+(MID(G$1,1,1)=MID(G1672,1,1))+(MID(H$1,1,1)=MID(H1672,1,1))+(MID(I$1,1,1)=MID(I1672,1,1))+(MID(J$1,1,1)=MID(J1672,1,1))+(MID(K$1,1,1)=MID(K1672,1,1))+(MID(L$1,1,1)=MID(L1672,1,1))+(MID(M$1,1,1)=MID(M1672,1,1))+(MID(N$1,1,1)=MID(N1672,1,1))+(MID(O$1,1,1)=MID(O1672,1,1))+(MID(P$1,1,1)=MID(P1672,1,1)))-B$4+C$5)","v":""},{"$f":"IF(B1672=\"\",\"\",IF(R1672<5,INT((A1672-1)/Einstellung!$B$4)+1,\"\"))","v":""},{"$f":"IF(C$5<B$4,\"\",IF(R1672>4,\"\",OFFSET(T$2,R1672-1,0)))","v":""}]
["",null,null,null,null,null,null,null,null,null,null,null,null,null,null,null,null,"",{"$f":"IF(B1673=\"\",\"\",IF(R1673<5,INT((A1673-1)/Einstellung!$B$4)+1,\"\"))","v":""},""]
["",null,null,null,null,null,null,null,null,null,null,null,null,null,null,null,null,"",{"$f":"IF(B1674=\"\",\"\",IF(R1674<5,INT((A1674-1)/Einstellung!$B$4)+1,\"\"))","v":""},""]
["",null,null,null,null,null,null,null,null,null,null,null,null,null,null,null,null,"",{"$f":"IF(B1675=\"\",\"\",IF(R1675<5,INT((A1675-1)/Einstellung!$B$4)+1,\"\"))","v":""},""]
["",null,null,null,null,null,null,null,null,null,null,null,null,null,null,null,null,"",{"$f":"IF(B1676=\"\",\"\",IF(R1676<5,INT((A1676-1)/Einstellung!$B$4)+1,\"\"))","v":""},""]
["",null,null,null,null,null,null,null,null,null,null,null,null,null,null,null,null,"",{"$f":"IF(B1677=\"\",\"\",IF(R1677<5,INT((A1677-1)/Einstellung!$B$4)+1,\"\"))","v":""},""]
["",null,null,null,null,null,null,null,null,null,null,null,null,null,null,null,null,"",{"$f":"IF(B1678=\"\",\"\",IF(R1678<5,INT((A1678-1)/Einstellung!$B$4)+1,\"\"))","v":""},""]
["",null,null,null,null,null,null,null,null,null,null,null,null,null,null,null,null,"",{"$f":"IF(B1679=\"\",\"\",IF(R1679<5,INT((A1679-1)/Einstellung!$B$4)+1,\"\"))","v":""},""]
["",null,null,null,null,null,null,null,null,null,null,null,null,null,null,null,null,"",{"$f":"IF(B1680=\"\",\"\",IF(R1680<5,INT((A1680-1)/Einstellung!$B$4)+1,\"\"))","v":""},""]
["",null,null,null,null,null,null,null,null,null,null,null,null,null,null,null,null,"",{"$f":"IF(B1681=\"\",\"\",IF(R1681<5,INT((A1681-1)/Einstellung!$B$4)+1,\"\"))","v":""},""]
["",null,null,null,null,null,null,null,null,null,null,null,null,null,null,null,null,"",{"$f":"IF(B1682=\"\",\"\",IF(R1682<5,INT((A1682-1)/Einstellung!$B$4)+1,\"\"))","v":""},""]
["",null,null,null,null,null,null,null,null,null,null,null,null,null,null,null,null,"",{"$f":"IF(B1683=\"\",\"\",IF(R1683<5,INT((A1683-1)/Einstellung!$B$4)+1,\"\"))","v":""},""]
["",null,null,null,null,null,null,null,null,null,null,null,null,null,null,null,null,"",{"$f":"IF(B1684=\"\",\"\",IF(R1684<5,INT((A1684-1)/Einstellung!$B$4)+1,\"\"))","v":""},""]
["",null,null,null,null,null,null,null,null,null,null,null,null,null,null,null,null,"",{"$f":"IF(B1685=\"\",\"\",IF(R1685<5,INT((A1685-1)/Einstellung!$B$4)+1,\"\"))","v":""},""]
["",null,null,null,null,null,null,null,null,null,null,null,null,null,null,null,null,"",{"$f":"IF(B1686=\"\",\"\",IF(R1686<5,INT((A1686-1)/Einstellung!$B$4)+1,\"\"))","v":""},""]
["",null,null,null,null,null,null,null,null,null,null,null,null,null,null,null,null,"",{"$f":"IF(B1687=\"\",\"\",IF(R1687<5,INT((A1687-1)/Einstellung!$B$4)+1,\"\"))","v":""},""]
["",null,null,null,null,null,null,null,null,null,null,null,null,null,null,null,null,"",{"$f":"IF(B1688=\"\",\"\",IF(R1688<5,INT((A1688-1)/Einstellung!$B$4)+1,\"\"))","v":""},""]
["",null,null,null,null,null,null,null,null,null,null,null,null,null,null,null,null,"",{"$f":"IF(B1689=\"\",\"\",IF(R1689<5,INT((A1689-1)/Einstellung!$B$4)+1,\"\"))","v":""},""]
["",null,null,null,null,null,null,null,null,null,null,null,null,null,null,null,null,"",{"$f":"IF(B1690=\"\",\"\",IF(R1690<5,INT((A1690-1)/Einstellung!$B$4)+1,\"\"))","v":""},""]
["",null,null,null,null,null,null,null,null,null,null,null,null,null,null,null,null,"",{"$f":"IF(B1691=\"\",\"\",IF(R1691<5,INT((A1691-1)/Einstellung!$B$4)+1,\"\"))","v":""},""]
["",null,null,null,null,null,null,null,null,null,null,null,null,null,null,null,null,"",{"$f":"IF(B1692=\"\",\"\",IF(R1692<5,INT((A1692-1)/Einstellung!$B$4)+1,\"\"))","v":""},""]
["",null,null,null,null,null,null,null,null,null,null,null,null,null,null,null,null,"",{"$f":"IF(B1693=\"\",\"\",IF(R1693<5,INT((A1693-1)/Einstellung!$B$4)+1,\"\"))","v":""},""]
["",null,null,null,null,null,null,null,null,null,null,null,null,null,null,null,null,"",{"$f":"IF(B1694=\"\",\"\",IF(R1694<5,INT((A1694-1)/Einstellung!$B$4)+1,\"\"))","v":""},""]
["",null,null,null,null,null,null,null,null,null,null,null,null,null,null,null,null,"",{"$f":"IF(B1695=\"\",\"\",IF(R1695<5,INT((A1695-1)/Einstellung!$B$4)+1,\"\"))","v":""},""]
["",null,null,null,null,null,null,null,null,null,null,null,null,null,null,null,null,"",{"$f":"IF(B1696=\"\",\"\",IF(R1696<5,INT((A1696-1)/Einstellung!$B$4)+1,\"\"))","v":""},""]
["",null,null,null,null,null,null,null,null,null,null,null,null,null,null,null,null,"",{"$f":"IF(B1697=\"\",\"\",IF(R1697<5,INT((A1697-1)/Einstellung!$B$4)+1,\"\"))","v":""},""]
["",null,null,null,null,null,null,null,null,null,null,null,null,null,null,null,null,"",{"$f":"IF(B1698=\"\",\"\",IF(R1698<5,INT((A1698-1)/Einstellung!$B$4)+1,\"\"))","v":""},""]
["",null,null,null,null,null,null,null,null,null,null,null,null,null,null,null,null,"",{"$f":"IF(B1699=\"\",\"\",IF(R1699<5,INT((A1699-1)/Einstellung!$B$4)+1,\"\"))","v":""},""]
["",null,null,null,null,null,null,null,null,null,null,null,null,null,null,null,null,"",{"$f":"IF(B1700=\"\",\"\",IF(R1700<5,INT((A1700-1)/Einstellung!$B$4)+1,\"\"))","v":""},""]
["",null,null,null,null,null,null,null,null,null,null,null,null,null,null,null,null,"",{"$f":"IF(B1701=\"\",\"\",IF(R1701<5,INT((A1701-1)/Einstellung!$B$4)+1,\"\"))","v":""},""]
["",null,null,null,null,null,null,null,null,null,null,null,null,null,null,null,null,"",{"$f":"IF(B1702=\"\",\"\",IF(R1702<5,INT((A1702-1)/Einstellung!$B$4)+1,\"\"))","v":""},""]
["",null,null,null,null,null,null,null,null,null,null,null,null,null,null,null,null,"",{"$f":"IF(B1703=\"\",\"\",IF(R1703<5,INT((A1703-1)/Einstellung!$B$4)+1,\"\"))","v":""},""]
["",null,null,null,null,null,null,null,null,null,null,null,null,null,null,null,null,"",{"$f":"IF(B1704=\"\",\"\",IF(R1704<5,INT((A1704-1)/Einstellung!$B$4)+1,\"\"))","v":""},""]
["",null,null,null,null,null,null,null,null,null,null,null,null,null,null,null,null,"",{"$f":"IF(B1705=\"\",\"\",IF(R1705<5,INT((A1705-1)/Einstellung!$B$4)+1,\"\"))","v":""},""]
[{"$f":"IF(B1706=\"\",\"\",ROW()-7)","v":""},null,null,null,null,null,null,null,null,null,null,null,null,null,null,null,null,"",{"$f":"IF(B1706=\"\",\"\",IF(R1706<5,INT((A1706-1)/Einstellung!$B$4)+1,\"\"))","v":""},""]
["",null,null,null,null,null,null,null,null,null,null,null,null,null,null,null,null,"",{"$f":"IF(B1707=\"\",\"\",IF(R1707<5,INT((A1707-1)/Einstellung!$B$4)+1,\"\"))","v":""},""]
["",null,null,null,null,null,null,null,null,null,null,null,null,null,null,null,null,"",{"$f":"IF(B1708=\"\",\"\",IF(R1708<5,INT((A1708-1)/Einstellung!$B$4)+1,\"\"))","v":""},""]
["",null,null,null,null,null,null,null,null,null,null,null,null,null,null,null,null,"",{"$f":"IF(B1709=\"\",\"\",IF(R1709<5,INT((A1709-1)/Einstellung!$B$4)+1,\"\"))","v":""},""]
["",null,null,null,null,null,null,null,null,null,null,null,null,null,null,null,null,"",{"$f":"IF(B1710=\"\",\"\",IF(R1710<5,INT((A1710-1)/Einstellung!$B$4)+1,\"\"))","v":""},""]
["",null,null,null,null,null,null,null,null,null,null,null,null,null,null,null,null,"",{"$f":"IF(B1711=\"\",\"\",IF(R1711<5,INT((A1711-1)/Einstellung!$B$4)+1,\"\"))","v":""},""]
["",null,null,null,null,null,null,null,null,null,null,null,null,null,null,null,null,"",{"$f":"IF(B1712=\"\",\"\",IF(R1712<5,INT((A1712-1)/Einstellung!$B$4)+1,\"\"))","v":""},""]
["",null,null,null,null,null,null,null,null,null,null,null,null,null,null,null,null,"",{"$f":"IF(B1713=\"\",\"\",IF(R1713<5,INT((A1713-1)/Einstellung!$B$4)+1,\"\"))","v":""},""]
["",null,null,null,null,null,null,null,null,null,null,null,null,null,null,null,null,"",{"$f":"IF(B1714=\"\",\"\",IF(R1714<5,INT((A1714-1)/Einstellung!$B$4)+1,\"\"))","v":""},""]
["",null,null,null,null,null,null,null,null,null,null,null,null,null,null,null,null,"",{"$f":"IF(B1715=\"\",\"\",IF(R1715<5,INT((A1715-1)/Einstellung!$B$4)+1,\"\"))","v":""},""]
["",null,null,null,null,null,null,null,null,null,null,null,null,null,null,null,null,"",{"$f":"IF(B1716=\"\",\"\",IF(R1716<5,INT((A1716-1)/Einstellung!$B$4)+1,\"\"))","v":""},""]
["",null,null,null,null,null,null,null,null,null,null,null,null,null,null,null,null,"",{"$f":"IF(B1717=\"\",\"\",IF(R1717<5,INT((A1717-1)/Einstellung!$B$4)+1,\"\"))","v":""},""]
["",null,null,null,null,null,null,null,null,null,null,null,null,null,null,null,null,"",{"$f":"IF(B1718=\"\",\"\",IF(R1718<5,INT((A1718-1)/Einstellung!$B$4)+1,\"\"))","v":""},""]
["",null,null,null,null,null,null,null,null,null,null,null,null,null,null,null,null,"",{"$f":"IF(B1719=\"\",\"\",IF(R1719<5,INT((A1719-1)/Einstellung!$B$4)+1,\"\"))","v":""},""]
["",null,null,null,null,null,null,null,null,null,null,null,null,null,null,null,null,"",{"$f":"IF(B1720=\"\",\"\",IF(R1720<5,INT((A1720-1)/Einstellung!$B$4)+1,\"\"))","v":""},""]
["",null,null,null,null,null,null,null,null,null,null,null,null,null,null,null,null,"",{"$f":"IF(B1721=\"\",\"\",IF(R1721<5,INT((A1721-1)/Einstellung!$B$4)+1,\"\"))","v":""},""]
["",null,null,null,null,null,null,null,null,null,null,null,null,null,null,null,null,"",{"$f":"IF(B1722=\"\",\"\",IF(R1722<5,INT((A1722-1)/Einstellung!$B$4)+1,\"\"))","v":""},""]
["",null,null,null,null,null,null,null,null,null,null,null,null,null,null,null,null,"",{"$f":"IF(B1723=\"\",\"\",IF(R1723<5,INT((A1723-1)/Einstellung!$B$4)+1,\"\"))","v":""},""]
["",null,null,null,null,null,null,null,null,null,null,null,null,null,null,null,null,"",{"$f":"IF(B1724=\"\",\"\",IF(R1724<5,INT((A1724-1)/Einstellung!$B$4)+1,\"\"))","v":""},""]
["",null,null,null,null,null,null,null,null,null,null,null,null,null,null,null,null,"",{"$f":"IF(B1725=\"\",\"\",IF(R1725<5,INT((A1725-1)/Einstellung!$B$4)+1,\"\"))","v":""},""]
["",null,null,null,null,null,null,null,null,null,null,null,null,null,null,null,null,"",{"$f":"IF(B1726=\"\",\"\",IF(R1726<5,INT((A1726-1)/Einstellung!$B$4)+1,\"\"))","v":""},""]
["",null,null,null,null,null,null,null,null,null,null,null,null,null,null,null,null,"",{"$f":"IF(B1727=\"\",\"\",IF(R1727<5,INT((A1727-1)/Einstellung!$B$4)+1,\"\"))","v":""},""]
["",null,null,null,null,null,null,null,null,null,null,null,null,null,null,null,null,"",{"$f":"IF(B1728=\"\",\"\",IF(R1728<5,INT((A1728-1)/Einstellung!$B$4)+1,\"\"))","v":""},""]
["",null,null,null,null,null,null,null,null,null,null,null,null,null,null,null,null,"",{"$f":"IF(B1729=\"\",\"\",IF(R1729<5,INT((A1729-1)/Einstellung!$B$4)+1,\"\"))","v":""},""]
["",null,null,null,null,null,null,null,null,null,null,null,null,null,null,null,null,"",{"$f":"IF(B1730=\"\",\"\",IF(R1730<5,INT((A1730-1)/Einstellung!$B$4)+1,\"\"))","v":""},""]
["",null,null,null,null,null,null,null,null,null,null,null,null,null,null,null,null,"",{"$f":"IF(B1731=\"\",\"\",IF(R1731<5,INT((A1731-1)/Einstellung!$B$4)+1,\"\"))","v":""},""]
["",null,null,null,null,null,null,null,null,null,null,null,null,null,null,null,null,"",{"$f":"IF(B1732=\"\",\"\",IF(R1732<5,INT((A1732-1)/Einstellung!$B$4)+1,\"\"))","v":""},""]
["",null,null,null,null,null,null,null,null,null,null,null,null,null,null,null,null,"",{"$f":"IF(B1733=\"\",\"\",IF(R1733<5,INT((A1733-1)/Einstellung!$B$4)+1,\"\"))","v":""},""]
["",null,null,null,null,null,null,null,null,null,null,null,null,null,null,null,null,"",{"$f":"IF(B1734=\"\",\"\",IF(R1734<5,INT((A1734-1)/Einstellung!$B$4)+1,\"\"))","v":""},""]
["",null,null,null,null,null,null,null,null,null,null,null,null,null,null,null,null,"",{"$f":"IF(B1735=\"\",\"\",IF(R1735<5,INT((A1735-1)/Einstellung!$B$4)+1,\"\"))","v":""},""]
["",null,null,null,null,null,null,null,null,null,null,null,null,null,null,null,null,{"$f":"IF(B1736=\"\",\"\",16-((MID(B$1,1,1)=MID(B1736,1,1))+(MID(C$1,1,1)=MID(C1736,1,1))+(MID(D$1,1,1)=MID(D1736,1,1))+(MID(E$1,1,1)=MID(E1736,1,1))+(MID(F$1,1,1)=MID(F1736,1,1))+(MID(G$1,1,1)=MID(G1736,1,1))+(MID(H$1,1,1)=MID(H1736,1,1))+(MID(I$1,1,1)=MID(I1736,1,1))+(MID(J$1,1,1)=MID(J1736,1,1))+(MID(K$1,1,1)=MID(K1736,1,1))+(MID(L$1,1,1)=MID(L1736,1,1))+(MID(M$1,1,1)=MID(M1736,1,1))+(MID(N$1,1,1)=MID(N1736,1,1))+(MID(O$1,1,1)=MID(O1736,1,1))+(MID(P$1,1,1)=MID(P1736,1,1)))-B$4+C$5)","v":""},{"$f":"IF(B1736=\"\",\"\",IF(R1736<5,INT((A1736-1)/Einstellung!$B$4)+1,\"\"))","v":""},{"$f":"IF(C$5<B$4,\"\",IF(R1736>4,\"\",OFFSET(T$2,R1736-1,0)))","v":""}]
["",null,null,null,null,null,null,null,null,null,null,null,null,null,null,null,null,"",{"$f":"IF(B1737=\"\",\"\",IF(R1737<5,INT((A1737-1)/Einstellung!$B$4)+1,\"\"))","v":""},""]
["",null,null,null,null,null,null,null,null,null,null,null,null,null,null,null,null,"",{"$f":"IF(B1738=\"\",\"\",IF(R1738<5,INT((A1738-1)/Einstellung!$B$4)+1,\"\"))","v":""},""]
["",null,null,null,null,null,null,null,null,null,null,null,null,null,null,null,null,"",{"$f":"IF(B1739=\"\",\"\",IF(R1739<5,INT((A1739-1)/Einstellung!$B$4)+1,\"\"))","v":""},""]
["",null,null,null,null,null,null,null,null,null,null,null,null,null,null,null,null,"",{"$f":"IF(B1740=\"\",\"\",IF(R1740<5,INT((A1740-1)/Einstellung!$B$4)+1,\"\"))","v":""},""]
["",null,null,null,null,null,null,null,null,null,null,null,null,null,null,null,null,"",{"$f":"IF(B1741=\"\",\"\",IF(R1741<5,INT((A1741-1)/Einstellung!$B$4)+1,\"\"))","v":""},""]
["",null,null,null,null,null,null,null,null,null,null,null,null,null,null,null,null,"",{"$f":"IF(B1742=\"\",\"\",IF(R1742<5,INT((A1742-1)/Einstellung!$B$4)+1,\"\"))","v":""},""]
["",null,null,null,null,null,null,null,null,null,null,null,null,null,null,null,null,"",{"$f":"IF(B1743=\"\",\"\",IF(R1743<5,INT((A1743-1)/Einstellung!$B$4)+1,\"\"))","v":""},""]
["",null,null,null,null,null,null,null,null,null,null,null,null,null,null,null,null,"",{"$f":"IF(B1744=\"\",\"\",IF(R1744<5,INT((A1744-1)/Einstellung!$B$4)+1,\"\"))","v":""},""]
["",null,null,null,null,null,null,null,null,null,null,null,null,null,null,null,null,"",{"$f":"IF(B1745=\"\",\"\",IF(R1745<5,INT((A1745-1)/Einstellung!$B$4)+1,\"\"))","v":""},""]
["",null,null,null,null,null,null,null,null,null,null,null,null,null,null,null,null,"",{"$f":"IF(B1746=\"\",\"\",IF(R1746<5,INT((A1746-1)/Einstellung!$B$4)+1,\"\"))","v":""},""]
["",null,null,null,null,null,null,null,null,null,null,null,null,null,null,null,null,"",{"$f":"IF(B1747=\"\",\"\",IF(R1747<5,INT((A1747-1)/Einstellung!$B$4)+1,\"\"))","v":""},""]
["",null,null,null,null,null,null,null,null,null,null,null,null,null,null,null,null,"",{"$f":"IF(B1748=\"\",\"\",IF(R1748<5,INT((A1748-1)/Einstellung!$B$4)+1,\"\"))","v":""},""]
["",null,null,null,null,null,null,null,null,null,null,null,null,null,null,null,null,"",{"$f":"IF(B1749=\"\",\"\",IF(R1749<5,INT((A1749-1)/Einstellung!$B$4)+1,\"\"))","v":""},""]
["",null,null,null,null,null,null,null,null,null,null,null,null,null,null,null,null,"",{"$f":"IF(B1750=\"\",\"\",IF(R1750<5,INT((A1750-1)/Einstellung!$B$4)+1,\"\"))","v":""},""]
["",null,null,null,null,null,null,null,null,null,null,null,null,null,null,null,null,"",{"$f":"IF(B1751=\"\",\"\",IF(R1751<5,INT((A1751-1)/Einstellung!$B$4)+1,\"\"))","v":""},""]
["",null,null,null,null,null,null,null,null,null,null,null,null,null,null,null,null,"",{"$f":"IF(B1752=\"\",\"\",IF(R1752<5,INT((A1752-1)/Einstellung!$B$4)+1,\"\"))","v":""},""]
["",null,null,null,null,null,null,null,null,null,null,null,null,null,null,null,null,"",{"$f":"IF(B1753=\"\",\"\",IF(R1753<5,INT((A1753-1)/Einstellung!$B$4)+1,\"\"))","v":""},""]
["",null,null,null,null,null,null,null,null,null,null,null,null,null,null,null,null,"",{"$f":"IF(B1754=\"\",\"\",IF(R1754<5,INT((A1754-1)/Einstellung!$B$4)+1,\"\"))","v":""},""]
["",null,null,null,null,null,null,null,null,null,null,null,null,null,null,null,null,"",{"$f":"IF(B1755=\"\",\"\",IF(R1755<5,INT((A1755-1)/Einstellung!$B$4)+1,\"\"))","v":""},""]
["",null,null,null,null,null,null,null,null,null,null,null,null,null,null,null,null,"",{"$f":"IF(B1756=\"\",\"\",IF(R1756<5,INT((A1756-1)/Einstellung!$B$4)+1,\"\"))","v":""},""]
["",null,null,null,null,null,null,null,null,null,null,null,null,null,null,null,null,"",{"$f":"IF(B1757=\"\",\"\",IF(R1757<5,INT((A1757-1)/Einstellung!$B$4)+1,\"\"))","v":""},""]
["",null,null,null,null,null,null,null,null,null,null,null,null,null,null,null,null,"",{"$f":"IF(B1758=\"\",\"\",IF(R1758<5,INT((A1758-1)/Einstellung!$B$4)+1,\"\"))","v":""},""]
["",null,null,null,null,null,null,null,null,null,null,null,null,null,null,null,null,"",{"$f":"IF(B1759=\"\",\"\",IF(R1759<5,INT((A1759-1)/Einstellung!$B$4)+1,\"\"))","v":""},""]
["",null,null,null,null,null,null,null,null,null,null,null,null,null,null,null,null,"",{"$f":"IF(B1760=\"\",\"\",IF(R1760<5,INT((A1760-1)/Einstellung!$B$4)+1,\"\"))","v":""},""]
["",null,null,null,null,null,null,null,null,null,null,null,null,null,null,null,null,"",{"$f":"IF(B1761=\"\",\"\",IF(R1761<5,INT((A1761-1)/Einstellung!$B$4)+1,\"\"))","v":""},""]
["",null,null,null,null,null,null,null,null,null,null,null,null,null,null,null,null,"",{"$f":"IF(B1762=\"\",\"\",IF(R1762<5,INT((A1762-1)/Einstellung!$B$4)+1,\"\"))","v":""},""]
["",null,null,null,null,null,null,null,null,null,null,null,null,null,null,null,null,"",{"$f":"IF(B1763=\"\",\"\",IF(R1763<5,INT((A1763-1)/Einstellung!$B$4)+1,\"\"))","v":""},""]
["",null,null,null,null,null,null,null,null,null,null,null,null,null,null,null,null,"",{"$f":"IF(B1764=\"\",\"\",IF(R1764<5,INT((A1764-1)/Einstellung!$B$4)+1,\"\"))","v":""},""]
["",null,null,null,null,null,null,null,null,null,null,null,null,null,null,null,null,"",{"$f":"IF(B1765=\"\",\"\",IF(R1765<5,INT((A1765-1)/Einstellung!$B$4)+1,\"\"))","v":""},""]
["",null,null,null,null,null,null,null,null,null,null,null,null,null,null,null,null,"",{"$f":"IF(B1766=\"\",\"\",IF(R1766<5,INT((A1766-1)/Einstellung!$B$4)+1,\"\"))","v":""},""]
["",null,null,null,null,null,null,null,null,null,null,null,null,null,null,null,null,"",{"$f":"IF(B1767=\"\",\"\",IF(R1767<5,INT((A1767-1)/Einstellung!$B$4)+1,\"\"))","v":""},""]
["",null,null,null,null,null,null,null,null,null,null,null,null,null,null,null,null,"",{"$f":"IF(B1768=\"\",\"\",IF(R1768<5,INT((A1768-1)/Einstellung!$B$4)+1,\"\"))","v":""},""]
["",null,null,null,null,null,null,null,null,null,null,null,null,null,null,null,null,"",{"$f":"IF(B1769=\"\",\"\",IF(R1769<5,INT((A1769-1)/Einstellung!$B$4)+1,\"\"))","v":""},""]
[{"$f":"IF(B1770=\"\",\"\",ROW()-7)","v":""},null,null,null,null,null,null,null,null,null,null,null,null,null,null,null,null,"",{"$f":"IF(B1770=\"\",\"\",IF(R1770<5,INT((A1770-1)/Einstellung!$B$4)+1,\"\"))","v":""},""]
["",null,null,null,null,null,null,null,null,null,null,null,null,null,null,null,null,"",{"$f":"IF(B1771=\"\",\"\",IF(R1771<5,INT((A1771-1)/Einstellung!$B$4)+1,\"\"))","v":""},""]
["",null,null,null,null,null,null,null,null,null,null,null,null,null,null,null,null,"",{"$f":"IF(B1772=\"\",\"\",IF(R1772<5,INT((A1772-1)/Einstellung!$B$4)+1,\"\"))","v":""},""]
["",null,null,null,null,null,null,null,null,null,null,null,null,null,null,null,null,"",{"$f":"IF(B1773=\"\",\"\",IF(R1773<5,INT((A1773-1)/Einstellung!$B$4)+1,\"\"))","v":""},""]
["",null,null,null,null,null,null,null,null,null,null,null,null,null,null,null,null,"",{"$f":"IF(B1774=\"\",\"\",IF(R1774<5,INT((A1774-1)/Einstellung!$B$4)+1,\"\"))","v":""},""]
["",null,null,null,null,null,null,null,null,null,null,null,null,null,null,null,null,"",{"$f":"IF(B1775=\"\",\"\",IF(R1775<5,INT((A1775-1)/Einstellung!$B$4)+1,\"\"))","v":""},""]
["",null,null,null,null,null,null,null,null,null,null,null,null,null,null,null,null,"",{"$f":"IF(B1776=\"\",\"\",IF(R1776<5,INT((A1776-1)/Einstellung!$B$4)+1,\"\"))","v":""},""]
["",null,null,null,null,null,null,null,null,null,null,null,null,null,null,null,null,"",{"$f":"IF(B1777=\"\",\"\",IF(R1777<5,INT((A1777-1)/Einstellung!$B$4)+1,\"\"))","v":""},""]
["",null,null,null,null,null,null,null,null,null,null,null,null,null,null,null,null,"",{"$f":"IF(B1778=\"\",\"\",IF(R1778<5,INT((A1778-1)/Einstellung!$B$4)+1,\"\"))","v":""},""]
["",null,null,null,null,null,null,null,null,null,null,null,null,null,null,null,null,"",{"$f":"IF(B1779=\"\",\"\",IF(R1779<5,INT((A1779-1)/Einstellung!$B$4)+1,\"\"))","v":""},""]
["",null,null,null,null,null,null,null,null,null,null,null,null,null,null,null,null,"",{"$f":"IF(B1780=\"\",\"\",IF(R1780<5,INT((A1780-1)/Einstellung!$B$4)+1,\"\"))","v":""},""]
["",null,null,null,null,null,null,null,null,null,null,null,null,null,null,null,null,"",{"$f":"IF(B1781=\"\",\"\",IF(R1781<5,INT((A1781-1)/Einstellung!$B$4)+1,\"\"))","v":""},""]
["",null,null,null,null,null,null,null,null,null,null,null,null,null,null,null,null,"",{"$f":"IF(B1782=\"\",\"\",IF(R1782<5,INT((A1782-1)/Einstellung!$B$4)+1,\"\"))","v":""},""]
["",null,null,null,null,null,null,null,null,null,null,null,null,null,null,null,null,"",{"$f":"IF(B1783=\"\",\"\",IF(R1783<5,INT((A1783-1)/Einstellung!$B$4)+1,\"\"))","v":""},""]
["",null,null,null,null,null,null,null,null,null,null,null,null,null,null,null,null,"",{"$f":"IF(B1784=\"\",\"\",IF(R1784<5,INT((A1784-1)/Einstellung!$B$4)+1,\"\"))","v":""},""]
["",null,null,null,null,null,null,null,null,null,null,null,null,null,null,null,null,"",{"$f":"IF(B1785=\"\",\"\",IF(R1785<5,INT((A1785-1)/Einstellung!$B$4)+1,\"\"))","v":""},""]
["",null,null,null,null,null,null,null,null,null,null,null,null,null,null,null,null,"",{"$f":"IF(B1786=\"\",\"\",IF(R1786<5,INT((A1786-1)/Einstellung!$B$4)+1,\"\"))","v":""},""]
["",null,null,null,null,null,null,null,null,null,null,null,null,null,null,null,null,"",{"$f":"IF(B1787=\"\",\"\",IF(R1787<5,INT((A1787-1)/Einstellung!$B$4)+1,\"\"))","v":""},""]
["",null,null,null,null,null,null,null,null,null,null,null,null,null,null,null,null,"",{"$f":"IF(B1788=\"\",\"\",IF(R1788<5,INT((A1788-1)/Einstellung!$B$4)+1,\"\"))","v":""},""]
["",null,null,null,null,null,null,null,null,null,null,null,null,null,null,null,null,"",{"$f":"IF(B1789=\"\",\"\",IF(R1789<5,INT((A1789-1)/Einstellung!$B$4)+1,\"\"))","v":""},""]
["",null,null,null,null,null,null,null,null,null,null,null,null,null,null,null,null,"",{"$f":"IF(B1790=\"\",\"\",IF(R1790<5,INT((A1790-1)/Einstellung!$B$4)+1,\"\"))","v":""},""]
["",null,null,null,null,null,null,null,null,null,null,null,null,null,null,null,null,"",{"$f":"IF(B1791=\"\",\"\",IF(R1791<5,INT((A1791-1)/Einstellung!$B$4)+1,\"\"))","v":""},""]
["",null,null,null,null,null,null,null,null,null,null,null,null,null,null,null,null,"",{"$f":"IF(B1792=\"\",\"\",IF(R1792<5,INT((A1792-1)/Einstellung!$B$4)+1,\"\"))","v":""},""]
["",null,null,null,null,null,null,null,null,null,null,null,null,null,null,null,null,"",{"$f":"IF(B1793=\"\",\"\",IF(R1793<5,INT((A1793-1)/Einstellung!$B$4)+1,\"\"))","v":""},""]
["",null,null,null,null,null,null,null,null,null,null,null,null,null,null,null,null,"",{"$f":"IF(B1794=\"\",\"\",IF(R1794<5,INT((A1794-1)/Einstellung!$B$4)+1,\"\"))","v":""},""]
["",null,null,null,null,null,null,null,null,null,null,null,null,null,null,null,null,"",{"$f":"IF(B1795=\"\",\"\",IF(R1795<5,INT((A1795-1)/Einstellung!$B$4)+1,\"\"))","v":""},""]
["",null,null,null,null,null,null,null,null,null,null,null,null,null,null,null,null,"",{"$f":"IF(B1796=\"\",\"\",IF(R1796<5,INT((A1796-1)/Einstellung!$B$4)+1,\"\"))","v":""},""]
["",null,null,null,null,null,null,null,null,null,null,null,null,null,null,null,null,"",{"$f":"IF(B1797=\"\",\"\",IF(R1797<5,INT((A1797-1)/Einstellung!$B$4)+1,\"\"))","v":""},""]
["",null,null,null,null,null,null,null,null,null,null,null,null,null,null,null,null,"",{"$f":"IF(B1798=\"\",\"\",IF(R1798<5,INT((A1798-1)/Einstellung!$B$4)+1,\"\"))","v":""},""]
["",null,null,null,null,null,null,null,null,null,null,null,null,null,null,null,null,"",{"$f":"IF(B1799=\"\",\"\",IF(R1799<5,INT((A1799-1)/Einstellung!$B$4)+1,\"\"))","v":""},""]
["",null,null,null,null,null,null,null,null,null,null,null,null,null,null,null,null,{"$f":"IF(B1800=\"\",\"\",16-((MID(B$1,1,1)=MID(B1800,1,1))+(MID(C$1,1,1)=MID(C1800,1,1))+(MID(D$1,1,1)=MID(D1800,1,1))+(MID(E$1,1,1)=MID(E1800,1,1))+(MID(F$1,1,1)=MID(F1800,1,1))+(MID(G$1,1,1)=MID(G1800,1,1))+(MID(H$1,1,1)=MID(H1800,1,1))+(MID(I$1,1,1)=MID(I1800,1,1))+(MID(J$1,1,1)=MID(J1800,1,1))+(MID(K$1,1,1)=MID(K1800,1,1))+(MID(L$1,1,1)=MID(L1800,1,1))+(MID(M$1,1,1)=MID(M1800,1,1))+(MID(N$1,1,1)=MID(N1800,1,1))+(MID(O$1,1,1)=MID(O1800,1,1))+(MID(P$1,1,1)=MID(P1800,1,1)))-B$4+C$5)","v":""},{"$f":"IF(B1800=\"\",\"\",IF(R1800<5,INT((A1800-1)/Einstellung!$B$4)+1,\"\"))","v":""},{"$f":"IF(C$5<B$4,\"\",IF(R1800>4,\"\",OFFSET(T$2,R1800-1,0)))","v":""}]
["",null,null,null,null,null,null,null,null,null,null,null,null,null,null,null,null,"",{"$f":"IF(B1801=\"\",\"\",IF(R1801<5,INT((A1801-1)/Einstellung!$B$4)+1,\"\"))","v":""},""]
["",null,null,null,null,null,null,null,null,null,null,null,null,null,null,null,null,"",{"$f":"IF(B1802=\"\",\"\",IF(R1802<5,INT((A1802-1)/Einstellung!$B$4)+1,\"\"))","v":""},""]
["",null,null,null,null,null,null,null,null,null,null,null,null,null,null,null,null,"",{"$f":"IF(B1803=\"\",\"\",IF(R1803<5,INT((A1803-1)/Einstellung!$B$4)+1,\"\"))","v":""},""]
["",null,null,null,null,null,null,null,null,null,null,null,null,null,null,null,null,"",{"$f":"IF(B1804=\"\",\"\",IF(R1804<5,INT((A1804-1)/Einstellung!$B$4)+1,\"\"))","v":""},""]
["",null,null,null,null,null,null,null,null,null,null,null,null,null,null,null,null,"",{"$f":"IF(B1805=\"\",\"\",IF(R1805<5,INT((A1805-1)/Einstellung!$B$4)+1,\"\"))","v":""},""]
["",null,null,null,null,null,null,null,null,null,null,null,null,null,null,null,null,"",{"$f":"IF(B1806=\"\",\"\",IF(R1806<5,INT((A1806-1)/Einstellung!$B$4)+1,\"\"))","v":""},""]
["",null,null,null,null,null,null,null,null,null,null,null,null,null,null,null,null,"",{"$f":"IF(B1807=\"\",\"\",IF(R1807<5,INT((A1807-1)/Einstellung!$B$4)+1,\"\"))","v":""},""]
["",null,null,null,null,null,null,null,null,null,null,null,null,null,null,null,null,"",{"$f":"IF(B1808=\"\",\"\",IF(R1808<5,INT((A1808-1)/Einstellung!$B$4)+1,\"\"))","v":""},""]
["",null,null,null,null,null,null,null,null,null,null,null,null,null,null,null,null,"",{"$f":"IF(B1809=\"\",\"\",IF(R1809<5,INT((A1809-1)/Einstellung!$B$4)+1,\"\"))","v":""},""]
["",null,null,null,null,null,null,null,null,null,null,null,null,null,null,null,null,"",{"$f":"IF(B1810=\"\",\"\",IF(R1810<5,INT((A1810-1)/Einstellung!$B$4)+1,\"\"))","v":""},""]
["",null,null,null,null,null,null,null,null,null,null,null,null,null,null,null,null,"",{"$f":"IF(B1811=\"\",\"\",IF(R1811<5,INT((A1811-1)/Einstellung!$B$4)+1,\"\"))","v":""},""]
["",null,null,null,null,null,null,null,null,null,null,null,null,null,null,null,null,"",{"$f":"IF(B1812=\"\",\"\",IF(R1812<5,INT((A1812-1)/Einstellung!$B$4)+1,\"\"))","v":""},""]
["",null,null,null,null,null,null,null,null,null,null,null,null,null,null,null,null,"",{"$f":"IF(B1813=\"\",\"\",IF(R1813<5,INT((A1813-1)/Einstellung!$B$4)+1,\"\"))","v":""},""]
["",null,null,null,null,null,null,null,null,null,null,null,null,null,null,null,null,"",{"$f":"IF(B1814=\"\",\"\",IF(R1814<5,INT((A1814-1)/Einstellung!$B$4)+1,\"\"))","v":""},""]
["",null,null,null,null,null,null,null,null,null,null,null,null,null,null,null,null,"",{"$f":"IF(B1815=\"\",\"\",IF(R1815<5,INT((A1815-1)/Einstellung!$B$4)+1,\"\"))","v":""},""]
["",null,null,null,null,null,null,null,null,null,null,null,null,null,null,null,null,"",{"$f":"IF(B1816=\"\",\"\",IF(R1816<5,INT((A1816-1)/Einstellung!$B$4)+1,\"\"))","v":""},""]
["",null,null,null,null,null,null,null,null,null,null,null,null,null,null,null,null,"",{"$f":"IF(B1817=\"\",\"\",IF(R1817<5,INT((A1817-1)/Einstellung!$B$4)+1,\"\"))","v":""},""]
["",null,null,null,null,null,null,null,null,null,null,null,null,null,null,null,null,"",{"$f":"IF(B1818=\"\",\"\",IF(R1818<5,INT((A1818-1)/Einstellung!$B$4)+1,\"\"))","v":""},""]
["",null,null,null,null,null,null,null,null,null,null,null,null,null,null,null,null,"",{"$f":"IF(B1819=\"\",\"\",IF(R1819<5,INT((A1819-1)/Einstellung!$B$4)+1,\"\"))","v":""},""]
["",null,null,null,null,null,null,null,null,null,null,null,null,null,null,null,null,"",{"$f":"IF(B1820=\"\",\"\",IF(R1820<5,INT((A1820-1)/Einstellung!$B$4)+1,\"\"))","v":""},""]
["",null,null,null,null,null,null,null,null,null,null,null,null,null,null,null,null,"",{"$f":"IF(B1821=\"\",\"\",IF(R1821<5,INT((A1821-1)/Einstellung!$B$4)+1,\"\"))","v":""},""]
["",null,null,null,null,null,null,null,null,null,null,null,null,null,null,null,null,"",{"$f":"IF(B1822=\"\",\"\",IF(R1822<5,INT((A1822-1)/Einstellung!$B$4)+1,\"\"))","v":""},""]
["",null,null,null,null,null,null,null,null,null,null,null,null,null,null,null,null,"",{"$f":"IF(B1823=\"\",\"\",IF(R1823<5,INT((A1823-1)/Einstellung!$B$4)+1,\"\"))","v":""},""]
["",null,null,null,null,null,null,null,null,null,null,null,null,null,null,null,null,"",{"$f":"IF(B1824=\"\",\"\",IF(R1824<5,INT((A1824-1)/Einstellung!$B$4)+1,\"\"))","v":""},""]
["",null,null,null,null,null,null,null,null,null,null,null,null,null,null,null,null,"",{"$f":"IF(B1825=\"\",\"\",IF(R1825<5,INT((A1825-1)/Einstellung!$B$4)+1,\"\"))","v":""},""]
["",null,null,null,null,null,null,null,null,null,null,null,null,null,null,null,null,"",{"$f":"IF(B1826=\"\",\"\",IF(R1826<5,INT((A1826-1)/Einstellung!$B$4)+1,\"\"))","v":""},""]
["",null,null,null,null,null,null,null,null,null,null,null,null,null,null,null,null,"",{"$f":"IF(B1827=\"\",\"\",IF(R1827<5,INT((A1827-1)/Einstellung!$B$4)+1,\"\"))","v":""},""]
["",null,null,null,null,null,null,null,null,null,null,null,null,null,null,null,null,"",{"$f":"IF(B1828=\"\",\"\",IF(R1828<5,INT((A1828-1)/Einstellung!$B$4)+1,\"\"))","v":""},""]
["",null,null,null,null,null,null,null,null,null,null,null,null,null,null,null,null,"",{"$f":"IF(B1829=\"\",\"\",IF(R1829<5,INT((A1829-1)/Einstellung!$B$4)+1,\"\"))","v":""},""]
["",null,null,null,null,null,null,null,null,null,null,null,null,null,null,null,null,"",{"$f":"IF(B1830=\"\",\"\",IF(R1830<5,INT((A1830-1)/Einstellung!$B$4)+1,\"\"))","v":""},""]
["",null,null,null,null,null,null,null,null,null,null,null,null,null,null,null,null,"",{"$f":"IF(B1831=\"\",\"\",IF(R1831<5,INT((A1831-1)/Einstellung!$B$4)+1,\"\"))","v":""},""]
["",null,null,null,null,null,null,null,null,null,null,null,null,null,null,null,null,"",{"$f":"IF(B1832=\"\",\"\",IF(R1832<5,INT((A1832-1)/Einstellung!$B$4)+1,\"\"))","v":""},""]
["",null,null,null,null,null,null,null,null,null,null,null,null,null,null,null,null,"",{"$f":"IF(B1833=\"\",\"\",IF(R1833<5,INT((A1833-1)/Einstellung!$B$4)+1,\"\"))","v":""},""]
[{"$f":"IF(B1834=\"\",\"\",ROW()-7)","v":""},null,null,null,null,null,null,null,null,null,null,null,null,null,null,null,null,"",{"$f":"IF(B1834=\"\",\"\",IF(R1834<5,INT((A1834-1)/Einstellung!$B$4)+1,\"\"))","v":""},""]
["",null,null,null,null,null,null,null,null,null,null,null,null,null,null,null,null,"",{"$f":"IF(B1835=\"\",\"\",IF(R1835<5,INT((A1835-1)/Einstellung!$B$4)+1,\"\"))","v":""},""]
["",null,null,null,null,null,null,null,null,null,null,null,null,null,null,null,null,"",{"$f":"IF(B1836=\"\",\"\",IF(R1836<5,INT((A1836-1)/Einstellung!$B$4)+1,\"\"))","v":""},""]
["",null,null,null,null,null,null,null,null,null,null,null,null,null,null,null,null,"",{"$f":"IF(B1837=\"\",\"\",IF(R1837<5,INT((A1837-1)/Einstellung!$B$4)+1,\"\"))","v":""},""]
["",null,null,null,null,null,null,null,null,null,null,null,null,null,null,null,null,"",{"$f":"IF(B1838=\"\",\"\",IF(R1838<5,INT((A1838-1)/Einstellung!$B$4)+1,\"\"))","v":""},""]
["",null,null,null,null,null,null,null,null,null,null,null,null,null,null,null,null,"",{"$f":"IF(B1839=\"\",\"\",IF(R1839<5,INT((A1839-1)/Einstellung!$B$4)+1,\"\"))","v":""},""]
["",null,null,null,null,null,null,null,null,null,null,null,null,null,null,null,null,"",{"$f":"IF(B1840=\"\",\"\",IF(R1840<5,INT((A1840-1)/Einstellung!$B$4)+1,\"\"))","v":""},""]
["",null,null,null,null,null,null,null,null,null,null,null,null,null,null,null,null,"",{"$f":"IF(B1841=\"\",\"\",IF(R1841<5,INT((A1841-1)/Einstellung!$B$4)+1,\"\"))","v":""},""]
["",null,null,null,null,null,null,null,null,null,null,null,null,null,null,null,null,"",{"$f":"IF(B1842=\"\",\"\",IF(R1842<5,INT((A1842-1)/Einstellung!$B$4)+1,\"\"))","v":""},""]
["",null,null,null,null,null,null,null,null,null,null,null,null,null,null,null,null,"",{"$f":"IF(B1843=\"\",\"\",IF(R1843<5,INT((A1843-1)/Einstellung!$B$4)+1,\"\"))","v":""},""]
["",null,null,null,null,null,null,null,null,null,null,null,null,null,null,null,null,"",{"$f":"IF(B1844=\"\",\"\",IF(R1844<5,INT((A1844-1)/Einstellung!$B$4)+1,\"\"))","v":""},""]
["",null,null,null,null,null,null,null,null,null,null,null,null,null,null,null,null,"",{"$f":"IF(B1845=\"\",\"\",IF(R1845<5,INT((A1845-1)/Einstellung!$B$4)+1,\"\"))","v":""},""]
["",null,null,null,null,null,null,null,null,null,null,null,null,null,null,null,null,"",{"$f":"IF(B1846=\"\",\"\",IF(R1846<5,INT((A1846-1)/Einstellung!$B$4)+1,\"\"))","v":""},""]
["",null,null,null,null,null,null,null,null,null,null,null,null,null,null,null,null,"",{"$f":"IF(B1847=\"\",\"\",IF(R1847<5,INT((A1847-1)/Einstellung!$B$4)+1,\"\"))","v":""},""]
["",null,null,null,null,null,null,null,null,null,null,null,null,null,null,null,null,"",{"$f":"IF(B1848=\"\",\"\",IF(R1848<5,INT((A1848-1)/Einstellung!$B$4)+1,\"\"))","v":""},""]
["",null,null,null,null,null,null,null,null,null,null,null,null,null,null,null,null,"",{"$f":"IF(B1849=\"\",\"\",IF(R1849<5,INT((A1849-1)/Einstellung!$B$4)+1,\"\"))","v":""},""]
["",null,null,null,null,null,null,null,null,null,null,null,null,null,null,null,null,"",{"$f":"IF(B1850=\"\",\"\",IF(R1850<5,INT((A1850-1)/Einstellung!$B$4)+1,\"\"))","v":""},""]
["",null,null,null,null,null,null,null,null,null,null,null,null,null,null,null,null,"",{"$f":"IF(B1851=\"\",\"\",IF(R1851<5,INT((A1851-1)/Einstellung!$B$4)+1,\"\"))","v":""},""]
["",null,null,null,null,null,null,null,null,null,null,null,null,null,null,null,null,"",{"$f":"IF(B1852=\"\",\"\",IF(R1852<5,INT((A1852-1)/Einstellung!$B$4)+1,\"\"))","v":""},""]
["",null,null,null,null,null,null,null,null,null,null,null,null,null,null,null,null,"",{"$f":"IF(B1853=\"\",\"\",IF(R1853<5,INT((A1853-1)/Einstellung!$B$4)+1,\"\"))","v":""},""]
["",null,null,null,null,null,null,null,null,null,null,null,null,null,null,null,null,"",{"$f":"IF(B1854=\"\",\"\",IF(R1854<5,INT((A1854-1)/Einstellung!$B$4)+1,\"\"))","v":""},""]
["",null,null,null,null,null,null,null,null,null,null,null,null,null,null,null,null,"",{"$f":"IF(B1855=\"\",\"\",IF(R1855<5,INT((A1855-1)/Einstellung!$B$4)+1,\"\"))","v":""},""]
["",null,null,null,null,null,null,null,null,null,null,null,null,null,null,null,null,"",{"$f":"IF(B1856=\"\",\"\",IF(R1856<5,INT((A1856-1)/Einstellung!$B$4)+1,\"\"))","v":""},""]
["",null,null,null,null,null,null,null,null,null,null,null,null,null,null,null,null,"",{"$f":"IF(B1857=\"\",\"\",IF(R1857<5,INT((A1857-1)/Einstellung!$B$4)+1,\"\"))","v":""},""]
["",null,null,null,null,null,null,null,null,null,null,null,null,null,null,null,null,"",{"$f":"IF(B1858=\"\",\"\",IF(R1858<5,INT((A1858-1)/Einstellung!$B$4)+1,\"\"))","v":""},""]
["",null,null,null,null,null,null,null,null,null,null,null,null,null,null,null,null,"",{"$f":"IF(B1859=\"\",\"\",IF(R1859<5,INT((A1859-1)/Einstellung!$B$4)+1,\"\"))","v":""},""]
["",null,null,null,null,null,null,null,null,null,null,null,null,null,null,null,null,"",{"$f":"IF(B1860=\"\",\"\",IF(R1860<5,INT((A1860-1)/Einstellung!$B$4)+1,\"\"))","v":""},""]
["",null,null,null,null,null,null,null,null,null,null,null,null,null,null,null,null,"",{"$f":"IF(B1861=\"\",\"\",IF(R1861<5,INT((A1861-1)/Einstellung!$B$4)+1,\"\"))","v":""},""]
["",null,null,null,null,null,null,null,null,null,null,null,null,null,null,null,null,"",{"$f":"IF(B1862=\"\",\"\",IF(R1862<5,INT((A1862-1)/Einstellung!$B$4)+1,\"\"))","v":""},""]
["",null,null,null,null,null,null,null,null,null,null,null,null,null,null,null,null,"",{"$f":"IF(B1863=\"\",\"\",IF(R1863<5,INT((A1863-1)/Einstellung!$B$4)+1,\"\"))","v":""},""]
["",null,null,null,null,null,null,null,null,null,null,null,null,null,null,null,null,{"$f":"IF(B1864=\"\",\"\",16-((MID(B$1,1,1)=MID(B1864,1,1))+(MID(C$1,1,1)=MID(C1864,1,1))+(MID(D$1,1,1)=MID(D1864,1,1))+(MID(E$1,1,1)=MID(E1864,1,1))+(MID(F$1,1,1)=MID(F1864,1,1))+(MID(G$1,1,1)=MID(G1864,1,1))+(MID(H$1,1,1)=MID(H1864,1,1))+(MID(I$1,1,1)=MID(I1864,1,1))+(MID(J$1,1,1)=MID(J1864,1,1))+(MID(K$1,1,1)=MID(K1864,1,1))+(MID(L$1,1,1)=MID(L1864,1,1))+(MID(M$1,1,1)=MID(M1864,1,1))+(MID(N$1,1,1)=MID(N1864,1,1))+(MID(O$1,1,1)=MID(O1864,1,1))+(MID(P$1,1,1)=MID(P1864,1,1)))-B$4+C$5)","v":""},{"$f":"IF(B1864=\"\",\"\",IF(R1864<5,INT((A1864-1)/Einstellung!$B$4)+1,\"\"))","v":""},{"$f":"IF(C$5<B$4,\"\",IF(R1864>4,\"\",OFFSET(T$2,R1864-1,0)))","v":""}]
["",null,null,null,null,null,null,null,null,null,null,null,null,null,null,null,null,"",{"$f":"IF(B1865=\"\",\"\",IF(R1865<5,INT((A1865-1)/Einstellung!$B$4)+1,\"\"))","v":""},""]
["",null,null,null,null,null,null,null,null,null,null,null,null,null,null,null,null,"",{"$f":"IF(B1866=\"\",\"\",IF(R1866<5,INT((A1866-1)/Einstellung!$B$4)+1,\"\"))","v":""},""]
["",null,null,null,null,null,null,null,null,null,null,null,null,null,null,null,null,"",{"$f":"IF(B1867=\"\",\"\",IF(R1867<5,INT((A1867-1)/Einstellung!$B$4)+1,\"\"))","v":""},""]
["",null,null,null,null,null,null,null,null,null,null,null,null,null,null,null,null,"",{"$f":"IF(B1868=\"\",\"\",IF(R1868<5,INT((A1868-1)/Einstellung!$B$4)+1,\"\"))","v":""},""]
["",null,null,null,null,null,null,null,null,null,null,null,null,null,null,null,null,"",{"$f":"IF(B1869=\"\",\"\",IF(R1869<5,INT((A1869-1)/Einstellung!$B$4)+1,\"\"))","v":""},""]
["",null,null,null,null,null,null,null,null,null,null,null,null,null,null,null,null,"",{"$f":"IF(B1870=\"\",\"\",IF(R1870<5,INT((A1870-1)/Einstellung!$B$4)+1,\"\"))","v":""},""]
["",null,null,null,null,null,null,null,null,null,null,null,null,null,null,null,null,"",{"$f":"IF(B1871=\"\",\"\",IF(R1871<5,INT((A1871-1)/Einstellung!$B$4)+1,\"\"))","v":""},""]
["",null,null,null,null,null,null,null,null,null,null,null,null,null,null,null,null,"",{"$f":"IF(B1872=\"\",\"\",IF(R1872<5,INT((A1872-1)/Einstellung!$B$4)+1,\"\"))","v":""},""]
["",null,null,null,null,null,null,null,null,null,null,null,null,null,null,null,null,"",{"$f":"IF(B1873=\"\",\"\",IF(R1873<5,INT((A1873-1)/Einstellung!$B$4)+1,\"\"))","v":""},""]
["",null,null,null,null,null,null,null,null,null,null,null,null,null,null,null,null,"",{"$f":"IF(B1874=\"\",\"\",IF(R1874<5,INT((A1874-1)/Einstellung!$B$4)+1,\"\"))","v":""},""]
["",null,null,null,null,null,null,null,null,null,null,null,null,null,null,null,null,"",{"$f":"IF(B1875=\"\",\"\",IF(R1875<5,INT((A1875-1)/Einstellung!$B$4)+1,\"\"))","v":""},""]
["",null,null,null,null,null,null,null,null,null,null,null,null,null,null,null,null,"",{"$f":"IF(B1876=\"\",\"\",IF(R1876<5,INT((A1876-1)/Einstellung!$B$4)+1,\"\"))","v":""},""]
["",null,null,null,null,null,null,null,null,null,null,null,null,null,null,null,null,"",{"$f":"IF(B1877=\"\",\"\",IF(R1877<5,INT((A1877-1)/Einstellung!$B$4)+1,\"\"))","v":""},""]
["",null,null,null,null,null,null,null,null,null,null,null,null,null,null,null,null,"",{"$f":"IF(B1878=\"\",\"\",IF(R1878<5,INT((A1878-1)/Einstellung!$B$4)+1,\"\"))","v":""},""]
["",null,null,null,null,null,null,null,null,null,null,null,null,null,null,null,null,"",{"$f":"IF(B1879=\"\",\"\",IF(R1879<5,INT((A1879-1)/Einstellung!$B$4)+1,\"\"))","v":""},""]
["",null,null,null,null,null,null,null,null,null,null,null,null,null,null,null,null,"",{"$f":"IF(B1880=\"\",\"\",IF(R1880<5,INT((A1880-1)/Einstellung!$B$4)+1,\"\"))","v":""},""]
["",null,null,null,null,null,null,null,null,null,null,null,null,null,null,null,null,"",{"$f":"IF(B1881=\"\",\"\",IF(R1881<5,INT((A1881-1)/Einstellung!$B$4)+1,\"\"))","v":""},""]
["",null,null,null,null,null,null,null,null,null,null,null,null,null,null,null,null,"",{"$f":"IF(B1882=\"\",\"\",IF(R1882<5,INT((A1882-1)/Einstellung!$B$4)+1,\"\"))","v":""},""]
["",null,null,null,null,null,null,null,null,null,null,null,null,null,null,null,null,"",{"$f":"IF(B1883=\"\",\"\",IF(R1883<5,INT((A1883-1)/Einstellung!$B$4)+1,\"\"))","v":""},""]
["",null,null,null,null,null,null,null,null,null,null,null,null,null,null,null,null,"",{"$f":"IF(B1884=\"\",\"\",IF(R1884<5,INT((A1884-1)/Einstellung!$B$4)+1,\"\"))","v":""},""]
["",null,null,null,null,null,null,null,null,null,null,null,null,null,null,null,null,"",{"$f":"IF(B1885=\"\",\"\",IF(R1885<5,INT((A1885-1)/Einstellung!$B$4)+1,\"\"))","v":""},""]
["",null,null,null,null,null,null,null,null,null,null,null,null,null,null,null,null,"",{"$f":"IF(B1886=\"\",\"\",IF(R1886<5,INT((A1886-1)/Einstellung!$B$4)+1,\"\"))","v":""},""]
["",null,null,null,null,null,null,null,null,null,null,null,null,null,null,null,null,"",{"$f":"IF(B1887=\"\",\"\",IF(R1887<5,INT((A1887-1)/Einstellung!$B$4)+1,\"\"))","v":""},""]
["",null,null,null,null,null,null,null,null,null,null,null,null,null,null,null,null,"",{"$f":"IF(B1888=\"\",\"\",IF(R1888<5,INT((A1888-1)/Einstellung!$B$4)+1,\"\"))","v":""},""]
["",null,null,null,null,null,null,null,null,null,null,null,null,null,null,null,null,"",{"$f":"IF(B1889=\"\",\"\",IF(R1889<5,INT((A1889-1)/Einstellung!$B$4)+1,\"\"))","v":""},""]
["",null,null,null,null,null,null,null,null,null,null,null,null,null,null,null,null,"",{"$f":"IF(B1890=\"\",\"\",IF(R1890<5,INT((A1890-1)/Einstellung!$B$4)+1,\"\"))","v":""},""]
["",null,null,null,null,null,null,null,null,null,null,null,null,null,null,null,null,"",{"$f":"IF(B1891=\"\",\"\",IF(R1891<5,INT((A1891-1)/Einstellung!$B$4)+1,\"\"))","v":""},""]
["",null,null,null,null,null,null,null,null,null,null,null,null,null,null,null,null,"",{"$f":"IF(B1892=\"\",\"\",IF(R1892<5,INT((A1892-1)/Einstellung!$B$4)+1,\"\"))","v":""},""]
["",null,null,null,null,null,null,null,null,null,null,null,null,null,null,null,null,"",{"$f":"IF(B1893=\"\",\"\",IF(R1893<5,INT((A1893-1)/Einstellung!$B$4)+1,\"\"))","v":""},""]
["",null,null,null,null,null,null,null,null,null,null,null,null,null,null,null,null,"",{"$f":"IF(B1894=\"\",\"\",IF(R1894<5,INT((A1894-1)/Einstellung!$B$4)+1,\"\"))","v":""},""]
["",null,null,null,null,null,null,null,null,null,null,null,null,null,null,null,null,"",{"$f":"IF(B1895=\"\",\"\",IF(R1895<5,INT((A1895-1)/Einstellung!$B$4)+1,\"\"))","v":""},""]
["",null,null,null,null,null,null,null,null,null,null,null,null,null,null,null,null,"",{"$f":"IF(B1896=\"\",\"\",IF(R1896<5,INT((A1896-1)/Einstellung!$B$4)+1,\"\"))","v":""},""]
["",null,null,null,null,null,null,null,null,null,null,null,null,null,null,null,null,"",{"$f":"IF(B1897=\"\",\"\",IF(R1897<5,INT((A1897-1)/Einstellung!$B$4)+1,\"\"))","v":""},""]
[{"$f":"IF(B1898=\"\",\"\",ROW()-7)","v":""},null,null,null,null,null,null,null,null,null,null,null,null,null,null,null,null,"",{"$f":"IF(B1898=\"\",\"\",IF(R1898<5,INT((A1898-1)/Einstellung!$B$4)+1,\"\"))","v":""},""]
["",null,null,null,null,null,null,null,null,null,null,null,null,null,null,null,null,"",{"$f":"IF(B1899=\"\",\"\",IF(R1899<5,INT((A1899-1)/Einstellung!$B$4)+1,\"\"))","v":""},""]
["",null,null,null,null,null,null,null,null,null,null,null,null,null,null,null,null,"",{"$f":"IF(B1900=\"\",\"\",IF(R1900<5,INT((A1900-1)/Einstellung!$B$4)+1,\"\"))","v":""},""]
["",null,null,null,null,null,null,null,null,null,null,null,null,null,null,null,null,"",{"$f":"IF(B1901=\"\",\"\",IF(R1901<5,INT((A1901-1)/Einstellung!$B$4)+1,\"\"))","v":""},""]
["",null,null,null,null,null,null,null,null,null,null,null,null,null,null,null,null,"",{"$f":"IF(B1902=\"\",\"\",IF(R1902<5,INT((A1902-1)/Einstellung!$B$4)+1,\"\"))","v":""},""]
["",null,null,null,null,null,null,null,null,null,null,null,null,null,null,null,null,"",{"$f":"IF(B1903=\"\",\"\",IF(R1903<5,INT((A1903-1)/Einstellung!$B$4)+1,\"\"))","v":""},""]
["",null,null,null,null,null,null,null,null,null,null,null,null,null,null,null,null,"",{"$f":"IF(B1904=\"\",\"\",IF(R1904<5,INT((A1904-1)/Einstellung!$B$4)+1,\"\"))","v":""},""]
["",null,null,null,null,null,null,null,null,null,null,null,null,null,null,null,null,"",{"$f":"IF(B1905=\"\",\"\",IF(R1905<5,INT((A1905-1)/Einstellung!$B$4)+1,\"\"))","v":""},""]
["",null,null,null,null,null,null,null,null,null,null,null,null,null,null,null,null,"",{"$f":"IF(B1906=\"\",\"\",IF(R1906<5,INT((A1906-1)/Einstellung!$B$4)+1,\"\"))","v":""},""]
["",null,null,null,null,null,null,null,null,null,null,null,null,null,null,null,null,"",{"$f":"IF(B1907=\"\",\"\",IF(R1907<5,INT((A1907-1)/Einstellung!$B$4)+1,\"\"))","v":""},""]
["",null,null,null,null,null,null,null,null,null,null,null,null,null,null,null,null,"",{"$f":"IF(B1908=\"\",\"\",IF(R1908<5,INT((A1908-1)/Einstellung!$B$4)+1,\"\"))","v":""},""]
["",null,null,null,null,null,null,null,null,null,null,null,null,null,null,null,null,"",{"$f":"IF(B1909=\"\",\"\",IF(R1909<5,INT((A1909-1)/Einstellung!$B$4)+1,\"\"))","v":""},""]
["",null,null,null,null,null,null,null,null,null,null,null,null,null,null,null,null,"",{"$f":"IF(B1910=\"\",\"\",IF(R1910<5,INT((A1910-1)/Einstellung!$B$4)+1,\"\"))","v":""},""]
["",null,null,null,null,null,null,null,null,null,null,null,null,null,null,null,null,"",{"$f":"IF(B1911=\"\",\"\",IF(R1911<5,INT((A1911-1)/Einstellung!$B$4)+1,\"\"))","v":""},""]
["",null,null,null,null,null,null,null,null,null,null,null,null,null,null,null,null,"",{"$f":"IF(B1912=\"\",\"\",IF(R1912<5,INT((A1912-1)/Einstellung!$B$4)+1,\"\"))","v":""},""]
["",null,null,null,null,null,null,null,null,null,null,null,null,null,null,null,null,"",{"$f":"IF(B1913=\"\",\"\",IF(R1913<5,INT((A1913-1)/Einstellung!$B$4)+1,\"\"))","v":""},""]
["",null,null,null,null,null,null,null,null,null,null,null,null,null,null,null,null,"",{"$f":"IF(B1914=\"\",\"\",IF(R1914<5,INT((A1914-1)/Einstellung!$B$4)+1,\"\"))","v":""},""]
["",null,null,null,null,null,null,null,null,null,null,null,null,null,null,null,null,"",{"$f":"IF(B1915=\"\",\"\",IF(R1915<5,INT((A1915-1)/Einstellung!$B$4)+1,\"\"))","v":""},""]
["",null,null,null,null,null,null,null,null,null,null,null,null,null,null,null,null,"",{"$f":"IF(B1916=\"\",\"\",IF(R1916<5,INT((A1916-1)/Einstellung!$B$4)+1,\"\"))","v":""},""]
["",null,null,null,null,null,null,null,null,null,null,null,null,null,null,null,null,"",{"$f":"IF(B1917=\"\",\"\",IF(R1917<5,INT((A1917-1)/Einstellung!$B$4)+1,\"\"))","v":""},""]
["",null,null,null,null,null,null,null,null,null,null,null,null,null,null,null,null,"",{"$f":"IF(B1918=\"\",\"\",IF(R1918<5,INT((A1918-1)/Einstellung!$B$4)+1,\"\"))","v":""},""]
["",null,null,null,null,null,null,null,null,null,null,null,null,null,null,null,null,"",{"$f":"IF(B1919=\"\",\"\",IF(R1919<5,INT((A1919-1)/Einstellung!$B$4)+1,\"\"))","v":""},""]
["",null,null,null,null,null,null,null,null,null,null,null,null,null,null,null,null,"",{"$f":"IF(B1920=\"\",\"\",IF(R1920<5,INT((A1920-1)/Einstellung!$B$4)+1,\"\"))","v":""},""]
["",null,null,null,null,null,null,null,null,null,null,null,null,null,null,null,null,"",{"$f":"IF(B1921=\"\",\"\",IF(R1921<5,INT((A1921-1)/Einstellung!$B$4)+1,\"\"))","v":""},""]
["",null,null,null,null,null,null,null,null,null,null,null,null,null,null,null,null,"",{"$f":"IF(B1922=\"\",\"\",IF(R1922<5,INT((A1922-1)/Einstellung!$B$4)+1,\"\"))","v":""},""]
["",null,null,null,null,null,null,null,null,null,null,null,null,null,null,null,null,"",{"$f":"IF(B1923=\"\",\"\",IF(R1923<5,INT((A1923-1)/Einstellung!$B$4)+1,\"\"))","v":""},""]
["",null,null,null,null,null,null,null,null,null,null,null,null,null,null,null,null,"",{"$f":"IF(B1924=\"\",\"\",IF(R1924<5,INT((A1924-1)/Einstellung!$B$4)+1,\"\"))","v":""},""]
["",null,null,null,null,null,null,null,null,null,null,null,null,null,null,null,null,"",{"$f":"IF(B1925=\"\",\"\",IF(R1925<5,INT((A1925-1)/Einstellung!$B$4)+1,\"\"))","v":""},""]
["",null,null,null,null,null,null,null,null,null,null,null,null,null,null,null,null,"",{"$f":"IF(B1926=\"\",\"\",IF(R1926<5,INT((A1926-1)/Einstellung!$B$4)+1,\"\"))","v":""},""]
["",null,null,null,null,null,null,null,null,null,null,null,null,null,null,null,null,"",{"$f":"IF(B1927=\"\",\"\",IF(R1927<5,INT((A1927-1)/Einstellung!$B$4)+1,\"\"))","v":""},""]
["",null,null,null,null,null,null,null,null,null,null,null,null,null,null,null,null,{"$f":"IF(B1928=\"\",\"\",16-((MID(B$1,1,1)=MID(B1928,1,1))+(MID(C$1,1,1)=MID(C1928,1,1))+(MID(D$1,1,1)=MID(D1928,1,1))+(MID(E$1,1,1)=MID(E1928,1,1))+(MID(F$1,1,1)=MID(F1928,1,1))+(MID(G$1,1,1)=MID(G1928,1,1))+(MID(H$1,1,1)=MID(H1928,1,1))+(MID(I$1,1,1)=MID(I1928,1,1))+(MID(J$1,1,1)=MID(J1928,1,1))+(MID(K$1,1,1)=MID(K1928,1,1))+(MID(L$1,1,1)=MID(L1928,1,1))+(MID(M$1,1,1)=MID(M1928,1,1))+(MID(N$1,1,1)=MID(N1928,1,1))+(MID(O$1,1,1)=MID(O1928,1,1))+(MID(P$1,1,1)=MID(P1928,1,1)))-B$4+C$5)","v":""},{"$f":"IF(B1928=\"\",\"\",IF(R1928<5,INT((A1928-1)/Einstellung!$B$4)+1,\"\"))","v":""},{"$f":"IF(C$5<B$4,\"\",IF(R1928>4,\"\",OFFSET(T$2,R1928-1,0)))","v":""}]
["",null,null,null,null,null,null,null,null,null,null,null,null,null,null,null,null,"",{"$f":"IF(B1929=\"\",\"\",IF(R1929<5,INT((A1929-1)/Einstellung!$B$4)+1,\"\"))","v":""},""]
["",null,null,null,null,null,null,null,null,null,null,null,null,null,null,null,null,"",{"$f":"IF(B1930=\"\",\"\",IF(R1930<5,INT((A1930-1)/Einstellung!$B$4)+1,\"\"))","v":""},""]
["",null,null,null,null,null,null,null,null,null,null,null,null,null,null,null,null,"",{"$f":"IF(B1931=\"\",\"\",IF(R1931<5,INT((A1931-1)/Einstellung!$B$4)+1,\"\"))","v":""},""]
["",null,null,null,null,null,null,null,null,null,null,null,null,null,null,null,null,"",{"$f":"IF(B1932=\"\",\"\",IF(R1932<5,INT((A1932-1)/Einstellung!$B$4)+1,\"\"))","v":""},""]
["",null,null,null,null,null,null,null,null,null,null,null,null,null,null,null,null,"",{"$f":"IF(B1933=\"\",\"\",IF(R1933<5,INT((A1933-1)/Einstellung!$B$4)+1,\"\"))","v":""},""]
["",null,null,null,null,null,null,null,null,null,null,null,null,null,null,null,null,"",{"$f":"IF(B1934=\"\",\"\",IF(R1934<5,INT((A1934-1)/Einstellung!$B$4)+1,\"\"))","v":""},""]
["",null,null,null,null,null,null,null,null,null,null,null,null,null,null,null,null,"",{"$f":"IF(B1935=\"\",\"\",IF(R1935<5,INT((A1935-1)/Einstellung!$B$4)+1,\"\"))","v":""},""]
["",null,null,null,null,null,null,null,null,null,null,null,null,null,null,null,null,"",{"$f":"IF(B1936=\"\",\"\",IF(R1936<5,INT((A1936-1)/Einstellung!$B$4)+1,\"\"))","v":""},""]
["",null,null,null,null,null,null,null,null,null,null,null,null,null,null,null,null,"",{"$f":"IF(B1937=\"\",\"\",IF(R1937<5,INT((A1937-1)/Einstellung!$B$4)+1,\"\"))","v":""},""]
["",null,null,null,null,null,null,null,null,null,null,null,null,null,null,null,null,"",{"$f":"IF(B1938=\"\",\"\",IF(R1938<5,INT((A1938-1)/Einstellung!$B$4)+1,\"\"))","v":""},""]
["",null,null,null,null,null,null,null,null,null,null,null,null,null,null,null,null,"",{"$f":"IF(B1939=\"\",\"\",IF(R1939<5,INT((A1939-1)/Einstellung!$B$4)+1,\"\"))","v":""},""]
["",null,null,null,null,null,null,null,null,null,null,null,null,null,null,null,null,"",{"$f":"IF(B1940=\"\",\"\",IF(R1940<5,INT((A1940-1)/Einstellung!$B$4)+1,\"\"))","v":""},""]
["",null,null,null,null,null,null,null,null,null,null,null,null,null,null,null,null,"",{"$f":"IF(B1941=\"\",\"\",IF(R1941<5,INT((A1941-1)/Einstellung!$B$4)+1,\"\"))","v":""},""]
["",null,null,null,null,null,null,null,null,null,null,null,null,null,null,null,null,"",{"$f":"IF(B1942=\"\",\"\",IF(R1942<5,INT((A1942-1)/Einstellung!$B$4)+1,\"\"))","v":""},""]
["",null,null,null,null,null,null,null,null,null,null,null,null,null,null,null,null,"",{"$f":"IF(B1943=\"\",\"\",IF(R1943<5,INT((A1943-1)/Einstellung!$B$4)+1,\"\"))","v":""},""]
["",null,null,null,null,null,null,null,null,null,null,null,null,null,null,null,null,"",{"$f":"IF(B1944=\"\",\"\",IF(R1944<5,INT((A1944-1)/Einstellung!$B$4)+1,\"\"))","v":""},""]
["",null,null,null,null,null,null,null,null,null,null,null,null,null,null,null,null,"",{"$f":"IF(B1945=\"\",\"\",IF(R1945<5,INT((A1945-1)/Einstellung!$B$4)+1,\"\"))","v":""},""]
["",null,null,null,null,null,null,null,null,null,null,null,null,null,null,null,null,"",{"$f":"IF(B1946=\"\",\"\",IF(R1946<5,INT((A1946-1)/Einstellung!$B$4)+1,\"\"))","v":""},""]
["",null,null,null,null,null,null,null,null,null,null,null,null,null,null,null,null,"",{"$f":"IF(B1947=\"\",\"\",IF(R1947<5,INT((A1947-1)/Einstellung!$B$4)+1,\"\"))","v":""},""]
["",null,null,null,null,null,null,null,null,null,null,null,null,null,null,null,null,"",{"$f":"IF(B1948=\"\",\"\",IF(R1948<5,INT((A1948-1)/Einstellung!$B$4)+1,\"\"))","v":""},""]
["",null,null,null,null,null,null,null,null,null,null,null,null,null,null,null,null,"",{"$f":"IF(B1949=\"\",\"\",IF(R1949<5,INT((A1949-1)/Einstellung!$B$4)+1,\"\"))","v":""},""]
["",null,null,null,null,null,null,null,null,null,null,null,null,null,null,null,null,"",{"$f":"IF(B1950=\"\",\"\",IF(R1950<5,INT((A1950-1)/Einstellung!$B$4)+1,\"\"))","v":""},""]
["",null,null,null,null,null,null,null,null,null,null,null,null,null,null,null,null,"",{"$f":"IF(B1951=\"\",\"\",IF(R1951<5,INT((A1951-1)/Einstellung!$B$4)+1,\"\"))","v":""},""]
["",null,null,null,null,null,null,null,null,null,null,null,null,null,null,null,null,"",{"$f":"IF(B1952=\"\",\"\",IF(R1952<5,INT((A1952-1)/Einstellung!$B$4)+1,\"\"))","v":""},""]
["",null,null,null,null,null,null,null,null,null,null,null,null,null,null,null,null,"",{"$f":"IF(B1953=\"\",\"\",IF(R1953<5,INT((A1953-1)/Einstellung!$B$4)+1,\"\"))","v":""},""]
["",null,null,null,null,null,null,null,null,null,null,null,null,null,null,null,null,"",{"$f":"IF(B1954=\"\",\"\",IF(R1954<5,INT((A1954-1)/Einstellung!$B$4)+1,\"\"))","v":""},""]
["",null,null,null,null,null,null,null,null,null,null,null,null,null,null,null,null,"",{"$f":"IF(B1955=\"\",\"\",IF(R1955<5,INT((A1955-1)/Einstellung!$B$4)+1,\"\"))","v":""},""]
["",null,null,null,null,null,null,null,null,null,null,null,null,null,null,null,null,"",{"$f":"IF(B1956=\"\",\"\",IF(R1956<5,INT((A1956-1)/Einstellung!$B$4)+1,\"\"))","v":""},""]
["",null,null,null,null,null,null,null,null,null,null,null,null,null,null,null,null,"",{"$f":"IF(B1957=\"\",\"\",IF(R1957<5,INT((A1957-1)/Einstellung!$B$4)+1,\"\"))","v":""},""]
["",null,null,null,null,null,null,null,null,null,null,null,null,null,null,null,null,"",{"$f":"IF(B1958=\"\",\"\",IF(R1958<5,INT((A1958-1)/Einstellung!$B$4)+1,\"\"))","v":""},""]
["",null,null,null,null,null,null,null,null,null,null,null,null,null,null,null,null,"",{"$f":"IF(B1959=\"\",\"\",IF(R1959<5,INT((A1959-1)/Einstellung!$B$4)+1,\"\"))","v":""},""]
["",null,null,null,null,null,null,null,null,null,null,null,null,null,null,null,null,"",{"$f":"IF(B1960=\"\",\"\",IF(R1960<5,INT((A1960-1)/Einstellung!$B$4)+1,\"\"))","v":""},""]
["",null,null,null,null,null,null,null,null,null,null,null,null,null,null,null,null,"",{"$f":"IF(B1961=\"\",\"\",IF(R1961<5,INT((A1961-1)/Einstellung!$B$4)+1,\"\"))","v":""},""]
[{"$f":"IF(B1962=\"\",\"\",ROW()-7)","v":""},null,null,null,null,null,null,null,null,null,null,null,null,null,null,null,null,"",{"$f":"IF(B1962=\"\",\"\",IF(R1962<5,INT((A1962-1)/Einstellung!$B$4)+1,\"\"))","v":""},""]
["",null,null,null,null,null,null,null,null,null,null,null,null,null,null,null,null,"",{"$f":"IF(B1963=\"\",\"\",IF(R1963<5,INT((A1963-1)/Einstellung!$B$4)+1,\"\"))","v":""},""]
["",null,null,null,null,null,null,null,null,null,null,null,null,null,null,null,null,"",{"$f":"IF(B1964=\"\",\"\",IF(R1964<5,INT((A1964-1)/Einstellung!$B$4)+1,\"\"))","v":""},""]
["",null,null,null,null,null,null,null,null,null,null,null,null,null,null,null,null,"",{"$f":"IF(B1965=\"\",\"\",IF(R1965<5,INT((A1965-1)/Einstellung!$B$4)+1,\"\"))","v":""},""]
["",null,null,null,null,null,null,null,null,null,null,null,null,null,null,null,null,"",{"$f":"IF(B1966=\"\",\"\",IF(R1966<5,INT((A1966-1)/Einstellung!$B$4)+1,\"\"))","v":""},""]
["",null,null,null,null,null,null,null,null,null,null,null,null,null,null,null,null,"",{"$f":"IF(B1967=\"\",\"\",IF(R1967<5,INT((A1967-1)/Einstellung!$B$4)+1,\"\"))","v":""},""]
["",null,null,null,null,null,null,null,null,null,null,null,null,null,null,null,null,"",{"$f":"IF(B1968=\"\",\"\",IF(R1968<5,INT((A1968-1)/Einstellung!$B$4)+1,\"\"))","v":""},""]
["",null,null,null,null,null,null,null,null,null,null,null,null,null,null,null,null,"",{"$f":"IF(B1969=\"\",\"\",IF(R1969<5,INT((A1969-1)/Einstellung!$B$4)+1,\"\"))","v":""},""]
["",null,null,null,null,null,null,null,null,null,null,null,null,null,null,null,null,"",{"$f":"IF(B1970=\"\",\"\",IF(R1970<5,INT((A1970-1)/Einstellung!$B$4)+1,\"\"))","v":""},""]
["",null,null,null,null,null,null,null,null,null,null,null,null,null,null,null,null,"",{"$f":"IF(B1971=\"\",\"\",IF(R1971<5,INT((A1971-1)/Einstellung!$B$4)+1,\"\"))","v":""},""]
["",null,null,null,null,null,null,null,null,null,null,null,null,null,null,null,null,"",{"$f":"IF(B1972=\"\",\"\",IF(R1972<5,INT((A1972-1)/Einstellung!$B$4)+1,\"\"))","v":""},""]
["",null,null,null,null,null,null,null,null,null,null,null,null,null,null,null,null,"",{"$f":"IF(B1973=\"\",\"\",IF(R1973<5,INT((A1973-1)/Einstellung!$B$4)+1,\"\"))","v":""},""]
["",null,null,null,null,null,null,null,null,null,null,null,null,null,null,null,null,"",{"$f":"IF(B1974=\"\",\"\",IF(R1974<5,INT((A1974-1)/Einstellung!$B$4)+1,\"\"))","v":""},""]
["",null,null,null,null,null,null,null,null,null,null,null,null,null,null,null,null,"",{"$f":"IF(B1975=\"\",\"\",IF(R1975<5,INT((A1975-1)/Einstellung!$B$4)+1,\"\"))","v":""},""]
["",null,null,null,null,null,null,null,null,null,null,null,null,null,null,null,null,"",{"$f":"IF(B1976=\"\",\"\",IF(R1976<5,INT((A1976-1)/Einstellung!$B$4)+1,\"\"))","v":""},""]
["",null,null,null,null,null,null,null,null,null,null,null,null,null,null,null,null,"",{"$f":"IF(B1977=\"\",\"\",IF(R1977<5,INT((A1977-1)/Einstellung!$B$4)+1,\"\"))","v":""},""]
["",null,null,null,null,null,null,null,null,null,null,null,null,null,null,null,null,"",{"$f":"IF(B1978=\"\",\"\",IF(R1978<5,INT((A1978-1)/Einstellung!$B$4)+1,\"\"))","v":""},""]
["",null,null,null,null,null,null,null,null,null,null,null,null,null,null,null,null,"",{"$f":"IF(B1979=\"\",\"\",IF(R1979<5,INT((A1979-1)/Einstellung!$B$4)+1,\"\"))","v":""},""]
["",null,null,null,null,null,null,null,null,null,null,null,null,null,null,null,null,"",{"$f":"IF(B1980=\"\",\"\",IF(R1980<5,INT((A1980-1)/Einstellung!$B$4)+1,\"\"))","v":""},""]
["",null,null,null,null,null,null,null,null,null,null,null,null,null,null,null,null,"",{"$f":"IF(B1981=\"\",\"\",IF(R1981<5,INT((A1981-1)/Einstellung!$B$4)+1,\"\"))","v":""},""]
["",null,null,null,null,null,null,null,null,null,null,null,null,null,null,null,null,"",{"$f":"IF(B1982=\"\",\"\",IF(R1982<5,INT((A1982-1)/Einstellung!$B$4)+1,\"\"))","v":""},""]
["",null,null,null,null,null,null,null,null,null,null,null,null,null,null,null,null,"",{"$f":"IF(B1983=\"\",\"\",IF(R1983<5,INT((A1983-1)/Einstellung!$B$4)+1,\"\"))","v":""},""]
["",null,null,null,null,null,null,null,null,null,null,null,null,null,null,null,null,"",{"$f":"IF(B1984=\"\",\"\",IF(R1984<5,INT((A1984-1)/Einstellung!$B$4)+1,\"\"))","v":""},""]
["",null,null,null,null,null,null,null,null,null,null,null,null,null,null,null,null,"",{"$f":"IF(B1985=\"\",\"\",IF(R1985<5,INT((A1985-1)/Einstellung!$B$4)+1,\"\"))","v":""},""]
["",null,null,null,null,null,null,null,null,null,null,null,null,null,null,null,null,"",{"$f":"IF(B1986=\"\",\"\",IF(R1986<5,INT((A1986-1)/Einstellung!$B$4)+1,\"\"))","v":""},""]
["",null,null,null,null,null,null,null,null,null,null,null,null,null,null,null,null,"",{"$f":"IF(B1987=\"\",\"\",IF(R1987<5,INT((A1987-1)/Einstellung!$B$4)+1,\"\"))","v":""},""]
["",null,null,null,null,null,null,null,null,null,null,null,null,null,null,null,null,"",{"$f":"IF(B1988=\"\",\"\",IF(R1988<5,INT((A1988-1)/Einstellung!$B$4)+1,\"\"))","v":""},""]
["",null,null,null,null,null,null,null,null,null,null,null,null,null,null,null,null,"",{"$f":"IF(B1989=\"\",\"\",IF(R1989<5,INT((A1989-1)/Einstellung!$B$4)+1,\"\"))","v":""},""]
["",null,null,null,null,null,null,null,null,null,null,null,null,null,null,null,null,"",{"$f":"IF(B1990=\"\",\"\",IF(R1990<5,INT((A1990-1)/Einstellung!$B$4)+1,\"\"))","v":""},""]
["",null,null,null,null,null,null,null,null,null,null,null,null,null,null,null,null,"",{"$f":"IF(B1991=\"\",\"\",IF(R1991<5,INT((A1991-1)/Einstellung!$B$4)+1,\"\"))","v":""},""]
["",null,null,null,null,null,null,null,null,null,null,null,null,null,null,null,null,{"$f":"IF(B1992=\"\",\"\",16-((MID(B$1,1,1)=MID(B1992,1,1))+(MID(C$1,1,1)=MID(C1992,1,1))+(MID(D$1,1,1)=MID(D1992,1,1))+(MID(E$1,1,1)=MID(E1992,1,1))+(MID(F$1,1,1)=MID(F1992,1,1))+(MID(G$1,1,1)=MID(G1992,1,1))+(MID(H$1,1,1)=MID(H1992,1,1))+(MID(I$1,1,1)=MID(I1992,1,1))+(MID(J$1,1,1)=MID(J1992,1,1))+(MID(K$1,1,1)=MID(K1992,1,1))+(MID(L$1,1,1)=MID(L1992,1,1))+(MID(M$1,1,1)=MID(M1992,1,1))+(MID(N$1,1,1)=MID(N1992,1,1))+(MID(O$1,1,1)=MID(O1992,1,1))+(MID(P$1,1,1)=MID(P1992,1,1)))-B$4+C$5)","v":""},{"$f":"IF(B1992=\"\",\"\",IF(R1992<5,INT((A1992-1)/Einstellung!$B$4)+1,\"\"))","v":""},{"$f":"IF(C$5<B$4,\"\",IF(R1992>4,\"\",OFFSET(T$2,R1992-1,0)))","v":""}]
["",null,null,null,null,null,null,null,null,null,null,null,null,null,null,null,null,"",{"$f":"IF(B1993=\"\",\"\",IF(R1993<5,INT((A1993-1)/Einstellung!$B$4)+1,\"\"))","v":""},""]
["",null,null,null,null,null,null,null,null,null,null,null,null,null,null,null,null,"",{"$f":"IF(B1994=\"\",\"\",IF(R1994<5,INT((A1994-1)/Einstellung!$B$4)+1,\"\"))","v":""},""]
["",null,null,null,null,null,null,null,null,null,null,null,null,null,null,null,null,"",{"$f":"IF(B1995=\"\",\"\",IF(R1995<5,INT((A1995-1)/Einstellung!$B$4)+1,\"\"))","v":""},""]
["",null,null,null,null,null,null,null,null,null,null,null,null,null,null,null,null,"",{"$f":"IF(B1996=\"\",\"\",IF(R1996<5,INT((A1996-1)/Einstellung!$B$4)+1,\"\"))","v":""},""]
["",null,null,null,null,null,null,null,null,null,null,null,null,null,null,null,null,"",{"$f":"IF(B1997=\"\",\"\",IF(R1997<5,INT((A1997-1)/Einstellung!$B$4)+1,\"\"))","v":""},""]
["",null,null,null,null,null,null,null,null,null,null,null,null,null,null,null,null,"",{"$f":"IF(B1998=\"\",\"\",IF(R1998<5,INT((A1998-1)/Einstellung!$B$4)+1,\"\"))","v":""},""]
["",null,null,null,null,null,null,null,null,null,null,null,null,null,null,null,null,"",{"$f":"IF(B1999=\"\",\"\",IF(R1999<5,INT((A1999-1)/Einstellung!$B$4)+1,\"\"))","v":""},""]
["",null,null,null,null,null,null,null,null,null,null,null,null,null,null,null,null,"",{"$f":"IF(B2000=\"\",\"\",IF(R2000<5,INT((A2000-1)/Einstellung!$B$4)+1,\"\"))","v":""},""]
["",null,null,null,null,null,null,null,null,null,null,null,null,null,null,null,null,"",{"$f":"IF(B2001=\"\",\"\",IF(R2001<5,INT((A2001-1)/Einstellung!$B$4)+1,\"\"))","v":""},""]
["",null,null,null,null,null,null,null,null,null,null,null,null,null,null,null,null,"",{"$f":"IF(B2002=\"\",\"\",IF(R2002<5,INT((A2002-1)/Einstellung!$B$4)+1,\"\"))","v":""},""]
["",null,null,null,null,null,null,null,null,null,null,null,null,null,null,null,null,"",{"$f":"IF(B2005=\"\",\"\",IF(R2005<5,INT((A2005-1)/Einstellung!$B$4)+1,\"\"))","v":""},""]
["",null,null,null,null,null,null,null,null,null,null,null,null,null,null,null,null,"",{"$f":"IF(B2006=\"\",\"\",IF(R2006<5,INT((A2006-1)/Einstellung!$B$4)+1,\"\"))","v":""},""]
["",null,null,null,null,null,null,null,null,null,null,null,null,null,null,null,null,"",{"$f":"IF(B2008=\"\",\"\",IF(R2008<5,INT((A2008-1)/Einstellung!$B$4)+1,\"\"))","v":""},""]
["",null,null,null,null,null,null,null,null,null,null,null,null,null,null,null,null,"",{"$f":"IF(B2009=\"\",\"\",IF(R2009<5,INT((A2009-1)/Einstellung!$B$4)+1,\"\"))","v":""},""]
["",null,null,null,null,null,null,null,null,null,null,null,null,null,null,null,null,"",{"$f":"IF(B2012=\"\",\"\",IF(R2012<5,INT((A2012-1)/Einstellung!$B$4)+1,\"\"))","v":""},""]
["",null,null,null,null,null,null,null,null,null,null,null,null,null,null,null,null,"",{"$f":"IF(B2013=\"\",\"\",IF(R2013<5,INT((A2013-1)/Einstellung!$B$4)+1,\"\"))","v":""},""]
["",null,null,null,null,null,null,null,null,null,null,null,null,null,null,null,null,"",{"$f":"IF(B2015=\"\",\"\",IF(R2015<5,INT((A2015-1)/Einstellung!$B$4)+1,\"\"))","v":""},""]
["",null,null,null,null,null,null,null,null,null,null,null,null,null,null,null,null,"",{"$f":"IF(B2016=\"\",\"\",IF(R2016<5,INT((A2016-1)/Einstellung!$B$4)+1,\"\"))","v":""},""]
["",null,null,null,null,null,null,null,null,null,null,null,null,null,null,null,null,"",{"$f":"IF(B2019=\"\",\"\",IF(R2019<5,INT((A2019-1)/Einstellung!$B$4)+1,\"\"))","v":""},""]
["",null,null,null,null,null,null,null,null,null,null,null,null,null,null,null,null,"",{"$f":"IF(B2020=\"\",\"\",IF(R2020<5,INT((A2020-1)/Einstellung!$B$4)+1,\"\"))","v":""},""]
["",null,null,null,null,null,null,null,null,null,null,null,null,null,null,null,null,"",{"$f":"IF(B2022=\"\",\"\",IF(R2022<5,INT((A2022-1)/Einstellung!$B$4)+1,\"\"))","v":""},""]
["",null,null,null,null,null,null,null,null,null,null,null,null,null,null,null,null,"",{"$f":"IF(B2023=\"\",\"\",IF(R2023<5,INT((A2023-1)/Einstellung!$B$4)+1,\"\"))","v":""},""]
[{"$f":"IF(B2026=\"\",\"\",ROW()-7)","v":""},null,null,null,null,null,null,null,null,null,null,null,null,null,null,null,null,"",{"$f":"IF(B2026=\"\",\"\",IF(R2026<5,INT((A2026-1)/Einstellung!$B$4)+1,\"\"))","v":""},""]
["",null,null,null,null,null,null,null,null,null,null,null,null,null,null,null,null,"",{"$f":"IF(B2027=\"\",\"\",IF(R2027<5,INT((A2027-1)/Einstellung!$B$4)+1,\"\"))","v":""},""]
["",null,null,null,null,null,null,null,null,null,null,null,null,null,null,null,null,"",{"$f":"IF(B2029=\"\",\"\",IF(R2029<5,INT((A2029-1)/Einstellung!$B$4)+1,\"\"))","v":""},""]
["",null,null,null,null,null,null,null,null,null,null,null,null,null,null,null,null,"",{"$f":"IF(B2030=\"\",\"\",IF(R2030<5,INT((A2030-1)/Einstellung!$B$4)+1,\"\"))","v":""},""]
["",null,null,null,null,null,null,null,null,null,null,null,null,null,null,null,null,"",{"$f":"IF(B2033=\"\",\"\",IF(R2033<5,INT((A2033-1)/Einstellung!$B$4)+1,\"\"))","v":""},""]
["",null,null,null,null,null,null,null,null,null,null,null,null,null,null,null,null,"",{"$f":"IF(B2034=\"\",\"\",IF(R2034<5,INT((A2034-1)/Einstellung!$B$4)+1,\"\"))","v":""},""]
["",null,null,null,null,null,null,null,null,null,null,null,null,null,null,null,null,"",{"$f":"IF(B2036=\"\",\"\",IF(R2036<5,INT((A2036-1)/Einstellung!$B$4)+1,\"\"))","v":""},""]
["",null,null,null,null,null,null,null,null,null,null,null,null,null,null,null,null,"",{"$f":"IF(B2037=\"\",\"\",IF(R2037<5,INT((A2037-1)/Einstellung!$B$4)+1,\"\"))","v":""},""]
["",null,null,null,null,null,null,null,null,null,null,null,null,null,null,null,null,"",{"$f":"IF(B2040=\"\",\"\",IF(R2040<5,INT((A2040-1)/Einstellung!$B$4)+1,\"\"))","v":""},""]
["",null,null,null,null,null,null,null,null,null,null,null,null,null,null,null,null,"",{"$f":"IF(B2041=\"\",\"\",IF(R2041<5,INT((A2041-1)/Einstellung!$B$4)+1,\"\"))","v":""},""]
["",null,null,null,null,null,null,null,null,null,null,null,null,null,null,null,null,"",{"$f":"IF(B2043=\"\",\"\",IF(R2043<5,INT((A2043-1)/Einstellung!$B$4)+1,\"\"))","v":""},""]
["",null,null,null,null,null,null,null,null,null,null,null,null,null,null,null,null,"",{"$f":"IF(B2044=\"\",\"\",IF(R2044<5,INT((A2044-1)/Einstellung!$B$4)+1,\"\"))","v":""},""]
["",null,null,null,null,null,null,null,null,null,null,null,null,null,null,null,null,"",{"$f":"IF(B2047=\"\",\"\",IF(R2047<5,INT((A2047-1)/Einstellung!$B$4)+1,\"\"))","v":""},""]
["",null,null,null,null,null,null,null,null,null,null,null,null,null,null,null,null,"",{"$f":"IF(B2048=\"\",\"\",IF(R2048<5,INT((A2048-1)/Einstellung!$B$4)+1,\"\"))","v":""},""]
["",null,null,null,null,null,null,null,null,null,null,null,null,null,null,null,null,"",{"$f":"IF(B2050=\"\",\"\",IF(R2050<5,INT((A2050-1)/Einstellung!$B$4)+1,\"\"))","v":""},""]
["",null,null,null,null,null,null,null,null,null,null,null,null,null,null,null,null,"",{"$f":"IF(B2051=\"\",\"\",IF(R2051<5,INT((A2051-1)/Einstellung!$B$4)+1,\"\"))","v":""},""]
["",null,null,null,null,null,null,null,null,null,null,null,null,null,null,null,null,"",{"$f":"IF(B2054=\"\",\"\",IF(R2054<5,INT((A2054-1)/Einstellung!$B$4)+1,\"\"))","v":""},""]
["",null,null,null,null,null,null,null,null,null,null,null,null,null,null,null,null,"",{"$f":"IF(B2055=\"\",\"\",IF(R2055<5,INT((A2055-1)/Einstellung!$B$4)+1,\"\"))","v":""},""]
["",null,null,null,null,null,null,null,null,null,null,null,null,null,null,null,null,"",{"$f":"IF(B2057=\"\",\"\",IF(R2057<5,INT((A2057-1)/Einstellung!$B$4)+1,\"\"))","v":""},""]
["",null,null,null,null,null,null,null,null,null,null,null,null,null,null,null,null,"",{"$f":"IF(B2058=\"\",\"\",IF(R2058<5,INT((A2058-1)/Einstellung!$B$4)+1,\"\"))","v":""},""]
["",null,null,null,null,null,null,null,null,null,null,null,null,null,null,null,null,"",{"$f":"IF(B2061=\"\",\"\",IF(R2061<5,INT((A2061-1)/Einstellung!$B$4)+1,\"\"))","v":""},""]
["",null,null,null,null,null,null,null,null,null,null,null,null,null,null,null,null,"",{"$f":"IF(B2062=\"\",\"\",IF(R2062<5,INT((A2062-1)/Einstellung!$B$4)+1,\"\"))","v":""},""]
["",null,null,null,null,null,null,null,null,null,null,null,null,null,null,null,null,"",{"$f":"IF(B2064=\"\",\"\",IF(R2064<5,INT((A2064-1)/Einstellung!$B$4)+1,\"\"))","v":""},""]
["",null,null,null,null,null,null,null,null,null,null,null,null,null,null,null,null,"",{"$f":"IF(B2065=\"\",\"\",IF(R2065<5,INT((A2065-1)/Einstellung!$B$4)+1,\"\"))","v":""},""]
["",null,null,null,null,null,null,null,null,null,null,null,null,null,null,null,null,"",{"$f":"IF(B2068=\"\",\"\",IF(R2068<5,INT((A2068-1)/Einstellung!$B$4)+1,\"\"))","v":""},""]
["",null,null,null,null,null,null,null,null,null,null,null,null,null,null,null,null,"",{"$f":"IF(B2069=\"\",\"\",IF(R2069<5,INT((A2069-1)/Einstellung!$B$4)+1,\"\"))","v":""},""]
["",null,null,null,null,null,null,null,null,null,null,null,null,null,null,null,null,"",{"$f":"IF(B2071=\"\",\"\",IF(R2071<5,INT((A2071-1)/Einstellung!$B$4)+1,\"\"))","v":""},""]
["",null,null,null,null,null,null,null,null,null,null,null,null,null,null,null,null,"",{"$f":"IF(B2072=\"\",\"\",IF(R2072<5,INT((A2072-1)/Einstellung!$B$4)+1,\"\"))","v":""},""]
["",null,null,null,null,null,null,null,null,null,null,null,null,null,null,null,null,"",{"$f":"IF(B2075=\"\",\"\",IF(R2075<5,INT((A2075-1)/Einstellung!$B$4)+1,\"\"))","v":""},""]
["",null,null,null,null,null,null,null,null,null,null,null,null,null,null,null,null,"",{"$f":"IF(B2076=\"\",\"\",IF(R2076<5,INT((A2076-1)/Einstellung!$B$4)+1,\"\"))","v":""},""]
["",null,null,null,null,null,null,null,null,null,null,null,null,null,null,null,null,"",{"$f":"IF(B2078=\"\",\"\",IF(R2078<5,INT((A2078-1)/Einstellung!$B$4)+1,\"\"))","v":""},""]
["",null,null,null,null,null,null,null,null,null,null,null,null,null,null,null,null,"",{"$f":"IF(B2079=\"\",\"\",IF(R2079<5,INT((A2079-1)/Einstellung!$B$4)+1,\"\"))","v":""},""]
["",null,null,null,null,null,null,null,null,null,null,null,null,null,null,null,null,"",{"$f":"IF(B2082=\"\",\"\",IF(R2082<5,INT((A2082-1)/Einstellung!$B$4)+1,\"\"))","v":""},""]
["",null,null,null,null,null,null,null,null,null,null,null,null,null,null,null,null,"",{"$f":"IF(B2083=\"\",\"\",IF(R2083<5,INT((A2083-1)/Einstellung!$B$4)+1,\"\"))","v":""},""]
["",null,null,null,null,null,null,null,null,null,null,null,null,null,null,null,null,"",{"$f":"IF(B2085=\"\",\"\",IF(R2085<5,INT((A2085-1)/Einstellung!$B$4)+1,\"\"))","v":""},""]
["",null,null,null,null,null,null,null,null,null,null,null,null,null,null,null,null,"",{"$f":"IF(B2086=\"\",\"\",IF(R2086<5,INT((A2086-1)/Einstellung!$B$4)+1,\"\"))","v":""},""]
["",null,null,null,null,null,null,null,null,null,null,null,null,null,null,null,null,"",{"$f":"IF(B2089=\"\",\"\",IF(R2089<5,INT((A2089-1)/Einstellung!$B$4)+1,\"\"))","v":""},""]
[{"$f":"IF(B2090=\"\",\"\",ROW()-7)","v":""},null,null,null,null,null,null,null,null,null,null,null,null,null,null,null,null,"",{"$f":"IF(B2090=\"\",\"\",IF(R2090<5,INT((A2090-1)/Einstellung!$B$4)+1,\"\"))","v":""},""]
["",null,null,null,null,null,null,null,null,null,null,null,null,null,null,null,null,"",{"$f":"IF(B2092=\"\",\"\",IF(R2092<5,INT((A2092-1)/Einstellung!$B$4)+1,\"\"))","v":""},""]
["",null,null,null,null,null,null,null,null,null,null,null,null,null,null,null,null,"",{"$f":"IF(B2093=\"\",\"\",IF(R2093<5,INT((A2093-1)/Einstellung!$B$4)+1,\"\"))","v":""},""]
["",null,null,null,null,null,null,null,null,null,null,null,null,null,null,null,null,"",{"$f":"IF(B2096=\"\",\"\",IF(R2096<5,INT((A2096-1)/Einstellung!$B$4)+1,\"\"))","v":""},""]
["",null,null,null,null,null,null,null,null,null,null,null,null,null,null,null,null,"",{"$f":"IF(B2097=\"\",\"\",IF(R2097<5,INT((A2097-1)/Einstellung!$B$4)+1,\"\"))","v":""},""]
["",null,null,null,null,null,null,null,null,null,null,null,null,null,null,null,null,"",{"$f":"IF(B2099=\"\",\"\",IF(R2099<5,INT((A2099-1)/Einstellung!$B$4)+1,\"\"))","v":""},""]
["",null,null,null,null,null,null,null,null,null,null,null,null,null,null,null,null,"",{"$f":"IF(B2100=\"\",\"\",IF(R2100<5,INT((A2100-1)/Einstellung!$B$4)+1,\"\"))","v":""},""]
["",null,null,null,null,null,null,null,null,null,null,null,null,null,null,null,null,"",{"$f":"IF(B2103=\"\",\"\",IF(R2103<5,INT((A2103-1)/Einstellung!$B$4)+1,\"\"))","v":""},""]
["",null,null,null,null,null,null,null,null,null,null,null,null,null,null,null,null,"",{"$f":"IF(B2104=\"\",\"\",IF(R2104<5,INT((A2104-1)/Einstellung!$B$4)+1,\"\"))","v":""},""]
["",null,null,null,null,null,null,null,null,null,null,null,null,null,null,null,null,"",{"$f":"IF(B2106=\"\",\"\",IF(R2106<5,INT((A2106-1)/Einstellung!$B$4)+1,\"\"))","v":""},""]
["",null,null,null,null,null,null,null,null,null,null,null,null,null,null,null,null,"",{"$f":"IF(B2107=\"\",\"\",IF(R2107<5,INT((A2107-1)/Einstellung!$B$4)+1,\"\"))","v":""},""]
["",null,null,null,null,null,null,null,null,null,null,null,null,null,null,null,null,"",{"$f":"IF(B2110=\"\",\"\",IF(R2110<5,INT((A2110-1)/Einstellung!$B$4)+1,\"\"))","v":""},""]
["",null,null,null,null,null,null,null,null,null,null,null,null,null,null,null,null,"",{"$f":"IF(B2111=\"\",\"\",IF(R2111<5,INT((A2111-1)/Einstellung!$B$4)+1,\"\"))","v":""},""]
["",null,null,null,null,null,null,null,null,null,null,null,null,null,null,null,null,"",{"$f":"IF(B2113=\"\",\"\",IF(R2113<5,INT((A2113-1)/Einstellung!$B$4)+1,\"\"))","v":""},""]
["",null,null,null,null,null,null,null,null,null,null,null,null,null,null,null,null,"",{"$f":"IF(B2114=\"\",\"\",IF(R2114<5,INT((A2114-1)/Einstellung!$B$4)+1,\"\"))","v":""},""]
["",null,null,null,null,null,null,null,null,null,null,null,null,null,null,null,null,"",{"$f":"IF(B2117=\"\",\"\",IF(R2117<5,INT((A2117-1)/Einstellung!$B$4)+1,\"\"))","v":""},""]
["",null,null,null,null,null,null,null,null,null,null,null,null,null,null,null,null,"",{"$f":"IF(B2118=\"\",\"\",IF(R2118<5,INT((A2118-1)/Einstellung!$B$4)+1,\"\"))","v":""},""]
["",null,null,null,null,null,null,null,null,null,null,null,null,null,null,null,null,{"$f":"IF(B2120=\"\",\"\",16-((MID(B$1,1,1)=MID(B2120,1,1))+(MID(C$1,1,1)=MID(C2120,1,1))+(MID(D$1,1,1)=MID(D2120,1,1))+(MID(E$1,1,1)=MID(E2120,1,1))+(MID(F$1,1,1)=MID(F2120,1,1))+(MID(G$1,1,1)=MID(G2120,1,1))+(MID(H$1,1,1)=MID(H2120,1,1))+(MID(I$1,1,1)=MID(I2120,1,1))+(MID(J$1,1,1)=MID(J2120,1,1))+(MID(K$1,1,1)=MID(K2120,1,1))+(MID(L$1,1,1)=MID(L2120,1,1))+(MID(M$1,1,1)=MID(M2120,1,1))+(MID(N$1,1,1)=MID(N2120,1,1))+(MID(O$1,1,1)=MID(O2120,1,1))+(MID(P$1,1,1)=MID(P2120,1,1)))-B$4+C$5)","v":""},{"$f":"IF(B2120=\"\",\"\",IF(R2120<5,INT((A2120-1)/Einstellung!$B$4)+1,\"\"))","v":""},{"$f":"IF(C$5<B$4,\"\",IF(R2120>4,\"\",OFFSET(T$2,R2120-1,0)))","v":""}]
["",null,null,null,null,null,null,null,null,null,null,null,null,null,null,null,null,"",{"$f":"IF(B2121=\"\",\"\",IF(R2121<5,INT((A2121-1)/Einstellung!$B$4)+1,\"\"))","v":""},""]
["",null,null,null,null,null,null,null,null,null,null,null,null,null,null,null,null,"",{"$f":"IF(B2124=\"\",\"\",IF(R2124<5,INT((A2124-1)/Einstellung!$B$4)+1,\"\"))","v":""},""]
["",null,null,null,null,null,null,null,null,null,null,null,null,null,null,null,null,"",{"$f":"IF(B2125=\"\",\"\",IF(R2125<5,INT((A2125-1)/Einstellung!$B$4)+1,\"\"))","v":""},""]
["",null,null,null,null,null,null,null,null,null,null,null,null,null,null,null,null,"",{"$f":"IF(B2128=\"\",\"\",IF(R2128<5,INT((A2128-1)/Einstellung!$B$4)+1,\"\"))","v":""},""]
["",null,null,null,null,null,null,null,null,null,null,null,null,null,null,null,null,"",{"$f":"IF(B2129=\"\",\"\",IF(R2129<5,INT((A2129-1)/Einstellung!$B$4)+1,\"\"))","v":""},""]
["",null,null,null,null,null,null,null,null,null,null,null,null,null,null,null,null,"",{"$f":"IF(B2131=\"\",\"\",IF(R2131<5,INT((A2131-1)/Einstellung!$B$4)+1,\"\"))","v":""},""]
["",null,null,null,null,null,null,null,null,null,null,null,null,null,null,null,null,"",{"$f":"IF(B2132=\"\",\"\",IF(R2132<5,INT((A2132-1)/Einstellung!$B$4)+1,\"\"))","v":""},""]
["",null,null,null,null,null,null,null,null,null,null,null,null,null,null,null,null,"",{"$f":"IF(B2135=\"\",\"\",IF(R2135<5,INT((A2135-1)/Einstellung!$B$4)+1,\"\"))","v":""},""]
["",null,null,null,null,null,null,null,null,null,null,null,null,null,null,null,null,"",{"$f":"IF(B2136=\"\",\"\",IF(R2136<5,INT((A2136-1)/Einstellung!$B$4)+1,\"\"))","v":""},""]
["",null,null,null,null,null,null,null,null,null,null,null,null,null,null,null,null,"",{"$f":"IF(B2138=\"\",\"\",IF(R2138<5,INT((A2138-1)/Einstellung!$B$4)+1,\"\"))","v":""},""]
["",null,null,null,null,null,null,null,null,null,null,null,null,null,null,null,null,"",{"$f":"IF(B2139=\"\",\"\",IF(R2139<5,INT((A2139-1)/Einstellung!$B$4)+1,\"\"))","v":""},""]
["",null,null,null,null,null,null,null,null,null,null,null,null,null,null,null,null,"",{"$f":"IF(B2142=\"\",\"\",IF(R2142<5,INT((A2142-1)/Einstellung!$B$4)+1,\"\"))","v":""},""]
["",null,null,null,null,null,null,null,null,null,null,null,null,null,null,null,null,"",{"$f":"IF(B2143=\"\",\"\",IF(R2143<5,INT((A2143-1)/Einstellung!$B$4)+1,\"\"))","v":""},""]
["",null,null,null,null,null,null,null,null,null,null,null,null,null,null,null,null,"",{"$f":"IF(B2145=\"\",\"\",IF(R2145<5,INT((A2145-1)/Einstellung!$B$4)+1,\"\"))","v":""},""]
["",null,null,null,null,null,null,null,null,null,null,null,null,null,null,null,null,"",{"$f":"IF(B2146=\"\",\"\",IF(R2146<5,INT((A2146-1)/Einstellung!$B$4)+1,\"\"))","v":""},""]
["",null,null,null,null,null,null,null,null,null,null,null,null,null,null,null,null,"",{"$f":"IF(B2149=\"\",\"\",IF(R2149<5,INT((A2149-1)/Einstellung!$B$4)+1,\"\"))","v":""},""]
["",null,null,null,null,null,null,null,null,null,null,null,null,null,null,null,null,"",{"$f":"IF(B2150=\"\",\"\",IF(R2150<5,INT((A2150-1)/Einstellung!$B$4)+1,\"\"))","v":""},""]
["",null,null,null,null,null,null,null,null,null,null,null,null,null,null,null,null,"",{"$f":"IF(B2152=\"\",\"\",IF(R2152<5,INT((A2152-1)/Einstellung!$B$4)+1,\"\"))","v":""},""]
["",null,null,null,null,null,null,null,null,null,null,null,null,null,null,null,null,"",{"$f":"IF(B2153=\"\",\"\",IF(R2153<5,INT((A2153-1)/Einstellung!$B$4)+1,\"\"))","v":""},""]
["",null,null,null,null,null,null,null,null,null,null,null,null,null,null,null,null,"",{"$f":"IF(B2156=\"\",\"\",IF(R2156<5,INT((A2156-1)/Einstellung!$B$4)+1,\"\"))","v":""},""]
["",null,null,null,null,null,null,null,null,null,null,null,null,null,null,null,null,"",{"$f":"IF(B2157=\"\",\"\",IF(R2157<5,INT((A2157-1)/Einstellung!$B$4)+1,\"\"))","v":""},""]
["",null,null,null,null,null,null,null,null,null,null,null,null,null,null,null,null,"",{"$f":"IF(B2159=\"\",\"\",IF(R2159<5,INT((A2159-1)/Einstellung!$B$4)+1,\"\"))","v":""},""]
["",null,null,null,null,null,null,null,null,null,null,null,null,null,null,null,null,"",{"$f":"IF(B2160=\"\",\"\",IF(R2160<5,INT((A2160-1)/Einstellung!$B$4)+1,\"\"))","v":""},""]
["",null,null,null,null,null,null,null,null,null,null,null,null,null,null,null,null,"",{"$f":"IF(B2163=\"\",\"\",IF(R2163<5,INT((A2163-1)/Einstellung!$B$4)+1,\"\"))","v":""},""]
["",null,null,null,null,null,null,null,null,null,null,null,null,null,null,null,null,"",{"$f":"IF(B2164=\"\",\"\",IF(R2164<5,INT((A2164-1)/Einstellung!$B$4)+1,\"\"))","v":""},""]
["",null,null,null,null,null,null,null,null,null,null,null,null,null,null,null,null,"",{"$f":"IF(B2166=\"\",\"\",IF(R2166<5,INT((A2166-1)/Einstellung!$B$4)+1,\"\"))","v":""},""]
["",null,null,null,null,null,null,null,null,null,null,null,null,null,null,null,null,"",{"$f":"IF(B2167=\"\",\"\",IF(R2167<5,INT((A2167-1)/Einstellung!$B$4)+1,\"\"))","v":""},""]
["",null,null,null,null,null,null,null,null,null,null,null,null,null,null,null,null,"",{"$f":"IF(B2170=\"\",\"\",IF(R2170<5,INT((A2170-1)/Einstellung!$B$4)+1,\"\"))","v":""},""]
["",null,null,null,null,null,null,null,null,null,null,null,null,null,null,null,null,"",{"$f":"IF(B2171=\"\",\"\",IF(R2171<5,INT((A2171-1)/Einstellung!$B$4)+1,\"\"))","v":""},""]
["",null,null,null,null,null,null,null,null,null,null,null,null,null,null,null,null,"",{"$f":"IF(B2173=\"\",\"\",IF(R2173<5,INT((A2173-1)/Einstellung!$B$4)+1,\"\"))","v":""},""]
["",null,null,null,null,null,null,null,null,null,null,null,null,null,null,null,null,"",{"$f":"IF(B2174=\"\",\"\",IF(R2174<5,INT((A2174-1)/Einstellung!$B$4)+1,\"\"))","v":""},""]
["",null,null,null,null,null,null,null,null,null,null,null,null,null,null,null,null,"",{"$f":"IF(B2177=\"\",\"\",IF(R2177<5,INT((A2177-1)/Einstellung!$B$4)+1,\"\"))","v":""},""]
["",null,null,null,null,null,null,null,null,null,null,null,null,null,null,null,null,"",{"$f":"IF(B2178=\"\",\"\",IF(R2178<5,INT((A2178-1)/Einstellung!$B$4)+1,\"\"))","v":""},""]
["",null,null,null,null,null,null,null,null,null,null,null,null,null,null,null,null,"",{"$f":"IF(B2180=\"\",\"\",IF(R2180<5,INT((A2180-1)/Einstellung!$B$4)+1,\"\"))","v":""},""]
["",null,null,null,null,null,null,null,null,null,null,null,null,null,null,null,null,"",{"$f":"IF(B2181=\"\",\"\",IF(R2181<5,INT((A2181-1)/Einstellung!$B$4)+1,\"\"))","v":""},""]
["",null,null,null,null,null,null,null,null,null,null,null,null,null,null,null,null,{"$f":"IF(B2184=\"\",\"\",16-((MID(B$1,1,1)=MID(B2184,1,1))+(MID(C$1,1,1)=MID(C2184,1,1))+(MID(D$1,1,1)=MID(D2184,1,1))+(MID(E$1,1,1)=MID(E2184,1,1))+(MID(F$1,1,1)=MID(F2184,1,1))+(MID(G$1,1,1)=MID(G2184,1,1))+(MID(H$1,1,1)=MID(H2184,1,1))+(MID(I$1,1,1)=MID(I2184,1,1))+(MID(J$1,1,1)=MID(J2184,1,1))+(MID(K$1,1,1)=MID(K2184,1,1))+(MID(L$1,1,1)=MID(L2184,1,1))+(MID(M$1,1,1)=MID(M2184,1,1))+(MID(N$1,1,1)=MID(N2184,1,1))+(MID(O$1,1,1)=MID(O2184,1,1))+(MID(P$1,1,1)=MID(P2184,1,1)))-B$4+C$5)","v":""},{"$f":"IF(B2184=\"\",\"\",IF(R2184<5,INT((A2184-1)/Einstellung!$B$4)+1,\"\"))","v":""},{"$f":"IF(C$5<B$4,\"\",IF(R2184>4,\"\",OFFSET(T$2,R2184-1,0)))","v":""}]
["",null,null,null,null,null,null,null,null,null,null,null,null,null,null,null,null,"",{"$f":"IF(B2185=\"\",\"\",IF(R2185<5,INT((A2185-1)/Einstellung!$B$4)+1,\"\"))","v":""},""]
["",null,null,null,null,null,null,null,null,null,null,null,null,null,null,null,null,"",{"$f":"IF(B2187=\"\",\"\",IF(R2187<5,INT((A2187-1)/Einstellung!$B$4)+1,\"\"))","v":""},""]
["",null,null,null,null,null,null,null,null,null,null,null,null,null,null,null,null,"",{"$f":"IF(B2188=\"\",\"\",IF(R2188<5,INT((A2188-1)/Einstellung!$B$4)+1,\"\"))","v":""},""]
["",null,null,null,null,null,null,null,null,null,null,null,null,null,null,null,null,"",{"$f":"IF(B2191=\"\",\"\",IF(R2191<5,INT((A2191-1)/Einstellung!$B$4)+1,\"\"))","v":""},""]
["",null,null,null,null,null,null,null,null,null,null,null,null,null,null,null,null,"",{"$f":"IF(B2192=\"\",\"\",IF(R2192<5,INT((A2192-1)/Einstellung!$B$4)+1,\"\"))","v":""},""]
["",null,null,null,null,null,null,null,null,null,null,null,null,null,null,null,null,"",{"$f":"IF(B2194=\"\",\"\",IF(R2194<5,INT((A2194-1)/Einstellung!$B$4)+1,\"\"))","v":""},""]
["",null,null,null,null,null,null,null,null,null,null,null,null,null,null,null,null,"",{"$f":"IF(B2195=\"\",\"\",IF(R2195<5,INT((A2195-1)/Einstellung!$B$4)+1,\"\"))","v":""},""]
["",null,null,null,null,null,null,null,null,null,null,null,null,null,null,null,null,"",{"$f":"IF(B2198=\"\",\"\",IF(R2198<5,INT((A2198-1)/Einstellung!$B$4)+1,\"\"))","v":""},""]
["",null,null,null,null,null,null,null,null,null,null,null,null,null,null,null,null,"",{"$f":"IF(B2199=\"\",\"\",IF(R2199<5,INT((A2199-1)/Einstellung!$B$4)+1,\"\"))","v":""},""]
["",null,null,null,null,null,null,null,null,null,null,null,null,null,null,null,null,"",{"$f":"IF(B2201=\"\",\"\",IF(R2201<5,INT((A2201-1)/Einstellung!$B$4)+1,\"\"))","v":""},""]
["",null,null,null,null,null,null,null,null,null,null,null,null,null,null,null,null,"",{"$f":"IF(B2202=\"\",\"\",IF(R2202<5,INT((A2202-1)/Einstellung!$B$4)+1,\"\"))","v":""},""]
["",null,null,null,null,null,null,null,null,null,null,null,null,null,null,null,null,"",{"$f":"IF(B2205=\"\",\"\",IF(R2205<5,INT((A2205-1)/Einstellung!$B$4)+1,\"\"))","v":""},""]
["",null,null,null,null,null,null,null,null,null,null,null,null,null,null,null,null,"",{"$f":"IF(B2206=\"\",\"\",IF(R2206<5,INT((A2206-1)/Einstellung!$B$4)+1,\"\"))","v":""},""]
["",null,null,null,null,null,null,null,null,null,null,null,null,null,null,null,null,"",{"$f":"IF(B2208=\"\",\"\",IF(R2208<5,INT((A2208-1)/Einstellung!$B$4)+1,\"\"))","v":""},""]
["",null,null,null,null,null,null,null,null,null,null,null,null,null,null,null,null,"",{"$f":"IF(B2209=\"\",\"\",IF(R2209<5,INT((A2209-1)/Einstellung!$B$4)+1,\"\"))","v":""},""]
["",null,null,null,null,null,null,null,null,null,null,null,null,null,null,null,null,"",{"$f":"IF(B2212=\"\",\"\",IF(R2212<5,INT((A2212-1)/Einstellung!$B$4)+1,\"\"))","v":""},""]
["",null,null,null,null,null,null,null,null,null,null,null,null,null,null,null,null,"",{"$f":"IF(B2213=\"\",\"\",IF(R2213<5,INT((A2213-1)/Einstellung!$B$4)+1,\"\"))","v":""},""]
["",null,null,null,null,null,null,null,null,null,null,null,null,null,null,null,null,"",{"$f":"IF(B2215=\"\",\"\",IF(R2215<5,INT((A2215-1)/Einstellung!$B$4)+1,\"\"))","v":""},""]
["",null,null,null,null,null,null,null,null,null,null,null,null,null,null,null,null,"",{"$f":"IF(B2216=\"\",\"\",IF(R2216<5,INT((A2216-1)/Einstellung!$B$4)+1,\"\"))","v":""},""]
["",null,null,null,null,null,null,null,null,null,null,null,null,null,null,null,null,"",{"$f":"IF(B2219=\"\",\"\",IF(R2219<5,INT((A2219-1)/Einstellung!$B$4)+1,\"\"))","v":""},""]
["",null,null,null,null,null,null,null,null,null,null,null,null,null,null,null,null,"",{"$f":"IF(B2220=\"\",\"\",IF(R2220<5,INT((A2220-1)/Einstellung!$B$4)+1,\"\"))","v":""},""]
["",null,null,null,null,null,null,null,null,null,null,null,null,null,null,null,null,"",{"$f":"IF(B2222=\"\",\"\",IF(R2222<5,INT((A2222-1)/Einstellung!$B$4)+1,\"\"))","v":""},""]
["",null,null,null,null,null,null,null,null,null,null,null,null,null,null,null,null,"",{"$f":"IF(B2223=\"\",\"\",IF(R2223<5,INT((A2223-1)/Einstellung!$B$4)+1,\"\"))","v":""},""]
["",null,null,null,null,null,null,null,null,null,null,null,null,null,null,null,null,"",{"$f":"IF(B2226=\"\",\"\",IF(R2226<5,INT((A2226-1)/Einstellung!$B$4)+1,\"\"))","v":""},""]
["",null,null,null,null,null,null,null,null,null,null,null,null,null,null,null,null,"",{"$f":"IF(B2227=\"\",\"\",IF(R2227<5,INT((A2227-1)/Einstellung!$B$4)+1,\"\"))","v":""},""]
["",null,null,null,null,null,null,null,null,null,null,null,null,null,null,null,null,"",{"$f":"IF(B2229=\"\",\"\",IF(R2229<5,INT((A2229-1)/Einstellung!$B$4)+1,\"\"))","v":""},""]
["",null,null,null,null,null,null,null,null,null,null,null,null,null,null,null,null,"",{"$f":"IF(B2230=\"\",\"\",IF(R2230<5,INT((A2230-1)/Einstellung!$B$4)+1,\"\"))","v":""},""]
["",null,null,null,null,null,null,null,null,null,null,null,null,null,null,null,null,"",{"$f":"IF(B2233=\"\",\"\",IF(R2233<5,INT((A2233-1)/Einstellung!$B$4)+1,\"\"))","v":""},""]
["",null,null,null,null,null,null,null,null,null,null,null,null,null,null,null,null,"",{"$f":"IF(B2234=\"\",\"\",IF(R2234<5,INT((A2234-1)/Einstellung!$B$4)+1,\"\"))","v":""},""]
["",null,null,null,null,null,null,null,null,null,null,null,null,null,null,null,null,"",{"$f":"IF(B2236=\"\",\"\",IF(R2236<5,INT((A2236-1)/Einstellung!$B$4)+1,\"\"))","v":""},""]
["",null,null,null,null,null,null,null,null,null,null,null,null,null,null,null,null,"",{"$f":"IF(B2237=\"\",\"\",IF(R2237<5,INT((A2237-1)/Einstellung!$B$4)+1,\"\"))","v":""},""]
["",null,null,null,null,null,null,null,null,null,null,null,null,null,null,null,null,"",{"$f":"IF(B2240=\"\",\"\",IF(R2240<5,INT((A2240-1)/Einstellung!$B$4)+1,\"\"))","v":""},""]
["",null,null,null,null,null,null,null,null,null,null,null,null,null,null,null,null,"",{"$f":"IF(B2241=\"\",\"\",IF(R2241<5,INT((A2241-1)/Einstellung!$B$4)+1,\"\"))","v":""},""]
["",null,null,null,null,null,null,null,null,null,null,null,null,null,null,null,null,"",{"$f":"IF(B2243=\"\",\"\",IF(R2243<5,INT((A2243-1)/Einstellung!$B$4)+1,\"\"))","v":""},""]
["",null,null,null,null,null,null,null,null,null,null,null,null,null,null,null,null,"",{"$f":"IF(B2244=\"\",\"\",IF(R2244<5,INT((A2244-1)/Einstellung!$B$4)+1,\"\"))","v":""},""]
["",null,null,null,null,null,null,null,null,null,null,null,null,null,null,null,null,"",{"$f":"IF(B2247=\"\",\"\",IF(R2247<5,INT((A2247-1)/Einstellung!$B$4)+1,\"\"))","v":""},""]
["",null,null,null,null,null,null,null,null,null,null,null,null,null,null,null,null,{"$f":"IF(B2248=\"\",\"\",16-((MID(B$1,1,1)=MID(B2248,1,1))+(MID(C$1,1,1)=MID(C2248,1,1))+(MID(D$1,1,1)=MID(D2248,1,1))+(MID(E$1,1,1)=MID(E2248,1,1))+(MID(F$1,1,1)=MID(F2248,1,1))+(MID(G$1,1,1)=MID(G2248,1,1))+(MID(H$1,1,1)=MID(H2248,1,1))+(MID(I$1,1,1)=MID(I2248,1,1))+(MID(J$1,1,1)=MID(J2248,1,1))+(MID(K$1,1,1)=MID(K2248,1,1))+(MID(L$1,1,1)=MID(L2248,1,1))+(MID(M$1,1,1)=MID(M2248,1,1))+(MID(N$1,1,1)=MID(N2248,1,1))+(MID(O$1,1,1)=MID(O2248,1,1))+(MID(P$1,1,1)=MID(P2248,1,1)))-B$4+C$5)","v":""},{"$f":"IF(B2248=\"\",\"\",IF(R2248<5,INT((A2248-1)/Einstellung!$B$4)+1,\"\"))","v":""},{"$f":"IF(C$5<B$4,\"\",IF(R2248>4,\"\",OFFSET(T$2,R2248-1,0)))","v":""}]
["",null,null,null,null,null,null,null,null,null,null,null,null,null,null,null,null,"",{"$f":"IF(B2250=\"\",\"\",IF(R2250<5,INT((A2250-1)/Einstellung!$B$4)+1,\"\"))","v":""},""]
["",null,null,null,null,null,null,null,null,null,null,null,null,null,null,null,null,"",{"$f":"IF(B2251=\"\",\"\",IF(R2251<5,INT((A2251-1)/Einstellung!$B$4)+1,\"\"))","v":""},""]
["",null,null,null,null,null,null,null,null,null,null,null,null,null,null,null,null,"",{"$f":"IF(B2254=\"\",\"\",IF(R2254<5,INT((A2254-1)/Einstellung!$B$4)+1,\"\"))","v":""},""]
["",null,null,null,null,null,null,null,null,null,null,null,null,null,null,null,null,"",{"$f":"IF(B2255=\"\",\"\",IF(R2255<5,INT((A2255-1)/Einstellung!$B$4)+1,\"\"))","v":""},""]
["",null,null,null,null,null,null,null,null,null,null,null,null,null,null,null,null,"",{"$f":"IF(B2257=\"\",\"\",IF(R2257<5,INT((A2257-1)/Einstellung!$B$4)+1,\"\"))","v":""},""]
["",null,null,null,null,null,null,null,null,null,null,null,null,null,null,null,null,"",{"$f":"IF(B2258=\"\",\"\",IF(R2258<5,INT((A2258-1)/Einstellung!$B$4)+1,\"\"))","v":""},""]
["",null,null,null,null,null,null,null,null,null,null,null,null,null,null,null,null,"",{"$f":"IF(B2261=\"\",\"\",IF(R2261<5,INT((A2261-1)/Einstellung!$B$4)+1,\"\"))","v":""},""]
["",null,null,null,null,null,null,null,null,null,null,null,null,null,null,null,null,"",{"$f":"IF(B2262=\"\",\"\",IF(R2262<5,INT((A2262-1)/Einstellung!$B$4)+1,\"\"))","v":""},""]
["",null,null,null,null,null,null,null,null,null,null,null,null,null,null,null,null,"",{"$f":"IF(B2264=\"\",\"\",IF(R2264<5,INT((A2264-1)/Einstellung!$B$4)+1,\"\"))","v":""},""]
["",null,null,null,null,null,null,null,null,null,null,null,null,null,null,null,null,"",{"$f":"IF(B2265=\"\",\"\",IF(R2265<5,INT((A2265-1)/Einstellung!$B$4)+1,\"\"))","v":""},""]
["",null,null,null,null,null,null,null,null,null,null,null,null,null,null,null,null,"",{"$f":"IF(B2268=\"\",\"\",IF(R2268<5,INT((A2268-1)/Einstellung!$B$4)+1,\"\"))","v":""},""]
["",null,null,null,null,null,null,null,null,null,null,null,null,null,null,null,null,"",{"$f":"IF(B2269=\"\",\"\",IF(R2269<5,INT((A2269-1)/Einstellung!$B$4)+1,\"\"))","v":""},""]
["",null,null,null,null,null,null,null,null,null,null,null,null,null,null,null,null,"",{"$f":"IF(B2271=\"\",\"\",IF(R2271<5,INT((A2271-1)/Einstellung!$B$4)+1,\"\"))","v":""},""]
["",null,null,null,null,null,null,null,null,null,null,null,null,null,null,null,null,"",{"$f":"IF(B2272=\"\",\"\",IF(R2272<5,INT((A2272-1)/Einstellung!$B$4)+1,\"\"))","v":""},""]
["",null,null,null,null,null,null,null,null,null,null,null,null,null,null,null,null,"",{"$f":"IF(B2275=\"\",\"\",IF(R2275<5,INT((A2275-1)/Einstellung!$B$4)+1,\"\"))","v":""},""]
["",null,null,null,null,null,null,null,null,null,null,null,null,null,null,null,null,"",{"$f":"IF(B2276=\"\",\"\",IF(R2276<5,INT((A2276-1)/Einstellung!$B$4)+1,\"\"))","v":""},""]
["",null,null,null,null,null,null,null,null,null,null,null,null,null,null,null,null,"",{"$f":"IF(B2278=\"\",\"\",IF(R2278<5,INT((A2278-1)/Einstellung!$B$4)+1,\"\"))","v":""},""]
["",null,null,null,null,null,null,null,null,null,null,null,null,null,null,null,null,"",{"$f":"IF(B2279=\"\",\"\",IF(R2279<5,INT((A2279-1)/Einstellung!$B$4)+1,\"\"))","v":""},""]
[{"$f":"IF(B2282=\"\",\"\",ROW()-7)","v":""},null,null,null,null,null,null,null,null,null,null,null,null,null,null,null,null,"",{"$f":"IF(B2282=\"\",\"\",IF(R2282<5,INT((A2282-1)/Einstellung!$B$4)+1,\"\"))","v":""},""]
["",null,null,null,null,null,null,null,null,null,null,null,null,null,null,null,null,"",{"$f":"IF(B2283=\"\",\"\",IF(R2283<5,INT((A2283-1)/Einstellung!$B$4)+1,\"\"))","v":""},""]
["",null,null,null,null,null,null,null,null,null,null,null,null,null,null,null,null,"",{"$f":"IF(B2285=\"\",\"\",IF(R2285<5,INT((A2285-1)/Einstellung!$B$4)+1,\"\"))","v":""},""]
["",null,null,null,null,null,null,null,null,null,null,null,null,null,null,null,null,"",{"$f":"IF(B2286=\"\",\"\",IF(R2286<5,INT((A2286-1)/Einstellung!$B$4)+1,\"\"))","v":""},""]
["",null,null,null,null,null,null,null,null,null,null,null,null,null,null,null,null,"",{"$f":"IF(B2289=\"\",\"\",IF(R2289<5,INT((A2289-1)/Einstellung!$B$4)+1,\"\"))","v":""},""]
["",null,null,null,null,null,null,null,null,null,null,null,null,null,null,null,null,"",{"$f":"IF(B2290=\"\",\"\",IF(R2290<5,INT((A2290-1)/Einstellung!$B$4)+1,\"\"))","v":""},""]
["",null,null,null,null,null,null,null,null,null,null,null,null,null,null,null,null,"",{"$f":"IF(B2292=\"\",\"\",IF(R2292<5,INT((A2292-1)/Einstellung!$B$4)+1,\"\"))","v":""},""]
["",null,null,null,null,null,null,null,null,null,null,null,null,null,null,null,null,"",{"$f":"IF(B2293=\"\",\"\",IF(R2293<5,INT((A2293-1)/Einstellung!$B$4)+1,\"\"))","v":""},""]
["",null,null,null,null,null,null,null,null,null,null,null,null,null,null,null,null,"",{"$f":"IF(B2296=\"\",\"\",IF(R2296<5,INT((A2296-1)/Einstellung!$B$4)+1,\"\"))","v":""},""]
["",null,null,null,null,null,null,null,null,null,null,null,null,null,null,null,null,"",{"$f":"IF(B2297=\"\",\"\",IF(R2297<5,INT((A2297-1)/Einstellung!$B$4)+1,\"\"))","v":""},""]
["",null,null,null,null,null,null,null,null,null,null,null,null,null,null,null,null,"",{"$f":"IF(B2299=\"\",\"\",IF(R2299<5,INT((A2299-1)/Einstellung!$B$4)+1,\"\"))","v":""},""]
["",null,null,null,null,null,null,null,null,null,null,null,null,null,null,null,null,"",{"$f":"IF(B2300=\"\",\"\",IF(R2300<5,INT((A2300-1)/Einstellung!$B$4)+1,\"\"))","v":""},""]
["",null,null,null,null,null,null,null,null,null,null,null,null,null,null,null,null,"",{"$f":"IF(B2303=\"\",\"\",IF(R2303<5,INT((A2303-1)/Einstellung!$B$4)+1,\"\"))","v":""},""]
["",null,null,null,null,null,null,null,null,null,null,null,null,null,null,null,null,"",{"$f":"IF(B2304=\"\",\"\",IF(R2304<5,INT((A2304-1)/Einstellung!$B$4)+1,\"\"))","v":""},""]
["",null,null,null,null,null,null,null,null,null,null,null,null,null,null,null,null,"",{"$f":"IF(B2306=\"\",\"\",IF(R2306<5,INT((A2306-1)/Einstellung!$B$4)+1,\"\"))","v":""},""]
["",null,null,null,null,null,null,null,null,null,null,null,null,null,null,null,null,"",{"$f":"IF(B2307=\"\",\"\",IF(R2307<5,INT((A2307-1)/Einstellung!$B$4)+1,\"\"))","v":""},""]
["",null,null,null,null,null,null,null,null,null,null,null,null,null,null,null,null,"",{"$f":"IF(B2310=\"\",\"\",IF(R2310<5,INT((A2310-1)/Einstellung!$B$4)+1,\"\"))","v":""},""]
["",null,null,null,null,null,null,null,null,null,null,null,null,null,null,null,null,"",{"$f":"IF(B2311=\"\",\"\",IF(R2311<5,INT((A2311-1)/Einstellung!$B$4)+1,\"\"))","v":""},""]
["",null,null,null,null,null,null,null,null,null,null,null,null,null,null,null,null,"",{"$f":"IF(B2313=\"\",\"\",IF(R2313<5,INT((A2313-1)/Einstellung!$B$4)+1,\"\"))","v":""},""]
["",null,null,null,null,null,null,null,null,null,null,null,null,null,null,null,null,"",{"$f":"IF(B2314=\"\",\"\",IF(R2314<5,INT((A2314-1)/Einstellung!$B$4)+1,\"\"))","v":""},""]
["",null,null,null,null,null,null,null,null,null,null,null,null,null,null,null,null,"",{"$f":"IF(B2317=\"\",\"\",IF(R2317<5,INT((A2317-1)/Einstellung!$B$4)+1,\"\"))","v":""},""]
["",null,null,null,null,null,null,null,null,null,null,null,null,null,null,null,null,"",{"$f":"IF(B2318=\"\",\"\",IF(R2318<5,INT((A2318-1)/Einstellung!$B$4)+1,\"\"))","v":""},""]
["",null,null,null,null,null,null,null,null,null,null,null,null,null,null,null,null,"",{"$f":"IF(B2320=\"\",\"\",IF(R2320<5,INT((A2320-1)/Einstellung!$B$4)+1,\"\"))","v":""},""]
["",null,null,null,null,null,null,null,null,null,null,null,null,null,null,null,null,"",{"$f":"IF(B2321=\"\",\"\",IF(R2321<5,INT((A2321-1)/Einstellung!$B$4)+1,\"\"))","v":""},""]
["",null,null,null,null,null,null,null,null,null,null,null,null,null,null,null,null,"",{"$f":"IF(B2324=\"\",\"\",IF(R2324<5,INT((A2324-1)/Einstellung!$B$4)+1,\"\"))","v":""},""]
["",null,null,null,null,null,null,null,null,null,null,null,null,null,null,null,null,"",{"$f":"IF(B2325=\"\",\"\",IF(R2325<5,INT((A2325-1)/Einstellung!$B$4)+1,\"\"))","v":""},""]
["",null,null,null,null,null,null,null,null,null,null,null,null,null,null,null,null,"",{"$f":"IF(B2327=\"\",\"\",IF(R2327<5,INT((A2327-1)/Einstellung!$B$4)+1,\"\"))","v":""},""]
["",null,null,null,null,null,null,null,null,null,null,null,null,null,null,null,null,"",{"$f":"IF(B2328=\"\",\"\",IF(R2328<5,INT((A2328-1)/Einstellung!$B$4)+1,\"\"))","v":""},""]
["",null,null,null,null,null,null,null,null,null,null,null,null,null,null,null,null,"",{"$f":"IF(B2331=\"\",\"\",IF(R2331<5,INT((A2331-1)/Einstellung!$B$4)+1,\"\"))","v":""},""]
["",null,null,null,null,null,null,null,null,null,null,null,null,null,null,null,null,"",{"$f":"IF(B2332=\"\",\"\",IF(R2332<5,INT((A2332-1)/Einstellung!$B$4)+1,\"\"))","v":""},""]
["",null,null,null,null,null,null,null,null,null,null,null,null,null,null,null,null,"",{"$f":"IF(B2334=\"\",\"\",IF(R2334<5,INT((A2334-1)/Einstellung!$B$4)+1,\"\"))","v":""},""]
["",null,null,null,null,null,null,null,null,null,null,null,null,null,null,null,null,"",{"$f":"IF(B2335=\"\",\"\",IF(R2335<5,INT((A2335-1)/Einstellung!$B$4)+1,\"\"))","v":""},""]
["",null,null,null,null,null,null,null,null,null,null,null,null,null,null,null,null,"",{"$f":"IF(B2338=\"\",\"\",IF(R2338<5,INT((A2338-1)/Einstellung!$B$4)+1,\"\"))","v":""},""]
["",null,null,null,null,null,null,null,null,null,null,null,null,null,null,null,null,"",{"$f":"IF(B2339=\"\",\"\",IF(R2339<5,INT((A2339-1)/Einstellung!$B$4)+1,\"\"))","v":""},""]
["",null,null,null,null,null,null,null,null,null,null,null,null,null,null,null,null,"",{"$f":"IF(B2341=\"\",\"\",IF(R2341<5,INT((A2341-1)/Einstellung!$B$4)+1,\"\"))","v":""},""]
["",null,null,null,null,null,null,null,null,null,null,null,null,null,null,null,null,"",{"$f":"IF(B2342=\"\",\"\",IF(R2342<5,INT((A2342-1)/Einstellung!$B$4)+1,\"\"))","v":""},""]
["",null,null,null,null,null,null,null,null,null,null,null,null,null,null,null,null,"",{"$f":"IF(B2345=\"\",\"\",IF(R2345<5,INT((A2345-1)/Einstellung!$B$4)+1,\"\"))","v":""},""]
[{"$f":"IF(B2346=\"\",\"\",ROW()-7)","v":""},null,null,null,null,null,null,null,null,null,null,null,null,null,null,null,null,"",{"$f":"IF(B2346=\"\",\"\",IF(R2346<5,INT((A2346-1)/Einstellung!$B$4)+1,\"\"))","v":""},""]
["",null,null,null,null,null,null,null,null,null,null,null,null,null,null,null,null,"",{"$f":"IF(B2348=\"\",\"\",IF(R2348<5,INT((A2348-1)/Einstellung!$B$4)+1,\"\"))","v":""},""]
["",null,null,null,null,null,null,null,null,null,null,null,null,null,null,null,null,"",{"$f":"IF(B2349=\"\",\"\",IF(R2349<5,INT((A2349-1)/Einstellung!$B$4)+1,\"\"))","v":""},""]
["",null,null,null,null,null,null,null,null,null,null,null,null,null,null,null,null,"",{"$f":"IF(B2352=\"\",\"\",IF(R2352<5,INT((A2352-1)/Einstellung!$B$4)+1,\"\"))","v":""},""]
["",null,null,null,null,null,null,null,null,null,null,null,null,null,null,null,null,"",{"$f":"IF(B2353=\"\",\"\",IF(R2353<5,INT((A2353-1)/Einstellung!$B$4)+1,\"\"))","v":""},""]
["",null,null,null,null,null,null,null,null,null,null,null,null,null,null,null,null,"",{"$f":"IF(B2355=\"\",\"\",IF(R2355<5,INT((A2355-1)/Einstellung!$B$4)+1,\"\"))","v":""},""]
["",null,null,null,null,null,null,null,null,null,null,null,null,null,null,null,null,"",{"$f":"IF(B2356=\"\",\"\",IF(R2356<5,INT((A2356-1)/Einstellung!$B$4)+1,\"\"))","v":""},""]
["",null,null,null,null,null,null,null,null,null,null,null,null,null,null,null,null,"",{"$f":"IF(B2359=\"\",\"\",IF(R2359<5,INT((A2359-1)/Einstellung!$B$4)+1,\"\"))","v":""},""]
["",null,null,null,null,null,null,null,null,null,null,null,null,null,null,null,null,"",{"$f":"IF(B2360=\"\",\"\",IF(R2360<5,INT((A2360-1)/Einstellung!$B$4)+1,\"\"))","v":""},""]
["",null,null,null,null,null,null,null,null,null,null,null,null,null,null,null,null,"",{"$f":"IF(B2362=\"\",\"\",IF(R2362<5,INT((A2362-1)/Einstellung!$B$4)+1,\"\"))","v":""},""]
["",null,null,null,null,null,null,null,null,null,null,null,null,null,null,null,null,"",{"$f":"IF(B2363=\"\",\"\",IF(R2363<5,INT((A2363-1)/Einstellung!$B$4)+1,\"\"))","v":""},""]
["",null,null,null,null,null,null,null,null,null,null,null,null,null,null,null,null,"",{"$f":"IF(B2366=\"\",\"\",IF(R2366<5,INT((A2366-1)/Einstellung!$B$4)+1,\"\"))","v":""},""]
["",null,null,null,null,null,null,null,null,null,null,null,null,null,null,null,null,"",{"$f":"IF(B2367=\"\",\"\",IF(R2367<5,INT((A2367-1)/Einstellung!$B$4)+1,\"\"))","v":""},""]
["",null,null,null,null,null,null,null,null,null,null,null,null,null,null,null,null,"",{"$f":"IF(B2369=\"\",\"\",IF(R2369<5,INT((A2369-1)/Einstellung!$B$4)+1,\"\"))","v":""},""]
["",null,null,null,null,null,null,null,null,null,null,null,null,null,null,null,null,"",{"$f":"IF(B2370=\"\",\"\",IF(R2370<5,INT((A2370-1)/Einstellung!$B$4)+1,\"\"))","v":""},""]
["",null,null,null,null,null,null,null,null,null,null,null,null,null,null,null,null,"",{"$f":"IF(B2373=\"\",\"\",IF(R2373<5,INT((A2373-1)/Einstellung!$B$4)+1,\"\"))","v":""},""]
["",null,null,null,null,null,null,null,null,null,null,null,null,null,null,null,null,"",{"$f":"IF(B2374=\"\",\"\",IF(R2374<5,INT((A2374-1)/Einstellung!$B$4)+1,\"\"))","v":""},""]
["",null,null,null,null,null,null,null,null,null,null,null,null,null,null,null,null,"",{"$f":"IF(B2377=\"\",\"\",IF(R2377<5,INT((A2377-1)/Einstellung!$B$4)+1,\"\"))","v":""},""]
["",null,null,null,null,null,null,null,null,null,null,null,null,null,null,null,null,"",{"$f":"IF(B2378=\"\",\"\",IF(R2378<5,INT((A2378-1)/Einstellung!$B$4)+1,\"\"))","v":""},""]
["",null,null,null,null,null,null,null,null,null,null,null,null,null,null,null,null,"",{"$f":"IF(B2380=\"\",\"\",IF(R2380<5,INT((A2380-1)/Einstellung!$B$4)+1,\"\"))","v":""},""]
["",null,null,null,null,null,null,null,null,null,null,null,null,null,null,null,null,"",{"$f":"IF(B2381=\"\",\"\",IF(R2381<5,INT((A2381-1)/Einstellung!$B$4)+1,\"\"))","v":""},""]
["",null,null,null,null,null,null,null,null,null,null,null,null,null,null,null,null,"",{"$f":"IF(B2384=\"\",\"\",IF(R2384<5,INT((A2384-1)/Einstellung!$B$4)+1,\"\"))","v":""},""]
["",null,null,null,null,null,null,null,null,null,null,null,null,null,null,null,null,"",{"$f":"IF(B2385=\"\",\"\",IF(R2385<5,INT((A2385-1)/Einstellung!$B$4)+1,\"\"))","v":""},""]
["",null,null,null,null,null,null,null,null,null,null,null,null,null,null,null,null,"",{"$f":"IF(B2387=\"\",\"\",IF(R2387<5,INT((A2387-1)/Einstellung!$B$4)+1,\"\"))","v":""},""]
["",null,null,null,null,null,null,null,null,null,null,null,null,null,null,null,null,"",{"$f":"IF(B2388=\"\",\"\",IF(R2388<5,INT((A2388-1)/Einstellung!$B$4)+1,\"\"))","v":""},""]
["",null,null,null,null,null,null,null,null,null,null,null,null,null,null,null,null,"",{"$f":"IF(B2391=\"\",\"\",IF(R2391<5,INT((A2391-1)/Einstellung!$B$4)+1,\"\"))","v":""},""]
["",null,null,null,null,null,null,null,null,null,null,null,null,null,null,null,null,"",{"$f":"IF(B2392=\"\",\"\",IF(R2392<5,INT((A2392-1)/Einstellung!$B$4)+1,\"\"))","v":""},""]
["",null,null,null,null,null,null,null,null,null,null,null,null,null,null,null,null,"",{"$f":"IF(B2394=\"\",\"\",IF(R2394<5,INT((A2394-1)/Einstellung!$B$4)+1,\"\"))","v":""},""]
["",null,null,null,null,null,null,null,null,null,null,null,null,null,null,null,null,"",{"$f":"IF(B2395=\"\",\"\",IF(R2395<5,INT((A2395-1)/Einstellung!$B$4)+1,\"\"))","v":""},""]
["",null,null,null,null,null,null,null,null,null,null,null,null,null,null,null,null,"",{"$f":"IF(B2398=\"\",\"\",IF(R2398<5,INT((A2398-1)/Einstellung!$B$4)+1,\"\"))","v":""},""]
["",null,null,null,null,null,null,null,null,null,null,null,null,null,null,null,null,"",{"$f":"IF(B2399=\"\",\"\",IF(R2399<5,INT((A2399-1)/Einstellung!$B$4)+1,\"\"))","v":""},""]
["",null,null,null,null,null,null,null,null,null,null,null,null,null,null,null,null,"",{"$f":"IF(B2401=\"\",\"\",IF(R2401<5,INT((A2401-1)/Einstellung!$B$4)+1,\"\"))","v":""},""]
["",null,null,null,null,null,null,null,null,null,null,null,null,null,null,null,null,"",{"$f":"IF(B2402=\"\",\"\",IF(R2402<5,INT((A2402-1)/Einstellung!$B$4)+1,\"\"))","v":""},""]
["",null,null,null,null,null,null,null,null,null,null,null,null,null,null,null,null,"",{"$f":"IF(B2405=\"\",\"\",IF(R2405<5,INT((A2405-1)/Einstellung!$B$4)+1,\"\"))","v":""},""]
["",null,null,null,null,null,null,null,null,null,null,null,null,null,null,null,null,"",{"$f":"IF(B2406=\"\",\"\",IF(R2406<5,INT((A2406-1)/Einstellung!$B$4)+1,\"\"))","v":""},""]
["",null,null,null,null,null,null,null,null,null,null,null,null,null,null,null,null,"",{"$f":"IF(B2408=\"\",\"\",IF(R2408<5,INT((A2408-1)/Einstellung!$B$4)+1,\"\"))","v":""},""]
["",null,null,null,null,null,null,null,null,null,null,null,null,null,null,null,null,"",{"$f":"IF(B2409=\"\",\"\",IF(R2409<5,INT((A2409-1)/Einstellung!$B$4)+1,\"\"))","v":""},""]
["",null,null,null,null,null,null,null,null,null,null,null,null,null,null,null,null,"",{"$f":"IF(B2412=\"\",\"\",IF(R2412<5,INT((A2412-1)/Einstellung!$B$4)+1,\"\"))","v":""},""]
["",null,null,null,null,null,null,null,null,null,null,null,null,null,null,null,null,"",{"$f":"IF(B2413=\"\",\"\",IF(R2413<5,INT((A2413-1)/Einstellung!$B$4)+1,\"\"))","v":""},""]
["",null,null,null,null,null,null,null,null,null,null,null,null,null,null,null,null,"",{"$f":"IF(B2415=\"\",\"\",IF(R2415<5,INT((A2415-1)/Einstellung!$B$4)+1,\"\"))","v":""},""]
["",null,null,null,null,null,null,null,null,null,null,null,null,null,null,null,null,"",{"$f":"IF(B2416=\"\",\"\",IF(R2416<5,INT((A2416-1)/Einstellung!$B$4)+1,\"\"))","v":""},""]
["",null,null,null,null,null,null,null,null,null,null,null,null,null,null,null,null,"",{"$f":"IF(B2419=\"\",\"\",IF(R2419<5,INT((A2419-1)/Einstellung!$B$4)+1,\"\"))","v":""},""]
["",null,null,null,null,null,null,null,null,null,null,null,null,null,null,null,null,"",{"$f":"IF(B2420=\"\",\"\",IF(R2420<5,INT((A2420-1)/Einstellung!$B$4)+1,\"\"))","v":""},""]
["",null,null,null,null,null,null,null,null,null,null,null,null,null,null,null,null,"",{"$f":"IF(B2422=\"\",\"\",IF(R2422<5,INT((A2422-1)/Einstellung!$B$4)+1,\"\"))","v":""},""]
["",null,null,null,null,null,null,null,null,null,null,null,null,null,null,null,null,"",{"$f":"IF(B2423=\"\",\"\",IF(R2423<5,INT((A2423-1)/Einstellung!$B$4)+1,\"\"))","v":""},""]
["",null,null,null,null,null,null,null,null,null,null,null,null,null,null,null,null,"",{"$f":"IF(B2426=\"\",\"\",IF(R2426<5,INT((A2426-1)/Einstellung!$B$4)+1,\"\"))","v":""},""]
["",null,null,null,null,null,null,null,null,null,null,null,null,null,null,null,null,"",{"$f":"IF(B2427=\"\",\"\",IF(R2427<5,INT((A2427-1)/Einstellung!$B$4)+1,\"\"))","v":""},""]
["",null,null,null,null,null,null,null,null,null,null,null,null,null,null,null,null,"",{"$f":"IF(B2429=\"\",\"\",IF(R2429<5,INT((A2429-1)/Einstellung!$B$4)+1,\"\"))","v":""},""]
["",null,null,null,null,null,null,null,null,null,null,null,null,null,null,null,null,"",{"$f":"IF(B2430=\"\",\"\",IF(R2430<5,INT((A2430-1)/Einstellung!$B$4)+1,\"\"))","v":""},""]
["",null,null,null,null,null,null,null,null,null,null,null,null,null,null,null,null,"",{"$f":"IF(B2433=\"\",\"\",IF(R2433<5,INT((A2433-1)/Einstellung!$B$4)+1,\"\"))","v":""},""]
["",null,null,null,null,null,null,null,null,null,null,null,null,null,null,null,null,"",{"$f":"IF(B2434=\"\",\"\",IF(R2434<5,INT((A2434-1)/Einstellung!$B$4)+1,\"\"))","v":""},""]
["",null,null,null,null,null,null,null,null,null,null,null,null,null,null,null,null,"",{"$f":"IF(B2436=\"\",\"\",IF(R2436<5,INT((A2436-1)/Einstellung!$B$4)+1,\"\"))","v":""},""]
["",null,null,null,null,null,null,null,null,null,null,null,null,null,null,null,null,"",{"$f":"IF(B2437=\"\",\"\",IF(R2437<5,INT((A2437-1)/Einstellung!$B$4)+1,\"\"))","v":""},""]
["",null,null,null,null,null,null,null,null,null,null,null,null,null,null,null,null,{"$f":"IF(B2440=\"\",\"\",16-((MID(B$1,1,1)=MID(B2440,1,1))+(MID(C$1,1,1)=MID(C2440,1,1))+(MID(D$1,1,1)=MID(D2440,1,1))+(MID(E$1,1,1)=MID(E2440,1,1))+(MID(F$1,1,1)=MID(F2440,1,1))+(MID(G$1,1,1)=MID(G2440,1,1))+(MID(H$1,1,1)=MID(H2440,1,1))+(MID(I$1,1,1)=MID(I2440,1,1))+(MID(J$1,1,1)=MID(J2440,1,1))+(MID(K$1,1,1)=MID(K2440,1,1))+(MID(L$1,1,1)=MID(L2440,1,1))+(MID(M$1,1,1)=MID(M2440,1,1))+(MID(N$1,1,1)=MID(N2440,1,1))+(MID(O$1,1,1)=MID(O2440,1,1))+(MID(P$1,1,1)=MID(P2440,1,1)))-B$4+C$5)","v":""},{"$f":"IF(B2440=\"\",\"\",IF(R2440<5,INT((A2440-1)/Einstellung!$B$4)+1,\"\"))","v":""},{"$f":"IF(C$5<B$4,\"\",IF(R2440>4,\"\",OFFSET(T$2,R2440-1,0)))","v":""}]
["",null,null,null,null,null,null,null,null,null,null,null,null,null,null,null,null,"",{"$f":"IF(B2441=\"\",\"\",IF(R2441<5,INT((A2441-1)/Einstellung!$B$4)+1,\"\"))","v":""},""]
["",null,null,null,null,null,null,null,null,null,null,null,null,null,null,null,null,"",{"$f":"IF(B2443=\"\",\"\",IF(R2443<5,INT((A2443-1)/Einstellung!$B$4)+1,\"\"))","v":""},""]
["",null,null,null,null,null,null,null,null,null,null,null,null,null,null,null,null,"",{"$f":"IF(B2444=\"\",\"\",IF(R2444<5,INT((A2444-1)/Einstellung!$B$4)+1,\"\"))","v":""},""]
["",null,null,null,null,null,null,null,null,null,null,null,null,null,null,null,null,"",{"$f":"IF(B2447=\"\",\"\",IF(R2447<5,INT((A2447-1)/Einstellung!$B$4)+1,\"\"))","v":""},""]
["",null,null,null,null,null,null,null,null,null,null,null,null,null,null,null,null,"",{"$f":"IF(B2448=\"\",\"\",IF(R2448<5,INT((A2448-1)/Einstellung!$B$4)+1,\"\"))","v":""},""]
["",null,null,null,null,null,null,null,null,null,null,null,null,null,null,null,null,"",{"$f":"IF(B2450=\"\",\"\",IF(R2450<5,INT((A2450-1)/Einstellung!$B$4)+1,\"\"))","v":""},""]
["",null,null,null,null,null,null,null,null,null,null,null,null,null,null,null,null,"",{"$f":"IF(B2451=\"\",\"\",IF(R2451<5,INT((A2451-1)/Einstellung!$B$4)+1,\"\"))","v":""},""]
["",null,null,null,null,null,null,null,null,null,null,null,null,null,null,null,null,"",{"$f":"IF(B2454=\"\",\"\",IF(R2454<5,INT((A2454-1)/Einstellung!$B$4)+1,\"\"))","v":""},""]
["",null,null,null,null,null,null,null,null,null,null,null,null,null,null,null,null,"",{"$f":"IF(B2455=\"\",\"\",IF(R2455<5,INT((A2455-1)/Einstellung!$B$4)+1,\"\"))","v":""},""]
["",null,null,null,null,null,null,null,null,null,null,null,null,null,null,null,null,"",{"$f":"IF(B2457=\"\",\"\",IF(R2457<5,INT((A2457-1)/Einstellung!$B$4)+1,\"\"))","v":""},""]
["",null,null,null,null,null,null,null,null,null,null,null,null,null,null,null,null,"",{"$f":"IF(B2458=\"\",\"\",IF(R2458<5,INT((A2458-1)/Einstellung!$B$4)+1,\"\"))","v":""},""]
["",null,null,null,null,null,null,null,null,null,null,null,null,null,null,null,null,"",{"$f":"IF(B2461=\"\",\"\",IF(R2461<5,INT((A2461-1)/Einstellung!$B$4)+1,\"\"))","v":""},""]
["",null,null,null,null,null,null,null,null,null,null,null,null,null,null,null,null,"",{"$f":"IF(B2462=\"\",\"\",IF(R2462<5,INT((A2462-1)/Einstellung!$B$4)+1,\"\"))","v":""},""]
["",null,null,null,null,null,null,null,null,null,null,null,null,null,null,null,null,"",{"$f":"IF(B2464=\"\",\"\",IF(R2464<5,INT((A2464-1)/Einstellung!$B$4)+1,\"\"))","v":""},""]
["",null,null,null,null,null,null,null,null,null,null,null,null,null,null,null,null,"",{"$f":"IF(B2465=\"\",\"\",IF(R2465<5,INT((A2465-1)/Einstellung!$B$4)+1,\"\"))","v":""},""]
["",null,null,null,null,null,null,null,null,null,null,null,null,null,null,null,null,"",{"$f":"IF(B2468=\"\",\"\",IF(R2468<5,INT((A2468-1)/Einstellung!$B$4)+1,\"\"))","v":""},""]
["",null,null,null,null,null,null,null,null,null,null,null,null,null,null,null,null,"",{"$f":"IF(B2469=\"\",\"\",IF(R2469<5,INT((A2469-1)/Einstellung!$B$4)+1,\"\"))","v":""},""]
["",null,null,null,null,null,null,null,null,null,null,null,null,null,null,null,null,"",{"$f":"IF(B2471=\"\",\"\",IF(R2471<5,INT((A2471-1)/Einstellung!$B$4)+1,\"\"))","v":""},""]
["",null,null,null,null,null,null,null,null,null,null,null,null,null,null,null,null,"",{"$f":"IF(B2472=\"\",\"\",IF(R2472<5,INT((A2472-1)/Einstellung!$B$4)+1,\"\"))","v":""},""]
["",null,null,null,null,null,null,null,null,null,null,null,null,null,null,null,null,"",{"$f":"IF(B2475=\"\",\"\",IF(R2475<5,INT((A2475-1)/Einstellung!$B$4)+1,\"\"))","v":""},""]
["",null,null,null,null,null,null,null,null,null,null,null,null,null,null,null,null,"",{"$f":"IF(B2476=\"\",\"\",IF(R2476<5,INT((A2476-1)/Einstellung!$B$4)+1,\"\"))","v":""},""]
["",null,null,null,null,null,null,null,null,null,null,null,null,null,null,null,null,"",{"$f":"IF(B2478=\"\",\"\",IF(R2478<5,INT((A2478-1)/Einstellung!$B$4)+1,\"\"))","v":""},""]
["",null,null,null,null,null,null,null,null,null,null,null,null,null,null,null,null,"",{"$f":"IF(B2479=\"\",\"\",IF(R2479<5,INT((A2479-1)/Einstellung!$B$4)+1,\"\"))","v":""},""]
["",null,null,null,null,null,null,null,null,null,null,null,null,null,null,null,null,"",{"$f":"IF(B2482=\"\",\"\",IF(R2482<5,INT((A2482-1)/Einstellung!$B$4)+1,\"\"))","v":""},""]
["",null,null,null,null,null,null,null,null,null,null,null,null,null,null,null,null,"",{"$f":"IF(B2483=\"\",\"\",IF(R2483<5,INT((A2483-1)/Einstellung!$B$4)+1,\"\"))","v":""},""]
["",null,null,null,null,null,null,null,null,null,null,null,null,null,null,null,null,"",{"$f":"IF(B2485=\"\",\"\",IF(R2485<5,INT((A2485-1)/Einstellung!$B$4)+1,\"\"))","v":""},""]
["",null,null,null,null,null,null,null,null,null,null,null,null,null,null,null,null,"",{"$f":"IF(B2486=\"\",\"\",IF(R2486<5,INT((A2486-1)/Einstellung!$B$4)+1,\"\"))","v":""},""]
["",null,null,null,null,null,null,null,null,null,null,null,null,null,null,null,null,"",{"$f":"IF(B2489=\"\",\"\",IF(R2489<5,INT((A2489-1)/Einstellung!$B$4)+1,\"\"))","v":""},""]
["",null,null,null,null,null,null,null,null,null,null,null,null,null,null,null,null,"",{"$f":"IF(B2490=\"\",\"\",IF(R2490<5,INT((A2490-1)/Einstellung!$B$4)+1,\"\"))","v":""},""]
["",null,null,null,null,null,null,null,null,null,null,null,null,null,null,null,null,"",{"$f":"IF(B2492=\"\",\"\",IF(R2492<5,INT((A2492-1)/Einstellung!$B$4)+1,\"\"))","v":""},""]
["",null,null,null,null,null,null,null,null,null,null,null,null,null,null,null,null,"",{"$f":"IF(B2493=\"\",\"\",IF(R2493<5,INT((A2493-1)/Einstellung!$B$4)+1,\"\"))","v":""},""]
["",null,null,null,null,null,null,null,null,null,null,null,null,null,null,null,null,"",{"$f":"IF(B2496=\"\",\"\",IF(R2496<5,INT((A2496-1)/Einstellung!$B$4)+1,\"\"))","v":""},""]
["",null,null,null,null,null,null,null,null,null,null,null,null,null,null,null,null,"",{"$f":"IF(B2497=\"\",\"\",IF(R2497<5,INT((A2497-1)/Einstellung!$B$4)+1,\"\"))","v":""},""]
["",null,null,null,null,null,null,null,null,null,null,null,null,null,null,null,null,"",{"$f":"IF(B2499=\"\",\"\",IF(R2499<5,INT((A2499-1)/Einstellung!$B$4)+1,\"\"))","v":""},""]
["",null,null,null,null,null,null,null,null,null,null,null,null,null,null,null,null,"",{"$f":"IF(B2500=\"\",\"\",IF(R2500<5,INT((A2500-1)/Einstellung!$B$4)+1,\"\"))","v":""},""]
["",null,null,null,null,null,null,null,null,null,null,null,null,null,null,null,null,"",{"$f":"IF(B2503=\"\",\"\",IF(R2503<5,INT((A2503-1)/Einstellung!$B$4)+1,\"\"))","v":""},""]
["",null,null,null,null,null,null,null,null,null,null,null,null,null,null,null,null,{"$f":"IF(B2504=\"\",\"\",16-((MID(B$1,1,1)=MID(B2504,1,1))+(MID(C$1,1,1)=MID(C2504,1,1))+(MID(D$1,1,1)=MID(D2504,1,1))+(MID(E$1,1,1)=MID(E2504,1,1))+(MID(F$1,1,1)=MID(F2504,1,1))+(MID(G$1,1,1)=MID(G2504,1,1))+(MID(H$1,1,1)=MID(H2504,1,1))+(MID(I$1,1,1)=MID(I2504,1,1))+(MID(J$1,1,1)=MID(J2504,1,1))+(MID(K$1,1,1)=MID(K2504,1,1))+(MID(L$1,1,1)=MID(L2504,1,1))+(MID(M$1,1,1)=MID(M2504,1,1))+(MID(N$1,1,1)=MID(N2504,1,1))+(MID(O$1,1,1)=MID(O2504,1,1))+(MID(P$1,1,1)=MID(P2504,1,1)))-B$4+C$5)","v":""},{"$f":"IF(B2504=\"\",\"\",IF(R2504<5,INT((A2504-1)/Einstellung!$B$4)+1,\"\"))","v":""},{"$f":"IF(C$5<B$4,\"\",IF(R2504>4,\"\",OFFSET(T$2,R2504-1,0)))","v":""}]
["",null,null,null,null,null,null,null,null,null,null,null,null,null,null,null,null,"",{"$f":"IF(B2506=\"\",\"\",IF(R2506<5,INT((A2506-1)/Einstellung!$B$4)+1,\"\"))","v":""},""]
["",null,null,null,null,null,null,null,null,null,null,null,null,null,null,null,null,"",{"$f":"IF(B2507=\"\",\"\",IF(R2507<5,INT((A2507-1)/Einstellung!$B$4)+1,\"\"))","v":""},""]
["",null,null,null,null,null,null,null,null,null,null,null,null,null,null,null,null,"",{"$f":"IF(B2510=\"\",\"\",IF(R2510<5,INT((A2510-1)/Einstellung!$B$4)+1,\"\"))","v":""},""]
["",null,null,null,null,null,null,null,null,null,null,null,null,null,null,null,null,"",{"$f":"IF(B2511=\"\",\"\",IF(R2511<5,INT((A2511-1)/Einstellung!$B$4)+1,\"\"))","v":""},""]
["",null,null,null,null,null,null,null,null,null,null,null,null,null,null,null,null,"",{"$f":"IF(B2513=\"\",\"\",IF(R2513<5,INT((A2513-1)/Einstellung!$B$4)+1,\"\"))","v":""},""]
["",null,null,null,null,null,null,null,null,null,null,null,null,null,null,null,null,"",{"$f":"IF(B2514=\"\",\"\",IF(R2514<5,INT((A2514-1)/Einstellung!$B$4)+1,\"\"))","v":""},""]
["",null,null,null,null,null,null,null,null,null,null,null,null,null,null,null,null,"",{"$f":"IF(B2517=\"\",\"\",IF(R2517<5,INT((A2517-1)/Einstellung!$B$4)+1,\"\"))","v":""},""]
["",null,null,null,null,null,null,null,null,null,null,null,null,null,null,null,null,"",{"$f":"IF(B2518=\"\",\"\",IF(R2518<5,INT((A2518-1)/Einstellung!$B$4)+1,\"\"))","v":""},""]
["",null,null,null,null,null,null,null,null,null,null,null,null,null,null,null,null,"",{"$f":"IF(B2520=\"\",\"\",IF(R2520<5,INT((A2520-1)/Einstellung!$B$4)+1,\"\"))","v":""},""]
["",null,null,null,null,null,null,null,null,null,null,null,null,null,null,null,null,"",{"$f":"IF(B2521=\"\",\"\",IF(R2521<5,INT((A2521-1)/Einstellung!$B$4)+1,\"\"))","v":""},""]
["",null,null,null,null,null,null,null,null,null,null,null,null,null,null,null,null,"",{"$f":"IF(B2524=\"\",\"\",IF(R2524<5,INT((A2524-1)/Einstellung!$B$4)+1,\"\"))","v":""},""]
["",null,null,null,null,null,null,null,null,null,null,null,null,null,null,null,null,"",{"$f":"IF(B2525=\"\",\"\",IF(R2525<5,INT((A2525-1)/Einstellung!$B$4)+1,\"\"))","v":""},""]
["",null,null,null,null,null,null,null,null,null,null,null,null,null,null,null,null,"",{"$f":"IF(B2527=\"\",\"\",IF(R2527<5,INT((A2527-1)/Einstellung!$B$4)+1,\"\"))","v":""},""]
["",null,null,null,null,null,null,null,null,null,null,null,null,null,null,null,null,"",{"$f":"IF(B2528=\"\",\"\",IF(R2528<5,INT((A2528-1)/Einstellung!$B$4)+1,\"\"))","v":""},""]
["",null,null,null,null,null,null,null,null,null,null,null,null,null,null,null,null,"",{"$f":"IF(B2531=\"\",\"\",IF(R2531<5,INT((A2531-1)/Einstellung!$B$4)+1,\"\"))","v":""},""]
["",null,null,null,null,null,null,null,null,null,null,null,null,null,null,null,null,"",{"$f":"IF(B2532=\"\",\"\",IF(R2532<5,INT((A2532-1)/Einstellung!$B$4)+1,\"\"))","v":""},""]
["",null,null,null,null,null,null,null,null,null,null,null,null,null,null,null,null,"",{"$f":"IF(B2534=\"\",\"\",IF(R2534<5,INT((A2534-1)/Einstellung!$B$4)+1,\"\"))","v":""},""]
["",null,null,null,null,null,null,null,null,null,null,null,null,null,null,null,null,"",{"$f":"IF(B2535=\"\",\"\",IF(R2535<5,INT((A2535-1)/Einstellung!$B$4)+1,\"\"))","v":""},""]
[{"$f":"IF(B2538=\"\",\"\",ROW()-7)","v":""},null,null,null,null,null,null,null,null,null,null,null,null,null,null,null,null,"",{"$f":"IF(B2538=\"\",\"\",IF(R2538<5,INT((A2538-1)/Einstellung!$B$4)+1,\"\"))","v":""},""]
["",null,null,null,null,null,null,null,null,null,null,null,null,null,null,null,null,"",{"$f":"IF(B2539=\"\",\"\",IF(R2539<5,INT((A2539-1)/Einstellung!$B$4)+1,\"\"))","v":""},""]
["",null,null,null,null,null,null,null,null,null,null,null,null,null,null,null,null,"",{"$f":"IF(B2541=\"\",\"\",IF(R2541<5,INT((A2541-1)/Einstellung!$B$4)+1,\"\"))","v":""},""]
["",null,null,null,null,null,null,null,null,null,null,null,null,null,null,null,null,"",{"$f":"IF(B2542=\"\",\"\",IF(R2542<5,INT((A2542-1)/Einstellung!$B$4)+1,\"\"))","v":""},""]
["",null,null,null,null,null,null,null,null,null,null,null,null,null,null,null,null,"",{"$f":"IF(B2545=\"\",\"\",IF(R2545<5,INT((A2545-1)/Einstellung!$B$4)+1,\"\"))","v":""},""]
["",null,null,null,null,null,null,null,null,null,null,null,null,null,null,null,null,"",{"$f":"IF(B2546=\"\",\"\",IF(R2546<5,INT((A2546-1)/Einstellung!$B$4)+1,\"\"))","v":""},""]
["",null,null,null,null,null,null,null,null,null,null,null,null,null,null,null,null,"",{"$f":"IF(B2548=\"\",\"\",IF(R2548<5,INT((A2548-1)/Einstellung!$B$4)+1,\"\"))","v":""},""]
["",null,null,null,null,null,null,null,null,null,null,null,null,null,null,null,null,"",{"$f":"IF(B2549=\"\",\"\",IF(R2549<5,INT((A2549-1)/Einstellung!$B$4)+1,\"\"))","v":""},""]
["",null,null,null,null,null,null,null,null,null,null,null,null,null,null,null,null,"",{"$f":"IF(B2552=\"\",\"\",IF(R2552<5,INT((A2552-1)/Einstellung!$B$4)+1,\"\"))","v":""},""]
["",null,null,null,null,null,null,null,null,null,null,null,null,null,null,null,null,"",{"$f":"IF(B2553=\"\",\"\",IF(R2553<5,INT((A2553-1)/Einstellung!$B$4)+1,\"\"))","v":""},""]
["",null,null,null,null,null,null,null,null,null,null,null,null,null,null,null,null,"",{"$f":"IF(B2555=\"\",\"\",IF(R2555<5,INT((A2555-1)/Einstellung!$B$4)+1,\"\"))","v":""},""]
["",null,null,null,null,null,null,null,null,null,null,null,null,null,null,null,null,"",{"$f":"IF(B2556=\"\",\"\",IF(R2556<5,INT((A2556-1)/Einstellung!$B$4)+1,\"\"))","v":""},""]
["",null,null,null,null,null,null,null,null,null,null,null,null,null,null,null,null,"",{"$f":"IF(B2559=\"\",\"\",IF(R2559<5,INT((A2559-1)/Einstellung!$B$4)+1,\"\"))","v":""},""]
["",null,null,null,null,null,null,null,null,null,null,null,null,null,null,null,null,"",{"$f":"IF(B2560=\"\",\"\",IF(R2560<5,INT((A2560-1)/Einstellung!$B$4)+1,\"\"))","v":""},""]
["",null,null,null,null,null,null,null,null,null,null,null,null,null,null,null,null,"",{"$f":"IF(B2562=\"\",\"\",IF(R2562<5,INT((A2562-1)/Einstellung!$B$4)+1,\"\"))","v":""},""]
["",null,null,null,null,null,null,null,null,null,null,null,null,null,null,null,null,"",{"$f":"IF(B2563=\"\",\"\",IF(R2563<5,INT((A2563-1)/Einstellung!$B$4)+1,\"\"))","v":""},""]
["",null,null,null,null,null,null,null,null,null,null,null,null,null,null,null,null,"",{"$f":"IF(B2566=\"\",\"\",IF(R2566<5,INT((A2566-1)/Einstellung!$B$4)+1,\"\"))","v":""},""]
["",null,null,null,null,null,null,null,null,null,null,null,null,null,null,null,null,"",{"$f":"IF(B2567=\"\",\"\",IF(R2567<5,INT((A2567-1)/Einstellung!$B$4)+1,\"\"))","v":""},""]
["",null,null,null,null,null,null,null,null,null,null,null,null,null,null,null,null,"",{"$f":"IF(B2569=\"\",\"\",IF(R2569<5,INT((A2569-1)/Einstellung!$B$4)+1,\"\"))","v":""},""]
["",null,null,null,null,null,null,null,null,null,null,null,null,null,null,null,null,"",{"$f":"IF(B2570=\"\",\"\",IF(R2570<5,INT((A2570-1)/Einstellung!$B$4)+1,\"\"))","v":""},""]
["",null,null,null,null,null,null,null,null,null,null,null,null,null,null,null,null,"",{"$f":"IF(B2573=\"\",\"\",IF(R2573<5,INT((A2573-1)/Einstellung!$B$4)+1,\"\"))","v":""},""]
["",null,null,null,null,null,null,null,null,null,null,null,null,null,null,null,null,"",{"$f":"IF(B2574=\"\",\"\",IF(R2574<5,INT((A2574-1)/Einstellung!$B$4)+1,\"\"))","v":""},""]
["",null,null,null,null,null,null,null,null,null,null,null,null,null,null,null,null,"",{"$f":"IF(B2576=\"\",\"\",IF(R2576<5,INT((A2576-1)/Einstellung!$B$4)+1,\"\"))","v":""},""]
["",null,null,null,null,null,null,null,null,null,null,null,null,null,null,null,null,"",{"$f":"IF(B2577=\"\",\"\",IF(R2577<5,INT((A2577-1)/Einstellung!$B$4)+1,\"\"))","v":""},""]
["",null,null,null,null,null,null,null,null,null,null,null,null,null,null,null,null,"",{"$f":"IF(B2580=\"\",\"\",IF(R2580<5,INT((A2580-1)/Einstellung!$B$4)+1,\"\"))","v":""},""]
["",null,null,null,null,null,null,null,null,null,null,null,null,null,null,null,null,"",{"$f":"IF(B2581=\"\",\"\",IF(R2581<5,INT((A2581-1)/Einstellung!$B$4)+1,\"\"))","v":""},""]
["",null,null,null,null,null,null,null,null,null,null,null,null,null,null,null,null,"",{"$f":"IF(B2583=\"\",\"\",IF(R2583<5,INT((A2583-1)/Einstellung!$B$4)+1,\"\"))","v":""},""]
["",null,null,null,null,null,null,null,null,null,null,null,null,null,null,null,null,"",{"$f":"IF(B2584=\"\",\"\",IF(R2584<5,INT((A2584-1)/Einstellung!$B$4)+1,\"\"))","v":""},""]
["",null,null,null,null,null,null,null,null,null,null,null,null,null,null,null,null,"",{"$f":"IF(B2587=\"\",\"\",IF(R2587<5,INT((A2587-1)/Einstellung!$B$4)+1,\"\"))","v":""},""]
["",null,null,null,null,null,null,null,null,null,null,null,null,null,null,null,null,"",{"$f":"IF(B2588=\"\",\"\",IF(R2588<5,INT((A2588-1)/Einstellung!$B$4)+1,\"\"))","v":""},""]
["",null,null,null,null,null,null,null,null,null,null,null,null,null,null,null,null,"",{"$f":"IF(B2590=\"\",\"\",IF(R2590<5,INT((A2590-1)/Einstellung!$B$4)+1,\"\"))","v":""},""]
["",null,null,null,null,null,null,null,null,null,null,null,null,null,null,null,null,"",{"$f":"IF(B2591=\"\",\"\",IF(R2591<5,INT((A2591-1)/Einstellung!$B$4)+1,\"\"))","v":""},""]
["",null,null,null,null,null,null,null,null,null,null,null,null,null,null,null,null,"",{"$f":"IF(B2594=\"\",\"\",IF(R2594<5,INT((A2594-1)/Einstellung!$B$4)+1,\"\"))","v":""},""]
["",null,null,null,null,null,null,null,null,null,null,null,null,null,null,null,null,"",{"$f":"IF(B2595=\"\",\"\",IF(R2595<5,INT((A2595-1)/Einstellung!$B$4)+1,\"\"))","v":""},""]
["",null,null,null,null,null,null,null,null,null,null,null,null,null,null,null,null,"",{"$f":"IF(B2597=\"\",\"\",IF(R2597<5,INT((A2597-1)/Einstellung!$B$4)+1,\"\"))","v":""},""]
["",null,null,null,null,null,null,null,null,null,null,null,null,null,null,null,null,"",{"$f":"IF(B2598=\"\",\"\",IF(R2598<5,INT((A2598-1)/Einstellung!$B$4)+1,\"\"))","v":""},""]
["",null,null,null,null,null,null,null,null,null,null,null,null,null,null,null,null,"",{"$f":"IF(B2601=\"\",\"\",IF(R2601<5,INT((A2601-1)/Einstellung!$B$4)+1,\"\"))","v":""},""]
[{"$f":"IF(B2602=\"\",\"\",ROW()-7)","v":""},null,null,null,null,null,null,null,null,null,null,null,null,null,null,null,null,"",{"$f":"IF(B2602=\"\",\"\",IF(R2602<5,INT((A2602-1)/Einstellung!$B$4)+1,\"\"))","v":""},""]
["",null,null,null,null,null,null,null,null,null,null,null,null,null,null,null,null,"",{"$f":"IF(B2604=\"\",\"\",IF(R2604<5,INT((A2604-1)/Einstellung!$B$4)+1,\"\"))","v":""},""]
["",null,null,null,null,null,null,null,null,null,null,null,null,null,null,null,null,"",{"$f":"IF(B2605=\"\",\"\",IF(R2605<5,INT((A2605-1)/Einstellung!$B$4)+1,\"\"))","v":""},""]
["",null,null,null,null,null,null,null,null,null,null,null,null,null,null,null,null,"",{"$f":"IF(B2608=\"\",\"\",IF(R2608<5,INT((A2608-1)/Einstellung!$B$4)+1,\"\"))","v":""},""]
["",null,null,null,null,null,null,null,null,null,null,null,null,null,null,null,null,"",{"$f":"IF(B2609=\"\",\"\",IF(R2609<5,INT((A2609-1)/Einstellung!$B$4)+1,\"\"))","v":""},""]
["",null,null,null,null,null,null,null,null,null,null,null,null,null,null,null,null,"",{"$f":"IF(B2611=\"\",\"\",IF(R2611<5,INT((A2611-1)/Einstellung!$B$4)+1,\"\"))","v":""},""]
["",null,null,null,null,null,null,null,null,null,null,null,null,null,null,null,null,"",{"$f":"IF(B2612=\"\",\"\",IF(R2612<5,INT((A2612-1)/Einstellung!$B$4)+1,\"\"))","v":""},""]
["",null,null,null,null,null,null,null,null,null,null,null,null,null,null,null,null,"",{"$f":"IF(B2615=\"\",\"\",IF(R2615<5,INT((A2615-1)/Einstellung!$B$4)+1,\"\"))","v":""},""]
["",null,null,null,null,null,null,null,null,null,null,null,null,null,null,null,null,"",{"$f":"IF(B2616=\"\",\"\",IF(R2616<5,INT((A2616-1)/Einstellung!$B$4)+1,\"\"))","v":""},""]
["",null,null,null,null,null,null,null,null,null,null,null,null,null,null,null,null,"",{"$f":"IF(B2618=\"\",\"\",IF(R2618<5,INT((A2618-1)/Einstellung!$B$4)+1,\"\"))","v":""},""]
["",null,null,null,null,null,null,null,null,null,null,null,null,null,null,null,null,"",{"$f":"IF(B2619=\"\",\"\",IF(R2619<5,INT((A2619-1)/Einstellung!$B$4)+1,\"\"))","v":""},""]
["",null,null,null,null,null,null,null,null,null,null,null,null,null,null,null,null,"",{"$f":"IF(B2622=\"\",\"\",IF(R2622<5,INT((A2622-1)/Einstellung!$B$4)+1,\"\"))","v":""},""]
["",null,null,null,null,null,null,null,null,null,null,null,null,null,null,null,null,"",{"$f":"IF(B2623=\"\",\"\",IF(R2623<5,INT((A2623-1)/Einstellung!$B$4)+1,\"\"))","v":""},""]
["",null,null,null,null,null,null,null,null,null,null,null,null,null,null,null,null,"",{"$f":"IF(B2625=\"\",\"\",IF(R2625<5,INT((A2625-1)/Einstellung!$B$4)+1,\"\"))","v":""},""]
["",null,null,null,null,null,null,null,null,null,null,null,null,null,null,null,null,"",{"$f":"IF(B2626=\"\",\"\",IF(R2626<5,INT((A2626-1)/Einstellung!$B$4)+1,\"\"))","v":""},""]
["",null,null,null,null,null,null,null,null,null,null,null,null,null,null,null,null,"",{"$f":"IF(B2629=\"\",\"\",IF(R2629<5,INT((A2629-1)/Einstellung!$B$4)+1,\"\"))","v":""},""]
["",null,null,null,null,null,null,null,null,null,null,null,null,null,null,null,null,"",{"$f":"IF(B2630=\"\",\"\",IF(R2630<5,INT((A2630-1)/Einstellung!$B$4)+1,\"\"))","v":""},""]
["",null,null,null,null,null,null,null,null,null,null,null,null,null,null,null,null,"",{"$f":"IF(B2633=\"\",\"\",IF(R2633<5,INT((A2633-1)/Einstellung!$B$4)+1,\"\"))","v":""},""]
["",null,null,null,null,null,null,null,null,null,null,null,null,null,null,null,null,"",{"$f":"IF(B2634=\"\",\"\",IF(R2634<5,INT((A2634-1)/Einstellung!$B$4)+1,\"\"))","v":""},""]
["",null,null,null,null,null,null,null,null,null,null,null,null,null,null,null,null,"",{"$f":"IF(B2636=\"\",\"\",IF(R2636<5,INT((A2636-1)/Einstellung!$B$4)+1,\"\"))","v":""},""]
["",null,null,null,null,null,null,null,null,null,null,null,null,null,null,null,null,"",{"$f":"IF(B2637=\"\",\"\",IF(R2637<5,INT((A2637-1)/Einstellung!$B$4)+1,\"\"))","v":""},""]
["",null,null,null,null,null,null,null,null,null,null,null,null,null,null,null,null,"",{"$f":"IF(B2640=\"\",\"\",IF(R2640<5,INT((A2640-1)/Einstellung!$B$4)+1,\"\"))","v":""},""]
["",null,null,null,null,null,null,null,null,null,null,null,null,null,null,null,null,"",{"$f":"IF(B2641=\"\",\"\",IF(R2641<5,INT((A2641-1)/Einstellung!$B$4)+1,\"\"))","v":""},""]
["",null,null,null,null,null,null,null,null,null,null,null,null,null,null,null,null,"",{"$f":"IF(B2643=\"\",\"\",IF(R2643<5,INT((A2643-1)/Einstellung!$B$4)+1,\"\"))","v":""},""]
["",null,null,null,null,null,null,null,null,null,null,null,null,null,null,null,null,"",{"$f":"IF(B2644=\"\",\"\",IF(R2644<5,INT((A2644-1)/Einstellung!$B$4)+1,\"\"))","v":""},""]
["",null,null,null,null,null,null,null,null,null,null,null,null,null,null,null,null,"",{"$f":"IF(B2647=\"\",\"\",IF(R2647<5,INT((A2647-1)/Einstellung!$B$4)+1,\"\"))","v":""},""]
["",null,null,null,null,null,null,null,null,null,null,null,null,null,null,null,null,"",{"$f":"IF(B2648=\"\",\"\",IF(R2648<5,INT((A2648-1)/Einstellung!$B$4)+1,\"\"))","v":""},""]
["",null,null,null,null,null,null,null,null,null,null,null,null,null,null,null,null,"",{"$f":"IF(B2650=\"\",\"\",IF(R2650<5,INT((A2650-1)/Einstellung!$B$4)+1,\"\"))","v":""},""]
["",null,null,null,null,null,null,null,null,null,null,null,null,null,null,null,null,"",{"$f":"IF(B2651=\"\",\"\",IF(R2651<5,INT((A2651-1)/Einstellung!$B$4)+1,\"\"))","v":""},""]
["",null,null,null,null,null,null,null,null,null,null,null,null,null,null,null,null,"",{"$f":"IF(B2654=\"\",\"\",IF(R2654<5,INT((A2654-1)/Einstellung!$B$4)+1,\"\"))","v":""},""]
["",null,null,null,null,null,null,null,null,null,null,null,null,null,null,null,null,"",{"$f":"IF(B2655=\"\",\"\",IF(R2655<5,INT((A2655-1)/Einstellung!$B$4)+1,\"\"))","v":""},""]
["",null,null,null,null,null,null,null,null,null,null,null,null,null,null,null,null,"",{"$f":"IF(B2657=\"\",\"\",IF(R2657<5,INT((A2657-1)/Einstellung!$B$4)+1,\"\"))","v":""},""]
["",null,null,null,null,null,null,null,null,null,null,null,null,null,null,null,null,"",{"$f":"IF(B2658=\"\",\"\",IF(R2658<5,INT((A2658-1)/Einstellung!$B$4)+1,\"\"))","v":""},""]
["",null,null,null,null,null,null,null,null,null,null,null,null,null,null,null,null,"",{"$f":"IF(B2661=\"\",\"\",IF(R2661<5,INT((A2661-1)/Einstellung!$B$4)+1,\"\"))","v":""},""]
["",null,null,null,null,null,null,null,null,null,null,null,null,null,null,null,null,"",{"$f":"IF(B2662=\"\",\"\",IF(R2662<5,INT((A2662-1)/Einstellung!$B$4)+1,\"\"))","v":""},""]
["",null,null,null,null,null,null,null,null,null,null,null,null,null,null,null,null,"",{"$f":"IF(B2664=\"\",\"\",IF(R2664<5,INT((A2664-1)/Einstellung!$B$4)+1,\"\"))","v":""},""]
["",null,null,null,null,null,null,null,null,null,null,null,null,null,null,null,null,"",{"$f":"IF(B2665=\"\",\"\",IF(R2665<5,INT((A2665-1)/Einstellung!$B$4)+1,\"\"))","v":""},""]
["",null,null,null,null,null,null,null,null,null,null,null,null,null,null,null,null,"",{"$f":"IF(B2668=\"\",\"\",IF(R2668<5,INT((A2668-1)/Einstellung!$B$4)+1,\"\"))","v":""},""]
["",null,null,null,null,null,null,null,null,null,null,null,null,null,null,null,null,"",{"$f":"IF(B2669=\"\",\"\",IF(R2669<5,INT((A2669-1)/Einstellung!$B$4)+1,\"\"))","v":""},""]
["",null,null,null,null,null,null,null,null,null,null,null,null,null,null,null,null,"",{"$f":"IF(B2671=\"\",\"\",IF(R2671<5,INT((A2671-1)/Einstellung!$B$4)+1,\"\"))","v":""},""]
["",null,null,null,null,null,null,null,null,null,null,null,null,null,null,null,null,"",{"$f":"IF(B2672=\"\",\"\",IF(R2672<5,INT((A2672-1)/Einstellung!$B$4)+1,\"\"))","v":""},""]
["",null,null,null,null,null,null,null,null,null,null,null,null,null,null,null,null,"",{"$f":"IF(B2675=\"\",\"\",IF(R2675<5,INT((A2675-1)/Einstellung!$B$4)+1,\"\"))","v":""},""]
["",null,null,null,null,null,null,null,null,null,null,null,null,null,null,null,null,"",{"$f":"IF(B2676=\"\",\"\",IF(R2676<5,INT((A2676-1)/Einstellung!$B$4)+1,\"\"))","v":""},""]
["",null,null,null,null,null,null,null,null,null,null,null,null,null,null,null,null,"",{"$f":"IF(B2678=\"\",\"\",IF(R2678<5,INT((A2678-1)/Einstellung!$B$4)+1,\"\"))","v":""},""]
["",null,null,null,null,null,null,null,null,null,null,null,null,null,null,null,null,"",{"$f":"IF(B2679=\"\",\"\",IF(R2679<5,INT((A2679-1)/Einstellung!$B$4)+1,\"\"))","v":""},""]
["",null,null,null,null,null,null,null,null,null,null,null,null,null,null,null,null,"",{"$f":"IF(B2682=\"\",\"\",IF(R2682<5,INT((A2682-1)/Einstellung!$B$4)+1,\"\"))","v":""},""]
["",null,null,null,null,null,null,null,null,null,null,null,null,null,null,null,null,"",{"$f":"IF(B2683=\"\",\"\",IF(R2683<5,INT((A2683-1)/Einstellung!$B$4)+1,\"\"))","v":""},""]
["",null,null,null,null,null,null,null,null,null,null,null,null,null,null,null,null,"",{"$f":"IF(B2685=\"\",\"\",IF(R2685<5,INT((A2685-1)/Einstellung!$B$4)+1,\"\"))","v":""},""]
["",null,null,null,null,null,null,null,null,null,null,null,null,null,null,null,null,"",{"$f":"IF(B2686=\"\",\"\",IF(R2686<5,INT((A2686-1)/Einstellung!$B$4)+1,\"\"))","v":""},""]
["",null,null,null,null,null,null,null,null,null,null,null,null,null,null,null,null,"",{"$f":"IF(B2689=\"\",\"\",IF(R2689<5,INT((A2689-1)/Einstellung!$B$4)+1,\"\"))","v":""},""]
["",null,null,null,null,null,null,null,null,null,null,null,null,null,null,null,null,"",{"$f":"IF(B2690=\"\",\"\",IF(R2690<5,INT((A2690-1)/Einstellung!$B$4)+1,\"\"))","v":""},""]
["",null,null,null,null,null,null,null,null,null,null,null,null,null,null,null,null,"",{"$f":"IF(B2692=\"\",\"\",IF(R2692<5,INT((A2692-1)/Einstellung!$B$4)+1,\"\"))","v":""},""]
["",null,null,null,null,null,null,null,null,null,null,null,null,null,null,null,null,"",{"$f":"IF(B2693=\"\",\"\",IF(R2693<5,INT((A2693-1)/Einstellung!$B$4)+1,\"\"))","v":""},""]
["",null,null,null,null,null,null,null,null,null,null,null,null,null,null,null,null,{"$f":"IF(B2696=\"\",\"\",16-((MID(B$1,1,1)=MID(B2696,1,1))+(MID(C$1,1,1)=MID(C2696,1,1))+(MID(D$1,1,1)=MID(D2696,1,1))+(MID(E$1,1,1)=MID(E2696,1,1))+(MID(F$1,1,1)=MID(F2696,1,1))+(MID(G$1,1,1)=MID(G2696,1,1))+(MID(H$1,1,1)=MID(H2696,1,1))+(MID(I$1,1,1)=MID(I2696,1,1))+(MID(J$1,1,1)=MID(J2696,1,1))+(MID(K$1,1,1)=MID(K2696,1,1))+(MID(L$1,1,1)=MID(L2696,1,1))+(MID(M$1,1,1)=MID(M2696,1,1))+(MID(N$1,1,1)=MID(N2696,1,1))+(MID(O$1,1,1)=MID(O2696,1,1))+(MID(P$1,1,1)=MID(P2696,1,1)))-B$4+C$5)","v":""},{"$f":"IF(B2696=\"\",\"\",IF(R2696<5,INT((A2696-1)/Einstellung!$B$4)+1,\"\"))","v":""},{"$f":"IF(C$5<B$4,\"\",IF(R2696>4,\"\",OFFSET(T$2,R2696-1,0)))","v":""}]
["",null,null,null,null,null,null,null,null,null,null,null,null,null,null,null,null,"",{"$f":"IF(B2697=\"\",\"\",IF(R2697<5,INT((A2697-1)/Einstellung!$B$4)+1,\"\"))","v":""},""]
["",null,null,null,null,null,null,null,null,null,null,null,null,null,null,null,null,"",{"$f":"IF(B2699=\"\",\"\",IF(R2699<5,INT((A2699-1)/Einstellung!$B$4)+1,\"\"))","v":""},""]
["",null,null,null,null,null,null,null,null,null,null,null,null,null,null,null,null,"",{"$f":"IF(B2700=\"\",\"\",IF(R2700<5,INT((A2700-1)/Einstellung!$B$4)+1,\"\"))","v":""},""]
["",null,null,null,null,null,null,null,null,null,null,null,null,null,null,null,null,"",{"$f":"IF(B2703=\"\",\"\",IF(R2703<5,INT((A2703-1)/Einstellung!$B$4)+1,\"\"))","v":""},""]
["",null,null,null,null,null,null,null,null,null,null,null,null,null,null,null,null,"",{"$f":"IF(B2704=\"\",\"\",IF(R2704<5,INT((A2704-1)/Einstellung!$B$4)+1,\"\"))","v":""},""]
["",null,null,null,null,null,null,null,null,null,null,null,null,null,null,null,null,"",{"$f":"IF(B2706=\"\",\"\",IF(R2706<5,INT((A2706-1)/Einstellung!$B$4)+1,\"\"))","v":""},""]
["",null,null,null,null,null,null,null,null,null,null,null,null,null,null,null,null,"",{"$f":"IF(B2707=\"\",\"\",IF(R2707<5,INT((A2707-1)/Einstellung!$B$4)+1,\"\"))","v":""},""]
["",null,null,null,null,null,null,null,null,null,null,null,null,null,null,null,null,"",{"$f":"IF(B2710=\"\",\"\",IF(R2710<5,INT((A2710-1)/Einstellung!$B$4)+1,\"\"))","v":""},""]
["",null,null,null,null,null,null,null,null,null,null,null,null,null,null,null,null,"",{"$f":"IF(B2711=\"\",\"\",IF(R2711<5,INT((A2711-1)/Einstellung!$B$4)+1,\"\"))","v":""},""]
["",null,null,null,null,null,null,null,null,null,null,null,null,null,null,null,null,"",{"$f":"IF(B2713=\"\",\"\",IF(R2713<5,INT((A2713-1)/Einstellung!$B$4)+1,\"\"))","v":""},""]
["",null,null,null,null,null,null,null,null,null,null,null,null,null,null,null,null,"",{"$f":"IF(B2714=\"\",\"\",IF(R2714<5,INT((A2714-1)/Einstellung!$B$4)+1,\"\"))","v":""},""]
["",null,null,null,null,null,null,null,null,null,null,null,null,null,null,null,null,"",{"$f":"IF(B2717=\"\",\"\",IF(R2717<5,INT((A2717-1)/Einstellung!$B$4)+1,\"\"))","v":""},""]
["",null,null,null,null,null,null,null,null,null,null,null,null,null,null,null,null,"",{"$f":"IF(B2718=\"\",\"\",IF(R2718<5,INT((A2718-1)/Einstellung!$B$4)+1,\"\"))","v":""},""]
["",null,null,null,null,null,null,null,null,null,null,null,null,null,null,null,null,"",{"$f":"IF(B2720=\"\",\"\",IF(R2720<5,INT((A2720-1)/Einstellung!$B$4)+1,\"\"))","v":""},""]
["",null,null,null,null,null,null,null,null,null,null,null,null,null,null,null,null,"",{"$f":"IF(B2721=\"\",\"\",IF(R2721<5,INT((A2721-1)/Einstellung!$B$4)+1,\"\"))","v":""},""]
["",null,null,null,null,null,null,null,null,null,null,null,null,null,null,null,null,"",{"$f":"IF(B2724=\"\",\"\",IF(R2724<5,INT((A2724-1)/Einstellung!$B$4)+1,\"\"))","v":""},""]
["",null,null,null,null,null,null,null,null,null,null,null,null,null,null,null,null,"",{"$f":"IF(B2725=\"\",\"\",IF(R2725<5,INT((A2725-1)/Einstellung!$B$4)+1,\"\"))","v":""},""]
["",null,null,null,null,null,null,null,null,null,null,null,null,null,null,null,null,"",{"$f":"IF(B2727=\"\",\"\",IF(R2727<5,INT((A2727-1)/Einstellung!$B$4)+1,\"\"))","v":""},""]
["",null,null,null,null,null,null,null,null,null,null,null,null,null,null,null,null,"",{"$f":"IF(B2728=\"\",\"\",IF(R2728<5,INT((A2728-1)/Einstellung!$B$4)+1,\"\"))","v":""},""]
["",null,null,null,null,null,null,null,null,null,null,null,null,null,null,null,null,"",{"$f":"IF(B2731=\"\",\"\",IF(R2731<5,INT((A2731-1)/Einstellung!$B$4)+1,\"\"))","v":""},""]
["",null,null,null,null,null,null,null,null,null,null,null,null,null,null,null,null,"",{"$f":"IF(B2732=\"\",\"\",IF(R2732<5,INT((A2732-1)/Einstellung!$B$4)+1,\"\"))","v":""},""]
["",null,null,null,null,null,null,null,null,null,null,null,null,null,null,null,null,"",{"$f":"IF(B2734=\"\",\"\",IF(R2734<5,INT((A2734-1)/Einstellung!$B$4)+1,\"\"))","v":""},""]
["",null,null,null,null,null,null,null,null,null,null,null,null,null,null,null,null,"",{"$f":"IF(B2735=\"\",\"\",IF(R2735<5,INT((A2735-1)/Einstellung!$B$4)+1,\"\"))","v":""},""]
["",null,null,null,null,null,null,null,null,null,null,null,null,null,null,null,null,"",{"$f":"IF(B2738=\"\",\"\",IF(R2738<5,INT((A2738-1)/Einstellung!$B$4)+1,\"\"))","v":""},""]
["",null,null,null,null,null,null,null,null,null,null,null,null,null,null,null,null,"",{"$f":"IF(B2739=\"\",\"\",IF(R2739<5,INT((A2739-1)/Einstellung!$B$4)+1,\"\"))","v":""},""]
["",null,null,null,null,null,null,null,null,null,null,null,null,null,null,null,null,"",{"$f":"IF(B2741=\"\",\"\",IF(R2741<5,INT((A2741-1)/Einstellung!$B$4)+1,\"\"))","v":""},""]
["",null,null,null,null,null,null,null,null,null,null,null,null,null,null,null,null,"",{"$f":"IF(B2742=\"\",\"\",IF(R2742<5,INT((A2742-1)/Einstellung!$B$4)+1,\"\"))","v":""},""]
["",null,null,null,null,null,null,null,null,null,null,null,null,null,null,null,null,"",{"$f":"IF(B2745=\"\",\"\",IF(R2745<5,INT((A2745-1)/Einstellung!$B$4)+1,\"\"))","v":""},""]
["",null,null,null,null,null,null,null,null,null,null,null,null,null,null,null,null,"",{"$f":"IF(B2746=\"\",\"\",IF(R2746<5,INT((A2746-1)/Einstellung!$B$4)+1,\"\"))","v":""},""]
["",null,null,null,null,null,null,null,null,null,null,null,null,null,null,null,null,"",{"$f":"IF(B2748=\"\",\"\",IF(R2748<5,INT((A2748-1)/Einstellung!$B$4)+1,\"\"))","v":""},""]
["",null,null,null,null,null,null,null,null,null,null,null,null,null,null,null,null,"",{"$f":"IF(B2749=\"\",\"\",IF(R2749<5,INT((A2749-1)/Einstellung!$B$4)+1,\"\"))","v":""},""]
["",null,null,null,null,null,null,null,null,null,null,null,null,null,null,null,null,"",{"$f":"IF(B2752=\"\",\"\",IF(R2752<5,INT((A2752-1)/Einstellung!$B$4)+1,\"\"))","v":""},""]
["",null,null,null,null,null,null,null,null,null,null,null,null,null,null,null,null,"",{"$f":"IF(B2753=\"\",\"\",IF(R2753<5,INT((A2753-1)/Einstellung!$B$4)+1,\"\"))","v":""},""]
["",null,null,null,null,null,null,null,null,null,null,null,null,null,null,null,null,"",{"$f":"IF(B2755=\"\",\"\",IF(R2755<5,INT((A2755-1)/Einstellung!$B$4)+1,\"\"))","v":""},""]
["",null,null,null,null,null,null,null,null,null,null,null,null,null,null,null,null,"",{"$f":"IF(B2756=\"\",\"\",IF(R2756<5,INT((A2756-1)/Einstellung!$B$4)+1,\"\"))","v":""},""]
["",null,null,null,null,null,null,null,null,null,null,null,null,null,null,null,null,"",{"$f":"IF(B2759=\"\",\"\",IF(R2759<5,INT((A2759-1)/Einstellung!$B$4)+1,\"\"))","v":""},""]
["",null,null,null,null,null,null,null,null,null,null,null,null,null,null,null,null,{"$f":"IF(B2760=\"\",\"\",16-((MID(B$1,1,1)=MID(B2760,1,1))+(MID(C$1,1,1)=MID(C2760,1,1))+(MID(D$1,1,1)=MID(D2760,1,1))+(MID(E$1,1,1)=MID(E2760,1,1))+(MID(F$1,1,1)=MID(F2760,1,1))+(MID(G$1,1,1)=MID(G2760,1,1))+(MID(H$1,1,1)=MID(H2760,1,1))+(MID(I$1,1,1)=MID(I2760,1,1))+(MID(J$1,1,1)=MID(J2760,1,1))+(MID(K$1,1,1)=MID(K2760,1,1))+(MID(L$1,1,1)=MID(L2760,1,1))+(MID(M$1,1,1)=MID(M2760,1,1))+(MID(N$1,1,1)=MID(N2760,1,1))+(MID(O$1,1,1)=MID(O2760,1,1))+(MID(P$1,1,1)=MID(P2760,1,1)))-B$4+C$5)","v":""},{"$f":"IF(B2760=\"\",\"\",IF(R2760<5,INT((A2760-1)/Einstellung!$B$4)+1,\"\"))","v":""},{"$f":"IF(C$5<B$4,\"\",IF(R2760>4,\"\",OFFSET(T$2,R2760-1,0)))","v":""}]
["",null,null,null,null,null,null,null,null,null,null,null,null,null,null,null,null,"",{"$f":"IF(B2762=\"\",\"\",IF(R2762<5,INT((A2762-1)/Einstellung!$B$4)+1,\"\"))","v":""},""]
["",null,null,null,null,null,null,null,null,null,null,null,null,null,null,null,null,"",{"$f":"IF(B2763=\"\",\"\",IF(R2763<5,INT((A2763-1)/Einstellung!$B$4)+1,\"\"))","v":""},""]
["",null,null,null,null,null,null,null,null,null,null,null,null,null,null,null,null,"",{"$f":"IF(B2766=\"\",\"\",IF(R2766<5,INT((A2766-1)/Einstellung!$B$4)+1,\"\"))","v":""},""]
["",null,null,null,null,null,null,null,null,null,null,null,null,null,null,null,null,"",{"$f":"IF(B2767=\"\",\"\",IF(R2767<5,INT((A2767-1)/Einstellung!$B$4)+1,\"\"))","v":""},""]
["",null,null,null,null,null,null,null,null,null,null,null,null,null,null,null,null,"",{"$f":"IF(B2769=\"\",\"\",IF(R2769<5,INT((A2769-1)/Einstellung!$B$4)+1,\"\"))","v":""},""]
["",null,null,null,null,null,null,null,null,null,null,null,null,null,null,null,null,"",{"$f":"IF(B2770=\"\",\"\",IF(R2770<5,INT((A2770-1)/Einstellung!$B$4)+1,\"\"))","v":""},""]
["",null,null,null,null,null,null,null,null,null,null,null,null,null,null,null,null,"",{"$f":"IF(B2773=\"\",\"\",IF(R2773<5,INT((A2773-1)/Einstellung!$B$4)+1,\"\"))","v":""},""]
["",null,null,null,null,null,null,null,null,null,null,null,null,null,null,null,null,"",{"$f":"IF(B2774=\"\",\"\",IF(R2774<5,INT((A2774-1)/Einstellung!$B$4)+1,\"\"))","v":""},""]
["",null,null,null,null,null,null,null,null,null,null,null,null,null,null,null,null,"",{"$f":"IF(B2776=\"\",\"\",IF(R2776<5,INT((A2776-1)/Einstellung!$B$4)+1,\"\"))","v":""},""]
["",null,null,null,null,null,null,null,null,null,null,null,null,null,null,null,null,"",{"$f":"IF(B2777=\"\",\"\",IF(R2777<5,INT((A2777-1)/Einstellung!$B$4)+1,\"\"))","v":""},""]
["",null,null,null,null,null,null,null,null,null,null,null,null,null,null,null,null,"",{"$f":"IF(B2780=\"\",\"\",IF(R2780<5,INT((A2780-1)/Einstellung!$B$4)+1,\"\"))","v":""},""]
["",null,null,null,null,null,null,null,null,null,null,null,null,null,null,null,null,"",{"$f":"IF(B2781=\"\",\"\",IF(R2781<5,INT((A2781-1)/Einstellung!$B$4)+1,\"\"))","v":""},""]
["",null,null,null,null,null,null,null,null,null,null,null,null,null,null,null,null,"",{"$f":"IF(B2783=\"\",\"\",IF(R2783<5,INT((A2783-1)/Einstellung!$B$4)+1,\"\"))","v":""},""]
["",null,null,null,null,null,null,null,null,null,null,null,null,null,null,null,null,"",{"$f":"IF(B2784=\"\",\"\",IF(R2784<5,INT((A2784-1)/Einstellung!$B$4)+1,\"\"))","v":""},""]
["",null,null,null,null,null,null,null,null,null,null,null,null,null,null,null,null,"",{"$f":"IF(B2787=\"\",\"\",IF(R2787<5,INT((A2787-1)/Einstellung!$B$4)+1,\"\"))","v":""},""]
["",null,null,null,null,null,null,null,null,null,null,null,null,null,null,null,null,"",{"$f":"IF(B2788=\"\",\"\",IF(R2788<5,INT((A2788-1)/Einstellung!$B$4)+1,\"\"))","v":""},""]
["",null,null,null,null,null,null,null,null,null,null,null,null,null,null,null,null,"",{"$f":"IF(B2790=\"\",\"\",IF(R2790<5,INT((A2790-1)/Einstellung!$B$4)+1,\"\"))","v":""},""]
["",null,null,null,null,null,null,null,null,null,null,null,null,null,null,null,null,"",{"$f":"IF(B2791=\"\",\"\",IF(R2791<5,INT((A2791-1)/Einstellung!$B$4)+1,\"\"))","v":""},""]
[{"$f":"IF(B2794=\"\",\"\",ROW()-7)","v":""},null,null,null,null,null,null,null,null,null,null,null,null,null,null,null,null,"",{"$f":"IF(B2794=\"\",\"\",IF(R2794<5,INT((A2794-1)/Einstellung!$B$4)+1,\"\"))","v":""},""]
["",null,null,null,null,null,null,null,null,null,null,null,null,null,null,null,null,"",{"$f":"IF(B2795=\"\",\"\",IF(R2795<5,INT((A2795-1)/Einstellung!$B$4)+1,\"\"))","v":""},""]
["",null,null,null,null,null,null,null,null,null,null,null,null,null,null,null,null,"",{"$f":"IF(B2797=\"\",\"\",IF(R2797<5,INT((A2797-1)/Einstellung!$B$4)+1,\"\"))","v":""},""]
["",null,null,null,null,null,null,null,null,null,null,null,null,null,null,null,null,"",{"$f":"IF(B2798=\"\",\"\",IF(R2798<5,INT((A2798-1)/Einstellung!$B$4)+1,\"\"))","v":""},""]
["",null,null,null,null,null,null,null,null,null,null,null,null,null,null,null,null,"",{"$f":"IF(B2801=\"\",\"\",IF(R2801<5,INT((A2801-1)/Einstellung!$B$4)+1,\"\"))","v":""},""]
["",null,null,null,null,null,null,null,null,null,null,null,null,null,null,null,null,"",{"$f":"IF(B2802=\"\",\"\",IF(R2802<5,INT((A2802-1)/Einstellung!$B$4)+1,\"\"))","v":""},""]
["",null,null,null,null,null,null,null,null,null,null,null,null,null,null,null,null,"",{"$f":"IF(B2804=\"\",\"\",IF(R2804<5,INT((A2804-1)/Einstellung!$B$4)+1,\"\"))","v":""},""]
["",null,null,null,null,null,null,null,null,null,null,null,null,null,null,null,null,"",{"$f":"IF(B2805=\"\",\"\",IF(R2805<5,INT((A2805-1)/Einstellung!$B$4)+1,\"\"))","v":""},""]
["",null,null,null,null,null,null,null,null,null,null,null,null,null,null,null,null,"",{"$f":"IF(B2808=\"\",\"\",IF(R2808<5,INT((A2808-1)/Einstellung!$B$4)+1,\"\"))","v":""},""]
["",null,null,null,null,null,null,null,null,null,null,null,null,null,null,null,null,"",{"$f":"IF(B2809=\"\",\"\",IF(R2809<5,INT((A2809-1)/Einstellung!$B$4)+1,\"\"))","v":""},""]
["",null,null,null,null,null,null,null,null,null,null,null,null,null,null,null,null,"",{"$f":"IF(B2811=\"\",\"\",IF(R2811<5,INT((A2811-1)/Einstellung!$B$4)+1,\"\"))","v":""},""]
["",null,null,null,null,null,null,null,null,null,null,null,null,null,null,null,null,"",{"$f":"IF(B2812=\"\",\"\",IF(R2812<5,INT((A2812-1)/Einstellung!$B$4)+1,\"\"))","v":""},""]
["",null,null,null,null,null,null,null,null,null,null,null,null,null,null,null,null,"",{"$f":"IF(B2815=\"\",\"\",IF(R2815<5,INT((A2815-1)/Einstellung!$B$4)+1,\"\"))","v":""},""]
["",null,null,null,null,null,null,null,null,null,null,null,null,null,null,null,null,"",{"$f":"IF(B2816=\"\",\"\",IF(R2816<5,INT((A2816-1)/Einstellung!$B$4)+1,\"\"))","v":""},""]
["",null,null,null,null,null,null,null,null,null,null,null,null,null,null,null,null,"",{"$f":"IF(B2818=\"\",\"\",IF(R2818<5,INT((A2818-1)/Einstellung!$B$4)+1,\"\"))","v":""},""]
["",null,null,null,null,null,null,null,null,null,null,null,null,null,null,null,null,"",{"$f":"IF(B2819=\"\",\"\",IF(R2819<5,INT((A2819-1)/Einstellung!$B$4)+1,\"\"))","v":""},""]
["",null,null,null,null,null,null,null,null,null,null,null,null,null,null,null,null,"",{"$f":"IF(B2822=\"\",\"\",IF(R2822<5,INT((A2822-1)/Einstellung!$B$4)+1,\"\"))","v":""},""]
["",null,null,null,null,null,null,null,null,null,null,null,null,null,null,null,null,"",{"$f":"IF(B2823=\"\",\"\",IF(R2823<5,INT((A2823-1)/Einstellung!$B$4)+1,\"\"))","v":""},""]
["",null,null,null,null,null,null,null,null,null,null,null,null,null,null,null,null,"",{"$f":"IF(B2825=\"\",\"\",IF(R2825<5,INT((A2825-1)/Einstellung!$B$4)+1,\"\"))","v":""},""]
["",null,null,null,null,null,null,null,null,null,null,null,null,null,null,null,null,"",{"$f":"IF(B2826=\"\",\"\",IF(R2826<5,INT((A2826-1)/Einstellung!$B$4)+1,\"\"))","v":""},""]
["",null,null,null,null,null,null,null,null,null,null,null,null,null,null,null,null,"",{"$f":"IF(B2829=\"\",\"\",IF(R2829<5,INT((A2829-1)/Einstellung!$B$4)+1,\"\"))","v":""},""]
["",null,null,null,null,null,null,null,null,null,null,null,null,null,null,null,null,"",{"$f":"IF(B2830=\"\",\"\",IF(R2830<5,INT((A2830-1)/Einstellung!$B$4)+1,\"\"))","v":""},""]
["",null,null,null,null,null,null,null,null,null,null,null,null,null,null,null,null,"",{"$f":"IF(B2832=\"\",\"\",IF(R2832<5,INT((A2832-1)/Einstellung!$B$4)+1,\"\"))","v":""},""]
["",null,null,null,null,null,null,null,null,null,null,null,null,null,null,null,null,"",{"$f":"IF(B2833=\"\",\"\",IF(R2833<5,INT((A2833-1)/Einstellung!$B$4)+1,\"\"))","v":""},""]
["",null,null,null,null,null,null,null,null,null,null,null,null,null,null,null,null,"",{"$f":"IF(B2836=\"\",\"\",IF(R2836<5,INT((A2836-1)/Einstellung!$B$4)+1,\"\"))","v":""},""]
["",null,null,null,null,null,null,null,null,null,null,null,null,null,null,null,null,"",{"$f":"IF(B2837=\"\",\"\",IF(R2837<5,INT((A2837-1)/Einstellung!$B$4)+1,\"\"))","v":""},""]
["",null,null,null,null,null,null,null,null,null,null,null,null,null,null,null,null,"",{"$f":"IF(B2839=\"\",\"\",IF(R2839<5,INT((A2839-1)/Einstellung!$B$4)+1,\"\"))","v":""},""]
["",null,null,null,null,null,null,null,null,null,null,null,null,null,null,null,null,"",{"$f":"IF(B2840=\"\",\"\",IF(R2840<5,INT((A2840-1)/Einstellung!$B$4)+1,\"\"))","v":""},""]
["",null,null,null,null,null,null,null,null,null,null,null,null,null,null,null,null,"",{"$f":"IF(B2843=\"\",\"\",IF(R2843<5,INT((A2843-1)/Einstellung!$B$4)+1,\"\"))","v":""},""]
["",null,null,null,null,null,null,null,null,null,null,null,null,null,null,null,null,"",{"$f":"IF(B2844=\"\",\"\",IF(R2844<5,INT((A2844-1)/Einstellung!$B$4)+1,\"\"))","v":""},""]
["",null,null,null,null,null,null,null,null,null,null,null,null,null,null,null,null,"",{"$f":"IF(B2846=\"\",\"\",IF(R2846<5,INT((A2846-1)/Einstellung!$B$4)+1,\"\"))","v":""},""]
["",null,null,null,null,null,null,null,null,null,null,null,null,null,null,null,null,"",{"$f":"IF(B2847=\"\",\"\",IF(R2847<5,INT((A2847-1)/Einstellung!$B$4)+1,\"\"))","v":""},""]
["",null,null,null,null,null,null,null,null,null,null,null,null,null,null,null,null,"",{"$f":"IF(B2850=\"\",\"\",IF(R2850<5,INT((A2850-1)/Einstellung!$B$4)+1,\"\"))","v":""},""]
["",null,null,null,null,null,null,null,null,null,null,null,null,null,null,null,null,"",{"$f":"IF(B2851=\"\",\"\",IF(R2851<5,INT((A2851-1)/Einstellung!$B$4)+1,\"\"))","v":""},""]
["",null,null,null,null,null,null,null,null,null,null,null,null,null,null,null,null,"",{"$f":"IF(B2853=\"\",\"\",IF(R2853<5,INT((A2853-1)/Einstellung!$B$4)+1,\"\"))","v":""},""]
["",null,null,null,null,null,null,null,null,null,null,null,null,null,null,null,null,"",{"$f":"IF(B2854=\"\",\"\",IF(R2854<5,INT((A2854-1)/Einstellung!$B$4)+1,\"\"))","v":""},""]
["",null,null,null,null,null,null,null,null,null,null,null,null,null,null,null,null,"",{"$f":"IF(B2857=\"\",\"\",IF(R2857<5,INT((A2857-1)/Einstellung!$B$4)+1,\"\"))","v":""},""]
[{"$f":"IF(B2858=\"\",\"\",ROW()-7)","v":""},null,null,null,null,null,null,null,null,null,null,null,null,null,null,null,null,"",{"$f":"IF(B2858=\"\",\"\",IF(R2858<5,INT((A2858-1)/Einstellung!$B$4)+1,\"\"))","v":""},""]
["",null,null,null,null,null,null,null,null,null,null,null,null,null,null,null,null,"",{"$f":"IF(B2860=\"\",\"\",IF(R2860<5,INT((A2860-1)/Einstellung!$B$4)+1,\"\"))","v":""},""]
["",null,null,null,null,null,null,null,null,null,null,null,null,null,null,null,null,"",{"$f":"IF(B2861=\"\",\"\",IF(R2861<5,INT((A2861-1)/Einstellung!$B$4)+1,\"\"))","v":""},""]
["",null,null,null,null,null,null,null,null,null,null,null,null,null,null,null,null,"",{"$f":"IF(B2864=\"\",\"\",IF(R2864<5,INT((A2864-1)/Einstellung!$B$4)+1,\"\"))","v":""},""]
["",null,null,null,null,null,null,null,null,null,null,null,null,null,null,null,null,"",{"$f":"IF(B2865=\"\",\"\",IF(R2865<5,INT((A2865-1)/Einstellung!$B$4)+1,\"\"))","v":""},""]
["",null,null,null,null,null,null,null,null,null,null,null,null,null,null,null,null,"",{"$f":"IF(B2867=\"\",\"\",IF(R2867<5,INT((A2867-1)/Einstellung!$B$4)+1,\"\"))","v":""},""]
["",null,null,null,null,null,null,null,null,null,null,null,null,null,null,null,null,"",{"$f":"IF(B2868=\"\",\"\",IF(R2868<5,INT((A2868-1)/Einstellung!$B$4)+1,\"\"))","v":""},""]
["",null,null,null,null,null,null,null,null,null,null,null,null,null,null,null,null,"",{"$f":"IF(B2871=\"\",\"\",IF(R2871<5,INT((A2871-1)/Einstellung!$B$4)+1,\"\"))","v":""},""]
["",null,null,null,null,null,null,null,null,null,null,null,null,null,null,null,null,"",{"$f":"IF(B2872=\"\",\"\",IF(R2872<5,INT((A2872-1)/Einstellung!$B$4)+1,\"\"))","v":""},""]
["",null,null,null,null,null,null,null,null,null,null,null,null,null,null,null,null,"",{"$f":"IF(B2874=\"\",\"\",IF(R2874<5,INT((A2874-1)/Einstellung!$B$4)+1,\"\"))","v":""},""]
["",null,null,null,null,null,null,null,null,null,null,null,null,null,null,null,null,"",{"$f":"IF(B2875=\"\",\"\",IF(R2875<5,INT((A2875-1)/Einstellung!$B$4)+1,\"\"))","v":""},""]
["",null,null,null,null,null,null,null,null,null,null,null,null,null,null,null,null,"",{"$f":"IF(B2878=\"\",\"\",IF(R2878<5,INT((A2878-1)/Einstellung!$B$4)+1,\"\"))","v":""},""]
["",null,null,null,null,null,null,null,null,null,null,null,null,null,null,null,null,"",{"$f":"IF(B2879=\"\",\"\",IF(R2879<5,INT((A2879-1)/Einstellung!$B$4)+1,\"\"))","v":""},""]
["",null,null,null,null,null,null,null,null,null,null,null,null,null,null,null,null,"",{"$f":"IF(B2882=\"\",\"\",IF(R2882<5,INT((A2882-1)/Einstellung!$B$4)+1,\"\"))","v":""},""]
["",null,null,null,null,null,null,null,null,null,null,null,null,null,null,null,null,"",{"$f":"IF(B2883=\"\",\"\",IF(R2883<5,INT((A2883-1)/Einstellung!$B$4)+1,\"\"))","v":""},""]
["",null,null,null,null,null,null,null,null,null,null,null,null,null,null,null,null,"",{"$f":"IF(B2885=\"\",\"\",IF(R2885<5,INT((A2885-1)/Einstellung!$B$4)+1,\"\"))","v":""},""]
["",null,null,null,null,null,null,null,null,null,null,null,null,null,null,null,null,"",{"$f":"IF(B2886=\"\",\"\",IF(R2886<5,INT((A2886-1)/Einstellung!$B$4)+1,\"\"))","v":""},""]
["",null,null,null,null,null,null,null,null,null,null,null,null,null,null,null,null,"",{"$f":"IF(B2889=\"\",\"\",IF(R2889<5,INT((A2889-1)/Einstellung!$B$4)+1,\"\"))","v":""},""]
["",null,null,null,null,null,null,null,null,null,null,null,null,null,null,null,null,"",{"$f":"IF(B2890=\"\",\"\",IF(R2890<5,INT((A2890-1)/Einstellung!$B$4)+1,\"\"))","v":""},""]
["",null,null,null,null,null,null,null,null,null,null,null,null,null,null,null,null,"",{"$f":"IF(B2892=\"\",\"\",IF(R2892<5,INT((A2892-1)/Einstellung!$B$4)+1,\"\"))","v":""},""]
["",null,null,null,null,null,null,null,null,null,null,null,null,null,null,null,null,"",{"$f":"IF(B2893=\"\",\"\",IF(R2893<5,INT((A2893-1)/Einstellung!$B$4)+1,\"\"))","v":""},""]
["",null,null,null,null,null,null,null,null,null,null,null,null,null,null,null,null,"",{"$f":"IF(B2896=\"\",\"\",IF(R2896<5,INT((A2896-1)/Einstellung!$B$4)+1,\"\"))","v":""},""]
["",null,null,null,null,null,null,null,null,null,null,null,null,null,null,null,null,"",{"$f":"IF(B2897=\"\",\"\",IF(R2897<5,INT((A2897-1)/Einstellung!$B$4)+1,\"\"))","v":""},""]
["",null,null,null,null,null,null,null,null,null,null,null,null,null,null,null,null,"",{"$f":"IF(B2899=\"\",\"\",IF(R2899<5,INT((A2899-1)/Einstellung!$B$4)+1,\"\"))","v":""},""]
["",null,null,null,null,null,null,null,null,null,null,null,null,null,null,null,null,"",{"$f":"IF(B2900=\"\",\"\",IF(R2900<5,INT((A2900-1)/Einstellung!$B$4)+1,\"\"))","v":""},""]
["",null,null,null,null,null,null,null,null,null,null,null,null,null,null,null,null,"",{"$f":"IF(B2903=\"\",\"\",IF(R2903<5,INT((A2903-1)/Einstellung!$B$4)+1,\"\"))","v":""},""]
["",null,null,null,null,null,null,null,null,null,null,null,null,null,null,null,null,"",{"$f":"IF(B2904=\"\",\"\",IF(R2904<5,INT((A2904-1)/Einstellung!$B$4)+1,\"\"))","v":""},""]
["",null,null,null,null,null,null,null,null,null,null,null,null,null,null,null,null,"",{"$f":"IF(B2906=\"\",\"\",IF(R2906<5,INT((A2906-1)/Einstellung!$B$4)+1,\"\"))","v":""},""]
["",null,null,null,null,null,null,null,null,null,null,null,null,null,null,null,null,"",{"$f":"IF(B2907=\"\",\"\",IF(R2907<5,INT((A2907-1)/Einstellung!$B$4)+1,\"\"))","v":""},""]
["",null,null,null,null,null,null,null,null,null,null,null,null,null,null,null,null,"",{"$f":"IF(B2910=\"\",\"\",IF(R2910<5,INT((A2910-1)/Einstellung!$B$4)+1,\"\"))","v":""},""]
["",null,null,null,null,null,null,null,null,null,null,null,null,null,null,null,null,"",{"$f":"IF(B2911=\"\",\"\",IF(R2911<5,INT((A2911-1)/Einstellung!$B$4)+1,\"\"))","v":""},""]
["",null,null,null,null,null,null,null,null,null,null,null,null,null,null,null,null,"",{"$f":"IF(B2913=\"\",\"\",IF(R2913<5,INT((A2913-1)/Einstellung!$B$4)+1,\"\"))","v":""},""]
["",null,null,null,null,null,null,null,null,null,null,null,null,null,null,null,null,"",{"$f":"IF(B2914=\"\",\"\",IF(R2914<5,INT((A2914-1)/Einstellung!$B$4)+1,\"\"))","v":""},""]
["",null,null,null,null,null,null,null,null,null,null,null,null,null,null,null,null,"",{"$f":"IF(B2917=\"\",\"\",IF(R2917<5,INT((A2917-1)/Einstellung!$B$4)+1,\"\"))","v":""},""]
["",null,null,null,null,null,null,null,null,null,null,null,null,null,null,null,null,"",{"$f":"IF(B2918=\"\",\"\",IF(R2918<5,INT((A2918-1)/Einstellung!$B$4)+1,\"\"))","v":""},""]
["",null,null,null,null,null,null,null,null,null,null,null,null,null,null,null,null,"",{"$f":"IF(B2920=\"\",\"\",IF(R2920<5,INT((A2920-1)/Einstellung!$B$4)+1,\"\"))","v":""},""]
["",null,null,null,null,null,null,null,null,null,null,null,null,null,null,null,null,"",{"$f":"IF(B2921=\"\",\"\",IF(R2921<5,INT((A2921-1)/Einstellung!$B$4)+1,\"\"))","v":""},""]
["",null,null,null,null,null,null,null,null,null,null,null,null,null,null,null,null,"",{"$f":"IF(B2924=\"\",\"\",IF(R2924<5,INT((A2924-1)/Einstellung!$B$4)+1,\"\"))","v":""},""]
["",null,null,null,null,null,null,null,null,null,null,null,null,null,null,null,null,"",{"$f":"IF(B2925=\"\",\"\",IF(R2925<5,INT((A2925-1)/Einstellung!$B$4)+1,\"\"))","v":""},""]
["",null,null,null,null,null,null,null,null,null,null,null,null,null,null,null,null,"",{"$f":"IF(B2927=\"\",\"\",IF(R2927<5,INT((A2927-1)/Einstellung!$B$4)+1,\"\"))","v":""},""]
["",null,null,null,null,null,null,null,null,null,null,null,null,null,null,null,null,"",{"$f":"IF(B2928=\"\",\"\",IF(R2928<5,INT((A2928-1)/Einstellung!$B$4)+1,\"\"))","v":""},""]
["",null,null,null,null,null,null,null,null,null,null,null,null,null,null,null,null,"",{"$f":"IF(B2931=\"\",\"\",IF(R2931<5,INT((A2931-1)/Einstellung!$B$4)+1,\"\"))","v":""},""]
["",null,null,null,null,null,null,null,null,null,null,null,null,null,null,null,null,"",{"$f":"IF(B2932=\"\",\"\",IF(R2932<5,INT((A2932-1)/Einstellung!$B$4)+1,\"\"))","v":""},""]
["",null,null,null,null,null,null,null,null,null,null,null,null,null,null,null,null,"",{"$f":"IF(B2934=\"\",\"\",IF(R2934<5,INT((A2934-1)/Einstellung!$B$4)+1,\"\"))","v":""},""]
["",null,null,null,null,null,null,null,null,null,null,null,null,null,null,null,null,"",{"$f":"IF(B2935=\"\",\"\",IF(R2935<5,INT((A2935-1)/Einstellung!$B$4)+1,\"\"))","v":""},""]
["",null,null,null,null,null,null,null,null,null,null,null,null,null,null,null,null,"",{"$f":"IF(B2938=\"\",\"\",IF(R2938<5,INT((A2938-1)/Einstellung!$B$4)+1,\"\"))","v":""},""]
["",null,null,null,null,null,null,null,null,null,null,null,null,null,null,null,null,"",{"$f":"IF(B2939=\"\",\"\",IF(R2939<5,INT((A2939-1)/Einstellung!$B$4)+1,\"\"))","v":""},""]
["",null,null,null,null,null,null,null,null,null,null,null,null,null,null,null,null,"",{"$f":"IF(B2941=\"\",\"\",IF(R2941<5,INT((A2941-1)/Einstellung!$B$4)+1,\"\"))","v":""},""]
["",null,null,null,null,null,null,null,null,null,null,null,null,null,null,null,null,"",{"$f":"IF(B2942=\"\",\"\",IF(R2942<5,INT((A2942-1)/Einstellung!$B$4)+1,\"\"))","v":""},""]
["",null,null,null,null,null,null,null,null,null,null,null,null,null,null,null,null,"",{"$f":"IF(B2945=\"\",\"\",IF(R2945<5,INT((A2945-1)/Einstellung!$B$4)+1,\"\"))","v":""},""]
["",null,null,null,null,null,null,null,null,null,null,null,null,null,null,null,null,"",{"$f":"IF(B2946=\"\",\"\",IF(R2946<5,INT((A2946-1)/Einstellung!$B$4)+1,\"\"))","v":""},""]
["",null,null,null,null,null,null,null,null,null,null,null,null,null,null,null,null,"",{"$f":"IF(B2948=\"\",\"\",IF(R2948<5,INT((A2948-1)/Einstellung!$B$4)+1,\"\"))","v":""},""]
["",null,null,null,null,null,null,null,null,null,null,null,null,null,null,null,null,"",{"$f":"IF(B2949=\"\",\"\",IF(R2949<5,INT((A2949-1)/Einstellung!$B$4)+1,\"\"))","v":""},""]
["",null,null,null,null,null,null,null,null,null,null,null,null,null,null,null,null,{"$f":"IF(B2952=\"\",\"\",16-((MID(B$1,1,1)=MID(B2952,1,1))+(MID(C$1,1,1)=MID(C2952,1,1))+(MID(D$1,1,1)=MID(D2952,1,1))+(MID(E$1,1,1)=MID(E2952,1,1))+(MID(F$1,1,1)=MID(F2952,1,1))+(MID(G$1,1,1)=MID(G2952,1,1))+(MID(H$1,1,1)=MID(H2952,1,1))+(MID(I$1,1,1)=MID(I2952,1,1))+(MID(J$1,1,1)=MID(J2952,1,1))+(MID(K$1,1,1)=MID(K2952,1,1))+(MID(L$1,1,1)=MID(L2952,1,1))+(MID(M$1,1,1)=MID(M2952,1,1))+(MID(N$1,1,1)=MID(N2952,1,1))+(MID(O$1,1,1)=MID(O2952,1,1))+(MID(P$1,1,1)=MID(P2952,1,1)))-B$4+C$5)","v":""},{"$f":"IF(B2952=\"\",\"\",IF(R2952<5,INT((A2952-1)/Einstellung!$B$4)+1,\"\"))","v":""},{"$f":"IF(C$5<B$4,\"\",IF(R2952>4,\"\",OFFSET(T$2,R2952-1,0)))","v":""}]
["",null,null,null,null,null,null,null,null,null,null,null,null,null,null,null,null,"",{"$f":"IF(B2953=\"\",\"\",IF(R2953<5,INT((A2953-1)/Einstellung!$B$4)+1,\"\"))","v":""},""]
["",null,null,null,null,null,null,null,null,null,null,null,null,null,null,null,null,"",{"$f":"IF(B2955=\"\",\"\",IF(R2955<5,INT((A2955-1)/Einstellung!$B$4)+1,\"\"))","v":""},""]
["",null,null,null,null,null,null,null,null,null,null,null,null,null,null,null,null,"",{"$f":"IF(B2956=\"\",\"\",IF(R2956<5,INT((A2956-1)/Einstellung!$B$4)+1,\"\"))","v":""},""]
["",null,null,null,null,null,null,null,null,null,null,null,null,null,null,null,null,"",{"$f":"IF(B2959=\"\",\"\",IF(R2959<5,INT((A2959-1)/Einstellung!$B$4)+1,\"\"))","v":""},""]
["",null,null,null,null,null,null,null,null,null,null,null,null,null,null,null,null,"",{"$f":"IF(B2960=\"\",\"\",IF(R2960<5,INT((A2960-1)/Einstellung!$B$4)+1,\"\"))","v":""},""]
["",null,null,null,null,null,null,null,null,null,null,null,null,null,null,null,null,"",{"$f":"IF(B2962=\"\",\"\",IF(R2962<5,INT((A2962-1)/Einstellung!$B$4)+1,\"\"))","v":""},""]
["",null,null,null,null,null,null,null,null,null,null,null,null,null,null,null,null,"",{"$f":"IF(B2963=\"\",\"\",IF(R2963<5,INT((A2963-1)/Einstellung!$B$4)+1,\"\"))","v":""},""]
["",null,null,null,null,null,null,null,null,null,null,null,null,null,null,null,null,"",{"$f":"IF(B2966=\"\",\"\",IF(R2966<5,INT((A2966-1)/Einstellung!$B$4)+1,\"\"))","v":""},""]
["",null,null,null,null,null,null,null,null,null,null,null,null,null,null,null,null,"",{"$f":"IF(B2967=\"\",\"\",IF(R2967<5,INT((A2967-1)/Einstellung!$B$4)+1,\"\"))","v":""},""]
["",null,null,null,null,null,null,null,null,null,null,null,null,null,null,null,null,"",{"$f":"IF(B2969=\"\",\"\",IF(R2969<5,INT((A2969-1)/Einstellung!$B$4)+1,\"\"))","v":""},""]
["",null,null,null,null,null,null,null,null,null,null,null,null,null,null,null,null,"",{"$f":"IF(B2970=\"\",\"\",IF(R2970<5,INT((A2970-1)/Einstellung!$B$4)+1,\"\"))","v":""},""]
["",null,null,null,null,null,null,null,null,null,null,null,null,null,null,null,null,"",{"$f":"IF(B2973=\"\",\"\",IF(R2973<5,INT((A2973-1)/Einstellung!$B$4)+1,\"\"))","v":""},""]
["",null,null,null,null,null,null,null,null,null,null,null,null,null,null,null,null,"",{"$f":"IF(B2974=\"\",\"\",IF(R2974<5,INT((A2974-1)/Einstellung!$B$4)+1,\"\"))","v":""},""]
["",null,null,null,null,null,null,null,null,null,null,null,null,null,null,null,null,"",{"$f":"IF(B2976=\"\",\"\",IF(R2976<5,INT((A2976-1)/Einstellung!$B$4)+1,\"\"))","v":""},""]
["",null,null,null,null,null,null,null,null,null,null,null,null,null,null,null,null,"",{"$f":"IF(B2977=\"\",\"\",IF(R2977<5,INT((A2977-1)/Einstellung!$B$4)+1,\"\"))","v":""},""]
["",null,null,null,null,null,null,null,null,null,null,null,null,null,null,null,null,"",{"$f":"IF(B2980=\"\",\"\",IF(R2980<5,INT((A2980-1)/Einstellung!$B$4)+1,\"\"))","v":""},""]
["",null,null,null,null,null,null,null,null,null,null,null,null,null,null,null,null,"",{"$f":"IF(B2981=\"\",\"\",IF(R2981<5,INT((A2981-1)/Einstellung!$B$4)+1,\"\"))","v":""},""]
["",null,null,null,null,null,null,null,null,null,null,null,null,null,null,null,null,"",{"$f":"IF(B2983=\"\",\"\",IF(R2983<5,INT((A2983-1)/Einstellung!$B$4)+1,\"\"))","v":""},""]
["",null,null,null,null,null,null,null,null,null,null,null,null,null,null,null,null,"",{"$f":"IF(B2984=\"\",\"\",IF(R2984<5,INT((A2984-1)/Einstellung!$B$4)+1,\"\"))","v":""},""]
["",null,null,null,null,null,null,null,null,null,null,null,null,null,null,null,null,"",{"$f":"IF(B2987=\"\",\"\",IF(R2987<5,INT((A2987-1)/Einstellung!$B$4)+1,\"\"))","v":""},""]
["",null,null,null,null,null,null,null,null,null,null,null,null,null,null,null,null,"",{"$f":"IF(B2988=\"\",\"\",IF(R2988<5,INT((A2988-1)/Einstellung!$B$4)+1,\"\"))","v":""},""]
["",null,null,null,null,null,null,null,null,null,null,null,null,null,null,null,null,"",{"$f":"IF(B2990=\"\",\"\",IF(R2990<5,INT((A2990-1)/Einstellung!$B$4)+1,\"\"))","v":""},""]
["",null,null,null,null,null,null,null,null,null,null,null,null,null,null,null,null,"",{"$f":"IF(B2991=\"\",\"\",IF(R2991<5,INT((A2991-1)/Einstellung!$B$4)+1,\"\"))","v":""},""]
["",null,null,null,null,null,null,null,null,null,null,null,null,null,null,null,null,"",{"$f":"IF(B2994=\"\",\"\",IF(R2994<5,INT((A2994-1)/Einstellung!$B$4)+1,\"\"))","v":""},""]
["",null,null,null,null,null,null,null,null,null,null,null,null,null,null,null,null,"",{"$f":"IF(B2995=\"\",\"\",IF(R2995<5,INT((A2995-1)/Einstellung!$B$4)+1,\"\"))","v":""},""]
["",null,null,null,null,null,null,null,null,null,null,null,null,null,null,null,null,"",{"$f":"IF(B2997=\"\",\"\",IF(R2997<5,INT((A2997-1)/Einstellung!$B$4)+1,\"\"))","v":""},""]
["",null,null,null,null,null,null,null,null,null,null,null,null,null,null,null,null,"",{"$f":"IF(B2998=\"\",\"\",IF(R2998<5,INT((A2998-1)/Einstellung!$B$4)+1,\"\"))","v":""},""]
["",null,null,null,null,null,null,null,null,null,null,null,null,null,null,null,null,"",{"$f":"IF(B3001=\"\",\"\",IF(R3001<5,INT((A3001-1)/Einstellung!$B$4)+1,\"\"))","v":""},""]
["",null,null,null,null,null,null,null,null,null,null,null,null,null,null,null,null,"",{"$f":"IF(B3002=\"\",\"\",IF(R3002<5,INT((A3002-1)/Einstellung!$B$4)+1,\"\"))","v":""},""]
["",null,null,null,null,null,null,null,null,null,null,null,null,null,null,null,null,"",{"$f":"IF(B3004=\"\",\"\",IF(R3004<5,INT((A3004-1)/Einstellung!$B$4)+1,\"\"))","v":""},""]
["",null,null,null,null,null,null,null,null,null,null,null,null,null,null,null,null,"",{"$f":"IF(B3005=\"\",\"\",IF(R3005<5,INT((A3005-1)/Einstellung!$B$4)+1,\"\"))","v":""},""]
["",null,null,null,null,null,null,null,null,null,null,null,null,null,null,null,null,"",{"$f":"IF(B3008=\"\",\"\",IF(R3008<5,INT((A3008-1)/Einstellung!$B$4)+1,\"\"))","v":""},""]
["",null,null,null,null,null,null,null,null,null,null,null,null,null,null,null,null,"",{"$f":"IF(B3009=\"\",\"\",IF(R3009<5,INT((A3009-1)/Einstellung!$B$4)+1,\"\"))","v":""},""]
["",null,null,null,null,null,null,null,null,null,null,null,null,null,null,null,null,"",{"$f":"IF(B3011=\"\",\"\",IF(R3011<5,INT((A3011-1)/Einstellung!$B$4)+1,\"\"))","v":""},""]
["",null,null,null,null,null,null,null,null,null,null,null,null,null,null,null,null,"",{"$f":"IF(B3012=\"\",\"\",IF(R3012<5,INT((A3012-1)/Einstellung!$B$4)+1,\"\"))","v":""},""]
["",null,null,null,null,null,null,null,null,null,null,null,null,null,null,null,null,"",{"$f":"IF(B3015=\"\",\"\",IF(R3015<5,INT((A3015-1)/Einstellung!$B$4)+1,\"\"))","v":""},""]
["",null,null,null,null,null,null,null,null,null,null,null,null,null,null,null,null,{"$f":"IF(B3016=\"\",\"\",16-((MID(B$1,1,1)=MID(B3016,1,1))+(MID(C$1,1,1)=MID(C3016,1,1))+(MID(D$1,1,1)=MID(D3016,1,1))+(MID(E$1,1,1)=MID(E3016,1,1))+(MID(F$1,1,1)=MID(F3016,1,1))+(MID(G$1,1,1)=MID(G3016,1,1))+(MID(H$1,1,1)=MID(H3016,1,1))+(MID(I$1,1,1)=MID(I3016,1,1))+(MID(J$1,1,1)=MID(J3016,1,1))+(MID(K$1,1,1)=MID(K3016,1,1))+(MID(L$1,1,1)=MID(L3016,1,1))+(MID(M$1,1,1)=MID(M3016,1,1))+(MID(N$1,1,1)=MID(N3016,1,1))+(MID(O$1,1,1)=MID(O3016,1,1))+(MID(P$1,1,1)=MID(P3016,1,1)))-B$4+C$5)","v":""},{"$f":"IF(B3016=\"\",\"\",IF(R3016<5,INT((A3016-1)/Einstellung!$B$4)+1,\"\"))","v":""},{"$f":"IF(C$5<B$4,\"\",IF(R3016>4,\"\",OFFSET(T$2,R3016-1,0)))","v":""}]
["",null,null,null,null,null,null,null,null,null,null,null,null,null,null,null,null,"",{"$f":"IF(B3018=\"\",\"\",IF(R3018<5,INT((A3018-1)/Einstellung!$B$4)+1,\"\"))","v":""},""]
["",null,null,null,null,null,null,null,null,null,null,null,null,null,null,null,null,"",{"$f":"IF(B3019=\"\",\"\",IF(R3019<5,INT((A3019-1)/Einstellung!$B$4)+1,\"\"))","v":""},""]
["",null,null,null,null,null,null,null,null,null,null,null,null,null,null,null,null,"",{"$f":"IF(B3022=\"\",\"\",IF(R3022<5,INT((A3022-1)/Einstellung!$B$4)+1,\"\"))","v":""},""]
["",null,null,null,null,null,null,null,null,null,null,null,null,null,null,null,null,"",{"$f":"IF(B3023=\"\",\"\",IF(R3023<5,INT((A3023-1)/Einstellung!$B$4)+1,\"\"))","v":""},""]
["",null,null,null,null,null,null,null,null,null,null,null,null,null,null,null,null,"",{"$f":"IF(B3025=\"\",\"\",IF(R3025<5,INT((A3025-1)/Einstellung!$B$4)+1,\"\"))","v":""},""]
["",null,null,null,null,null,null,null,null,null,null,null,null,null,null,null,null,"",{"$f":"IF(B3026=\"\",\"\",IF(R3026<5,INT((A3026-1)/Einstellung!$B$4)+1,\"\"))","v":""},""]
["",null,null,null,null,null,null,null,null,null,null,null,null,null,null,null,null,"",{"$f":"IF(B3029=\"\",\"\",IF(R3029<5,INT((A3029-1)/Einstellung!$B$4)+1,\"\"))","v":""},""]
["",null,null,null,null,null,null,null,null,null,null,null,null,null,null,null,null,"",{"$f":"IF(B3030=\"\",\"\",IF(R3030<5,INT((A3030-1)/Einstellung!$B$4)+1,\"\"))","v":""},""]
["",null,null,null,null,null,null,null,null,null,null,null,null,null,null,null,null,"",{"$f":"IF(B3032=\"\",\"\",IF(R3032<5,INT((A3032-1)/Einstellung!$B$4)+1,\"\"))","v":""},""]
["",null,null,null,null,null,null,null,null,null,null,null,null,null,null,null,null,"",{"$f":"IF(B3033=\"\",\"\",IF(R3033<5,INT((A3033-1)/Einstellung!$B$4)+1,\"\"))","v":""},""]
["",null,null,null,null,null,null,null,null,null,null,null,null,null,null,null,null,"",{"$f":"IF(B3036=\"\",\"\",IF(R3036<5,INT((A3036-1)/Einstellung!$B$4)+1,\"\"))","v":""},""]
["",null,null,null,null,null,null,null,null,null,null,null,null,null,null,null,null,"",{"$f":"IF(B3037=\"\",\"\",IF(R3037<5,INT((A3037-1)/Einstellung!$B$4)+1,\"\"))","v":""},""]
["",null,null,null,null,null,null,null,null,null,null,null,null,null,null,null,null,"",{"$f":"IF(B3039=\"\",\"\",IF(R3039<5,INT((A3039-1)/Einstellung!$B$4)+1,\"\"))","v":""},""]
["",null,null,null,null,null,null,null,null,null,null,null,null,null,null,null,null,"",{"$f":"IF(B3040=\"\",\"\",IF(R3040<5,INT((A3040-1)/Einstellung!$B$4)+1,\"\"))","v":""},""]
["",null,null,null,null,null,null,null,null,null,null,null,null,null,null,null,null,"",{"$f":"IF(B3043=\"\",\"\",IF(R3043<5,INT((A3043-1)/Einstellung!$B$4)+1,\"\"))","v":""},""]
["",null,null,null,null,null,null,null,null,null,null,null,null,null,null,null,null,"",{"$f":"IF(B3044=\"\",\"\",IF(R3044<5,INT((A3044-1)/Einstellung!$B$4)+1,\"\"))","v":""},""]
["",null,null,null,null,null,null,null,null,null,null,null,null,null,null,null,null,"",{"$f":"IF(B3046=\"\",\"\",IF(R3046<5,INT((A3046-1)/Einstellung!$B$4)+1,\"\"))","v":""},""]
["",null,null,null,null,null,null,null,null,null,null,null,null,null,null,null,null,"",{"$f":"IF(B3047=\"\",\"\",IF(R3047<5,INT((A3047-1)/Einstellung!$B$4)+1,\"\"))","v":""},""]
[{"$f":"IF(B3050=\"\",\"\",ROW()-7)","v":""},null,null,null,null,null,null,null,null,null,null,null,null,null,null,null,null,"",{"$f":"IF(B3050=\"\",\"\",IF(R3050<5,INT((A3050-1)/Einstellung!$B$4)+1,\"\"))","v":""},""]
["",null,null,null,null,null,null,null,null,null,null,null,null,null,null,null,null,"",{"$f":"IF(B3051=\"\",\"\",IF(R3051<5,INT((A3051-1)/Einstellung!$B$4)+1,\"\"))","v":""},""]
["",null,null,null,null,null,null,null,null,null,null,null,null,null,null,null,null,"",{"$f":"IF(B3053=\"\",\"\",IF(R3053<5,INT((A3053-1)/Einstellung!$B$4)+1,\"\"))","v":""},""]
["",null,null,null,null,null,null,null,null,null,null,null,null,null,null,null,null,"",{"$f":"IF(B3054=\"\",\"\",IF(R3054<5,INT((A3054-1)/Einstellung!$B$4)+1,\"\"))","v":""},""]
["",null,null,null,null,null,null,null,null,null,null,null,null,null,null,null,null,"",{"$f":"IF(B3057=\"\",\"\",IF(R3057<5,INT((A3057-1)/Einstellung!$B$4)+1,\"\"))","v":""},""]
["",null,null,null,null,null,null,null,null,null,null,null,null,null,null,null,null,"",{"$f":"IF(B3058=\"\",\"\",IF(R3058<5,INT((A3058-1)/Einstellung!$B$4)+1,\"\"))","v":""},""]
["",null,null,null,null,null,null,null,null,null,null,null,null,null,null,null,null,"",{"$f":"IF(B3060=\"\",\"\",IF(R3060<5,INT((A3060-1)/Einstellung!$B$4)+1,\"\"))","v":""},""]
["",null,null,null,null,null,null,null,null,null,null,null,null,null,null,null,null,"",{"$f":"IF(B3061=\"\",\"\",IF(R3061<5,INT((A3061-1)/Einstellung!$B$4)+1,\"\"))","v":""},""]
["",null,null,null,null,null,null,null,null,null,null,null,null,null,null,null,null,"",{"$f":"IF(B3064=\"\",\"\",IF(R3064<5,INT((A3064-1)/Einstellung!$B$4)+1,\"\"))","v":""},""]
["",null,null,null,null,null,null,null,null,null,null,null,null,null,null,null,null,"",{"$f":"IF(B3065=\"\",\"\",IF(R3065<5,INT((A3065-1)/Einstellung!$B$4)+1,\"\"))","v":""},""]
["",null,null,null,null,null,null,null,null,null,null,null,null,null,null,null,null,"",{"$f":"IF(B3067=\"\",\"\",IF(R3067<5,INT((A3067-1)/Einstellung!$B$4)+1,\"\"))","v":""},""]
["",null,null,null,null,null,null,null,null,null,null,null,null,null,null,null,null,"",{"$f":"IF(B3068=\"\",\"\",IF(R3068<5,INT((A3068-1)/Einstellung!$B$4)+1,\"\"))","v":""},""]
["",null,null,null,null,null,null,null,null,null,null,null,null,null,null,null,null,"",{"$f":"IF(B3071=\"\",\"\",IF(R3071<5,INT((A3071-1)/Einstellung!$B$4)+1,\"\"))","v":""},""]
["",null,null,null,null,null,null,null,null,null,null,null,null,null,null,null,null,"",{"$f":"IF(B3072=\"\",\"\",IF(R3072<5,INT((A3072-1)/Einstellung!$B$4)+1,\"\"))","v":""},""]
["",null,null,null,null,null,null,null,null,null,null,null,null,null,null,null,null,"",{"$f":"IF(B3074=\"\",\"\",IF(R3074<5,INT((A3074-1)/Einstellung!$B$4)+1,\"\"))","v":""},""]
["",null,null,null,null,null,null,null,null,null,null,null,null,null,null,null,null,"",{"$f":"IF(B3075=\"\",\"\",IF(R3075<5,INT((A3075-1)/Einstellung!$B$4)+1,\"\"))","v":""},""]
["",null,null,null,null,null,null,null,null,null,null,null,null,null,null,null,null,"",{"$f":"IF(B3078=\"\",\"\",IF(R3078<5,INT((A3078-1)/Einstellung!$B$4)+1,\"\"))","v":""},""]
["",null,null,null,null,null,null,null,null,null,null,null,null,null,null,null,null,"",{"$f":"IF(B3079=\"\",\"\",IF(R3079<5,INT((A3079-1)/Einstellung!$B$4)+1,\"\"))","v":""},""]
["",null,null,null,null,null,null,null,null,null,null,null,null,null,null,null,null,"",{"$f":"IF(B3081=\"\",\"\",IF(R3081<5,INT((A3081-1)/Einstellung!$B$4)+1,\"\"))","v":""},""]
["",null,null,null,null,null,null,null,null,null,null,null,null,null,null,null,null,"",{"$f":"IF(B3082=\"\",\"\",IF(R3082<5,INT((A3082-1)/Einstellung!$B$4)+1,\"\"))","v":""},""]
["",null,null,null,null,null,null,null,null,null,null,null,null,null,null,null,null,"",{"$f":"IF(B3085=\"\",\"\",IF(R3085<5,INT((A3085-1)/Einstellung!$B$4)+1,\"\"))","v":""},""]
["",null,null,null,null,null,null,null,null,null,null,null,null,null,null,null,null,"",{"$f":"IF(B3086=\"\",\"\",IF(R3086<5,INT((A3086-1)/Einstellung!$B$4)+1,\"\"))","v":""},""]
["",null,null,null,null,null,null,null,null,null,null,null,null,null,null,null,null,"",{"$f":"IF(B3088=\"\",\"\",IF(R3088<5,INT((A3088-1)/Einstellung!$B$4)+1,\"\"))","v":""},""]
["",null,null,null,null,null,null,null,null,null,null,null,null,null,null,null,null,"",{"$f":"IF(B3089=\"\",\"\",IF(R3089<5,INT((A3089-1)/Einstellung!$B$4)+1,\"\"))","v":""},""]
["",null,null,null,null,null,null,null,null,null,null,null,null,null,null,null,null,"",{"$f":"IF(B3092=\"\",\"\",IF(R3092<5,INT((A3092-1)/Einstellung!$B$4)+1,\"\"))","v":""},""]
["",null,null,null,null,null,null,null,null,null,null,null,null,null,null,null,null,"",{"$f":"IF(B3093=\"\",\"\",IF(R3093<5,INT((A3093-1)/Einstellung!$B$4)+1,\"\"))","v":""},""]
["",null,null,null,null,null,null,null,null,null,null,null,null,null,null,null,null,"",{"$f":"IF(B3095=\"\",\"\",IF(R3095<5,INT((A3095-1)/Einstellung!$B$4)+1,\"\"))","v":""},""]
["",null,null,null,null,null,null,null,null,null,null,null,null,null,null,null,null,"",{"$f":"IF(B3096=\"\",\"\",IF(R3096<5,INT((A3096-1)/Einstellung!$B$4)+1,\"\"))","v":""},""]
["",null,null,null,null,null,null,null,null,null,null,null,null,null,null,null,null,"",{"$f":"IF(B3099=\"\",\"\",IF(R3099<5,INT((A3099-1)/Einstellung!$B$4)+1,\"\"))","v":""},""]
["",null,null,null,null,null,null,null,null,null,null,null,null,null,null,null,null,"",{"$f":"IF(B3100=\"\",\"\",IF(R3100<5,INT((A3100-1)/Einstellung!$B$4)+1,\"\"))","v":""},""]
["",null,null,null,null,null,null,null,null,null,null,null,null,null,null,null,null,"",{"$f":"IF(B3102=\"\",\"\",IF(R3102<5,INT((A3102-1)/Einstellung!$B$4)+1,\"\"))","v":""},""]
["",null,null,null,null,null,null,null,null,null,null,null,null,null,null,null,null,"",{"$f":"IF(B3103=\"\",\"\",IF(R3103<5,INT((A3103-1)/Einstellung!$B$4)+1,\"\"))","v":""},""]
["",null,null,null,null,null,null,null,null,null,null,null,null,null,null,null,null,"",{"$f":"IF(B3106=\"\",\"\",IF(R3106<5,INT((A3106-1)/Einstellung!$B$4)+1,\"\"))","v":""},""]
["",null,null,null,null,null,null,null,null,null,null,null,null,null,null,null,null,"",{"$f":"IF(B3107=\"\",\"\",IF(R3107<5,INT((A3107-1)/Einstellung!$B$4)+1,\"\"))","v":""},""]
["",null,null,null,null,null,null,null,null,null,null,null,null,null,null,null,null,"",{"$f":"IF(B3109=\"\",\"\",IF(R3109<5,INT((A3109-1)/Einstellung!$B$4)+1,\"\"))","v":""},""]
["",null,null,null,null,null,null,null,null,null,null,null,null,null,null,null,null,"",{"$f":"IF(B3110=\"\",\"\",IF(R3110<5,INT((A3110-1)/Einstellung!$B$4)+1,\"\"))","v":""},""]
["",null,null,null,null,null,null,null,null,null,null,null,null,null,null,null,null,"",{"$f":"IF(B3113=\"\",\"\",IF(R3113<5,INT((A3113-1)/Einstellung!$B$4)+1,\"\"))","v":""},""]
[{"$f":"IF(B3114=\"\",\"\",ROW()-7)","v":""},null,null,null,null,null,null,null,null,null,null,null,null,null,null,null,null,"",{"$f":"IF(B3114=\"\",\"\",IF(R3114<5,INT((A3114-1)/Einstellung!$B$4)+1,\"\"))","v":""},""]
["",null,null,null,null,null,null,null,null,null,null,null,null,null,null,null,null,"",{"$f":"IF(B3116=\"\",\"\",IF(R3116<5,INT((A3116-1)/Einstellung!$B$4)+1,\"\"))","v":""},""]
["",null,null,null,null,null,null,null,null,null,null,null,null,null,null,null,null,"",{"$f":"IF(B3117=\"\",\"\",IF(R3117<5,INT((A3117-1)/Einstellung!$B$4)+1,\"\"))","v":""},""]
["",null,null,null,null,null,null,null,null,null,null,null,null,null,null,null,null,"",{"$f":"IF(B3120=\"\",\"\",IF(R3120<5,INT((A3120-1)/Einstellung!$B$4)+1,\"\"))","v":""},""]
["",null,null,null,null,null,null,null,null,null,null,null,null,null,null,null,null,"",{"$f":"IF(B3121=\"\",\"\",IF(R3121<5,INT((A3121-1)/Einstellung!$B$4)+1,\"\"))","v":""},""]
["",null,null,null,null,null,null,null,null,null,null,null,null,null,null,null,null,"",{"$f":"IF(B3123=\"\",\"\",IF(R3123<5,INT((A3123-1)/Einstellung!$B$4)+1,\"\"))","v":""},""]
["",null,null,null,null,null,null,null,null,null,null,null,null,null,null,null,null,"",{"$f":"IF(B3124=\"\",\"\",IF(R3124<5,INT((A3124-1)/Einstellung!$B$4)+1,\"\"))","v":""},""]
["",null,null,null,null,null,null,null,null,null,null,null,null,null,null,null,null,"",{"$f":"IF(B3127=\"\",\"\",IF(R3127<5,INT((A3127-1)/Einstellung!$B$4)+1,\"\"))","v":""},""]
["",null,null,null,null,null,null,null,null,null,null,null,null,null,null,null,null,"",{"$f":"IF(B3128=\"\",\"\",IF(R3128<5,INT((A3128-1)/Einstellung!$B$4)+1,\"\"))","v":""},""]
["",null,null,null,null,null,null,null,null,null,null,null,null,null,null,null,null,"",{"$f":"IF(B3131=\"\",\"\",IF(R3131<5,INT((A3131-1)/Einstellung!$B$4)+1,\"\"))","v":""},""]
["",null,null,null,null,null,null,null,null,null,null,null,null,null,null,null,null,"",{"$f":"IF(B3132=\"\",\"\",IF(R3132<5,INT((A3132-1)/Einstellung!$B$4)+1,\"\"))","v":""},""]
["",null,null,null,null,null,null,null,null,null,null,null,null,null,null,null,null,"",{"$f":"IF(B3134=\"\",\"\",IF(R3134<5,INT((A3134-1)/Einstellung!$B$4)+1,\"\"))","v":""},""]
["",null,null,null,null,null,null,null,null,null,null,null,null,null,null,null,null,"",{"$f":"IF(B3135=\"\",\"\",IF(R3135<5,INT((A3135-1)/Einstellung!$B$4)+1,\"\"))","v":""},""]
["",null,null,null,null,null,null,null,null,null,null,null,null,null,null,null,null,"",{"$f":"IF(B3138=\"\",\"\",IF(R3138<5,INT((A3138-1)/Einstellung!$B$4)+1,\"\"))","v":""},""]
["",null,null,null,null,null,null,null,null,null,null,null,null,null,null,null,null,"",{"$f":"IF(B3139=\"\",\"\",IF(R3139<5,INT((A3139-1)/Einstellung!$B$4)+1,\"\"))","v":""},""]
["",null,null,null,null,null,null,null,null,null,null,null,null,null,null,null,null,"",{"$f":"IF(B3141=\"\",\"\",IF(R3141<5,INT((A3141-1)/Einstellung!$B$4)+1,\"\"))","v":""},""]
["",null,null,null,null,null,null,null,null,null,null,null,null,null,null,null,null,"",{"$f":"IF(B3142=\"\",\"\",IF(R3142<5,INT((A3142-1)/Einstellung!$B$4)+1,\"\"))","v":""},""]
["",null,null,null,null,null,null,null,null,null,null,null,null,null,null,null,null,"",{"$f":"IF(B3145=\"\",\"\",IF(R3145<5,INT((A3145-1)/Einstellung!$B$4)+1,\"\"))","v":""},""]
["",null,null,null,null,null,null,null,null,null,null,null,null,null,null,null,null,"",{"$f":"IF(B3146=\"\",\"\",IF(R3146<5,INT((A3146-1)/Einstellung!$B$4)+1,\"\"))","v":""},""]
["",null,null,null,null,null,null,null,null,null,null,null,null,null,null,null,null,"",{"$f":"IF(B3148=\"\",\"\",IF(R3148<5,INT((A3148-1)/Einstellung!$B$4)+1,\"\"))","v":""},""]
["",null,null,null,null,null,null,null,null,null,null,null,null,null,null,null,null,"",{"$f":"IF(B3149=\"\",\"\",IF(R3149<5,INT((A3149-1)/Einstellung!$B$4)+1,\"\"))","v":""},""]
["",null,null,null,null,null,null,null,null,null,null,null,null,null,null,null,null,"",{"$f":"IF(B3152=\"\",\"\",IF(R3152<5,INT((A3152-1)/Einstellung!$B$4)+1,\"\"))","v":""},""]
["",null,null,null,null,null,null,null,null,null,null,null,null,null,null,null,null,"",{"$f":"IF(B3153=\"\",\"\",IF(R3153<5,INT((A3153-1)/Einstellung!$B$4)+1,\"\"))","v":""},""]
["",null,null,null,null,null,null,null,null,null,null,null,null,null,null,null,null,"",{"$f":"IF(B3155=\"\",\"\",IF(R3155<5,INT((A3155-1)/Einstellung!$B$4)+1,\"\"))","v":""},""]
["",null,null,null,null,null,null,null,null,null,null,null,null,null,null,null,null,"",{"$f":"IF(B3156=\"\",\"\",IF(R3156<5,INT((A3156-1)/Einstellung!$B$4)+1,\"\"))","v":""},""]
["",null,null,null,null,null,null,null,null,null,null,null,null,null,null,null,null,"",{"$f":"IF(B3159=\"\",\"\",IF(R3159<5,INT((A3159-1)/Einstellung!$B$4)+1,\"\"))","v":""},""]
["",null,null,null,null,null,null,null,null,null,null,null,null,null,null,null,null,"",{"$f":"IF(B3160=\"\",\"\",IF(R3160<5,INT((A3160-1)/Einstellung!$B$4)+1,\"\"))","v":""},""]
["",null,null,null,null,null,null,null,null,null,null,null,null,null,null,null,null,"",{"$f":"IF(B3162=\"\",\"\",IF(R3162<5,INT((A3162-1)/Einstellung!$B$4)+1,\"\"))","v":""},""]
["",null,null,null,null,null,null,null,null,null,null,null,null,null,null,null,null,"",{"$f":"IF(B3163=\"\",\"\",IF(R3163<5,INT((A3163-1)/Einstellung!$B$4)+1,\"\"))","v":""},""]
["",null,null,null,null,null,null,null,null,null,null,null,null,null,null,null,null,"",{"$f":"IF(B3166=\"\",\"\",IF(R3166<5,INT((A3166-1)/Einstellung!$B$4)+1,\"\"))","v":""},""]
["",null,null,null,null,null,null,null,null,null,null,null,null,null,null,null,null,"",{"$f":"IF(B3167=\"\",\"\",IF(R3167<5,INT((A3167-1)/Einstellung!$B$4)+1,\"\"))","v":""},""]
["",null,null,null,null,null,null,null,null,null,null,null,null,null,null,null,null,"",{"$f":"IF(B3169=\"\",\"\",IF(R3169<5,INT((A3169-1)/Einstellung!$B$4)+1,\"\"))","v":""},""]
["",null,null,null,null,null,null,null,null,null,null,null,null,null,null,null,null,"",{"$f":"IF(B3170=\"\",\"\",IF(R3170<5,INT((A3170-1)/Einstellung!$B$4)+1,\"\"))","v":""},""]
["",null,null,null,null,null,null,null,null,null,null,null,null,null,null,null,null,"",{"$f":"IF(B3173=\"\",\"\",IF(R3173<5,INT((A3173-1)/Einstellung!$B$4)+1,\"\"))","v":""},""]
["",null,null,null,null,null,null,null,null,null,null,null,null,null,null,null,null,"",{"$f":"IF(B3174=\"\",\"\",IF(R3174<5,INT((A3174-1)/Einstellung!$B$4)+1,\"\"))","v":""},""]
["",null,null,null,null,null,null,null,null,null,null,null,null,null,null,null,null,"",{"$f":"IF(B3176=\"\",\"\",IF(R3176<5,INT((A3176-1)/Einstellung!$B$4)+1,\"\"))","v":""},""]
["",null,null,null,null,null,null,null,null,null,null,null,null,null,null,null,null,"",{"$f":"IF(B3177=\"\",\"\",IF(R3177<5,INT((A3177-1)/Einstellung!$B$4)+1,\"\"))","v":""},""]
["",null,null,null,null,null,null,null,null,null,null,null,null,null,null,null,null,"",{"$f":"IF(B3180=\"\",\"\",IF(R3180<5,INT((A3180-1)/Einstellung!$B$4)+1,\"\"))","v":""},""]
["",null,null,null,null,null,null,null,null,null,null,null,null,null,null,null,null,"",{"$f":"IF(B3181=\"\",\"\",IF(R3181<5,INT((A3181-1)/Einstellung!$B$4)+1,\"\"))","v":""},""]
["",null,null,null,null,null,null,null,null,null,null,null,null,null,null,null,null,"",{"$f":"IF(B3183=\"\",\"\",IF(R3183<5,INT((A3183-1)/Einstellung!$B$4)+1,\"\"))","v":""},""]
["",null,null,null,null,null,null,null,null,null,null,null,null,null,null,null,null,"",{"$f":"IF(B3184=\"\",\"\",IF(R3184<5,INT((A3184-1)/Einstellung!$B$4)+1,\"\"))","v":""},""]
["",null,null,null,null,null,null,null,null,null,null,null,null,null,null,null,null,"",{"$f":"IF(B3187=\"\",\"\",IF(R3187<5,INT((A3187-1)/Einstellung!$B$4)+1,\"\"))","v":""},""]
["",null,null,null,null,null,null,null,null,null,null,null,null,null,null,null,null,"",{"$f":"IF(B3188=\"\",\"\",IF(R3188<5,INT((A3188-1)/Einstellung!$B$4)+1,\"\"))","v":""},""]
["",null,null,null,null,null,null,null,null,null,null,null,null,null,null,null,null,"",{"$f":"IF(B3190=\"\",\"\",IF(R3190<5,INT((A3190-1)/Einstellung!$B$4)+1,\"\"))","v":""},""]
["",null,null,null,null,null,null,null,null,null,null,null,null,null,null,null,null,"",{"$f":"IF(B3191=\"\",\"\",IF(R3191<5,INT((A3191-1)/Einstellung!$B$4)+1,\"\"))","v":""},""]
["",null,null,null,null,null,null,null,null,null,null,null,null,null,null,null,null,"",{"$f":"IF(B3194=\"\",\"\",IF(R3194<5,INT((A3194-1)/Einstellung!$B$4)+1,\"\"))","v":""},""]
["",null,null,null,null,null,null,null,null,null,null,null,null,null,null,null,null,"",{"$f":"IF(B3195=\"\",\"\",IF(R3195<5,INT((A3195-1)/Einstellung!$B$4)+1,\"\"))","v":""},""]
["",null,null,null,null,null,null,null,null,null,null,null,null,null,null,null,null,"",{"$f":"IF(B3197=\"\",\"\",IF(R3197<5,INT((A3197-1)/Einstellung!$B$4)+1,\"\"))","v":""},""]
["",null,null,null,null,null,null,null,null,null,null,null,null,null,null,null,null,"",{"$f":"IF(B3198=\"\",\"\",IF(R3198<5,INT((A3198-1)/Einstellung!$B$4)+1,\"\"))","v":""},""]
["",null,null,null,null,null,null,null,null,null,null,null,null,null,null,null,null,"",{"$f":"IF(B3201=\"\",\"\",IF(R3201<5,INT((A3201-1)/Einstellung!$B$4)+1,\"\"))","v":""},""]
["",null,null,null,null,null,null,null,null,null,null,null,null,null,null,null,null,"",{"$f":"IF(B3202=\"\",\"\",IF(R3202<5,INT((A3202-1)/Einstellung!$B$4)+1,\"\"))","v":""},""]
["",null,null,null,null,null,null,null,null,null,null,null,null,null,null,null,null,"",{"$f":"IF(B3204=\"\",\"\",IF(R3204<5,INT((A3204-1)/Einstellung!$B$4)+1,\"\"))","v":""},""]
["",null,null,null,null,null,null,null,null,null,null,null,null,null,null,null,null,"",{"$f":"IF(B3205=\"\",\"\",IF(R3205<5,INT((A3205-1)/Einstellung!$B$4)+1,\"\"))","v":""},""]
["",null,null,null,null,null,null,null,null,null,null,null,null,null,null,null,null,{"$f":"IF(B3208=\"\",\"\",16-((MID(B$1,1,1)=MID(B3208,1,1))+(MID(C$1,1,1)=MID(C3208,1,1))+(MID(D$1,1,1)=MID(D3208,1,1))+(MID(E$1,1,1)=MID(E3208,1,1))+(MID(F$1,1,1)=MID(F3208,1,1))+(MID(G$1,1,1)=MID(G3208,1,1))+(MID(H$1,1,1)=MID(H3208,1,1))+(MID(I$1,1,1)=MID(I3208,1,1))+(MID(J$1,1,1)=MID(J3208,1,1))+(MID(K$1,1,1)=MID(K3208,1,1))+(MID(L$1,1,1)=MID(L3208,1,1))+(MID(M$1,1,1)=MID(M3208,1,1))+(MID(N$1,1,1)=MID(N3208,1,1))+(MID(O$1,1,1)=MID(O3208,1,1))+(MID(P$1,1,1)=MID(P3208,1,1)))-B$4+C$5)","v":""},{"$f":"IF(B3208=\"\",\"\",IF(R3208<5,INT((A3208-1)/Einstellung!$B$4)+1,\"\"))","v":""},{"$f":"IF(C$5<B$4,\"\",IF(R3208>4,\"\",OFFSET(T$2,R3208-1,0)))","v":""}]
["",null,null,null,null,null,null,null,null,null,null,null,null,null,null,null,null,"",{"$f":"IF(B3209=\"\",\"\",IF(R3209<5,INT((A3209-1)/Einstellung!$B$4)+1,\"\"))","v":""},""]
["",null,null,null,null,null,null,null,null,null,null,null,null,null,null,null,null,"",{"$f":"IF(B3211=\"\",\"\",IF(R3211<5,INT((A3211-1)/Einstellung!$B$4)+1,\"\"))","v":""},""]
["",null,null,null,null,null,null,null,null,null,null,null,null,null,null,null,null,"",{"$f":"IF(B3212=\"\",\"\",IF(R3212<5,INT((A3212-1)/Einstellung!$B$4)+1,\"\"))","v":""},""]
["",null,null,null,null,null,null,null,null,null,null,null,null,null,null,null,null,"",{"$f":"IF(B3215=\"\",\"\",IF(R3215<5,INT((A3215-1)/Einstellung!$B$4)+1,\"\"))","v":""},""]
["",null,null,null,null,null,null,null,null,null,null,null,null,null,null,null,null,"",{"$f":"IF(B3216=\"\",\"\",IF(R3216<5,INT((A3216-1)/Einstellung!$B$4)+1,\"\"))","v":""},""]
["",null,null,null,null,null,null,null,null,null,null,null,null,null,null,null,null,"",{"$f":"IF(B3218=\"\",\"\",IF(R3218<5,INT((A3218-1)/Einstellung!$B$4)+1,\"\"))","v":""},""]
["",null,null,null,null,null,null,null,null,null,null,null,null,null,null,null,null,"",{"$f":"IF(B3219=\"\",\"\",IF(R3219<5,INT((A3219-1)/Einstellung!$B$4)+1,\"\"))","v":""},""]
["",null,null,null,null,null,null,null,null,null,null,null,null,null,null,null,null,"",{"$f":"IF(B3222=\"\",\"\",IF(R3222<5,INT((A3222-1)/Einstellung!$B$4)+1,\"\"))","v":""},""]
["",null,null,null,null,null,null,null,null,null,null,null,null,null,null,null,null,"",{"$f":"IF(B3223=\"\",\"\",IF(R3223<5,INT((A3223-1)/Einstellung!$B$4)+1,\"\"))","v":""},""]
["",null,null,null,null,null,null,null,null,null,null,null,null,null,null,null,null,"",{"$f":"IF(B3225=\"\",\"\",IF(R3225<5,INT((A3225-1)/Einstellung!$B$4)+1,\"\"))","v":""},""]
["",null,null,null,null,null,null,null,null,null,null,null,null,null,null,null,null,"",{"$f":"IF(B3226=\"\",\"\",IF(R3226<5,INT((A3226-1)/Einstellung!$B$4)+1,\"\"))","v":""},""]
["",null,null,null,null,null,null,null,null,null,null,null,null,null,null,null,null,"",{"$f":"IF(B3229=\"\",\"\",IF(R3229<5,INT((A3229-1)/Einstellung!$B$4)+1,\"\"))","v":""},""]
["",null,null,null,null,null,null,null,null,null,null,null,null,null,null,null,null,"",{"$f":"IF(B3230=\"\",\"\",IF(R3230<5,INT((A3230-1)/Einstellung!$B$4)+1,\"\"))","v":""},""]
["",null,null,null,null,null,null,null,null,null,null,null,null,null,null,null,null,"",{"$f":"IF(B3232=\"\",\"\",IF(R3232<5,INT((A3232-1)/Einstellung!$B$4)+1,\"\"))","v":""},""]
["",null,null,null,null,null,null,null,null,null,null,null,null,null,null,null,null,"",{"$f":"IF(B3233=\"\",\"\",IF(R3233<5,INT((A3233-1)/Einstellung!$B$4)+1,\"\"))","v":""},""]
["",null,null,null,null,null,null,null,null,null,null,null,null,null,null,null,null,"",{"$f":"IF(B3236=\"\",\"\",IF(R3236<5,INT((A3236-1)/Einstellung!$B$4)+1,\"\"))","v":""},""]
["",null,null,null,null,null,null,null,null,null,null,null,null,null,null,null,null,"",{"$f":"IF(B3237=\"\",\"\",IF(R3237<5,INT((A3237-1)/Einstellung!$B$4)+1,\"\"))","v":""},""]
["",null,null,null,null,null,null,null,null,null,null,null,null,null,null,null,null,"",{"$f":"IF(B3239=\"\",\"\",IF(R3239<5,INT((A3239-1)/Einstellung!$B$4)+1,\"\"))","v":""},""]
["",null,null,null,null,null,null,null,null,null,null,null,null,null,null,null,null,"",{"$f":"IF(B3240=\"\",\"\",IF(R3240<5,INT((A3240-1)/Einstellung!$B$4)+1,\"\"))","v":""},""]
["",null,null,null,null,null,null,null,null,null,null,null,null,null,null,null,null,"",{"$f":"IF(B3243=\"\",\"\",IF(R3243<5,INT((A3243-1)/Einstellung!$B$4)+1,\"\"))","v":""},""]
["",null,null,null,null,null,null,null,null,null,null,null,null,null,null,null,null,"",{"$f":"IF(B3244=\"\",\"\",IF(R3244<5,INT((A3244-1)/Einstellung!$B$4)+1,\"\"))","v":""},""]
["",null,null,null,null,null,null,null,null,null,null,null,null,null,null,null,null,"",{"$f":"IF(B3246=\"\",\"\",IF(R3246<5,INT((A3246-1)/Einstellung!$B$4)+1,\"\"))","v":""},""]
["",null,null,null,null,null,null,null,null,null,null,null,null,null,null,null,null,"",{"$f":"IF(B3247=\"\",\"\",IF(R3247<5,INT((A3247-1)/Einstellung!$B$4)+1,\"\"))","v":""},""]
["",null,null,null,null,null,null,null,null,null,null,null,null,null,null,null,null,"",{"$f":"IF(B3250=\"\",\"\",IF(R3250<5,INT((A3250-1)/Einstellung!$B$4)+1,\"\"))","v":""},""]
["",null,null,null,null,null,null,null,null,null,null,null,null,null,null,null,null,"",{"$f":"IF(B3251=\"\",\"\",IF(R3251<5,INT((A3251-1)/Einstellung!$B$4)+1,\"\"))","v":""},""]
["",null,null,null,null,null,null,null,null,null,null,null,null,null,null,null,null,"",{"$f":"IF(B3253=\"\",\"\",IF(R3253<5,INT((A3253-1)/Einstellung!$B$4)+1,\"\"))","v":""},""]
["",null,null,null,null,null,null,null,null,null,null,null,null,null,null,null,null,"",{"$f":"IF(B3254=\"\",\"\",IF(R3254<5,INT((A3254-1)/Einstellung!$B$4)+1,\"\"))","v":""},""]
["",null,null,null,null,null,null,null,null,null,null,null,null,null,null,null,null,"",{"$f":"IF(B3257=\"\",\"\",IF(R3257<5,INT((A3257-1)/Einstellung!$B$4)+1,\"\"))","v":""},""]
["",null,null,null,null,null,null,null,null,null,null,null,null,null,null,null,null,"",{"$f":"IF(B3258=\"\",\"\",IF(R3258<5,INT((A3258-1)/Einstellung!$B$4)+1,\"\"))","v":""},""]
["",null,null,null,null,null,null,null,null,null,null,null,null,null,null,null,null,"",{"$f":"IF(B3260=\"\",\"\",IF(R3260<5,INT((A3260-1)/Einstellung!$B$4)+1,\"\"))","v":""},""]
["",null,null,null,null,null,null,null,null,null,null,null,null,null,null,null,null,"",{"$f":"IF(B3261=\"\",\"\",IF(R3261<5,INT((A3261-1)/Einstellung!$B$4)+1,\"\"))","v":""},""]
["",null,null,null,null,null,null,null,null,null,null,null,null,null,null,null,null,"",{"$f":"IF(B3264=\"\",\"\",IF(R3264<5,INT((A3264-1)/Einstellung!$B$4)+1,\"\"))","v":""},""]
["",null,null,null,null,null,null,null,null,null,null,null,null,null,null,null,null,"",{"$f":"IF(B3265=\"\",\"\",IF(R3265<5,INT((A3265-1)/Einstellung!$B$4)+1,\"\"))","v":""},""]
["",null,null,null,null,null,null,null,null,null,null,null,null,null,null,null,null,"",{"$f":"IF(B3267=\"\",\"\",IF(R3267<5,INT((A3267-1)/Einstellung!$B$4)+1,\"\"))","v":""},""]
["",null,null,null,null,null,null,null,null,null,null,null,null,null,null,null,null,"",{"$f":"IF(B3268=\"\",\"\",IF(R3268<5,INT((A3268-1)/Einstellung!$B$4)+1,\"\"))","v":""},""]
["",null,null,null,null,null,null,null,null,null,null,null,null,null,null,null,null,"",{"$f":"IF(B3271=\"\",\"\",IF(R3271<5,INT((A3271-1)/Einstellung!$B$4)+1,\"\"))","v":""},""]
["",null,null,null,null,null,null,null,null,null,null,null,null,null,null,null,null,{"$f":"IF(B3272=\"\",\"\",16-((MID(B$1,1,1)=MID(B3272,1,1))+(MID(C$1,1,1)=MID(C3272,1,1))+(MID(D$1,1,1)=MID(D3272,1,1))+(MID(E$1,1,1)=MID(E3272,1,1))+(MID(F$1,1,1)=MID(F3272,1,1))+(MID(G$1,1,1)=MID(G3272,1,1))+(MID(H$1,1,1)=MID(H3272,1,1))+(MID(I$1,1,1)=MID(I3272,1,1))+(MID(J$1,1,1)=MID(J3272,1,1))+(MID(K$1,1,1)=MID(K3272,1,1))+(MID(L$1,1,1)=MID(L3272,1,1))+(MID(M$1,1,1)=MID(M3272,1,1))+(MID(N$1,1,1)=MID(N3272,1,1))+(MID(O$1,1,1)=MID(O3272,1,1))+(MID(P$1,1,1)=MID(P3272,1,1)))-B$4+C$5)","v":""},{"$f":"IF(B3272=\"\",\"\",IF(R3272<5,INT((A3272-1)/Einstellung!$B$4)+1,\"\"))","v":""},{"$f":"IF(C$5<B$4,\"\",IF(R3272>4,\"\",OFFSET(T$2,R3272-1,0)))","v":""}]
["",null,null,null,null,null,null,null,null,null,null,null,null,null,null,null,null,"",{"$f":"IF(B3274=\"\",\"\",IF(R3274<5,INT((A3274-1)/Einstellung!$B$4)+1,\"\"))","v":""},""]
["",null,null,null,null,null,null,null,null,null,null,null,null,null,null,null,null,"",{"$f":"IF(B3275=\"\",\"\",IF(R3275<5,INT((A3275-1)/Einstellung!$B$4)+1,\"\"))","v":""},""]
["",null,null,null,null,null,null,null,null,null,null,null,null,null,null,null,null,"",{"$f":"IF(B3278=\"\",\"\",IF(R3278<5,INT((A3278-1)/Einstellung!$B$4)+1,\"\"))","v":""},""]
["",null,null,null,null,null,null,null,null,null,null,null,null,null,null,null,null,"",{"$f":"IF(B3279=\"\",\"\",IF(R3279<5,INT((A3279-1)/Einstellung!$B$4)+1,\"\"))","v":""},""]
["",null,null,null,null,null,null,null,null,null,null,null,null,null,null,null,null,"",{"$f":"IF(B3281=\"\",\"\",IF(R3281<5,INT((A3281-1)/Einstellung!$B$4)+1,\"\"))","v":""},""]
["",null,null,null,null,null,null,null,null,null,null,null,null,null,null,null,null,"",{"$f":"IF(B3282=\"\",\"\",IF(R3282<5,INT((A3282-1)/Einstellung!$B$4)+1,\"\"))","v":""},""]
["",null,null,null,null,null,null,null,null,null,null,null,null,null,null,null,null,"",{"$f":"IF(B3285=\"\",\"\",IF(R3285<5,INT((A3285-1)/Einstellung!$B$4)+1,\"\"))","v":""},""]
["",null,null,null,null,null,null,null,null,null,null,null,null,null,null,null,null,"",{"$f":"IF(B3286=\"\",\"\",IF(R3286<5,INT((A3286-1)/Einstellung!$B$4)+1,\"\"))","v":""},""]
["",null,null,null,null,null,null,null,null,null,null,null,null,null,null,null,null,"",{"$f":"IF(B3288=\"\",\"\",IF(R3288<5,INT((A3288-1)/Einstellung!$B$4)+1,\"\"))","v":""},""]
["",null,null,null,null,null,null,null,null,null,null,null,null,null,null,null,null,"",{"$f":"IF(B3289=\"\",\"\",IF(R3289<5,INT((A3289-1)/Einstellung!$B$4)+1,\"\"))","v":""},""]
["",null,null,null,null,null,null,null,null,null,null,null,null,null,null,null,null,"",{"$f":"IF(B3292=\"\",\"\",IF(R3292<5,INT((A3292-1)/Einstellung!$B$4)+1,\"\"))","v":""},""]
["",null,null,null,null,null,null,null,null,null,null,null,null,null,null,null,null,"",{"$f":"IF(B3293=\"\",\"\",IF(R3293<5,INT((A3293-1)/Einstellung!$B$4)+1,\"\"))","v":""},""]
["",null,null,null,null,null,null,null,null,null,null,null,null,null,null,null,null,"",{"$f":"IF(B3295=\"\",\"\",IF(R3295<5,INT((A3295-1)/Einstellung!$B$4)+1,\"\"))","v":""},""]
["",null,null,null,null,null,null,null,null,null,null,null,null,null,null,null,null,"",{"$f":"IF(B3296=\"\",\"\",IF(R3296<5,INT((A3296-1)/Einstellung!$B$4)+1,\"\"))","v":""},""]
["",null,null,null,null,null,null,null,null,null,null,null,null,null,null,null,null,"",{"$f":"IF(B3299=\"\",\"\",IF(R3299<5,INT((A3299-1)/Einstellung!$B$4)+1,\"\"))","v":""},""]
["",null,null,null,null,null,null,null,null,null,null,null,null,null,null,null,null,"",{"$f":"IF(B3300=\"\",\"\",IF(R3300<5,INT((A3300-1)/Einstellung!$B$4)+1,\"\"))","v":""},""]
["",null,null,null,null,null,null,null,null,null,null,null,null,null,null,null,null,"",{"$f":"IF(B3302=\"\",\"\",IF(R3302<5,INT((A3302-1)/Einstellung!$B$4)+1,\"\"))","v":""},""]
["",null,null,null,null,null,null,null,null,null,null,null,null,null,null,null,null,"",{"$f":"IF(B3303=\"\",\"\",IF(R3303<5,INT((A3303-1)/Einstellung!$B$4)+1,\"\"))","v":""},""]
[{"$f":"IF(B3306=\"\",\"\",ROW()-7)","v":""},null,null,null,null,null,null,null,null,null,null,null,null,null,null,null,null,"",{"$f":"IF(B3306=\"\",\"\",IF(R3306<5,INT((A3306-1)/Einstellung!$B$4)+1,\"\"))","v":""},""]
["",null,null,null,null,null,null,null,null,null,null,null,null,null,null,null,null,"",{"$f":"IF(B3307=\"\",\"\",IF(R3307<5,INT((A3307-1)/Einstellung!$B$4)+1,\"\"))","v":""},""]
["",null,null,null,null,null,null,null,null,null,null,null,null,null,null,null,null,"",{"$f":"IF(B3309=\"\",\"\",IF(R3309<5,INT((A3309-1)/Einstellung!$B$4)+1,\"\"))","v":""},""]
["",null,null,null,null,null,null,null,null,null,null,null,null,null,null,null,null,"",{"$f":"IF(B3310=\"\",\"\",IF(R3310<5,INT((A3310-1)/Einstellung!$B$4)+1,\"\"))","v":""},""]
["",null,null,null,null,null,null,null,null,null,null,null,null,null,null,null,null,"",{"$f":"IF(B3313=\"\",\"\",IF(R3313<5,INT((A3313-1)/Einstellung!$B$4)+1,\"\"))","v":""},""]
["",null,null,null,null,null,null,null,null,null,null,null,null,null,null,null,null,"",{"$f":"IF(B3314=\"\",\"\",IF(R3314<5,INT((A3314-1)/Einstellung!$B$4)+1,\"\"))","v":""},""]
["",null,null,null,null,null,null,null,null,null,null,null,null,null,null,null,null,"",{"$f":"IF(B3316=\"\",\"\",IF(R3316<5,INT((A3316-1)/Einstellung!$B$4)+1,\"\"))","v":""},""]
["",null,null,null,null,null,null,null,null,null,null,null,null,null,null,null,null,"",{"$f":"IF(B3317=\"\",\"\",IF(R3317<5,INT((A3317-1)/Einstellung!$B$4)+1,\"\"))","v":""},""]
["",null,null,null,null,null,null,null,null,null,null,null,null,null,null,null,null,"",{"$f":"IF(B3320=\"\",\"\",IF(R3320<5,INT((A3320-1)/Einstellung!$B$4)+1,\"\"))","v":""},""]
["",null,null,null,null,null,null,null,null,null,null,null,null,null,null,null,null,"",{"$f":"IF(B3321=\"\",\"\",IF(R3321<5,INT((A3321-1)/Einstellung!$B$4)+1,\"\"))","v":""},""]
["",null,null,null,null,null,null,null,null,null,null,null,null,null,null,null,null,"",{"$f":"IF(B3323=\"\",\"\",IF(R3323<5,INT((A3323-1)/Einstellung!$B$4)+1,\"\"))","v":""},""]
["",null,null,null,null,null,null,null,null,null,null,null,null,null,null,null,null,"",{"$f":"IF(B3324=\"\",\"\",IF(R3324<5,INT((A3324-1)/Einstellung!$B$4)+1,\"\"))","v":""},""]
["",null,null,null,null,null,null,null,null,null,null,null,null,null,null,null,null,"",{"$f":"IF(B3327=\"\",\"\",IF(R3327<5,INT((A3327-1)/Einstellung!$B$4)+1,\"\"))","v":""},""]
["",null,null,null,null,null,null,null,null,null,null,null,null,null,null,null,null,"",{"$f":"IF(B3328=\"\",\"\",IF(R3328<5,INT((A3328-1)/Einstellung!$B$4)+1,\"\"))","v":""},""]
["",null,null,null,null,null,null,null,null,null,null,null,null,null,null,null,null,"",{"$f":"IF(B3330=\"\",\"\",IF(R3330<5,INT((A3330-1)/Einstellung!$B$4)+1,\"\"))","v":""},""]
["",null,null,null,null,null,null,null,null,null,null,null,null,null,null,null,null,"",{"$f":"IF(B3331=\"\",\"\",IF(R3331<5,INT((A3331-1)/Einstellung!$B$4)+1,\"\"))","v":""},""]
["",null,null,null,null,null,null,null,null,null,null,null,null,null,null,null,null,"",{"$f":"IF(B3334=\"\",\"\",IF(R3334<5,INT((A3334-1)/Einstellung!$B$4)+1,\"\"))","v":""},""]
["",null,null,null,null,null,null,null,null,null,null,null,null,null,null,null,null,"",{"$f":"IF(B3335=\"\",\"\",IF(R3335<5,INT((A3335-1)/Einstellung!$B$4)+1,\"\"))","v":""},""]
["",null,null,null,null,null,null,null,null,null,null,null,null,null,null,null,null,"",{"$f":"IF(B3337=\"\",\"\",IF(R3337<5,INT((A3337-1)/Einstellung!$B$4)+1,\"\"))","v":""},""]
["",null,null,null,null,null,null,null,null,null,null,null,null,null,null,null,null,"",{"$f":"IF(B3338=\"\",\"\",IF(R3338<5,INT((A3338-1)/Einstellung!$B$4)+1,\"\"))","v":""},""]
["",null,null,null,null,null,null,null,null,null,null,null,null,null,null,null,null,"",{"$f":"IF(B3341=\"\",\"\",IF(R3341<5,INT((A3341-1)/Einstellung!$B$4)+1,\"\"))","v":""},""]
["",null,null,null,null,null,null,null,null,null,null,null,null,null,null,null,null,"",{"$f":"IF(B3342=\"\",\"\",IF(R3342<5,INT((A3342-1)/Einstellung!$B$4)+1,\"\"))","v":""},""]
["",null,null,null,null,null,null,null,null,null,null,null,null,null,null,null,null,"",{"$f":"IF(B3344=\"\",\"\",IF(R3344<5,INT((A3344-1)/Einstellung!$B$4)+1,\"\"))","v":""},""]
["",null,null,null,null,null,null,null,null,null,null,null,null,null,null,null,null,"",{"$f":"IF(B3345=\"\",\"\",IF(R3345<5,INT((A3345-1)/Einstellung!$B$4)+1,\"\"))","v":""},""]
["",null,null,null,null,null,null,null,null,null,null,null,null,null,null,null,null,"",{"$f":"IF(B3348=\"\",\"\",IF(R3348<5,INT((A3348-1)/Einstellung!$B$4)+1,\"\"))","v":""},""]
["",null,null,null,null,null,null,null,null,null,null,null,null,null,null,null,null,"",{"$f":"IF(B3349=\"\",\"\",IF(R3349<5,INT((A3349-1)/Einstellung!$B$4)+1,\"\"))","v":""},""]
["",null,null,null,null,null,null,null,null,null,null,null,null,null,null,null,null,"",{"$f":"IF(B3351=\"\",\"\",IF(R3351<5,INT((A3351-1)/Einstellung!$B$4)+1,\"\"))","v":""},""]
["",null,null,null,null,null,null,null,null,null,null,null,null,null,null,null,null,"",{"$f":"IF(B3352=\"\",\"\",IF(R3352<5,INT((A3352-1)/Einstellung!$B$4)+1,\"\"))","v":""},""]
["",null,null,null,null,null,null,null,null,null,null,null,null,null,null,null,null,"",{"$f":"IF(B3355=\"\",\"\",IF(R3355<5,INT((A3355-1)/Einstellung!$B$4)+1,\"\"))","v":""},""]
["",null,null,null,null,null,null,null,null,null,null,null,null,null,null,null,null,"",{"$f":"IF(B3356=\"\",\"\",IF(R3356<5,INT((A3356-1)/Einstellung!$B$4)+1,\"\"))","v":""},""]
["",null,null,null,null,null,null,null,null,null,null,null,null,null,null,null,null,"",{"$f":"IF(B3358=\"\",\"\",IF(R3358<5,INT((A3358-1)/Einstellung!$B$4)+1,\"\"))","v":""},""]
["",null,null,null,null,null,null,null,null,null,null,null,null,null,null,null,null,"",{"$f":"IF(B3359=\"\",\"\",IF(R3359<5,INT((A3359-1)/Einstellung!$B$4)+1,\"\"))","v":""},""]
["",null,null,null,null,null,null,null,null,null,null,null,null,null,null,null,null,"",{"$f":"IF(B3362=\"\",\"\",IF(R3362<5,INT((A3362-1)/Einstellung!$B$4)+1,\"\"))","v":""},""]
["",null,null,null,null,null,null,null,null,null,null,null,null,null,null,null,null,"",{"$f":"IF(B3363=\"\",\"\",IF(R3363<5,INT((A3363-1)/Einstellung!$B$4)+1,\"\"))","v":""},""]
["",null,null,null,null,null,null,null,null,null,null,null,null,null,null,null,null,"",{"$f":"IF(B3365=\"\",\"\",IF(R3365<5,INT((A3365-1)/Einstellung!$B$4)+1,\"\"))","v":""},""]
["",null,null,null,null,null,null,null,null,null,null,null,null,null,null,null,null,"",{"$f":"IF(B3366=\"\",\"\",IF(R3366<5,INT((A3366-1)/Einstellung!$B$4)+1,\"\"))","v":""},""]
["",null,null,null,null,null,null,null,null,null,null,null,null,null,null,null,null,"",{"$f":"IF(B3369=\"\",\"\",IF(R3369<5,INT((A3369-1)/Einstellung!$B$4)+1,\"\"))","v":""},""]
[{"$f":"IF(B3370=\"\",\"\",ROW()-7)","v":""},null,null,null,null,null,null,null,null,null,null,null,null,null,null,null,null,"",{"$f":"IF(B3370=\"\",\"\",IF(R3370<5,INT((A3370-1)/Einstellung!$B$4)+1,\"\"))","v":""},""]
["",null,null,null,null,null,null,null,null,null,null,null,null,null,null,null,null,"",{"$f":"IF(B3372=\"\",\"\",IF(R3372<5,INT((A3372-1)/Einstellung!$B$4)+1,\"\"))","v":""},""]
["",null,null,null,null,null,null,null,null,null,null,null,null,null,null,null,null,"",{"$f":"IF(B3373=\"\",\"\",IF(R3373<5,INT((A3373-1)/Einstellung!$B$4)+1,\"\"))","v":""},""]
["",null,null,null,null,null,null,null,null,null,null,null,null,null,null,null,null,"",{"$f":"IF(B3376=\"\",\"\",IF(R3376<5,INT((A3376-1)/Einstellung!$B$4)+1,\"\"))","v":""},""]
["",null,null,null,null,null,null,null,null,null,null,null,null,null,null,null,null,"",{"$f":"IF(B3377=\"\",\"\",IF(R3377<5,INT((A3377-1)/Einstellung!$B$4)+1,\"\"))","v":""},""]
["",null,null,null,null,null,null,null,null,null,null,null,null,null,null,null,null,"",{"$f":"IF(B3380=\"\",\"\",IF(R3380<5,INT((A3380-1)/Einstellung!$B$4)+1,\"\"))","v":""},""]
["",null,null,null,null,null,null,null,null,null,null,null,null,null,null,null,null,"",{"$f":"IF(B3381=\"\",\"\",IF(R3381<5,INT((A3381-1)/Einstellung!$B$4)+1,\"\"))","v":""},""]
["",null,null,null,null,null,null,null,null,null,null,null,null,null,null,null,null,"",{"$f":"IF(B3383=\"\",\"\",IF(R3383<5,INT((A3383-1)/Einstellung!$B$4)+1,\"\"))","v":""},""]
["",null,null,null,null,null,null,null,null,null,null,null,null,null,null,null,null,"",{"$f":"IF(B3384=\"\",\"\",IF(R3384<5,INT((A3384-1)/Einstellung!$B$4)+1,\"\"))","v":""},""]
["",null,null,null,null,null,null,null,null,null,null,null,null,null,null,null,null,"",{"$f":"IF(B3387=\"\",\"\",IF(R3387<5,INT((A3387-1)/Einstellung!$B$4)+1,\"\"))","v":""},""]
["",null,null,null,null,null,null,null,null,null,null,null,null,null,null,null,null,"",{"$f":"IF(B3388=\"\",\"\",IF(R3388<5,INT((A3388-1)/Einstellung!$B$4)+1,\"\"))","v":""},""]
["",null,null,null,null,null,null,null,null,null,null,null,null,null,null,null,null,"",{"$f":"IF(B3390=\"\",\"\",IF(R3390<5,INT((A3390-1)/Einstellung!$B$4)+1,\"\"))","v":""},""]
["",null,null,null,null,null,null,null,null,null,null,null,null,null,null,null,null,"",{"$f":"IF(B3391=\"\",\"\",IF(R3391<5,INT((A3391-1)/Einstellung!$B$4)+1,\"\"))","v":""},""]
["",null,null,null,null,null,null,null,null,null,null,null,null,null,null,null,null,"",{"$f":"IF(B3394=\"\",\"\",IF(R3394<5,INT((A3394-1)/Einstellung!$B$4)+1,\"\"))","v":""},""]
["",null,null,null,null,null,null,null,null,null,null,null,null,null,null,null,null,"",{"$f":"IF(B3395=\"\",\"\",IF(R3395<5,INT((A3395-1)/Einstellung!$B$4)+1,\"\"))","v":""},""]
["",null,null,null,null,null,null,null,null,null,null,null,null,null,null,null,null,"",{"$f":"IF(B3397=\"\",\"\",IF(R3397<5,INT((A3397-1)/Einstellung!$B$4)+1,\"\"))","v":""},""]
["",null,null,null,null,null,null,null,null,null,null,null,null,null,null,null,null,"",{"$f":"IF(B3398=\"\",\"\",IF(R3398<5,INT((A3398-1)/Einstellung!$B$4)+1,\"\"))","v":""},""]
["",null,null,null,null,null,null,null,null,null,null,null,null,null,null,null,null,"",{"$f":"IF(B3401=\"\",\"\",IF(R3401<5,INT((A3401-1)/Einstellung!$B$4)+1,\"\"))","v":""},""]
["",null,null,null,null,null,null,null,null,null,null,null,null,null,null,null,null,"",{"$f":"IF(B3402=\"\",\"\",IF(R3402<5,INT((A3402-1)/Einstellung!$B$4)+1,\"\"))","v":""},""]
["",null,null,null,null,null,null,null,null,null,null,null,null,null,null,null,null,"",{"$f":"IF(B3404=\"\",\"\",IF(R3404<5,INT((A3404-1)/Einstellung!$B$4)+1,\"\"))","v":""},""]
["",null,null,null,null,null,null,null,null,null,null,null,null,null,null,null,null,"",{"$f":"IF(B3405=\"\",\"\",IF(R3405<5,INT((A3405-1)/Einstellung!$B$4)+1,\"\"))","v":""},""]
["",null,null,null,null,null,null,null,null,null,null,null,null,null,null,null,null,"",{"$f":"IF(B3408=\"\",\"\",IF(R3408<5,INT((A3408-1)/Einstellung!$B$4)+1,\"\"))","v":""},""]
["",null,null,null,null,null,null,null,null,null,null,null,null,null,null,null,null,"",{"$f":"IF(B3409=\"\",\"\",IF(R3409<5,INT((A3409-1)/Einstellung!$B$4)+1,\"\"))","v":""},""]
["",null,null,null,null,null,null,null,null,null,null,null,null,null,null,null,null,"",{"$f":"IF(B3411=\"\",\"\",IF(R3411<5,INT((A3411-1)/Einstellung!$B$4)+1,\"\"))","v":""},""]
["",null,null,null,null,null,null,null,null,null,null,null,null,null,null,null,null,"",{"$f":"IF(B3412=\"\",\"\",IF(R3412<5,INT((A3412-1)/Einstellung!$B$4)+1,\"\"))","v":""},""]
["",null,null,null,null,null,null,null,null,null,null,null,null,null,null,null,null,"",{"$f":"IF(B3415=\"\",\"\",IF(R3415<5,INT((A3415-1)/Einstellung!$B$4)+1,\"\"))","v":""},""]
["",null,null,null,null,null,null,null,null,null,null,null,null,null,null,null,null,"",{"$f":"IF(B3416=\"\",\"\",IF(R3416<5,INT((A3416-1)/Einstellung!$B$4)+1,\"\"))","v":""},""]
["",null,null,null,null,null,null,null,null,null,null,null,null,null,null,null,null,"",{"$f":"IF(B3418=\"\",\"\",IF(R3418<5,INT((A3418-1)/Einstellung!$B$4)+1,\"\"))","v":""},""]
["",null,null,null,null,null,null,null,null,null,null,null,null,null,null,null,null,"",{"$f":"IF(B3419=\"\",\"\",IF(R3419<5,INT((A3419-1)/Einstellung!$B$4)+1,\"\"))","v":""},""]
["",null,null,null,null,null,null,null,null,null,null,null,null,null,null,null,null,"",{"$f":"IF(B3422=\"\",\"\",IF(R3422<5,INT((A3422-1)/Einstellung!$B$4)+1,\"\"))","v":""},""]
["",null,null,null,null,null,null,null,null,null,null,null,null,null,null,null,null,"",{"$f":"IF(B3423=\"\",\"\",IF(R3423<5,INT((A3423-1)/Einstellung!$B$4)+1,\"\"))","v":""},""]
["",null,null,null,null,null,null,null,null,null,null,null,null,null,null,null,null,"",{"$f":"IF(B3425=\"\",\"\",IF(R3425<5,INT((A3425-1)/Einstellung!$B$4)+1,\"\"))","v":""},""]
["",null,null,null,null,null,null,null,null,null,null,null,null,null,null,null,null,"",{"$f":"IF(B3426=\"\",\"\",IF(R3426<5,INT((A3426-1)/Einstellung!$B$4)+1,\"\"))","v":""},""]
["",null,null,null,null,null,null,null,null,null,null,null,null,null,null,null,null,"",{"$f":"IF(B3429=\"\",\"\",IF(R3429<5,INT((A3429-1)/Einstellung!$B$4)+1,\"\"))","v":""},""]
["",null,null,null,null,null,null,null,null,null,null,null,null,null,null,null,null,"",{"$f":"IF(B3430=\"\",\"\",IF(R3430<5,INT((A3430-1)/Einstellung!$B$4)+1,\"\"))","v":""},""]
["",null,null,null,null,null,null,null,null,null,null,null,null,null,null,null,null,"",{"$f":"IF(B3432=\"\",\"\",IF(R3432<5,INT((A3432-1)/Einstellung!$B$4)+1,\"\"))","v":""},""]
["",null,null,null,null,null,null,null,null,null,null,null,null,null,null,null,null,"",{"$f":"IF(B3433=\"\",\"\",IF(R3433<5,INT((A3433-1)/Einstellung!$B$4)+1,\"\"))","v":""},""]
["",null,null,null,null,null,null,null,null,null,null,null,null,null,null,null,null,"",{"$f":"IF(B3436=\"\",\"\",IF(R3436<5,INT((A3436-1)/Einstellung!$B$4)+1,\"\"))","v":""},""]
["",null,null,null,null,null,null,null,null,null,null,null,null,null,null,null,null,"",{"$f":"IF(B3437=\"\",\"\",IF(R3437<5,INT((A3437-1)/Einstellung!$B$4)+1,\"\"))","v":""},""]
["",null,null,null,null,null,null,null,null,null,null,null,null,null,null,null,null,"",{"$f":"IF(B3439=\"\",\"\",IF(R3439<5,INT((A3439-1)/Einstellung!$B$4)+1,\"\"))","v":""},""]
["",null,null,null,null,null,null,null,null,null,null,null,null,null,null,null,null,"",{"$f":"IF(B3440=\"\",\"\",IF(R3440<5,INT((A3440-1)/Einstellung!$B$4)+1,\"\"))","v":""},""]
["",null,null,null,null,null,null,null,null,null,null,null,null,null,null,null,null,"",{"$f":"IF(B3443=\"\",\"\",IF(R3443<5,INT((A3443-1)/Einstellung!$B$4)+1,\"\"))","v":""},""]
["",null,null,null,null,null,null,null,null,null,null,null,null,null,null,null,null,"",{"$f":"IF(B3444=\"\",\"\",IF(R3444<5,INT((A3444-1)/Einstellung!$B$4)+1,\"\"))","v":""},""]
["",null,null,null,null,null,null,null,null,null,null,null,null,null,null,null,null,"",{"$f":"IF(B3446=\"\",\"\",IF(R3446<5,INT((A3446-1)/Einstellung!$B$4)+1,\"\"))","v":""},""]
["",null,null,null,null,null,null,null,null,null,null,null,null,null,null,null,null,"",{"$f":"IF(B3447=\"\",\"\",IF(R3447<5,INT((A3447-1)/Einstellung!$B$4)+1,\"\"))","v":""},""]
["",null,null,null,null,null,null,null,null,null,null,null,null,null,null,null,null,"",{"$f":"IF(B3450=\"\",\"\",IF(R3450<5,INT((A3450-1)/Einstellung!$B$4)+1,\"\"))","v":""},""]
["",null,null,null,null,null,null,null,null,null,null,null,null,null,null,null,null,"",{"$f":"IF(B3451=\"\",\"\",IF(R3451<5,INT((A3451-1)/Einstellung!$B$4)+1,\"\"))","v":""},""]
["",null,null,null,null,null,null,null,null,null,null,null,null,null,null,null,null,"",{"$f":"IF(B3453=\"\",\"\",IF(R3453<5,INT((A3453-1)/Einstellung!$B$4)+1,\"\"))","v":""},""]
["",null,null,null,null,null,null,null,null,null,null,null,null,null,null,null,null,"",{"$f":"IF(B3454=\"\",\"\",IF(R3454<5,INT((A3454-1)/Einstellung!$B$4)+1,\"\"))","v":""},""]
["",null,null,null,null,null,null,null,null,null,null,null,null,null,null,null,null,"",{"$f":"IF(B3457=\"\",\"\",IF(R3457<5,INT((A3457-1)/Einstellung!$B$4)+1,\"\"))","v":""},""]
["",null,null,null,null,null,null,null,null,null,null,null,null,null,null,null,null,"",{"$f":"IF(B3458=\"\",\"\",IF(R3458<5,INT((A3458-1)/Einstellung!$B$4)+1,\"\"))","v":""},""]
["",null,null,null,null,null,null,null,null,null,null,null,null,null,null,null,null,"",{"$f":"IF(B3460=\"\",\"\",IF(R3460<5,INT((A3460-1)/Einstellung!$B$4)+1,\"\"))","v":""},""]
["",null,null,null,null,null,null,null,null,null,null,null,null,null,null,null,null,"",{"$f":"IF(B3461=\"\",\"\",IF(R3461<5,INT((A3461-1)/Einstellung!$B$4)+1,\"\"))","v":""},""]
["",null,null,null,null,null,null,null,null,null,null,null,null,null,null,null,null,{"$f":"IF(B3464=\"\",\"\",16-((MID(B$1,1,1)=MID(B3464,1,1))+(MID(C$1,1,1)=MID(C3464,1,1))+(MID(D$1,1,1)=MID(D3464,1,1))+(MID(E$1,1,1)=MID(E3464,1,1))+(MID(F$1,1,1)=MID(F3464,1,1))+(MID(G$1,1,1)=MID(G3464,1,1))+(MID(H$1,1,1)=MID(H3464,1,1))+(MID(I$1,1,1)=MID(I3464,1,1))+(MID(J$1,1,1)=MID(J3464,1,1))+(MID(K$1,1,1)=MID(K3464,1,1))+(MID(L$1,1,1)=MID(L3464,1,1))+(MID(M$1,1,1)=MID(M3464,1,1))+(MID(N$1,1,1)=MID(N3464,1,1))+(MID(O$1,1,1)=MID(O3464,1,1))+(MID(P$1,1,1)=MID(P3464,1,1)))-B$4+C$5)","v":""},{"$f":"IF(B3464=\"\",\"\",IF(R3464<5,INT((A3464-1)/Einstellung!$B$4)+1,\"\"))","v":""},{"$f":"IF(C$5<B$4,\"\",IF(R3464>4,\"\",OFFSET(T$2,R3464-1,0)))","v":""}]
["",null,null,null,null,null,null,null,null,null,null,null,null,null,null,null,null,"",{"$f":"IF(B3465=\"\",\"\",IF(R3465<5,INT((A3465-1)/Einstellung!$B$4)+1,\"\"))","v":""},""]
["",null,null,null,null,null,null,null,null,null,null,null,null,null,null,null,null,"",{"$f":"IF(B3467=\"\",\"\",IF(R3467<5,INT((A3467-1)/Einstellung!$B$4)+1,\"\"))","v":""},""]
["",null,null,null,null,null,null,null,null,null,null,null,null,null,null,null,null,"",{"$f":"IF(B3468=\"\",\"\",IF(R3468<5,INT((A3468-1)/Einstellung!$B$4)+1,\"\"))","v":""},""]
["",null,null,null,null,null,null,null,null,null,null,null,null,null,null,null,null,"",{"$f":"IF(B3471=\"\",\"\",IF(R3471<5,INT((A3471-1)/Einstellung!$B$4)+1,\"\"))","v":""},""]
["",null,null,null,null,null,null,null,null,null,null,null,null,null,null,null,null,"",{"$f":"IF(B3472=\"\",\"\",IF(R3472<5,INT((A3472-1)/Einstellung!$B$4)+1,\"\"))","v":""},""]
["",null,null,null,null,null,null,null,null,null,null,null,null,null,null,null,null,"",{"$f":"IF(B3474=\"\",\"\",IF(R3474<5,INT((A3474-1)/Einstellung!$B$4)+1,\"\"))","v":""},""]
["",null,null,null,null,null,null,null,null,null,null,null,null,null,null,null,null,"",{"$f":"IF(B3475=\"\",\"\",IF(R3475<5,INT((A3475-1)/Einstellung!$B$4)+1,\"\"))","v":""},""]
["",null,null,null,null,null,null,null,null,null,null,null,null,null,null,null,null,"",{"$f":"IF(B3478=\"\",\"\",IF(R3478<5,INT((A3478-1)/Einstellung!$B$4)+1,\"\"))","v":""},""]
["",null,null,null,null,null,null,null,null,null,null,null,null,null,null,null,null,"",{"$f":"IF(B3479=\"\",\"\",IF(R3479<5,INT((A3479-1)/Einstellung!$B$4)+1,\"\"))","v":""},""]
["",null,null,null,null,null,null,null,null,null,null,null,null,null,null,null,null,"",{"$f":"IF(B3481=\"\",\"\",IF(R3481<5,INT((A3481-1)/Einstellung!$B$4)+1,\"\"))","v":""},""]
["",null,null,null,null,null,null,null,null,null,null,null,null,null,null,null,null,"",{"$f":"IF(B3482=\"\",\"\",IF(R3482<5,INT((A3482-1)/Einstellung!$B$4)+1,\"\"))","v":""},""]
["",null,null,null,null,null,null,null,null,null,null,null,null,null,null,null,null,"",{"$f":"IF(B3485=\"\",\"\",IF(R3485<5,INT((A3485-1)/Einstellung!$B$4)+1,\"\"))","v":""},""]
["",null,null,null,null,null,null,null,null,null,null,null,null,null,null,null,null,"",{"$f":"IF(B3486=\"\",\"\",IF(R3486<5,INT((A3486-1)/Einstellung!$B$4)+1,\"\"))","v":""},""]
["",null,null,null,null,null,null,null,null,null,null,null,null,null,null,null,null,"",{"$f":"IF(B3488=\"\",\"\",IF(R3488<5,INT((A3488-1)/Einstellung!$B$4)+1,\"\"))","v":""},""]
["",null,null,null,null,null,null,null,null,null,null,null,null,null,null,null,null,"",{"$f":"IF(B3489=\"\",\"\",IF(R3489<5,INT((A3489-1)/Einstellung!$B$4)+1,\"\"))","v":""},""]
["",null,null,null,null,null,null,null,null,null,null,null,null,null,null,null,null,"",{"$f":"IF(B3492=\"\",\"\",IF(R3492<5,INT((A3492-1)/Einstellung!$B$4)+1,\"\"))","v":""},""]
["",null,null,null,null,null,null,null,null,null,null,null,null,null,null,null,null,"",{"$f":"IF(B3493=\"\",\"\",IF(R3493<5,INT((A3493-1)/Einstellung!$B$4)+1,\"\"))","v":""},""]
["",null,null,null,null,null,null,null,null,null,null,null,null,null,null,null,null,"",{"$f":"IF(B3495=\"\",\"\",IF(R3495<5,INT((A3495-1)/Einstellung!$B$4)+1,\"\"))","v":""},""]
["",null,null,null,null,null,null,null,null,null,null,null,null,null,null,null,null,"",{"$f":"IF(B3496=\"\",\"\",IF(R3496<5,INT((A3496-1)/Einstellung!$B$4)+1,\"\"))","v":""},""]
["",null,null,null,null,null,null,null,null,null,null,null,null,null,null,null,null,"",{"$f":"IF(B3499=\"\",\"\",IF(R3499<5,INT((A3499-1)/Einstellung!$B$4)+1,\"\"))","v":""},""]
["",null,null,null,null,null,null,null,null,null,null,null,null,null,null,null,null,"",{"$f":"IF(B3500=\"\",\"\",IF(R3500<5,INT((A3500-1)/Einstellung!$B$4)+1,\"\"))","v":""},""]
["",null,null,null,null,null,null,null,null,null,null,null,null,null,null,null,null,"",{"$f":"IF(B3502=\"\",\"\",IF(R3502<5,INT((A3502-1)/Einstellung!$B$4)+1,\"\"))","v":""},""]
["",null,null,null,null,null,null,null,null,null,null,null,null,null,null,null,null,"",{"$f":"IF(B3503=\"\",\"\",IF(R3503<5,INT((A3503-1)/Einstellung!$B$4)+1,\"\"))","v":""},""]
["",null,null,null,null,null,null,null,null,null,null,null,null,null,null,null,null,"",{"$f":"IF(B3506=\"\",\"\",IF(R3506<5,INT((A3506-1)/Einstellung!$B$4)+1,\"\"))","v":""},""]
["",null,null,null,null,null,null,null,null,null,null,null,null,null,null,null,null,"",{"$f":"IF(B3507=\"\",\"\",IF(R3507<5,INT((A3507-1)/Einstellung!$B$4)+1,\"\"))","v":""},""]
["",null,null,null,null,null,null,null,null,null,null,null,null,null,null,null,null,"",{"$f":"IF(B3509=\"\",\"\",IF(R3509<5,INT((A3509-1)/Einstellung!$B$4)+1,\"\"))","v":""},""]
["",null,null,null,null,null,null,null,null,null,null,null,null,null,null,null,null,"",{"$f":"IF(B3510=\"\",\"\",IF(R3510<5,INT((A3510-1)/Einstellung!$B$4)+1,\"\"))","v":""},""]
["",null,null,null,null,null,null,null,null,null,null,null,null,null,null,null,null,"",{"$f":"IF(B3513=\"\",\"\",IF(R3513<5,INT((A3513-1)/Einstellung!$B$4)+1,\"\"))","v":""},""]
["",null,null,null,null,null,null,null,null,null,null,null,null,null,null,null,null,"",{"$f":"IF(B3514=\"\",\"\",IF(R3514<5,INT((A3514-1)/Einstellung!$B$4)+1,\"\"))","v":""},""]
["",null,null,null,null,null,null,null,null,null,null,null,null,null,null,null,null,"",{"$f":"IF(B3516=\"\",\"\",IF(R3516<5,INT((A3516-1)/Einstellung!$B$4)+1,\"\"))","v":""},""]
["",null,null,null,null,null,null,null,null,null,null,null,null,null,null,null,null,"",{"$f":"IF(B3517=\"\",\"\",IF(R3517<5,INT((A3517-1)/Einstellung!$B$4)+1,\"\"))","v":""},""]
["",null,null,null,null,null,null,null,null,null,null,null,null,null,null,null,null,"",{"$f":"IF(B3520=\"\",\"\",IF(R3520<5,INT((A3520-1)/Einstellung!$B$4)+1,\"\"))","v":""},""]
["",null,null,null,null,null,null,null,null,null,null,null,null,null,null,null,null,"",{"$f":"IF(B3521=\"\",\"\",IF(R3521<5,INT((A3521-1)/Einstellung!$B$4)+1,\"\"))","v":""},""]
["",null,null,null,null,null,null,null,null,null,null,null,null,null,null,null,null,"",{"$f":"IF(B3523=\"\",\"\",IF(R3523<5,INT((A3523-1)/Einstellung!$B$4)+1,\"\"))","v":""},""]
["",null,null,null,null,null,null,null,null,null,null,null,null,null,null,null,null,"",{"$f":"IF(B3524=\"\",\"\",IF(R3524<5,INT((A3524-1)/Einstellung!$B$4)+1,\"\"))","v":""},""]
["",null,null,null,null,null,null,null,null,null,null,null,null,null,null,null,null,"",{"$f":"IF(B3527=\"\",\"\",IF(R3527<5,INT((A3527-1)/Einstellung!$B$4)+1,\"\"))","v":""},""]
["",null,null,null,null,null,null,null,null,null,null,null,null,null,null,null,null,{"$f":"IF(B3528=\"\",\"\",16-((MID(B$1,1,1)=MID(B3528,1,1))+(MID(C$1,1,1)=MID(C3528,1,1))+(MID(D$1,1,1)=MID(D3528,1,1))+(MID(E$1,1,1)=MID(E3528,1,1))+(MID(F$1,1,1)=MID(F3528,1,1))+(MID(G$1,1,1)=MID(G3528,1,1))+(MID(H$1,1,1)=MID(H3528,1,1))+(MID(I$1,1,1)=MID(I3528,1,1))+(MID(J$1,1,1)=MID(J3528,1,1))+(MID(K$1,1,1)=MID(K3528,1,1))+(MID(L$1,1,1)=MID(L3528,1,1))+(MID(M$1,1,1)=MID(M3528,1,1))+(MID(N$1,1,1)=MID(N3528,1,1))+(MID(O$1,1,1)=MID(O3528,1,1))+(MID(P$1,1,1)=MID(P3528,1,1)))-B$4+C$5)","v":""},{"$f":"IF(B3528=\"\",\"\",IF(R3528<5,INT((A3528-1)/Einstellung!$B$4)+1,\"\"))","v":""},{"$f":"IF(C$5<B$4,\"\",IF(R3528>4,\"\",OFFSET(T$2,R3528-1,0)))","v":""}]
["",null,null,null,null,null,null,null,null,null,null,null,null,null,null,null,null,"",{"$f":"IF(B3530=\"\",\"\",IF(R3530<5,INT((A3530-1)/Einstellung!$B$4)+1,\"\"))","v":""},""]
["",null,null,null,null,null,null,null,null,null,null,null,null,null,null,null,null,"",{"$f":"IF(B3531=\"\",\"\",IF(R3531<5,INT((A3531-1)/Einstellung!$B$4)+1,\"\"))","v":""},""]
["",null,null,null,null,null,null,null,null,null,null,null,null,null,null,null,null,"",{"$f":"IF(B3534=\"\",\"\",IF(R3534<5,INT((A3534-1)/Einstellung!$B$4)+1,\"\"))","v":""},""]
["",null,null,null,null,null,null,null,null,null,null,null,null,null,null,null,null,"",{"$f":"IF(B3535=\"\",\"\",IF(R3535<5,INT((A3535-1)/Einstellung!$B$4)+1,\"\"))","v":""},""]
["",null,null,null,null,null,null,null,null,null,null,null,null,null,null,null,null,"",{"$f":"IF(B3537=\"\",\"\",IF(R3537<5,INT((A3537-1)/Einstellung!$B$4)+1,\"\"))","v":""},""]
["",null,null,null,null,null,null,null,null,null,null,null,null,null,null,null,null,"",{"$f":"IF(B3538=\"\",\"\",IF(R3538<5,INT((A3538-1)/Einstellung!$B$4)+1,\"\"))","v":""},""]
["",null,null,null,null,null,null,null,null,null,null,null,null,null,null,null,null,"",{"$f":"IF(B3541=\"\",\"\",IF(R3541<5,INT((A3541-1)/Einstellung!$B$4)+1,\"\"))","v":""},""]
["",null,null,null,null,null,null,null,null,null,null,null,null,null,null,null,null,"",{"$f":"IF(B3542=\"\",\"\",IF(R3542<5,INT((A3542-1)/Einstellung!$B$4)+1,\"\"))","v":""},""]
["",null,null,null,null,null,null,null,null,null,null,null,null,null,null,null,null,"",{"$f":"IF(B3544=\"\",\"\",IF(R3544<5,INT((A3544-1)/Einstellung!$B$4)+1,\"\"))","v":""},""]
["",null,null,null,null,null,null,null,null,null,null,null,null,null,null,null,null,"",{"$f":"IF(B3545=\"\",\"\",IF(R3545<5,INT((A3545-1)/Einstellung!$B$4)+1,\"\"))","v":""},""]
["",null,null,null,null,null,null,null,null,null,null,null,null,null,null,null,null,"",{"$f":"IF(B3548=\"\",\"\",IF(R3548<5,INT((A3548-1)/Einstellung!$B$4)+1,\"\"))","v":""},""]
["",null,null,null,null,null,null,null,null,null,null,null,null,null,null,null,null,"",{"$f":"IF(B3549=\"\",\"\",IF(R3549<5,INT((A3549-1)/Einstellung!$B$4)+1,\"\"))","v":""},""]
["",null,null,null,null,null,null,null,null,null,null,null,null,null,null,null,null,"",{"$f":"IF(B3551=\"\",\"\",IF(R3551<5,INT((A3551-1)/Einstellung!$B$4)+1,\"\"))","v":""},""]
["",null,null,null,null,null,null,null,null,null,null,null,null,null,null,null,null,"",{"$f":"IF(B3552=\"\",\"\",IF(R3552<5,INT((A3552-1)/Einstellung!$B$4)+1,\"\"))","v":""},""]
["",null,null,null,null,null,null,null,null,null,null,null,null,null,null,null,null,"",{"$f":"IF(B3555=\"\",\"\",IF(R3555<5,INT((A3555-1)/Einstellung!$B$4)+1,\"\"))","v":""},""]
["",null,null,null,null,null,null,null,null,null,null,null,null,null,null,null,null,"",{"$f":"IF(B3556=\"\",\"\",IF(R3556<5,INT((A3556-1)/Einstellung!$B$4)+1,\"\"))","v":""},""]
["",null,null,null,null,null,null,null,null,null,null,null,null,null,null,null,null,"",{"$f":"IF(B3558=\"\",\"\",IF(R3558<5,INT((A3558-1)/Einstellung!$B$4)+1,\"\"))","v":""},""]
["",null,null,null,null,null,null,null,null,null,null,null,null,null,null,null,null,"",{"$f":"IF(B3559=\"\",\"\",IF(R3559<5,INT((A3559-1)/Einstellung!$B$4)+1,\"\"))","v":""},""]
[{"$f":"IF(B3562=\"\",\"\",ROW()-7)","v":""},null,null,null,null,null,null,null,null,null,null,null,null,null,null,null,null,"",{"$f":"IF(B3562=\"\",\"\",IF(R3562<5,INT((A3562-1)/Einstellung!$B$4)+1,\"\"))","v":""},""]
["",null,null,null,null,null,null,null,null,null,null,null,null,null,null,null,null,"",{"$f":"IF(B3563=\"\",\"\",IF(R3563<5,INT((A3563-1)/Einstellung!$B$4)+1,\"\"))","v":""},""]
["",null,null,null,null,null,null,null,null,null,null,null,null,null,null,null,null,"",{"$f":"IF(B3565=\"\",\"\",IF(R3565<5,INT((A3565-1)/Einstellung!$B$4)+1,\"\"))","v":""},""]
["",null,null,null,null,null,null,null,null,null,null,null,null,null,null,null,null,"",{"$f":"IF(B3566=\"\",\"\",IF(R3566<5,INT((A3566-1)/Einstellung!$B$4)+1,\"\"))","v":""},""]
["",null,null,null,null,null,null,null,null,null,null,null,null,null,null,null,null,"",{"$f":"IF(B3569=\"\",\"\",IF(R3569<5,INT((A3569-1)/Einstellung!$B$4)+1,\"\"))","v":""},""]
["",null,null,null,null,null,null,null,null,null,null,null,null,null,null,null,null,"",{"$f":"IF(B3570=\"\",\"\",IF(R3570<5,INT((A3570-1)/Einstellung!$B$4)+1,\"\"))","v":""},""]
["",null,null,null,null,null,null,null,null,null,null,null,null,null,null,null,null,"",{"$f":"IF(B3572=\"\",\"\",IF(R3572<5,INT((A3572-1)/Einstellung!$B$4)+1,\"\"))","v":""},""]
["",null,null,null,null,null,null,null,null,null,null,null,null,null,null,null,null,"",{"$f":"IF(B3573=\"\",\"\",IF(R3573<5,INT((A3573-1)/Einstellung!$B$4)+1,\"\"))","v":""},""]
["",null,null,null,null,null,null,null,null,null,null,null,null,null,null,null,null,"",{"$f":"IF(B3576=\"\",\"\",IF(R3576<5,INT((A3576-1)/Einstellung!$B$4)+1,\"\"))","v":""},""]
["",null,null,null,null,null,null,null,null,null,null,null,null,null,null,null,null,"",{"$f":"IF(B3577=\"\",\"\",IF(R3577<5,INT((A3577-1)/Einstellung!$B$4)+1,\"\"))","v":""},""]
["",null,null,null,null,null,null,null,null,null,null,null,null,null,null,null,null,"",{"$f":"IF(B3579=\"\",\"\",IF(R3579<5,INT((A3579-1)/Einstellung!$B$4)+1,\"\"))","v":""},""]
["",null,null,null,null,null,null,null,null,null,null,null,null,null,null,null,null,"",{"$f":"IF(B3580=\"\",\"\",IF(R3580<5,INT((A3580-1)/Einstellung!$B$4)+1,\"\"))","v":""},""]
["",null,null,null,null,null,null,null,null,null,null,null,null,null,null,null,null,"",{"$f":"IF(B3583=\"\",\"\",IF(R3583<5,INT((A3583-1)/Einstellung!$B$4)+1,\"\"))","v":""},""]
["",null,null,null,null,null,null,null,null,null,null,null,null,null,null,null,null,"",{"$f":"IF(B3584=\"\",\"\",IF(R3584<5,INT((A3584-1)/Einstellung!$B$4)+1,\"\"))","v":""},""]
["",null,null,null,null,null,null,null,null,null,null,null,null,null,null,null,null,"",{"$f":"IF(B3586=\"\",\"\",IF(R3586<5,INT((A3586-1)/Einstellung!$B$4)+1,\"\"))","v":""},""]
["",null,null,null,null,null,null,null,null,null,null,null,null,null,null,null,null,"",{"$f":"IF(B3587=\"\",\"\",IF(R3587<5,INT((A3587-1)/Einstellung!$B$4)+1,\"\"))","v":""},""]
["",null,null,null,null,null,null,null,null,null,null,null,null,null,null,null,null,"",{"$f":"IF(B3590=\"\",\"\",IF(R3590<5,INT((A3590-1)/Einstellung!$B$4)+1,\"\"))","v":""},""]
["",null,null,null,null,null,null,null,null,null,null,null,null,null,null,null,null,"",{"$f":"IF(B3591=\"\",\"\",IF(R3591<5,INT((A3591-1)/Einstellung!$B$4)+1,\"\"))","v":""},""]
["",null,null,null,null,null,null,null,null,null,null,null,null,null,null,null,null,"",{"$f":"IF(B3593=\"\",\"\",IF(R3593<5,INT((A3593-1)/Einstellung!$B$4)+1,\"\"))","v":""},""]
["",null,null,null,null,null,null,null,null,null,null,null,null,null,null,null,null,"",{"$f":"IF(B3594=\"\",\"\",IF(R3594<5,INT((A3594-1)/Einstellung!$B$4)+1,\"\"))","v":""},""]
["",null,null,null,null,null,null,null,null,null,null,null,null,null,null,null,null,"",{"$f":"IF(B3597=\"\",\"\",IF(R3597<5,INT((A3597-1)/Einstellung!$B$4)+1,\"\"))","v":""},""]
["",null,null,null,null,null,null,null,null,null,null,null,null,null,null,null,null,"",{"$f":"IF(B3598=\"\",\"\",IF(R3598<5,INT((A3598-1)/Einstellung!$B$4)+1,\"\"))","v":""},""]
["",null,null,null,null,null,null,null,null,null,null,null,null,null,null,null,null,"",{"$f":"IF(B3600=\"\",\"\",IF(R3600<5,INT((A3600-1)/Einstellung!$B$4)+1,\"\"))","v":""},""]
["",null,null,null,null,null,null,null,null,null,null,null,null,null,null,null,null,"",{"$f":"IF(B3601=\"\",\"\",IF(R3601<5,INT((A3601-1)/Einstellung!$B$4)+1,\"\"))","v":""},""]
["",null,null,null,null,null,null,null,null,null,null,null,null,null,null,null,null,"",{"$f":"IF(B3604=\"\",\"\",IF(R3604<5,INT((A3604-1)/Einstellung!$B$4)+1,\"\"))","v":""},""]
["",null,null,null,null,null,null,null,null,null,null,null,null,null,null,null,null,"",{"$f":"IF(B3605=\"\",\"\",IF(R3605<5,INT((A3605-1)/Einstellung!$B$4)+1,\"\"))","v":""},""]
["",null,null,null,null,null,null,null,null,null,null,null,null,null,null,null,null,"",{"$f":"IF(B3607=\"\",\"\",IF(R3607<5,INT((A3607-1)/Einstellung!$B$4)+1,\"\"))","v":""},""]
["",null,null,null,null,null,null,null,null,null,null,null,null,null,null,null,null,"",{"$f":"IF(B3608=\"\",\"\",IF(R3608<5,INT((A3608-1)/Einstellung!$B$4)+1,\"\"))","v":""},""]
["",null,null,null,null,null,null,null,null,null,null,null,null,null,null,null,null,"",{"$f":"IF(B3611=\"\",\"\",IF(R3611<5,INT((A3611-1)/Einstellung!$B$4)+1,\"\"))","v":""},""]
["",null,null,null,null,null,null,null,null,null,null,null,null,null,null,null,null,"",{"$f":"IF(B3612=\"\",\"\",IF(R3612<5,INT((A3612-1)/Einstellung!$B$4)+1,\"\"))","v":""},""]
["",null,null,null,null,null,null,null,null,null,null,null,null,null,null,null,null,"",{"$f":"IF(B3614=\"\",\"\",IF(R3614<5,INT((A3614-1)/Einstellung!$B$4)+1,\"\"))","v":""},""]
["",null,null,null,null,null,null,null,null,null,null,null,null,null,null,null,null,"",{"$f":"IF(B3615=\"\",\"\",IF(R3615<5,INT((A3615-1)/Einstellung!$B$4)+1,\"\"))","v":""},""]
["",null,null,null,null,null,null,null,null,null,null,null,null,null,null,null,null,"",{"$f":"IF(B3618=\"\",\"\",IF(R3618<5,INT((A3618-1)/Einstellung!$B$4)+1,\"\"))","v":""},""]
["",null,null,null,null,null,null,null,null,null,null,null,null,null,null,null,null,"",{"$f":"IF(B3619=\"\",\"\",IF(R3619<5,INT((A3619-1)/Einstellung!$B$4)+1,\"\"))","v":""},""]
["",null,null,null,null,null,null,null,null,null,null,null,null,null,null,null,null,"",{"$f":"IF(B3621=\"\",\"\",IF(R3621<5,INT((A3621-1)/Einstellung!$B$4)+1,\"\"))","v":""},""]
["",null,null,null,null,null,null,null,null,null,null,null,null,null,null,null,null,"",{"$f":"IF(B3622=\"\",\"\",IF(R3622<5,INT((A3622-1)/Einstellung!$B$4)+1,\"\"))","v":""},""]
["",null,null,null,null,null,null,null,null,null,null,null,null,null,null,null,null,"",{"$f":"IF(B3625=\"\",\"\",IF(R3625<5,INT((A3625-1)/Einstellung!$B$4)+1,\"\"))","v":""},""]
[{"$f":"IF(B3626=\"\",\"\",ROW()-7)","v":""},null,null,null,null,null,null,null,null,null,null,null,null,null,null,null,null,"",{"$f":"IF(B3626=\"\",\"\",IF(R3626<5,INT((A3626-1)/Einstellung!$B$4)+1,\"\"))","v":""},""]
["",null,null,null,null,null,null,null,null,null,null,null,null,null,null,null,null,"",{"$f":"IF(B3629=\"\",\"\",IF(R3629<5,INT((A3629-1)/Einstellung!$B$4)+1,\"\"))","v":""},""]
["",null,null,null,null,null,null,null,null,null,null,null,null,null,null,null,null,"",{"$f":"IF(B3630=\"\",\"\",IF(R3630<5,INT((A3630-1)/Einstellung!$B$4)+1,\"\"))","v":""},""]
["",null,null,null,null,null,null,null,null,null,null,null,null,null,null,null,null,"",{"$f":"IF(B3632=\"\",\"\",IF(R3632<5,INT((A3632-1)/Einstellung!$B$4)+1,\"\"))","v":""},""]
["",null,null,null,null,null,null,null,null,null,null,null,null,null,null,null,null,"",{"$f":"IF(B3633=\"\",\"\",IF(R3633<5,INT((A3633-1)/Einstellung!$B$4)+1,\"\"))","v":""},""]
["",null,null,null,null,null,null,null,null,null,null,null,null,null,null,null,null,"",{"$f":"IF(B3636=\"\",\"\",IF(R3636<5,INT((A3636-1)/Einstellung!$B$4)+1,\"\"))","v":""},""]
["",null,null,null,null,null,null,null,null,null,null,null,null,null,null,null,null,"",{"$f":"IF(B3637=\"\",\"\",IF(R3637<5,INT((A3637-1)/Einstellung!$B$4)+1,\"\"))","v":""},""]
["",null,null,null,null,null,null,null,null,null,null,null,null,null,null,null,null,"",{"$f":"IF(B3639=\"\",\"\",IF(R3639<5,INT((A3639-1)/Einstellung!$B$4)+1,\"\"))","v":""},""]
["",null,null,null,null,null,null,null,null,null,null,null,null,null,null,null,null,"",{"$f":"IF(B3640=\"\",\"\",IF(R3640<5,INT((A3640-1)/Einstellung!$B$4)+1,\"\"))","v":""},""]
["",null,null,null,null,null,null,null,null,null,null,null,null,null,null,null,null,"",{"$f":"IF(B3643=\"\",\"\",IF(R3643<5,INT((A3643-1)/Einstellung!$B$4)+1,\"\"))","v":""},""]
["",null,null,null,null,null,null,null,null,null,null,null,null,null,null,null,null,"",{"$f":"IF(B3644=\"\",\"\",IF(R3644<5,INT((A3644-1)/Einstellung!$B$4)+1,\"\"))","v":""},""]
["",null,null,null,null,null,null,null,null,null,null,null,null,null,null,null,null,"",{"$f":"IF(B3646=\"\",\"\",IF(R3646<5,INT((A3646-1)/Einstellung!$B$4)+1,\"\"))","v":""},""]
["",null,null,null,null,null,null,null,null,null,null,null,null,null,null,null,null,"",{"$f":"IF(B3647=\"\",\"\",IF(R3647<5,INT((A3647-1)/Einstellung!$B$4)+1,\"\"))","v":""},""]
["",null,null,null,null,null,null,null,null,null,null,null,null,null,null,null,null,"",{"$f":"IF(B3650=\"\",\"\",IF(R3650<5,INT((A3650-1)/Einstellung!$B$4)+1,\"\"))","v":""},""]
["",null,null,null,null,null,null,null,null,null,null,null,null,null,null,null,null,"",{"$f":"IF(B3651=\"\",\"\",IF(R3651<5,INT((A3651-1)/Einstellung!$B$4)+1,\"\"))","v":""},""]
["",null,null,null,null,null,null,null,null,null,null,null,null,null,null,null,null,"",{"$f":"IF(B3653=\"\",\"\",IF(R3653<5,INT((A3653-1)/Einstellung!$B$4)+1,\"\"))","v":""},""]
["",null,null,null,null,null,null,null,null,null,null,null,null,null,null,null,null,"",{"$f":"IF(B3654=\"\",\"\",IF(R3654<5,INT((A3654-1)/Einstellung!$B$4)+1,\"\"))","v":""},""]
["",null,null,null,null,null,null,null,null,null,null,null,null,null,null,null,null,"",{"$f":"IF(B3657=\"\",\"\",IF(R3657<5,INT((A3657-1)/Einstellung!$B$4)+1,\"\"))","v":""},""]
["",null,null,null,null,null,null,null,null,null,null,null,null,null,null,null,null,"",{"$f":"IF(B3658=\"\",\"\",IF(R3658<5,INT((A3658-1)/Einstellung!$B$4)+1,\"\"))","v":""},""]
["",null,null,null,null,null,null,null,null,null,null,null,null,null,null,null,null,"",{"$f":"IF(B3660=\"\",\"\",IF(R3660<5,INT((A3660-1)/Einstellung!$B$4)+1,\"\"))","v":""},""]
["",null,null,null,null,null,null,null,null,null,null,null,null,null,null,null,null,"",{"$f":"IF(B3661=\"\",\"\",IF(R3661<5,INT((A3661-1)/Einstellung!$B$4)+1,\"\"))","v":""},""]
["",null,null,null,null,null,null,null,null,null,null,null,null,null,null,null,null,"",{"$f":"IF(B3664=\"\",\"\",IF(R3664<5,INT((A3664-1)/Einstellung!$B$4)+1,\"\"))","v":""},""]
["",null,null,null,null,null,null,null,null,null,null,null,null,null,null,null,null,"",{"$f":"IF(B3665=\"\",\"\",IF(R3665<5,INT((A3665-1)/Einstellung!$B$4)+1,\"\"))","v":""},""]
["",null,null,null,null,null,null,null,null,null,null,null,null,null,null,null,null,"",{"$f":"IF(B3667=\"\",\"\",IF(R3667<5,INT((A3667-1)/Einstellung!$B$4)+1,\"\"))","v":""},""]
["",null,null,null,null,null,null,null,null,null,null,null,null,null,null,null,null,"",{"$f":"IF(B3668=\"\",\"\",IF(R3668<5,INT((A3668-1)/Einstellung!$B$4)+1,\"\"))","v":""},""]
["",null,null,null,null,null,null,null,null,null,null,null,null,null,null,null,null,"",{"$f":"IF(B3671=\"\",\"\",IF(R3671<5,INT((A3671-1)/Einstellung!$B$4)+1,\"\"))","v":""},""]
["",null,null,null,null,null,null,null,null,null,null,null,null,null,null,null,null,"",{"$f":"IF(B3672=\"\",\"\",IF(R3672<5,INT((A3672-1)/Einstellung!$B$4)+1,\"\"))","v":""},""]
["",null,null,null,null,null,null,null,null,null,null,null,null,null,null,null,null,"",{"$f":"IF(B3674=\"\",\"\",IF(R3674<5,INT((A3674-1)/Einstellung!$B$4)+1,\"\"))","v":""},""]
["",null,null,null,null,null,null,null,null,null,null,null,null,null,null,null,null,"",{"$f":"IF(B3675=\"\",\"\",IF(R3675<5,INT((A3675-1)/Einstellung!$B$4)+1,\"\"))","v":""},""]
["",null,null,null,null,null,null,null,null,null,null,null,null,null,null,null,null,"",{"$f":"IF(B3678=\"\",\"\",IF(R3678<5,INT((A3678-1)/Einstellung!$B$4)+1,\"\"))","v":""},""]
["",null,null,null,null,null,null,null,null,null,null,null,null,null,null,null,null,"",{"$f":"IF(B3679=\"\",\"\",IF(R3679<5,INT((A3679-1)/Einstellung!$B$4)+1,\"\"))","v":""},""]
["",null,null,null,null,null,null,null,null,null,null,null,null,null,null,null,null,"",{"$f":"IF(B3681=\"\",\"\",IF(R3681<5,INT((A3681-1)/Einstellung!$B$4)+1,\"\"))","v":""},""]
["",null,null,null,null,null,null,null,null,null,null,null,null,null,null,null,null,"",{"$f":"IF(B3682=\"\",\"\",IF(R3682<5,INT((A3682-1)/Einstellung!$B$4)+1,\"\"))","v":""},""]
["",null,null,null,null,null,null,null,null,null,null,null,null,null,null,null,null,"",{"$f":"IF(B3685=\"\",\"\",IF(R3685<5,INT((A3685-1)/Einstellung!$B$4)+1,\"\"))","v":""},""]
["",null,null,null,null,null,null,null,null,null,null,null,null,null,null,null,null,"",{"$f":"IF(B3686=\"\",\"\",IF(R3686<5,INT((A3686-1)/Einstellung!$B$4)+1,\"\"))","v":""},""]
["",null,null,null,null,null,null,null,null,null,null,null,null,null,null,null,null,"",{"$f":"IF(B3688=\"\",\"\",IF(R3688<5,INT((A3688-1)/Einstellung!$B$4)+1,\"\"))","v":""},""]
["",null,null,null,null,null,null,null,null,null,null,null,null,null,null,null,null,"",{"$f":"IF(B3689=\"\",\"\",IF(R3689<5,INT((A3689-1)/Einstellung!$B$4)+1,\"\"))","v":""},""]
["",null,null,null,null,null,null,null,null,null,null,null,null,null,null,null,null,"",{"$f":"IF(B3692=\"\",\"\",IF(R3692<5,INT((A3692-1)/Einstellung!$B$4)+1,\"\"))","v":""},""]
["",null,null,null,null,null,null,null,null,null,null,null,null,null,null,null,null,"",{"$f":"IF(B3693=\"\",\"\",IF(R3693<5,INT((A3693-1)/Einstellung!$B$4)+1,\"\"))","v":""},""]
["",null,null,null,null,null,null,null,null,null,null,null,null,null,null,null,null,"",{"$f":"IF(B3695=\"\",\"\",IF(R3695<5,INT((A3695-1)/Einstellung!$B$4)+1,\"\"))","v":""},""]
["",null,null,null,null,null,null,null,null,null,null,null,null,null,null,null,null,"",{"$f":"IF(B3696=\"\",\"\",IF(R3696<5,INT((A3696-1)/Einstellung!$B$4)+1,\"\"))","v":""},""]
["",null,null,null,null,null,null,null,null,null,null,null,null,null,null,null,null,"",{"$f":"IF(B3699=\"\",\"\",IF(R3699<5,INT((A3699-1)/Einstellung!$B$4)+1,\"\"))","v":""},""]
["",null,null,null,null,null,null,null,null,null,null,null,null,null,null,null,null,"",{"$f":"IF(B3700=\"\",\"\",IF(R3700<5,INT((A3700-1)/Einstellung!$B$4)+1,\"\"))","v":""},""]
["",null,null,null,null,null,null,null,null,null,null,null,null,null,null,null,null,"",{"$f":"IF(B3702=\"\",\"\",IF(R3702<5,INT((A3702-1)/Einstellung!$B$4)+1,\"\"))","v":""},""]
["",null,null,null,null,null,null,null,null,null,null,null,null,null,null,null,null,"",{"$f":"IF(B3703=\"\",\"\",IF(R3703<5,INT((A3703-1)/Einstellung!$B$4)+1,\"\"))","v":""},""]
["",null,null,null,null,null,null,null,null,null,null,null,null,null,null,null,null,"",{"$f":"IF(B3706=\"\",\"\",IF(R3706<5,INT((A3706-1)/Einstellung!$B$4)+1,\"\"))","v":""},""]
["",null,null,null,null,null,null,null,null,null,null,null,null,null,null,null,null,"",{"$f":"IF(B3707=\"\",\"\",IF(R3707<5,INT((A3707-1)/Einstellung!$B$4)+1,\"\"))","v":""},""]
["",null,null,null,null,null,null,null,null,null,null,null,null,null,null,null,null,"",{"$f":"IF(B3709=\"\",\"\",IF(R3709<5,INT((A3709-1)/Einstellung!$B$4)+1,\"\"))","v":""},""]
["",null,null,null,null,null,null,null,null,null,null,null,null,null,null,null,null,"",{"$f":"IF(B3710=\"\",\"\",IF(R3710<5,INT((A3710-1)/Einstellung!$B$4)+1,\"\"))","v":""},""]
["",null,null,null,null,null,null,null,null,null,null,null,null,null,null,null,null,"",{"$f":"IF(B3713=\"\",\"\",IF(R3713<5,INT((A3713-1)/Einstellung!$B$4)+1,\"\"))","v":""},""]
["",null,null,null,null,null,null,null,null,null,null,null,null,null,null,null,null,"",{"$f":"IF(B3714=\"\",\"\",IF(R3714<5,INT((A3714-1)/Einstellung!$B$4)+1,\"\"))","v":""},""]
["",null,null,null,null,null,null,null,null,null,null,null,null,null,null,null,null,"",{"$f":"IF(B3716=\"\",\"\",IF(R3716<5,INT((A3716-1)/Einstellung!$B$4)+1,\"\"))","v":""},""]
["",null,null,null,null,null,null,null,null,null,null,null,null,null,null,null,null,"",{"$f":"IF(B3717=\"\",\"\",IF(R3717<5,INT((A3717-1)/Einstellung!$B$4)+1,\"\"))","v":""},""]
["",null,null,null,null,null,null,null,null,null,null,null,null,null,null,null,null,{"$f":"IF(B3720=\"\",\"\",16-((MID(B$1,1,1)=MID(B3720,1,1))+(MID(C$1,1,1)=MID(C3720,1,1))+(MID(D$1,1,1)=MID(D3720,1,1))+(MID(E$1,1,1)=MID(E3720,1,1))+(MID(F$1,1,1)=MID(F3720,1,1))+(MID(G$1,1,1)=MID(G3720,1,1))+(MID(H$1,1,1)=MID(H3720,1,1))+(MID(I$1,1,1)=MID(I3720,1,1))+(MID(J$1,1,1)=MID(J3720,1,1))+(MID(K$1,1,1)=MID(K3720,1,1))+(MID(L$1,1,1)=MID(L3720,1,1))+(MID(M$1,1,1)=MID(M3720,1,1))+(MID(N$1,1,1)=MID(N3720,1,1))+(MID(O$1,1,1)=MID(O3720,1,1))+(MID(P$1,1,1)=MID(P3720,1,1)))-B$4+C$5)","v":""},{"$f":"IF(B3720=\"\",\"\",IF(R3720<5,INT((A3720-1)/Einstellung!$B$4)+1,\"\"))","v":""},{"$f":"IF(C$5<B$4,\"\",IF(R3720>4,\"\",OFFSET(T$2,R3720-1,0)))","v":""}]
["",null,null,null,null,null,null,null,null,null,null,null,null,null,null,null,null,"",{"$f":"IF(B3721=\"\",\"\",IF(R3721<5,INT((A3721-1)/Einstellung!$B$4)+1,\"\"))","v":""},""]
["",null,null,null,null,null,null,null,null,null,null,null,null,null,null,null,null,"",{"$f":"IF(B3723=\"\",\"\",IF(R3723<5,INT((A3723-1)/Einstellung!$B$4)+1,\"\"))","v":""},""]
["",null,null,null,null,null,null,null,null,null,null,null,null,null,null,null,null,"",{"$f":"IF(B3724=\"\",\"\",IF(R3724<5,INT((A3724-1)/Einstellung!$B$4)+1,\"\"))","v":""},""]
["",null,null,null,null,null,null,null,null,null,null,null,null,null,null,null,null,"",{"$f":"IF(B3727=\"\",\"\",IF(R3727<5,INT((A3727-1)/Einstellung!$B$4)+1,\"\"))","v":""},""]
["",null,null,null,null,null,null,null,null,null,null,null,null,null,null,null,null,"",{"$f":"IF(B3728=\"\",\"\",IF(R3728<5,INT((A3728-1)/Einstellung!$B$4)+1,\"\"))","v":""},""]
["",null,null,null,null,null,null,null,null,null,null,null,null,null,null,null,null,"",{"$f":"IF(B3730=\"\",\"\",IF(R3730<5,INT((A3730-1)/Einstellung!$B$4)+1,\"\"))","v":""},""]
["",null,null,null,null,null,null,null,null,null,null,null,null,null,null,null,null,"",{"$f":"IF(B3731=\"\",\"\",IF(R3731<5,INT((A3731-1)/Einstellung!$B$4)+1,\"\"))","v":""},""]
["",null,null,null,null,null,null,null,null,null,null,null,null,null,null,null,null,"",{"$f":"IF(B3734=\"\",\"\",IF(R3734<5,INT((A3734-1)/Einstellung!$B$4)+1,\"\"))","v":""},""]
["",null,null,null,null,null,null,null,null,null,null,null,null,null,null,null,null,"",{"$f":"IF(B3735=\"\",\"\",IF(R3735<5,INT((A3735-1)/Einstellung!$B$4)+1,\"\"))","v":""},""]
["",null,null,null,null,null,null,null,null,null,null,null,null,null,null,null,null,"",{"$f":"IF(B3737=\"\",\"\",IF(R3737<5,INT((A3737-1)/Einstellung!$B$4)+1,\"\"))","v":""},""]
["",null,null,null,null,null,null,null,null,null,null,null,null,null,null,null,null,"",{"$f":"IF(B3738=\"\",\"\",IF(R3738<5,INT((A3738-1)/Einstellung!$B$4)+1,\"\"))","v":""},""]
["",null,null,null,null,null,null,null,null,null,null,null,null,null,null,null,null,"",{"$f":"IF(B3741=\"\",\"\",IF(R3741<5,INT((A3741-1)/Einstellung!$B$4)+1,\"\"))","v":""},""]
["",null,null,null,null,null,null,null,null,null,null,null,null,null,null,null,null,"",{"$f":"IF(B3742=\"\",\"\",IF(R3742<5,INT((A3742-1)/Einstellung!$B$4)+1,\"\"))","v":""},""]
["",null,null,null,null,null,null,null,null,null,null,null,null,null,null,null,null,"",{"$f":"IF(B3744=\"\",\"\",IF(R3744<5,INT((A3744-1)/Einstellung!$B$4)+1,\"\"))","v":""},""]
["",null,null,null,null,null,null,null,null,null,null,null,null,null,null,null,null,"",{"$f":"IF(B3745=\"\",\"\",IF(R3745<5,INT((A3745-1)/Einstellung!$B$4)+1,\"\"))","v":""},""]
["",null,null,null,null,null,null,null,null,null,null,null,null,null,null,null,null,"",{"$f":"IF(B3748=\"\",\"\",IF(R3748<5,INT((A3748-1)/Einstellung!$B$4)+1,\"\"))","v":""},""]
["",null,null,null,null,null,null,null,null,null,null,null,null,null,null,null,null,"",{"$f":"IF(B3749=\"\",\"\",IF(R3749<5,INT((A3749-1)/Einstellung!$B$4)+1,\"\"))","v":""},""]
["",null,null,null,null,null,null,null,null,null,null,null,null,null,null,null,null,"",{"$f":"IF(B3751=\"\",\"\",IF(R3751<5,INT((A3751-1)/Einstellung!$B$4)+1,\"\"))","v":""},""]
["",null,null,null,null,null,null,null,null,null,null,null,null,null,null,null,null,"",{"$f":"IF(B3752=\"\",\"\",IF(R3752<5,INT((A3752-1)/Einstellung!$B$4)+1,\"\"))","v":""},""]
["",null,null,null,null,null,null,null,null,null,null,null,null,null,null,null,null,"",{"$f":"IF(B3755=\"\",\"\",IF(R3755<5,INT((A3755-1)/Einstellung!$B$4)+1,\"\"))","v":""},""]
["",null,null,null,null,null,null,null,null,null,null,null,null,null,null,null,null,"",{"$f":"IF(B3756=\"\",\"\",IF(R3756<5,INT((A3756-1)/Einstellung!$B$4)+1,\"\"))","v":""},""]
["",null,null,null,null,null,null,null,null,null,null,null,null,null,null,null,null,"",{"$f":"IF(B3758=\"\",\"\",IF(R3758<5,INT((A3758-1)/Einstellung!$B$4)+1,\"\"))","v":""},""]
["",null,null,null,null,null,null,null,null,null,null,null,null,null,null,null,null,"",{"$f":"IF(B3759=\"\",\"\",IF(R3759<5,INT((A3759-1)/Einstellung!$B$4)+1,\"\"))","v":""},""]
["",null,null,null,null,null,null,null,null,null,null,null,null,null,null,null,null,"",{"$f":"IF(B3762=\"\",\"\",IF(R3762<5,INT((A3762-1)/Einstellung!$B$4)+1,\"\"))","v":""},""]
["",null,null,null,null,null,null,null,null,null,null,null,null,null,null,null,null,"",{"$f":"IF(B3763=\"\",\"\",IF(R3763<5,INT((A3763-1)/Einstellung!$B$4)+1,\"\"))","v":""},""]
["",null,null,null,null,null,null,null,null,null,null,null,null,null,null,null,null,"",{"$f":"IF(B3765=\"\",\"\",IF(R3765<5,INT((A3765-1)/Einstellung!$B$4)+1,\"\"))","v":""},""]
["",null,null,null,null,null,null,null,null,null,null,null,null,null,null,null,null,"",{"$f":"IF(B3766=\"\",\"\",IF(R3766<5,INT((A3766-1)/Einstellung!$B$4)+1,\"\"))","v":""},""]
["",null,null,null,null,null,null,null,null,null,null,null,null,null,null,null,null,"",{"$f":"IF(B3769=\"\",\"\",IF(R3769<5,INT((A3769-1)/Einstellung!$B$4)+1,\"\"))","v":""},""]
["",null,null,null,null,null,null,null,null,null,null,null,null,null,null,null,null,"",{"$f":"IF(B3770=\"\",\"\",IF(R3770<5,INT((A3770-1)/Einstellung!$B$4)+1,\"\"))","v":""},""]
["",null,null,null,null,null,null,null,null,null,null,null,null,null,null,null,null,"",{"$f":"IF(B3772=\"\",\"\",IF(R3772<5,INT((A3772-1)/Einstellung!$B$4)+1,\"\"))","v":""},""]
["",null,null,null,null,null,null,null,null,null,null,null,null,null,null,null,null,"",{"$f":"IF(B3773=\"\",\"\",IF(R3773<5,INT((A3773-1)/Einstellung!$B$4)+1,\"\"))","v":""},""]
["",null,null,null,null,null,null,null,null,null,null,null,null,null,null,null,null,"",{"$f":"IF(B3776=\"\",\"\",IF(R3776<5,INT((A3776-1)/Einstellung!$B$4)+1,\"\"))","v":""},""]
["",null,null,null,null,null,null,null,null,null,null,null,null,null,null,null,null,"",{"$f":"IF(B3777=\"\",\"\",IF(R3777<5,INT((A3777-1)/Einstellung!$B$4)+1,\"\"))","v":""},""]
["",null,null,null,null,null,null,null,null,null,null,null,null,null,null,null,null,"",{"$f":"IF(B3779=\"\",\"\",IF(R3779<5,INT((A3779-1)/Einstellung!$B$4)+1,\"\"))","v":""},""]
["",null,null,null,null,null,null,null,null,null,null,null,null,null,null,null,null,"",{"$f":"IF(B3780=\"\",\"\",IF(R3780<5,INT((A3780-1)/Einstellung!$B$4)+1,\"\"))","v":""},""]
["",null,null,null,null,null,null,null,null,null,null,null,null,null,null,null,null,"",{"$f":"IF(B3783=\"\",\"\",IF(R3783<5,INT((A3783-1)/Einstellung!$B$4)+1,\"\"))","v":""},""]
["",null,null,null,null,null,null,null,null,null,null,null,null,null,null,null,null,{"$f":"IF(B3784=\"\",\"\",16-((MID(B$1,1,1)=MID(B3784,1,1))+(MID(C$1,1,1)=MID(C3784,1,1))+(MID(D$1,1,1)=MID(D3784,1,1))+(MID(E$1,1,1)=MID(E3784,1,1))+(MID(F$1,1,1)=MID(F3784,1,1))+(MID(G$1,1,1)=MID(G3784,1,1))+(MID(H$1,1,1)=MID(H3784,1,1))+(MID(I$1,1,1)=MID(I3784,1,1))+(MID(J$1,1,1)=MID(J3784,1,1))+(MID(K$1,1,1)=MID(K3784,1,1))+(MID(L$1,1,1)=MID(L3784,1,1))+(MID(M$1,1,1)=MID(M3784,1,1))+(MID(N$1,1,1)=MID(N3784,1,1))+(MID(O$1,1,1)=MID(O3784,1,1))+(MID(P$1,1,1)=MID(P3784,1,1)))-B$4+C$5)","v":""},{"$f":"IF(B3784=\"\",\"\",IF(R3784<5,INT((A3784-1)/Einstellung!$B$4)+1,\"\"))","v":""},{"$f":"IF(C$5<B$4,\"\",IF(R3784>4,\"\",OFFSET(T$2,R3784-1,0)))","v":""}]
["",null,null,null,null,null,null,null,null,null,null,null,null,null,null,null,null,"",{"$f":"IF(B3786=\"\",\"\",IF(R3786<5,INT((A3786-1)/Einstellung!$B$4)+1,\"\"))","v":""},""]
["",null,null,null,null,null,null,null,null,null,null,null,null,null,null,null,null,"",{"$f":"IF(B3787=\"\",\"\",IF(R3787<5,INT((A3787-1)/Einstellung!$B$4)+1,\"\"))","v":""},""]
["",null,null,null,null,null,null,null,null,null,null,null,null,null,null,null,null,"",{"$f":"IF(B3790=\"\",\"\",IF(R3790<5,INT((A3790-1)/Einstellung!$B$4)+1,\"\"))","v":""},""]
["",null,null,null,null,null,null,null,null,null,null,null,null,null,null,null,null,"",{"$f":"IF(B3791=\"\",\"\",IF(R3791<5,INT((A3791-1)/Einstellung!$B$4)+1,\"\"))","v":""},""]
["",null,null,null,null,null,null,null,null,null,null,null,null,null,null,null,null,"",{"$f":"IF(B3793=\"\",\"\",IF(R3793<5,INT((A3793-1)/Einstellung!$B$4)+1,\"\"))","v":""},""]
["",null,null,null,null,null,null,null,null,null,null,null,null,null,null,null,null,"",{"$f":"IF(B3794=\"\",\"\",IF(R3794<5,INT((A3794-1)/Einstellung!$B$4)+1,\"\"))","v":""},""]
["",null,null,null,null,null,null,null,null,null,null,null,null,null,null,null,null,"",{"$f":"IF(B3797=\"\",\"\",IF(R3797<5,INT((A3797-1)/Einstellung!$B$4)+1,\"\"))","v":""},""]
["",null,null,null,null,null,null,null,null,null,null,null,null,null,null,null,null,"",{"$f":"IF(B3798=\"\",\"\",IF(R3798<5,INT((A3798-1)/Einstellung!$B$4)+1,\"\"))","v":""},""]
["",null,null,null,null,null,null,null,null,null,null,null,null,null,null,null,null,"",{"$f":"IF(B3800=\"\",\"\",IF(R3800<5,INT((A3800-1)/Einstellung!$B$4)+1,\"\"))","v":""},""]
["",null,null,null,null,null,null,null,null,null,null,null,null,null,null,null,null,"",{"$f":"IF(B3801=\"\",\"\",IF(R3801<5,INT((A3801-1)/Einstellung!$B$4)+1,\"\"))","v":""},""]
["",null,null,null,null,null,null,null,null,null,null,null,null,null,null,null,null,"",{"$f":"IF(B3804=\"\",\"\",IF(R3804<5,INT((A3804-1)/Einstellung!$B$4)+1,\"\"))","v":""},""]
["",null,null,null,null,null,null,null,null,null,null,null,null,null,null,null,null,"",{"$f":"IF(B3805=\"\",\"\",IF(R3805<5,INT((A3805-1)/Einstellung!$B$4)+1,\"\"))","v":""},""]
["",null,null,null,null,null,null,null,null,null,null,null,null,null,null,null,null,"",{"$f":"IF(B3807=\"\",\"\",IF(R3807<5,INT((A3807-1)/Einstellung!$B$4)+1,\"\"))","v":""},""]
["",null,null,null,null,null,null,null,null,null,null,null,null,null,null,null,null,"",{"$f":"IF(B3808=\"\",\"\",IF(R3808<5,INT((A3808-1)/Einstellung!$B$4)+1,\"\"))","v":""},""]
["",null,null,null,null,null,null,null,null,null,null,null,null,null,null,null,null,"",{"$f":"IF(B3811=\"\",\"\",IF(R3811<5,INT((A3811-1)/Einstellung!$B$4)+1,\"\"))","v":""},""]
["",null,null,null,null,null,null,null,null,null,null,null,null,null,null,null,null,"",{"$f":"IF(B3812=\"\",\"\",IF(R3812<5,INT((A3812-1)/Einstellung!$B$4)+1,\"\"))","v":""},""]
["",null,null,null,null,null,null,null,null,null,null,null,null,null,null,null,null,"",{"$f":"IF(B3814=\"\",\"\",IF(R3814<5,INT((A3814-1)/Einstellung!$B$4)+1,\"\"))","v":""},""]
["",null,null,null,null,null,null,null,null,null,null,null,null,null,null,null,null,"",{"$f":"IF(B3815=\"\",\"\",IF(R3815<5,INT((A3815-1)/Einstellung!$B$4)+1,\"\"))","v":""},""]
[{"$f":"IF(B3818=\"\",\"\",ROW()-7)","v":""},null,null,null,null,null,null,null,null,null,null,null,null,null,null,null,null,"",{"$f":"IF(B3818=\"\",\"\",IF(R3818<5,INT((A3818-1)/Einstellung!$B$4)+1,\"\"))","v":""},""]
["",null,null,null,null,null,null,null,null,null,null,null,null,null,null,null,null,"",{"$f":"IF(B3819=\"\",\"\",IF(R3819<5,INT((A3819-1)/Einstellung!$B$4)+1,\"\"))","v":""},""]
["",null,null,null,null,null,null,null,null,null,null,null,null,null,null,null,null,"",{"$f":"IF(B3821=\"\",\"\",IF(R3821<5,INT((A3821-1)/Einstellung!$B$4)+1,\"\"))","v":""},""]
["",null,null,null,null,null,null,null,null,null,null,null,null,null,null,null,null,"",{"$f":"IF(B3822=\"\",\"\",IF(R3822<5,INT((A3822-1)/Einstellung!$B$4)+1,\"\"))","v":""},""]
["",null,null,null,null,null,null,null,null,null,null,null,null,null,null,null,null,"",{"$f":"IF(B3825=\"\",\"\",IF(R3825<5,INT((A3825-1)/Einstellung!$B$4)+1,\"\"))","v":""},""]
["",null,null,null,null,null,null,null,null,null,null,null,null,null,null,null,null,"",{"$f":"IF(B3826=\"\",\"\",IF(R3826<5,INT((A3826-1)/Einstellung!$B$4)+1,\"\"))","v":""},""]
["",null,null,null,null,null,null,null,null,null,null,null,null,null,null,null,null,"",{"$f":"IF(B3828=\"\",\"\",IF(R3828<5,INT((A3828-1)/Einstellung!$B$4)+1,\"\"))","v":""},""]
["",null,null,null,null,null,null,null,null,null,null,null,null,null,null,null,null,"",{"$f":"IF(B3829=\"\",\"\",IF(R3829<5,INT((A3829-1)/Einstellung!$B$4)+1,\"\"))","v":""},""]
["",null,null,null,null,null,null,null,null,null,null,null,null,null,null,null,null,"",{"$f":"IF(B3832=\"\",\"\",IF(R3832<5,INT((A3832-1)/Einstellung!$B$4)+1,\"\"))","v":""},""]
["",null,null,null,null,null,null,null,null,null,null,null,null,null,null,null,null,"",{"$f":"IF(B3833=\"\",\"\",IF(R3833<5,INT((A3833-1)/Einstellung!$B$4)+1,\"\"))","v":""},""]
["",null,null,null,null,null,null,null,null,null,null,null,null,null,null,null,null,"",{"$f":"IF(B3835=\"\",\"\",IF(R3835<5,INT((A3835-1)/Einstellung!$B$4)+1,\"\"))","v":""},""]
["",null,null,null,null,null,null,null,null,null,null,null,null,null,null,null,null,"",{"$f":"IF(B3836=\"\",\"\",IF(R3836<5,INT((A3836-1)/Einstellung!$B$4)+1,\"\"))","v":""},""]
["",null,null,null,null,null,null,null,null,null,null,null,null,null,null,null,null,"",{"$f":"IF(B3839=\"\",\"\",IF(R3839<5,INT((A3839-1)/Einstellung!$B$4)+1,\"\"))","v":""},""]
["",null,null,null,null,null,null,null,null,null,null,null,null,null,null,null,null,"",{"$f":"IF(B3840=\"\",\"\",IF(R3840<5,INT((A3840-1)/Einstellung!$B$4)+1,\"\"))","v":""},""]
["",null,null,null,null,null,null,null,null,null,null,null,null,null,null,null,null,"",{"$f":"IF(B3842=\"\",\"\",IF(R3842<5,INT((A3842-1)/Einstellung!$B$4)+1,\"\"))","v":""},""]
["",null,null,null,null,null,null,null,null,null,null,null,null,null,null,null,null,"",{"$f":"IF(B3843=\"\",\"\",IF(R3843<5,INT((A3843-1)/Einstellung!$B$4)+1,\"\"))","v":""},""]
["",null,null,null,null,null,null,null,null,null,null,null,null,null,null,null,null,"",{"$f":"IF(B3846=\"\",\"\",IF(R3846<5,INT((A3846-1)/Einstellung!$B$4)+1,\"\"))","v":""},""]
["",null,null,null,null,null,null,null,null,null,null,null,null,null,null,null,null,"",{"$f":"IF(B3847=\"\",\"\",IF(R3847<5,INT((A3847-1)/Einstellung!$B$4)+1,\"\"))","v":""},""]
["",null,null,null,null,null,null,null,null,null,null,null,null,null,null,null,null,"",{"$f":"IF(B3849=\"\",\"\",IF(R3849<5,INT((A3849-1)/Einstellung!$B$4)+1,\"\"))","v":""},""]
["",null,null,null,null,null,null,null,null,null,null,null,null,null,null,null,null,"",{"$f":"IF(B3850=\"\",\"\",IF(R3850<5,INT((A3850-1)/Einstellung!$B$4)+1,\"\"))","v":""},""]
["",null,null,null,null,null,null,null,null,null,null,null,null,null,null,null,null,"",{"$f":"IF(B3853=\"\",\"\",IF(R3853<5,INT((A3853-1)/Einstellung!$B$4)+1,\"\"))","v":""},""]
["",null,null,null,null,null,null,null,null,null,null,null,null,null,null,null,null,"",{"$f":"IF(B3854=\"\",\"\",IF(R3854<5,INT((A3854-1)/Einstellung!$B$4)+1,\"\"))","v":""},""]
["",null,null,null,null,null,null,null,null,null,null,null,null,null,null,null,null,"",{"$f":"IF(B3856=\"\",\"\",IF(R3856<5,INT((A3856-1)/Einstellung!$B$4)+1,\"\"))","v":""},""]
["",null,null,null,null,null,null,null,null,null,null,null,null,null,null,null,null,"",{"$f":"IF(B3857=\"\",\"\",IF(R3857<5,INT((A3857-1)/Einstellung!$B$4)+1,\"\"))","v":""},""]
["",null,null,null,null,null,null,null,null,null,null,null,null,null,null,null,null,"",{"$f":"IF(B3860=\"\",\"\",IF(R3860<5,INT((A3860-1)/Einstellung!$B$4)+1,\"\"))","v":""},""]
["",null,null,null,null,null,null,null,null,null,null,null,null,null,null,null,null,"",{"$f":"IF(B3861=\"\",\"\",IF(R3861<5,INT((A3861-1)/Einstellung!$B$4)+1,\"\"))","v":""},""]
["",null,null,null,null,null,null,null,null,null,null,null,null,null,null,null,null,"",{"$f":"IF(B3863=\"\",\"\",IF(R3863<5,INT((A3863-1)/Einstellung!$B$4)+1,\"\"))","v":""},""]
["",null,null,null,null,null,null,null,null,null,null,null,null,null,null,null,null,"",{"$f":"IF(B3864=\"\",\"\",IF(R3864<5,INT((A3864-1)/Einstellung!$B$4)+1,\"\"))","v":""},""]
["",null,null,null,null,null,null,null,null,null,null,null,null,null,null,null,null,"",{"$f":"IF(B3867=\"\",\"\",IF(R3867<5,INT((A3867-1)/Einstellung!$B$4)+1,\"\"))","v":""},""]
["",null,null,null,null,null,null,null,null,null,null,null,null,null,null,null,null,"",{"$f":"IF(B3868=\"\",\"\",IF(R3868<5,INT((A3868-1)/Einstellung!$B$4)+1,\"\"))","v":""},""]
["",null,null,null,null,null,null,null,null,null,null,null,null,null,null,null,null,"",{"$f":"IF(B3870=\"\",\"\",IF(R3870<5,INT((A3870-1)/Einstellung!$B$4)+1,\"\"))","v":""},""]
["",null,null,null,null,null,null,null,null,null,null,null,null,null,null,null,null,"",{"$f":"IF(B3871=\"\",\"\",IF(R3871<5,INT((A3871-1)/Einstellung!$B$4)+1,\"\"))","v":""},""]
["",null,null,null,null,null,null,null,null,null,null,null,null,null,null,null,null,"",{"$f":"IF(B3874=\"\",\"\",IF(R3874<5,INT((A3874-1)/Einstellung!$B$4)+1,\"\"))","v":""},""]
["",null,null,null,null,null,null,null,null,null,null,null,null,null,null,null,null,"",{"$f":"IF(B3875=\"\",\"\",IF(R3875<5,INT((A3875-1)/Einstellung!$B$4)+1,\"\"))","v":""},""]
["",null,null,null,null,null,null,null,null,null,null,null,null,null,null,null,null,"",{"$f":"IF(B3877=\"\",\"\",IF(R3877<5,INT((A3877-1)/Einstellung!$B$4)+1,\"\"))","v":""},""]
["",null,null,null,null,null,null,null,null,null,null,null,null,null,null,null,null,"",{"$f":"IF(B3878=\"\",\"\",IF(R3878<5,INT((A3878-1)/Einstellung!$B$4)+1,\"\"))","v":""},""]
["",null,null,null,null,null,null,null,null,null,null,null,null,null,null,null,null,"",{"$f":"IF(B3881=\"\",\"\",IF(R3881<5,INT((A3881-1)/Einstellung!$B$4)+1,\"\"))","v":""},""]
[{"$f":"IF(B3882=\"\",\"\",ROW()-7)","v":""},null,null,null,null,null,null,null,null,null,null,null,null,null,null,null,null,"",{"$f":"IF(B3882=\"\",\"\",IF(R3882<5,INT((A3882-1)/Einstellung!$B$4)+1,\"\"))","v":""},""]
["",null,null,null,null,null,null,null,null,null,null,null,null,null,null,null,null,"",{"$f":"IF(B3885=\"\",\"\",IF(R3885<5,INT((A3885-1)/Einstellung!$B$4)+1,\"\"))","v":""},""]
["",null,null,null,null,null,null,null,null,null,null,null,null,null,null,null,null,"",{"$f":"IF(B3886=\"\",\"\",IF(R3886<5,INT((A3886-1)/Einstellung!$B$4)+1,\"\"))","v":""},""]
["",null,null,null,null,null,null,null,null,null,null,null,null,null,null,null,null,"",{"$f":"IF(B3888=\"\",\"\",IF(R3888<5,INT((A3888-1)/Einstellung!$B$4)+1,\"\"))","v":""},""]
["",null,null,null,null,null,null,null,null,null,null,null,null,null,null,null,null,"",{"$f":"IF(B3889=\"\",\"\",IF(R3889<5,INT((A3889-1)/Einstellung!$B$4)+1,\"\"))","v":""},""]
["",null,null,null,null,null,null,null,null,null,null,null,null,null,null,null,null,"",{"$f":"IF(B3892=\"\",\"\",IF(R3892<5,INT((A3892-1)/Einstellung!$B$4)+1,\"\"))","v":""},""]
["",null,null,null,null,null,null,null,null,null,null,null,null,null,null,null,null,"",{"$f":"IF(B3893=\"\",\"\",IF(R3893<5,INT((A3893-1)/Einstellung!$B$4)+1,\"\"))","v":""},""]
["",null,null,null,null,null,null,null,null,null,null,null,null,null,null,null,null,"",{"$f":"IF(B3895=\"\",\"\",IF(R3895<5,INT((A3895-1)/Einstellung!$B$4)+1,\"\"))","v":""},""]
["",null,null,null,null,null,null,null,null,null,null,null,null,null,null,null,null,"",{"$f":"IF(B3896=\"\",\"\",IF(R3896<5,INT((A3896-1)/Einstellung!$B$4)+1,\"\"))","v":""},""]
["",null,null,null,null,null,null,null,null,null,null,null,null,null,null,null,null,"",{"$f":"IF(B3899=\"\",\"\",IF(R3899<5,INT((A3899-1)/Einstellung!$B$4)+1,\"\"))","v":""},""]
["",null,null,null,null,null,null,null,null,null,null,null,null,null,null,null,null,"",{"$f":"IF(B3900=\"\",\"\",IF(R3900<5,INT((A3900-1)/Einstellung!$B$4)+1,\"\"))","v":""},""]
["",null,null,null,null,null,null,null,null,null,null,null,null,null,null,null,null,"",{"$f":"IF(B3902=\"\",\"\",IF(R3902<5,INT((A3902-1)/Einstellung!$B$4)+1,\"\"))","v":""},""]
["",null,null,null,null,null,null,null,null,null,null,null,null,null,null,null,null,"",{"$f":"IF(B3903=\"\",\"\",IF(R3903<5,INT((A3903-1)/Einstellung!$B$4)+1,\"\"))","v":""},""]
["",null,null,null,null,null,null,null,null,null,null,null,null,null,null,null,null,"",{"$f":"IF(B3906=\"\",\"\",IF(R3906<5,INT((A3906-1)/Einstellung!$B$4)+1,\"\"))","v":""},""]
["",null,null,null,null,null,null,null,null,null,null,null,null,null,null,null,null,"",{"$f":"IF(B3907=\"\",\"\",IF(R3907<5,INT((A3907-1)/Einstellung!$B$4)+1,\"\"))","v":""},""]
["",null,null,null,null,null,null,null,null,null,null,null,null,null,null,null,null,"",{"$f":"IF(B3909=\"\",\"\",IF(R3909<5,INT((A3909-1)/Einstellung!$B$4)+1,\"\"))","v":""},""]
["",null,null,null,null,null,null,null,null,null,null,null,null,null,null,null,null,"",{"$f":"IF(B3910=\"\",\"\",IF(R3910<5,INT((A3910-1)/Einstellung!$B$4)+1,\"\"))","v":""},""]
["",null,null,null,null,null,null,null,null,null,null,null,null,null,null,null,null,"",{"$f":"IF(B3913=\"\",\"\",IF(R3913<5,INT((A3913-1)/Einstellung!$B$4)+1,\"\"))","v":""},""]
["",null,null,null,null,null,null,null,null,null,null,null,null,null,null,null,null,"",{"$f":"IF(B3914=\"\",\"\",IF(R3914<5,INT((A3914-1)/Einstellung!$B$4)+1,\"\"))","v":""},""]
["",null,null,null,null,null,null,null,null,null,null,null,null,null,null,null,null,"",{"$f":"IF(B3916=\"\",\"\",IF(R3916<5,INT((A3916-1)/Einstellung!$B$4)+1,\"\"))","v":""},""]
["",null,null,null,null,null,null,null,null,null,null,null,null,null,null,null,null,"",{"$f":"IF(B3917=\"\",\"\",IF(R3917<5,INT((A3917-1)/Einstellung!$B$4)+1,\"\"))","v":""},""]
["",null,null,null,null,null,null,null,null,null,null,null,null,null,null,null,null,"",{"$f":"IF(B3920=\"\",\"\",IF(R3920<5,INT((A3920-1)/Einstellung!$B$4)+1,\"\"))","v":""},""]
["",null,null,null,null,null,null,null,null,null,null,null,null,null,null,null,null,"",{"$f":"IF(B3921=\"\",\"\",IF(R3921<5,INT((A3921-1)/Einstellung!$B$4)+1,\"\"))","v":""},""]
["",null,null,null,null,null,null,null,null,null,null,null,null,null,null,null,null,"",{"$f":"IF(B3923=\"\",\"\",IF(R3923<5,INT((A3923-1)/Einstellung!$B$4)+1,\"\"))","v":""},""]
["",null,null,null,null,null,null,null,null,null,null,null,null,null,null,null,null,"",{"$f":"IF(B3924=\"\",\"\",IF(R3924<5,INT((A3924-1)/Einstellung!$B$4)+1,\"\"))","v":""},""]
["",null,null,null,null,null,null,null,null,null,null,null,null,null,null,null,null,"",{"$f":"IF(B3927=\"\",\"\",IF(R3927<5,INT((A3927-1)/Einstellung!$B$4)+1,\"\"))","v":""},""]
["",null,null,null,null,null,null,null,null,null,null,null,null,null,null,null,null,"",{"$f":"IF(B3928=\"\",\"\",IF(R3928<5,INT((A3928-1)/Einstellung!$B$4)+1,\"\"))","v":""},""]
["",null,null,null,null,null,null,null,null,null,null,null,null,null,null,null,null,"",{"$f":"IF(B3930=\"\",\"\",IF(R3930<5,INT((A3930-1)/Einstellung!$B$4)+1,\"\"))","v":""},""]
["",null,null,null,null,null,null,null,null,null,null,null,null,null,null,null,null,"",{"$f":"IF(B3931=\"\",\"\",IF(R3931<5,INT((A3931-1)/Einstellung!$B$4)+1,\"\"))","v":""},""]
["",null,null,null,null,null,null,null,null,null,null,null,null,null,null,null,null,"",{"$f":"IF(B3934=\"\",\"\",IF(R3934<5,INT((A3934-1)/Einstellung!$B$4)+1,\"\"))","v":""},""]
["",null,null,null,null,null,null,null,null,null,null,null,null,null,null,null,null,"",{"$f":"IF(B3935=\"\",\"\",IF(R3935<5,INT((A3935-1)/Einstellung!$B$4)+1,\"\"))","v":""},""]
["",null,null,null,null,null,null,null,null,null,null,null,null,null,null,null,null,"",{"$f":"IF(B3937=\"\",\"\",IF(R3937<5,INT((A3937-1)/Einstellung!$B$4)+1,\"\"))","v":""},""]
["",null,null,null,null,null,null,null,null,null,null,null,null,null,null,null,null,"",{"$f":"IF(B3938=\"\",\"\",IF(R3938<5,INT((A3938-1)/Einstellung!$B$4)+1,\"\"))","v":""},""]
["",null,null,null,null,null,null,null,null,null,null,null,null,null,null,null,null,"",{"$f":"IF(B3941=\"\",\"\",IF(R3941<5,INT((A3941-1)/Einstellung!$B$4)+1,\"\"))","v":""},""]
["",null,null,null,null,null,null,null,null,null,null,null,null,null,null,null,null,"",{"$f":"IF(B3942=\"\",\"\",IF(R3942<5,INT((A3942-1)/Einstellung!$B$4)+1,\"\"))","v":""},""]
["",null,null,null,null,null,null,null,null,null,null,null,null,null,null,null,null,"",{"$f":"IF(B3944=\"\",\"\",IF(R3944<5,INT((A3944-1)/Einstellung!$B$4)+1,\"\"))","v":""},""]
["",null,null,null,null,null,null,null,null,null,null,null,null,null,null,null,null,"",{"$f":"IF(B3945=\"\",\"\",IF(R3945<5,INT((A3945-1)/Einstellung!$B$4)+1,\"\"))","v":""},""]
["",null,null,null,null,null,null,null,null,null,null,null,null,null,null,null,null,"",{"$f":"IF(B3948=\"\",\"\",IF(R3948<5,INT((A3948-1)/Einstellung!$B$4)+1,\"\"))","v":""},""]
["",null,null,null,null,null,null,null,null,null,null,null,null,null,null,null,null,"",{"$f":"IF(B3949=\"\",\"\",IF(R3949<5,INT((A3949-1)/Einstellung!$B$4)+1,\"\"))","v":""},""]
["",null,null,null,null,null,null,null,null,null,null,null,null,null,null,null,null,"",{"$f":"IF(B3951=\"\",\"\",IF(R3951<5,INT((A3951-1)/Einstellung!$B$4)+1,\"\"))","v":""},""]
["",null,null,null,null,null,null,null,null,null,null,null,null,null,null,null,null,"",{"$f":"IF(B3952=\"\",\"\",IF(R3952<5,INT((A3952-1)/Einstellung!$B$4)+1,\"\"))","v":""},""]
["",null,null,null,null,null,null,null,null,null,null,null,null,null,null,null,null,"",{"$f":"IF(B3955=\"\",\"\",IF(R3955<5,INT((A3955-1)/Einstellung!$B$4)+1,\"\"))","v":""},""]
["",null,null,null,null,null,null,null,null,null,null,null,null,null,null,null,null,"",{"$f":"IF(B3956=\"\",\"\",IF(R3956<5,INT((A3956-1)/Einstellung!$B$4)+1,\"\"))","v":""},""]
["",null,null,null,null,null,null,null,null,null,null,null,null,null,null,null,null,"",{"$f":"IF(B3958=\"\",\"\",IF(R3958<5,INT((A3958-1)/Einstellung!$B$4)+1,\"\"))","v":""},""]
["",null,null,null,null,null,null,null,null,null,null,null,null,null,null,null,null,"",{"$f":"IF(B3959=\"\",\"\",IF(R3959<5,INT((A3959-1)/Einstellung!$B$4)+1,\"\"))","v":""},""]
["",null,null,null,null,null,null,null,null,null,null,null,null,null,null,null,null,"",{"$f":"IF(B3962=\"\",\"\",IF(R3962<5,INT((A3962-1)/Einstellung!$B$4)+1,\"\"))","v":""},""]
["",null,null,null,null,null,null,null,null,null,null,null,null,null,null,null,null,"",{"$f":"IF(B3963=\"\",\"\",IF(R3963<5,INT((A3963-1)/Einstellung!$B$4)+1,\"\"))","v":""},""]
["",null,null,null,null,null,null,null,null,null,null,null,null,null,null,null,null,"",{"$f":"IF(B3965=\"\",\"\",IF(R3965<5,INT((A3965-1)/Einstellung!$B$4)+1,\"\"))","v":""},""]
["",null,null,null,null,null,null,null,null,null,null,null,null,null,null,null,null,"",{"$f":"IF(B3966=\"\",\"\",IF(R3966<5,INT((A3966-1)/Einstellung!$B$4)+1,\"\"))","v":""},""]
["",null,null,null,null,null,null,null,null,null,null,null,null,null,null,null,null,"",{"$f":"IF(B3969=\"\",\"\",IF(R3969<5,INT((A3969-1)/Einstellung!$B$4)+1,\"\"))","v":""},""]
["",null,null,null,null,null,null,null,null,null,null,null,null,null,null,null,null,"",{"$f":"IF(B3970=\"\",\"\",IF(R3970<5,INT((A3970-1)/Einstellung!$B$4)+1,\"\"))","v":""},""]
["",null,null,null,null,null,null,null,null,null,null,null,null,null,null,null,null,"",{"$f":"IF(B3972=\"\",\"\",IF(R3972<5,INT((A3972-1)/Einstellung!$B$4)+1,\"\"))","v":""},""]
["",null,null,null,null,null,null,null,null,null,null,null,null,null,null,null,null,"",{"$f":"IF(B3973=\"\",\"\",IF(R3973<5,INT((A3973-1)/Einstellung!$B$4)+1,\"\"))","v":""},""]
["",null,null,null,null,null,null,null,null,null,null,null,null,null,null,null,null,{"$f":"IF(B3976=\"\",\"\",16-((MID(B$1,1,1)=MID(B3976,1,1))+(MID(C$1,1,1)=MID(C3976,1,1))+(MID(D$1,1,1)=MID(D3976,1,1))+(MID(E$1,1,1)=MID(E3976,1,1))+(MID(F$1,1,1)=MID(F3976,1,1))+(MID(G$1,1,1)=MID(G3976,1,1))+(MID(H$1,1,1)=MID(H3976,1,1))+(MID(I$1,1,1)=MID(I3976,1,1))+(MID(J$1,1,1)=MID(J3976,1,1))+(MID(K$1,1,1)=MID(K3976,1,1))+(MID(L$1,1,1)=MID(L3976,1,1))+(MID(M$1,1,1)=MID(M3976,1,1))+(MID(N$1,1,1)=MID(N3976,1,1))+(MID(O$1,1,1)=MID(O3976,1,1))+(MID(P$1,1,1)=MID(P3976,1,1)))-B$4+C$5)","v":""},{"$f":"IF(B3976=\"\",\"\",IF(R3976<5,INT((A3976-1)/Einstellung!$B$4)+1,\"\"))","v":""},{"$f":"IF(C$5<B$4,\"\",IF(R3976>4,\"\",OFFSET(T$2,R3976-1,0)))","v":""}]
["",null,null,null,null,null,null,null,null,null,null,null,null,null,null,null,null,"",{"$f":"IF(B3977=\"\",\"\",IF(R3977<5,INT((A3977-1)/Einstellung!$B$4)+1,\"\"))","v":""},""]
["",null,null,null,null,null,null,null,null,null,null,null,null,null,null,null,null,"",{"$f":"IF(B3979=\"\",\"\",IF(R3979<5,INT((A3979-1)/Einstellung!$B$4)+1,\"\"))","v":""},""]
["",null,null,null,null,null,null,null,null,null,null,null,null,null,null,null,null,"",{"$f":"IF(B3980=\"\",\"\",IF(R3980<5,INT((A3980-1)/Einstellung!$B$4)+1,\"\"))","v":""},""]
["",null,null,null,null,null,null,null,null,null,null,null,null,null,null,null,null,"",{"$f":"IF(B3983=\"\",\"\",IF(R3983<5,INT((A3983-1)/Einstellung!$B$4)+1,\"\"))","v":""},""]
["",null,null,null,null,null,null,null,null,null,null,null,null,null,null,null,null,"",{"$f":"IF(B3984=\"\",\"\",IF(R3984<5,INT((A3984-1)/Einstellung!$B$4)+1,\"\"))","v":""},""]
["",null,null,null,null,null,null,null,null,null,null,null,null,null,null,null,null,"",{"$f":"IF(B3986=\"\",\"\",IF(R3986<5,INT((A3986-1)/Einstellung!$B$4)+1,\"\"))","v":""},""]
["",null,null,null,null,null,null,null,null,null,null,null,null,null,null,null,null,"",{"$f":"IF(B3987=\"\",\"\",IF(R3987<5,INT((A3987-1)/Einstellung!$B$4)+1,\"\"))","v":""},""]
["",null,null,null,null,null,null,null,null,null,null,null,null,null,null,null,null,"",{"$f":"IF(B3990=\"\",\"\",IF(R3990<5,INT((A3990-1)/Einstellung!$B$4)+1,\"\"))","v":""},""]
["",null,null,null,null,null,null,null,null,null,null,null,null,null,null,null,null,"",{"$f":"IF(B3991=\"\",\"\",IF(R3991<5,INT((A3991-1)/Einstellung!$B$4)+1,\"\"))","v":""},""]
["",null,null,null,null,null,null,null,null,null,null,null,null,null,null,null,null,"",{"$f":"IF(B3993=\"\",\"\",IF(R3993<5,INT((A3993-1)/Einstellung!$B$4)+1,\"\"))","v":""},""]
["",null,null,null,null,null,null,null,null,null,null,null,null,null,null,null,null,"",{"$f":"IF(B3994=\"\",\"\",IF(R3994<5,INT((A3994-1)/Einstellung!$B$4)+1,\"\"))","v":""},""]
["",null,null,null,null,null,null,null,null,null,null,null,null,null,null,null,null,"",{"$f":"IF(B3997=\"\",\"\",IF(R3997<5,INT((A3997-1)/Einstellung!$B$4)+1,\"\"))","v":""},""]
["",null,null,null,null,null,null,null,null,null,null,null,null,null,null,null,null,"",{"$f":"IF(B3998=\"\",\"\",IF(R3998<5,INT((A3998-1)/Einstellung!$B$4)+1,\"\"))","v":""},""]
["",null,null,null,null,null,null,null,null,null,null,null,null,null,null,null,null,"",{"$f":"IF(B4000=\"\",\"\",IF(R4000<5,INT((A4000-1)/Einstellung!$B$4)+1,\"\"))","v":""},""]
["",null,null,null,null,null,null,null,null,null,null,null,null,null,null,null,null,"",{"$f":"IF(B4001=\"\",\"\",IF(R4001<5,INT((A4001-1)/Einstellung!$B$4)+1,\"\"))","v":""},""]
["",null,null,null,null,null,null,null,null,null,null,null,null,null,null,null,null,"",{"$f":"IF(B4004=\"\",\"\",IF(R4004<5,INT((A4004-1)/Einstellung!$B$4)+1,\"\"))","v":""},""]
["",null,null,null,null,null,null,null,null,null,null,null,null,null,null,null,null,"",{"$f":"IF(B4005=\"\",\"\",IF(R4005<5,INT((A4005-1)/Einstellung!$B$4)+1,\"\"))","v":""},""]
["",null,null,null,null,null,null,null,null,null,null,null,null,null,null,null,null,"",{"$f":"IF(B4007=\"\",\"\",IF(R4007<5,INT((A4007-1)/Einstellung!$B$4)+1,\"\"))","v":""},""]
["",null,null,null,null,null,null,null,null,null,null,null,null,null,null,null,null,"",{"$f":"IF(B4008=\"\",\"\",IF(R4008<5,INT((A4008-1)/Einstellung!$B$4)+1,\"\"))","v":""},""]
["",null,null,null,null,null,null,null,null,null,null,null,null,null,null,null,null,"",{"$f":"IF(B4011=\"\",\"\",IF(R4011<5,INT((A4011-1)/Einstellung!$B$4)+1,\"\"))","v":""},""]
["",null,null,null,null,null,null,null,null,null,null,null,null,null,null,null,null,"",{"$f":"IF(B4012=\"\",\"\",IF(R4012<5,INT((A4012-1)/Einstellung!$B$4)+1,\"\"))","v":""},""]
["",null,null,null,null,null,null,null,null,null,null,null,null,null,null,null,null,"",{"$f":"IF(B4014=\"\",\"\",IF(R4014<5,INT((A4014-1)/Einstellung!$B$4)+1,\"\"))","v":""},""]
["",null,null,null,null,null,null,null,null,null,null,null,null,null,null,null,null,"",{"$f":"IF(B4015=\"\",\"\",IF(R4015<5,INT((A4015-1)/Einstellung!$B$4)+1,\"\"))","v":""},""]
["",null,null,null,null,null,null,null,null,null,null,null,null,null,null,null,null,"",{"$f":"IF(B4018=\"\",\"\",IF(R4018<5,INT((A4018-1)/Einstellung!$B$4)+1,\"\"))","v":""},""]
["",null,null,null,null,null,null,null,null,null,null,null,null,null,null,null,null,"",{"$f":"IF(B4019=\"\",\"\",IF(R4019<5,INT((A4019-1)/Einstellung!$B$4)+1,\"\"))","v":""},""]
["",null,null,null,null,null,null,null,null,null,null,null,null,null,null,null,null,"",{"$f":"IF(B4021=\"\",\"\",IF(R4021<5,INT((A4021-1)/Einstellung!$B$4)+1,\"\"))","v":""},""]
["",null,null,null,null,null,null,null,null,null,null,null,null,null,null,null,null,"",{"$f":"IF(B4022=\"\",\"\",IF(R4022<5,INT((A4022-1)/Einstellung!$B$4)+1,\"\"))","v":""},""]
["",null,null,null,null,null,null,null,null,null,null,null,null,null,null,null,null,"",{"$f":"IF(B4025=\"\",\"\",IF(R4025<5,INT((A4025-1)/Einstellung!$B$4)+1,\"\"))","v":""},""]
["",null,null,null,null,null,null,null,null,null,null,null,null,null,null,null,null,"",{"$f":"IF(B4026=\"\",\"\",IF(R4026<5,INT((A4026-1)/Einstellung!$B$4)+1,\"\"))","v":""},""]
["",null,null,null,null,null,null,null,null,null,null,null,null,null,null,null,null,"",{"$f":"IF(B4028=\"\",\"\",IF(R4028<5,INT((A4028-1)/Einstellung!$B$4)+1,\"\"))","v":""},""]
["",null,null,null,null,null,null,null,null,null,null,null,null,null,null,null,null,"",{"$f":"IF(B4029=\"\",\"\",IF(R4029<5,INT((A4029-1)/Einstellung!$B$4)+1,\"\"))","v":""},""]
["",null,null,null,null,null,null,null,null,null,null,null,null,null,null,null,null,"",{"$f":"IF(B4032=\"\",\"\",IF(R4032<5,INT((A4032-1)/Einstellung!$B$4)+1,\"\"))","v":""},""]
["",null,null,null,null,null,null,null,null,null,null,null,null,null,null,null,null,"",{"$f":"IF(B4033=\"\",\"\",IF(R4033<5,INT((A4033-1)/Einstellung!$B$4)+1,\"\"))","v":""},""]
["",null,null,null,null,null,null,null,null,null,null,null,null,null,null,null,null,"",{"$f":"IF(B4035=\"\",\"\",IF(R4035<5,INT((A4035-1)/Einstellung!$B$4)+1,\"\"))","v":""},""]
["",null,null,null,null,null,null,null,null,null,null,null,null,null,null,null,null,"",{"$f":"IF(B4036=\"\",\"\",IF(R4036<5,INT((A4036-1)/Einstellung!$B$4)+1,\"\"))","v":""},""]
["",null,null,null,null,null,null,null,null,null,null,null,null,null,null,null,null,"",{"$f":"IF(B4039=\"\",\"\",IF(R4039<5,INT((A4039-1)/Einstellung!$B$4)+1,\"\"))","v":""},""]
["",null,null,null,null,null,null,null,null,null,null,null,null,null,null,null,null,{"$f":"IF(B4040=\"\",\"\",16-((MID(B$1,1,1)=MID(B4040,1,1))+(MID(C$1,1,1)=MID(C4040,1,1))+(MID(D$1,1,1)=MID(D4040,1,1))+(MID(E$1,1,1)=MID(E4040,1,1))+(MID(F$1,1,1)=MID(F4040,1,1))+(MID(G$1,1,1)=MID(G4040,1,1))+(MID(H$1,1,1)=MID(H4040,1,1))+(MID(I$1,1,1)=MID(I4040,1,1))+(MID(J$1,1,1)=MID(J4040,1,1))+(MID(K$1,1,1)=MID(K4040,1,1))+(MID(L$1,1,1)=MID(L4040,1,1))+(MID(M$1,1,1)=MID(M4040,1,1))+(MID(N$1,1,1)=MID(N4040,1,1))+(MID(O$1,1,1)=MID(O4040,1,1))+(MID(P$1,1,1)=MID(P4040,1,1)))-B$4+C$5)","v":""},{"$f":"IF(B4040=\"\",\"\",IF(R4040<5,INT((A4040-1)/Einstellung!$B$4)+1,\"\"))","v":""},{"$f":"IF(C$5<B$4,\"\",IF(R4040>4,\"\",OFFSET(T$2,R4040-1,0)))","v":""}]
["",null,null,null,null,null,null,null,null,null,null,null,null,null,null,null,null,"",{"$f":"IF(B4042=\"\",\"\",IF(R4042<5,INT((A4042-1)/Einstellung!$B$4)+1,\"\"))","v":""},""]
["",null,null,null,null,null,null,null,null,null,null,null,null,null,null,null,null,"",{"$f":"IF(B4043=\"\",\"\",IF(R4043<5,INT((A4043-1)/Einstellung!$B$4)+1,\"\"))","v":""},""]
["",null,null,null,null,null,null,null,null,null,null,null,null,null,null,null,null,"",{"$f":"IF(B4046=\"\",\"\",IF(R4046<5,INT((A4046-1)/Einstellung!$B$4)+1,\"\"))","v":""},""]
["",null,null,null,null,null,null,null,null,null,null,null,null,null,null,null,null,"",{"$f":"IF(B4047=\"\",\"\",IF(R4047<5,INT((A4047-1)/Einstellung!$B$4)+1,\"\"))","v":""},""]
["",null,null,null,null,null,null,null,null,null,null,null,null,null,null,null,null,"",{"$f":"IF(B4049=\"\",\"\",IF(R4049<5,INT((A4049-1)/Einstellung!$B$4)+1,\"\"))","v":""},""]
["",null,null,null,null,null,null,null,null,null,null,null,null,null,null,null,null,"",{"$f":"IF(B4050=\"\",\"\",IF(R4050<5,INT((A4050-1)/Einstellung!$B$4)+1,\"\"))","v":""},""]
["",null,null,null,null,null,null,null,null,null,null,null,null,null,null,null,null,"",{"$f":"IF(B4053=\"\",\"\",IF(R4053<5,INT((A4053-1)/Einstellung!$B$4)+1,\"\"))","v":""},""]
["",null,null,null,null,null,null,null,null,null,null,null,null,null,null,null,null,"",{"$f":"IF(B4054=\"\",\"\",IF(R4054<5,INT((A4054-1)/Einstellung!$B$4)+1,\"\"))","v":""},""]
["",null,null,null,null,null,null,null,null,null,null,null,null,null,null,null,null,"",{"$f":"IF(B4056=\"\",\"\",IF(R4056<5,INT((A4056-1)/Einstellung!$B$4)+1,\"\"))","v":""},""]
["",null,null,null,null,null,null,null,null,null,null,null,null,null,null,null,null,"",{"$f":"IF(B4057=\"\",\"\",IF(R4057<5,INT((A4057-1)/Einstellung!$B$4)+1,\"\"))","v":""},""]
["",null,null,null,null,null,null,null,null,null,null,null,null,null,null,null,null,"",{"$f":"IF(B4060=\"\",\"\",IF(R4060<5,INT((A4060-1)/Einstellung!$B$4)+1,\"\"))","v":""},""]
["",null,null,null,null,null,null,null,null,null,null,null,null,null,null,null,null,"",{"$f":"IF(B4061=\"\",\"\",IF(R4061<5,INT((A4061-1)/Einstellung!$B$4)+1,\"\"))","v":""},""]
["",null,null,null,null,null,null,null,null,null,null,null,null,null,null,null,null,"",{"$f":"IF(B4063=\"\",\"\",IF(R4063<5,INT((A4063-1)/Einstellung!$B$4)+1,\"\"))","v":""},""]
["",null,null,null,null,null,null,null,null,null,null,null,null,null,null,null,null,"",{"$f":"IF(B4064=\"\",\"\",IF(R4064<5,INT((A4064-1)/Einstellung!$B$4)+1,\"\"))","v":""},""]
["",null,null,null,null,null,null,null,null,null,null,null,null,null,null,null,null,"",{"$f":"IF(B4067=\"\",\"\",IF(R4067<5,INT((A4067-1)/Einstellung!$B$4)+1,\"\"))","v":""},""]
["",null,null,null,null,null,null,null,null,null,null,null,null,null,null,null,null,"",{"$f":"IF(B4068=\"\",\"\",IF(R4068<5,INT((A4068-1)/Einstellung!$B$4)+1,\"\"))","v":""},""]
["",null,null,null,null,null,null,null,null,null,null,null,null,null,null,null,null,"",{"$f":"IF(B4070=\"\",\"\",IF(R4070<5,INT((A4070-1)/Einstellung!$B$4)+1,\"\"))","v":""},""]
["",null,null,null,null,null,null,null,null,null,null,null,null,null,null,null,null,"",{"$f":"IF(B4071=\"\",\"\",IF(R4071<5,INT((A4071-1)/Einstellung!$B$4)+1,\"\"))","v":""},""]
[{"$f":"IF(B4074=\"\",\"\",ROW()-7)","v":""},null,null,null,null,null,null,null,null,null,null,null,null,null,null,null,null,"",{"$f":"IF(B4074=\"\",\"\",IF(R4074<5,INT((A4074-1)/Einstellung!$B$4)+1,\"\"))","v":""},""]
["",null,null,null,null,null,null,null,null,null,null,null,null,null,null,null,null,"",{"$f":"IF(B4075=\"\",\"\",IF(R4075<5,INT((A4075-1)/Einstellung!$B$4)+1,\"\"))","v":""},""]
["",null,null,null,null,null,null,null,null,null,null,null,null,null,null,null,null,"",{"$f":"IF(B4077=\"\",\"\",IF(R4077<5,INT((A4077-1)/Einstellung!$B$4)+1,\"\"))","v":""},""]
["",null,null,null,null,null,null,null,null,null,null,null,null,null,null,null,null,"",{"$f":"IF(B4078=\"\",\"\",IF(R4078<5,INT((A4078-1)/Einstellung!$B$4)+1,\"\"))","v":""},""]
["",null,null,null,null,null,null,null,null,null,null,null,null,null,null,null,null,"",{"$f":"IF(B4081=\"\",\"\",IF(R4081<5,INT((A4081-1)/Einstellung!$B$4)+1,\"\"))","v":""},""]
["",null,null,null,null,null,null,null,null,null,null,null,null,null,null,null,null,"",{"$f":"IF(B4082=\"\",\"\",IF(R4082<5,INT((A4082-1)/Einstellung!$B$4)+1,\"\"))","v":""},""]
["",null,null,null,null,null,null,null,null,null,null,null,null,null,null,null,null,"",{"$f":"IF(B4084=\"\",\"\",IF(R4084<5,INT((A4084-1)/Einstellung!$B$4)+1,\"\"))","v":""},""]
["",null,null,null,null,null,null,null,null,null,null,null,null,null,null,null,null,"",{"$f":"IF(B4085=\"\",\"\",IF(R4085<5,INT((A4085-1)/Einstellung!$B$4)+1,\"\"))","v":""},""]
["",null,null,null,null,null,null,null,null,null,null,null,null,null,null,null,null,"",{"$f":"IF(B4088=\"\",\"\",IF(R4088<5,INT((A4088-1)/Einstellung!$B$4)+1,\"\"))","v":""},""]
["",null,null,null,null,null,null,null,null,null,null,null,null,null,null,null,null,"",{"$f":"IF(B4089=\"\",\"\",IF(R4089<5,INT((A4089-1)/Einstellung!$B$4)+1,\"\"))","v":""},""]
["",null,null,null,null,null,null,null,null,null,null,null,null,null,null,null,null,"",{"$f":"IF(B4091=\"\",\"\",IF(R4091<5,INT((A4091-1)/Einstellung!$B$4)+1,\"\"))","v":""},""]
["",null,null,null,null,null,null,null,null,null,null,null,null,null,null,null,null,"",{"$f":"IF(B4092=\"\",\"\",IF(R4092<5,INT((A4092-1)/Einstellung!$B$4)+1,\"\"))","v":""},""]
["",null,null,null,null,null,null,null,null,null,null,null,null,null,null,null,null,"",{"$f":"IF(B4095=\"\",\"\",IF(R4095<5,INT((A4095-1)/Einstellung!$B$4)+1,\"\"))","v":""},""]
["",null,null,null,null,null,null,null,null,null,null,null,null,null,null,null,null,"",{"$f":"IF(B4096=\"\",\"\",IF(R4096<5,INT((A4096-1)/Einstellung!$B$4)+1,\"\"))","v":""},""]
["",null,null,null,null,null,null,null,null,null,null,null,null,null,null,null,null,"",{"$f":"IF(B4098=\"\",\"\",IF(R4098<5,INT((A4098-1)/Einstellung!$B$4)+1,\"\"))","v":""},""]
["",null,null,null,null,null,null,null,null,null,null,null,null,null,null,null,null,"",{"$f":"IF(B4099=\"\",\"\",IF(R4099<5,INT((A4099-1)/Einstellung!$B$4)+1,\"\"))","v":""},""]
["",null,null,null,null,null,null,null,null,null,null,null,null,null,null,null,null,"",{"$f":"IF(B4102=\"\",\"\",IF(R4102<5,INT((A4102-1)/Einstellung!$B$4)+1,\"\"))","v":""},""]
["",null,null,null,null,null,null,null,null,null,null,null,null,null,null,null,null,"",{"$f":"IF(B4103=\"\",\"\",IF(R4103<5,INT((A4103-1)/Einstellung!$B$4)+1,\"\"))","v":""},""]
["",null,null,null,null,null,null,null,null,null,null,null,null,null,null,null,null,"",{"$f":"IF(B4105=\"\",\"\",IF(R4105<5,INT((A4105-1)/Einstellung!$B$4)+1,\"\"))","v":""},""]
["",null,null,null,null,null,null,null,null,null,null,null,null,null,null,null,null,"",{"$f":"IF(B4106=\"\",\"\",IF(R4106<5,INT((A4106-1)/Einstellung!$B$4)+1,\"\"))","v":""},""]
["",null,null,null,null,null,null,null,null,null,null,null,null,null,null,null,null,"",{"$f":"IF(B4109=\"\",\"\",IF(R4109<5,INT((A4109-1)/Einstellung!$B$4)+1,\"\"))","v":""},""]
["",null,null,null,null,null,null,null,null,null,null,null,null,null,null,null,null,"",{"$f":"IF(B4110=\"\",\"\",IF(R4110<5,INT((A4110-1)/Einstellung!$B$4)+1,\"\"))","v":""},""]
["",null,null,null,null,null,null,null,null,null,null,null,null,null,null,null,null,"",{"$f":"IF(B4112=\"\",\"\",IF(R4112<5,INT((A4112-1)/Einstellung!$B$4)+1,\"\"))","v":""},""]
["",null,null,null,null,null,null,null,null,null,null,null,null,null,null,null,null,"",{"$f":"IF(B4113=\"\",\"\",IF(R4113<5,INT((A4113-1)/Einstellung!$B$4)+1,\"\"))","v":""},""]
["",null,null,null,null,null,null,null,null,null,null,null,null,null,null,null,null,"",{"$f":"IF(B4116=\"\",\"\",IF(R4116<5,INT((A4116-1)/Einstellung!$B$4)+1,\"\"))","v":""},""]
["",null,null,null,null,null,null,null,null,null,null,null,null,null,null,null,null,"",{"$f":"IF(B4117=\"\",\"\",IF(R4117<5,INT((A4117-1)/Einstellung!$B$4)+1,\"\"))","v":""},""]
["",null,null,null,null,null,null,null,null,null,null,null,null,null,null,null,null,"",{"$f":"IF(B4119=\"\",\"\",IF(R4119<5,INT((A4119-1)/Einstellung!$B$4)+1,\"\"))","v":""},""]
["",null,null,null,null,null,null,null,null,null,null,null,null,null,null,null,null,"",{"$f":"IF(B4120=\"\",\"\",IF(R4120<5,INT((A4120-1)/Einstellung!$B$4)+1,\"\"))","v":""},""]
["",null,null,null,null,null,null,null,null,null,null,null,null,null,null,null,null,"",{"$f":"IF(B4123=\"\",\"\",IF(R4123<5,INT((A4123-1)/Einstellung!$B$4)+1,\"\"))","v":""},""]
["",null,null,null,null,null,null,null,null,null,null,null,null,null,null,null,null,"",{"$f":"IF(B4124=\"\",\"\",IF(R4124<5,INT((A4124-1)/Einstellung!$B$4)+1,\"\"))","v":""},""]
["",null,null,null,null,null,null,null,null,null,null,null,null,null,null,null,null,"",{"$f":"IF(B4126=\"\",\"\",IF(R4126<5,INT((A4126-1)/Einstellung!$B$4)+1,\"\"))","v":""},""]
["",null,null,null,null,null,null,null,null,null,null,null,null,null,null,null,null,"",{"$f":"IF(B4127=\"\",\"\",IF(R4127<5,INT((A4127-1)/Einstellung!$B$4)+1,\"\"))","v":""},""]
["",null,null,null,null,null,null,null,null,null,null,null,null,null,null,null,null,"",{"$f":"IF(B4130=\"\",\"\",IF(R4130<5,INT((A4130-1)/Einstellung!$B$4)+1,\"\"))","v":""},""]
["",null,null,null,null,null,null,null,null,null,null,null,null,null,null,null,null,"",{"$f":"IF(B4131=\"\",\"\",IF(R4131<5,INT((A4131-1)/Einstellung!$B$4)+1,\"\"))","v":""},""]
["",null,null,null,null,null,null,null,null,null,null,null,null,null,null,null,null,"",{"$f":"IF(B4134=\"\",\"\",IF(R4134<5,INT((A4134-1)/Einstellung!$B$4)+1,\"\"))","v":""},""]
["",null,null,null,null,null,null,null,null,null,null,null,null,null,null,null,null,"",{"$f":"IF(B4135=\"\",\"\",IF(R4135<5,INT((A4135-1)/Einstellung!$B$4)+1,\"\"))","v":""},""]
["",null,null,null,null,null,null,null,null,null,null,null,null,null,null,null,null,"",{"$f":"IF(B4137=\"\",\"\",IF(R4137<5,INT((A4137-1)/Einstellung!$B$4)+1,\"\"))","v":""},""]
[{"$f":"IF(B4138=\"\",\"\",ROW()-7)","v":""},null,null,null,null,null,null,null,null,null,null,null,null,null,null,null,null,"",{"$f":"IF(B4138=\"\",\"\",IF(R4138<5,INT((A4138-1)/Einstellung!$B$4)+1,\"\"))","v":""},""]
["",null,null,null,null,null,null,null,null,null,null,null,null,null,null,null,null,"",{"$f":"IF(B4141=\"\",\"\",IF(R4141<5,INT((A4141-1)/Einstellung!$B$4)+1,\"\"))","v":""},""]
["",null,null,null,null,null,null,null,null,null,null,null,null,null,null,null,null,"",{"$f":"IF(B4142=\"\",\"\",IF(R4142<5,INT((A4142-1)/Einstellung!$B$4)+1,\"\"))","v":""},""]
["",null,null,null,null,null,null,null,null,null,null,null,null,null,null,null,null,"",{"$f":"IF(B4144=\"\",\"\",IF(R4144<5,INT((A4144-1)/Einstellung!$B$4)+1,\"\"))","v":""},""]
["",null,null,null,null,null,null,null,null,null,null,null,null,null,null,null,null,"",{"$f":"IF(B4145=\"\",\"\",IF(R4145<5,INT((A4145-1)/Einstellung!$B$4)+1,\"\"))","v":""},""]
["",null,null,null,null,null,null,null,null,null,null,null,null,null,null,null,null,"",{"$f":"IF(B4148=\"\",\"\",IF(R4148<5,INT((A4148-1)/Einstellung!$B$4)+1,\"\"))","v":""},""]
["",null,null,null,null,null,null,null,null,null,null,null,null,null,null,null,null,"",{"$f":"IF(B4149=\"\",\"\",IF(R4149<5,INT((A4149-1)/Einstellung!$B$4)+1,\"\"))","v":""},""]
["",null,null,null,null,null,null,null,null,null,null,null,null,null,null,null,null,"",{"$f":"IF(B4151=\"\",\"\",IF(R4151<5,INT((A4151-1)/Einstellung!$B$4)+1,\"\"))","v":""},""]
["",null,null,null,null,null,null,null,null,null,null,null,null,null,null,null,null,"",{"$f":"IF(B4152=\"\",\"\",IF(R4152<5,INT((A4152-1)/Einstellung!$B$4)+1,\"\"))","v":""},""]
["",null,null,null,null,null,null,null,null,null,null,null,null,null,null,null,null,"",{"$f":"IF(B4155=\"\",\"\",IF(R4155<5,INT((A4155-1)/Einstellung!$B$4)+1,\"\"))","v":""},""]
["",null,null,null,null,null,null,null,null,null,null,null,null,null,null,null,null,"",{"$f":"IF(B4156=\"\",\"\",IF(R4156<5,INT((A4156-1)/Einstellung!$B$4)+1,\"\"))","v":""},""]
["",null,null,null,null,null,null,null,null,null,null,null,null,null,null,null,null,"",{"$f":"IF(B4158=\"\",\"\",IF(R4158<5,INT((A4158-1)/Einstellung!$B$4)+1,\"\"))","v":""},""]
["",null,null,null,null,null,null,null,null,null,null,null,null,null,null,null,null,"",{"$f":"IF(B4159=\"\",\"\",IF(R4159<5,INT((A4159-1)/Einstellung!$B$4)+1,\"\"))","v":""},""]
["",null,null,null,null,null,null,null,null,null,null,null,null,null,null,null,null,"",{"$f":"IF(B4162=\"\",\"\",IF(R4162<5,INT((A4162-1)/Einstellung!$B$4)+1,\"\"))","v":""},""]
["",null,null,null,null,null,null,null,null,null,null,null,null,null,null,null,null,"",{"$f":"IF(B4163=\"\",\"\",IF(R4163<5,INT((A4163-1)/Einstellung!$B$4)+1,\"\"))","v":""},""]
["",null,null,null,null,null,null,null,null,null,null,null,null,null,null,null,null,"",{"$f":"IF(B4165=\"\",\"\",IF(R4165<5,INT((A4165-1)/Einstellung!$B$4)+1,\"\"))","v":""},""]
["",null,null,null,null,null,null,null,null,null,null,null,null,null,null,null,null,"",{"$f":"IF(B4166=\"\",\"\",IF(R4166<5,INT((A4166-1)/Einstellung!$B$4)+1,\"\"))","v":""},""]
["",null,null,null,null,null,null,null,null,null,null,null,null,null,null,null,null,"",{"$f":"IF(B4169=\"\",\"\",IF(R4169<5,INT((A4169-1)/Einstellung!$B$4)+1,\"\"))","v":""},""]
["",null,null,null,null,null,null,null,null,null,null,null,null,null,null,null,null,"",{"$f":"IF(B4170=\"\",\"\",IF(R4170<5,INT((A4170-1)/Einstellung!$B$4)+1,\"\"))","v":""},""]
["",null,null,null,null,null,null,null,null,null,null,null,null,null,null,null,null,"",{"$f":"IF(B4172=\"\",\"\",IF(R4172<5,INT((A4172-1)/Einstellung!$B$4)+1,\"\"))","v":""},""]
["",null,null,null,null,null,null,null,null,null,null,null,null,null,null,null,null,"",{"$f":"IF(B4173=\"\",\"\",IF(R4173<5,INT((A4173-1)/Einstellung!$B$4)+1,\"\"))","v":""},""]
["",null,null,null,null,null,null,null,null,null,null,null,null,null,null,null,null,"",{"$f":"IF(B4176=\"\",\"\",IF(R4176<5,INT((A4176-1)/Einstellung!$B$4)+1,\"\"))","v":""},""]
["",null,null,null,null,null,null,null,null,null,null,null,null,null,null,null,null,"",{"$f":"IF(B4177=\"\",\"\",IF(R4177<5,INT((A4177-1)/Einstellung!$B$4)+1,\"\"))","v":""},""]
["",null,null,null,null,null,null,null,null,null,null,null,null,null,null,null,null,"",{"$f":"IF(B4179=\"\",\"\",IF(R4179<5,INT((A4179-1)/Einstellung!$B$4)+1,\"\"))","v":""},""]
["",null,null,null,null,null,null,null,null,null,null,null,null,null,null,null,null,"",{"$f":"IF(B4180=\"\",\"\",IF(R4180<5,INT((A4180-1)/Einstellung!$B$4)+1,\"\"))","v":""},""]
["",null,null,null,null,null,null,null,null,null,null,null,null,null,null,null,null,"",{"$f":"IF(B4183=\"\",\"\",IF(R4183<5,INT((A4183-1)/Einstellung!$B$4)+1,\"\"))","v":""},""]
["",null,null,null,null,null,null,null,null,null,null,null,null,null,null,null,null,"",{"$f":"IF(B4184=\"\",\"\",IF(R4184<5,INT((A4184-1)/Einstellung!$B$4)+1,\"\"))","v":""},""]
["",null,null,null,null,null,null,null,null,null,null,null,null,null,null,null,null,"",{"$f":"IF(B4186=\"\",\"\",IF(R4186<5,INT((A4186-1)/Einstellung!$B$4)+1,\"\"))","v":""},""]
["",null,null,null,null,null,null,null,null,null,null,null,null,null,null,null,null,"",{"$f":"IF(B4187=\"\",\"\",IF(R4187<5,INT((A4187-1)/Einstellung!$B$4)+1,\"\"))","v":""},""]
["",null,null,null,null,null,null,null,null,null,null,null,null,null,null,null,null,"",{"$f":"IF(B4190=\"\",\"\",IF(R4190<5,INT((A4190-1)/Einstellung!$B$4)+1,\"\"))","v":""},""]
["",null,null,null,null,null,null,null,null,null,null,null,null,null,null,null,null,"",{"$f":"IF(B4191=\"\",\"\",IF(R4191<5,INT((A4191-1)/Einstellung!$B$4)+1,\"\"))","v":""},""]
["",null,null,null,null,null,null,null,null,null,null,null,null,null,null,null,null,"",{"$f":"IF(B4193=\"\",\"\",IF(R4193<5,INT((A4193-1)/Einstellung!$B$4)+1,\"\"))","v":""},""]
["",null,null,null,null,null,null,null,null,null,null,null,null,null,null,null,null,"",{"$f":"IF(B4194=\"\",\"\",IF(R4194<5,INT((A4194-1)/Einstellung!$B$4)+1,\"\"))","v":""},""]
["",null,null,null,null,null,null,null,null,null,null,null,null,null,null,null,null,"",{"$f":"IF(B4197=\"\",\"\",IF(R4197<5,INT((A4197-1)/Einstellung!$B$4)+1,\"\"))","v":""},""]
["",null,null,null,null,null,null,null,null,null,null,null,null,null,null,null,null,"",{"$f":"IF(B4198=\"\",\"\",IF(R4198<5,INT((A4198-1)/Einstellung!$B$4)+1,\"\"))","v":""},""]
["",null,null,null,null,null,null,null,null,null,null,null,null,null,null,null,null,"",{"$f":"IF(B4200=\"\",\"\",IF(R4200<5,INT((A4200-1)/Einstellung!$B$4)+1,\"\"))","v":""},""]
["",null,null,null,null,null,null,null,null,null,null,null,null,null,null,null,null,"",{"$f":"IF(B4201=\"\",\"\",IF(R4201<5,INT((A4201-1)/Einstellung!$B$4)+1,\"\"))","v":""},""]
["",null,null,null,null,null,null,null,null,null,null,null,null,null,null,null,null,"",{"$f":"IF(B4204=\"\",\"\",IF(R4204<5,INT((A4204-1)/Einstellung!$B$4)+1,\"\"))","v":""},""]
["",null,null,null,null,null,null,null,null,null,null,null,null,null,null,null,null,"",{"$f":"IF(B4205=\"\",\"\",IF(R4205<5,INT((A4205-1)/Einstellung!$B$4)+1,\"\"))","v":""},""]
["",null,null,null,null,null,null,null,null,null,null,null,null,null,null,null,null,"",{"$f":"IF(B4207=\"\",\"\",IF(R4207<5,INT((A4207-1)/Einstellung!$B$4)+1,\"\"))","v":""},""]
["",null,null,null,null,null,null,null,null,null,null,null,null,null,null,null,null,"",{"$f":"IF(B4208=\"\",\"\",IF(R4208<5,INT((A4208-1)/Einstellung!$B$4)+1,\"\"))","v":""},""]
["",null,null,null,null,null,null,null,null,null,null,null,null,null,null,null,null,"",{"$f":"IF(B4211=\"\",\"\",IF(R4211<5,INT((A4211-1)/Einstellung!$B$4)+1,\"\"))","v":""},""]
["",null,null,null,null,null,null,null,null,null,null,null,null,null,null,null,null,"",{"$f":"IF(B4212=\"\",\"\",IF(R4212<5,INT((A4212-1)/Einstellung!$B$4)+1,\"\"))","v":""},""]
["",null,null,null,null,null,null,null,null,null,null,null,null,null,null,null,null,"",{"$f":"IF(B4214=\"\",\"\",IF(R4214<5,INT((A4214-1)/Einstellung!$B$4)+1,\"\"))","v":""},""]
["",null,null,null,null,null,null,null,null,null,null,null,null,null,null,null,null,"",{"$f":"IF(B4215=\"\",\"\",IF(R4215<5,INT((A4215-1)/Einstellung!$B$4)+1,\"\"))","v":""},""]
["",null,null,null,null,null,null,null,null,null,null,null,null,null,null,null,null,"",{"$f":"IF(B4218=\"\",\"\",IF(R4218<5,INT((A4218-1)/Einstellung!$B$4)+1,\"\"))","v":""},""]
["",null,null,null,null,null,null,null,null,null,null,null,null,null,null,null,null,"",{"$f":"IF(B4219=\"\",\"\",IF(R4219<5,INT((A4219-1)/Einstellung!$B$4)+1,\"\"))","v":""},""]
["",null,null,null,null,null,null,null,null,null,null,null,null,null,null,null,null,"",{"$f":"IF(B4221=\"\",\"\",IF(R4221<5,INT((A4221-1)/Einstellung!$B$4)+1,\"\"))","v":""},""]
["",null,null,null,null,null,null,null,null,null,null,null,null,null,null,null,null,"",{"$f":"IF(B4222=\"\",\"\",IF(R4222<5,INT((A4222-1)/Einstellung!$B$4)+1,\"\"))","v":""},""]
["",null,null,null,null,null,null,null,null,null,null,null,null,null,null,null,null,"",{"$f":"IF(B4225=\"\",\"\",IF(R4225<5,INT((A4225-1)/Einstellung!$B$4)+1,\"\"))","v":""},""]
["",null,null,null,null,null,null,null,null,null,null,null,null,null,null,null,null,"",{"$f":"IF(B4226=\"\",\"\",IF(R4226<5,INT((A4226-1)/Einstellung!$B$4)+1,\"\"))","v":""},""]
["",null,null,null,null,null,null,null,null,null,null,null,null,null,null,null,null,"",{"$f":"IF(B4228=\"\",\"\",IF(R4228<5,INT((A4228-1)/Einstellung!$B$4)+1,\"\"))","v":""},""]
["",null,null,null,null,null,null,null,null,null,null,null,null,null,null,null,null,"",{"$f":"IF(B4229=\"\",\"\",IF(R4229<5,INT((A4229-1)/Einstellung!$B$4)+1,\"\"))","v":""},""]
["",null,null,null,null,null,null,null,null,null,null,null,null,null,null,null,null,{"$f":"IF(B4232=\"\",\"\",16-((MID(B$1,1,1)=MID(B4232,1,1))+(MID(C$1,1,1)=MID(C4232,1,1))+(MID(D$1,1,1)=MID(D4232,1,1))+(MID(E$1,1,1)=MID(E4232,1,1))+(MID(F$1,1,1)=MID(F4232,1,1))+(MID(G$1,1,1)=MID(G4232,1,1))+(MID(H$1,1,1)=MID(H4232,1,1))+(MID(I$1,1,1)=MID(I4232,1,1))+(MID(J$1,1,1)=MID(J4232,1,1))+(MID(K$1,1,1)=MID(K4232,1,1))+(MID(L$1,1,1)=MID(L4232,1,1))+(MID(M$1,1,1)=MID(M4232,1,1))+(MID(N$1,1,1)=MID(N4232,1,1))+(MID(O$1,1,1)=MID(O4232,1,1))+(MID(P$1,1,1)=MID(P4232,1,1)))-B$4+C$5)","v":""},{"$f":"IF(B4232=\"\",\"\",IF(R4232<5,INT((A4232-1)/Einstellung!$B$4)+1,\"\"))","v":""},{"$f":"IF(C$5<B$4,\"\",IF(R4232>4,\"\",OFFSET(T$2,R4232-1,0)))","v":""}]
["",null,null,null,null,null,null,null,null,null,null,null,null,null,null,null,null,"",{"$f":"IF(B4233=\"\",\"\",IF(R4233<5,INT((A4233-1)/Einstellung!$B$4)+1,\"\"))","v":""},""]
["",null,null,null,null,null,null,null,null,null,null,null,null,null,null,null,null,"",{"$f":"IF(B4235=\"\",\"\",IF(R4235<5,INT((A4235-1)/Einstellung!$B$4)+1,\"\"))","v":""},""]
["",null,null,null,null,null,null,null,null,null,null,null,null,null,null,null,null,"",{"$f":"IF(B4236=\"\",\"\",IF(R4236<5,INT((A4236-1)/Einstellung!$B$4)+1,\"\"))","v":""},""]
["",null,null,null,null,null,null,null,null,null,null,null,null,null,null,null,null,"",{"$f":"IF(B4239=\"\",\"\",IF(R4239<5,INT((A4239-1)/Einstellung!$B$4)+1,\"\"))","v":""},""]
["",null,null,null,null,null,null,null,null,null,null,null,null,null,null,null,null,"",{"$f":"IF(B4240=\"\",\"\",IF(R4240<5,INT((A4240-1)/Einstellung!$B$4)+1,\"\"))","v":""},""]
["",null,null,null,null,null,null,null,null,null,null,null,null,null,null,null,null,"",{"$f":"IF(B4242=\"\",\"\",IF(R4242<5,INT((A4242-1)/Einstellung!$B$4)+1,\"\"))","v":""},""]
["",null,null,null,null,null,null,null,null,null,null,null,null,null,null,null,null,"",{"$f":"IF(B4243=\"\",\"\",IF(R4243<5,INT((A4243-1)/Einstellung!$B$4)+1,\"\"))","v":""},""]
["",null,null,null,null,null,null,null,null,null,null,null,null,null,null,null,null,"",{"$f":"IF(B4246=\"\",\"\",IF(R4246<5,INT((A4246-1)/Einstellung!$B$4)+1,\"\"))","v":""},""]
["",null,null,null,null,null,null,null,null,null,null,null,null,null,null,null,null,"",{"$f":"IF(B4247=\"\",\"\",IF(R4247<5,INT((A4247-1)/Einstellung!$B$4)+1,\"\"))","v":""},""]
["",null,null,null,null,null,null,null,null,null,null,null,null,null,null,null,null,"",{"$f":"IF(B4249=\"\",\"\",IF(R4249<5,INT((A4249-1)/Einstellung!$B$4)+1,\"\"))","v":""},""]
["",null,null,null,null,null,null,null,null,null,null,null,null,null,null,null,null,"",{"$f":"IF(B4250=\"\",\"\",IF(R4250<5,INT((A4250-1)/Einstellung!$B$4)+1,\"\"))","v":""},""]
["",null,null,null,null,null,null,null,null,null,null,null,null,null,null,null,null,"",{"$f":"IF(B4253=\"\",\"\",IF(R4253<5,INT((A4253-1)/Einstellung!$B$4)+1,\"\"))","v":""},""]
["",null,null,null,null,null,null,null,null,null,null,null,null,null,null,null,null,"",{"$f":"IF(B4254=\"\",\"\",IF(R4254<5,INT((A4254-1)/Einstellung!$B$4)+1,\"\"))","v":""},""]
["",null,null,null,null,null,null,null,null,null,null,null,null,null,null,null,null,"",{"$f":"IF(B4256=\"\",\"\",IF(R4256<5,INT((A4256-1)/Einstellung!$B$4)+1,\"\"))","v":""},""]
["",null,null,null,null,null,null,null,null,null,null,null,null,null,null,null,null,"",{"$f":"IF(B4257=\"\",\"\",IF(R4257<5,INT((A4257-1)/Einstellung!$B$4)+1,\"\"))","v":""},""]
["",null,null,null,null,null,null,null,null,null,null,null,null,null,null,null,null,"",{"$f":"IF(B4260=\"\",\"\",IF(R4260<5,INT((A4260-1)/Einstellung!$B$4)+1,\"\"))","v":""},""]
["",null,null,null,null,null,null,null,null,null,null,null,null,null,null,null,null,"",{"$f":"IF(B4261=\"\",\"\",IF(R4261<5,INT((A4261-1)/Einstellung!$B$4)+1,\"\"))","v":""},""]
["",null,null,null,null,null,null,null,null,null,null,null,null,null,null,null,null,"",{"$f":"IF(B4263=\"\",\"\",IF(R4263<5,INT((A4263-1)/Einstellung!$B$4)+1,\"\"))","v":""},""]
["",null,null,null,null,null,null,null,null,null,null,null,null,null,null,null,null,"",{"$f":"IF(B4264=\"\",\"\",IF(R4264<5,INT((A4264-1)/Einstellung!$B$4)+1,\"\"))","v":""},""]
["",null,null,null,null,null,null,null,null,null,null,null,null,null,null,null,null,"",{"$f":"IF(B4267=\"\",\"\",IF(R4267<5,INT((A4267-1)/Einstellung!$B$4)+1,\"\"))","v":""},""]
["",null,null,null,null,null,null,null,null,null,null,null,null,null,null,null,null,"",{"$f":"IF(B4268=\"\",\"\",IF(R4268<5,INT((A4268-1)/Einstellung!$B$4)+1,\"\"))","v":""},""]
["",null,null,null,null,null,null,null,null,null,null,null,null,null,null,null,null,"",{"$f":"IF(B4270=\"\",\"\",IF(R4270<5,INT((A4270-1)/Einstellung!$B$4)+1,\"\"))","v":""},""]
["",null,null,null,null,null,null,null,null,null,null,null,null,null,null,null,null,"",{"$f":"IF(B4271=\"\",\"\",IF(R4271<5,INT((A4271-1)/Einstellung!$B$4)+1,\"\"))","v":""},""]
["",null,null,null,null,null,null,null,null,null,null,null,null,null,null,null,null,"",{"$f":"IF(B4274=\"\",\"\",IF(R4274<5,INT((A4274-1)/Einstellung!$B$4)+1,\"\"))","v":""},""]
["",null,null,null,null,null,null,null,null,null,null,null,null,null,null,null,null,"",{"$f":"IF(B4275=\"\",\"\",IF(R4275<5,INT((A4275-1)/Einstellung!$B$4)+1,\"\"))","v":""},""]
["",null,null,null,null,null,null,null,null,null,null,null,null,null,null,null,null,"",{"$f":"IF(B4277=\"\",\"\",IF(R4277<5,INT((A4277-1)/Einstellung!$B$4)+1,\"\"))","v":""},""]
["",null,null,null,null,null,null,null,null,null,null,null,null,null,null,null,null,"",{"$f":"IF(B4278=\"\",\"\",IF(R4278<5,INT((A4278-1)/Einstellung!$B$4)+1,\"\"))","v":""},""]
["",null,null,null,null,null,null,null,null,null,null,null,null,null,null,null,null,"",{"$f":"IF(B4281=\"\",\"\",IF(R4281<5,INT((A4281-1)/Einstellung!$B$4)+1,\"\"))","v":""},""]
["",null,null,null,null,null,null,null,null,null,null,null,null,null,null,null,null,"",{"$f":"IF(B4282=\"\",\"\",IF(R4282<5,INT((A4282-1)/Einstellung!$B$4)+1,\"\"))","v":""},""]
["",null,null,null,null,null,null,null,null,null,null,null,null,null,null,null,null,"",{"$f":"IF(B4284=\"\",\"\",IF(R4284<5,INT((A4284-1)/Einstellung!$B$4)+1,\"\"))","v":""},""]
["",null,null,null,null,null,null,null,null,null,null,null,null,null,null,null,null,"",{"$f":"IF(B4285=\"\",\"\",IF(R4285<5,INT((A4285-1)/Einstellung!$B$4)+1,\"\"))","v":""},""]
["",null,null,null,null,null,null,null,null,null,null,null,null,null,null,null,null,"",{"$f":"IF(B4288=\"\",\"\",IF(R4288<5,INT((A4288-1)/Einstellung!$B$4)+1,\"\"))","v":""},""]
["",null,null,null,null,null,null,null,null,null,null,null,null,null,null,null,null,"",{"$f":"IF(B4289=\"\",\"\",IF(R4289<5,INT((A4289-1)/Einstellung!$B$4)+1,\"\"))","v":""},""]
["",null,null,null,null,null,null,null,null,null,null,null,null,null,null,null,null,"",{"$f":"IF(B4291=\"\",\"\",IF(R4291<5,INT((A4291-1)/Einstellung!$B$4)+1,\"\"))","v":""},""]
["",null,null,null,null,null,null,null,null,null,null,null,null,null,null,null,null,"",{"$f":"IF(B4292=\"\",\"\",IF(R4292<5,INT((A4292-1)/Einstellung!$B$4)+1,\"\"))","v":""},""]
["",null,null,null,null,null,null,null,null,null,null,null,null,null,null,null,null,"",{"$f":"IF(B4295=\"\",\"\",IF(R4295<5,INT((A4295-1)/Einstellung!$B$4)+1,\"\"))","v":""},""]
["",null,null,null,null,null,null,null,null,null,null,null,null,null,null,null,null,{"$f":"IF(B4296=\"\",\"\",16-((MID(B$1,1,1)=MID(B4296,1,1))+(MID(C$1,1,1)=MID(C4296,1,1))+(MID(D$1,1,1)=MID(D4296,1,1))+(MID(E$1,1,1)=MID(E4296,1,1))+(MID(F$1,1,1)=MID(F4296,1,1))+(MID(G$1,1,1)=MID(G4296,1,1))+(MID(H$1,1,1)=MID(H4296,1,1))+(MID(I$1,1,1)=MID(I4296,1,1))+(MID(J$1,1,1)=MID(J4296,1,1))+(MID(K$1,1,1)=MID(K4296,1,1))+(MID(L$1,1,1)=MID(L4296,1,1))+(MID(M$1,1,1)=MID(M4296,1,1))+(MID(N$1,1,1)=MID(N4296,1,1))+(MID(O$1,1,1)=MID(O4296,1,1))+(MID(P$1,1,1)=MID(P4296,1,1)))-B$4+C$5)","v":""},{"$f":"IF(B4296=\"\",\"\",IF(R4296<5,INT((A4296-1)/Einstellung!$B$4)+1,\"\"))","v":""},{"$f":"IF(C$5<B$4,\"\",IF(R4296>4,\"\",OFFSET(T$2,R4296-1,0)))","v":""}]
["",null,null,null,null,null,null,null,null,null,null,null,null,null,null,null,null,"",{"$f":"IF(B4298=\"\",\"\",IF(R4298<5,INT((A4298-1)/Einstellung!$B$4)+1,\"\"))","v":""},""]
["",null,null,null,null,null,null,null,null,null,null,null,null,null,null,null,null,"",{"$f":"IF(B4299=\"\",\"\",IF(R4299<5,INT((A4299-1)/Einstellung!$B$4)+1,\"\"))","v":""},""]
["",null,null,null,null,null,null,null,null,null,null,null,null,null,null,null,null,"",{"$f":"IF(B4302=\"\",\"\",IF(R4302<5,INT((A4302-1)/Einstellung!$B$4)+1,\"\"))","v":""},""]
["",null,null,null,null,null,null,null,null,null,null,null,null,null,null,null,null,"",{"$f":"IF(B4303=\"\",\"\",IF(R4303<5,INT((A4303-1)/Einstellung!$B$4)+1,\"\"))","v":""},""]
["",null,null,null,null,null,null,null,null,null,null,null,null,null,null,null,null,"",{"$f":"IF(B4305=\"\",\"\",IF(R4305<5,INT((A4305-1)/Einstellung!$B$4)+1,\"\"))","v":""},""]
["",null,null,null,null,null,null,null,null,null,null,null,null,null,null,null,null,"",{"$f":"IF(B4306=\"\",\"\",IF(R4306<5,INT((A4306-1)/Einstellung!$B$4)+1,\"\"))","v":""},""]
["",null,null,null,null,null,null,null,null,null,null,null,null,null,null,null,null,"",{"$f":"IF(B4309=\"\",\"\",IF(R4309<5,INT((A4309-1)/Einstellung!$B$4)+1,\"\"))","v":""},""]
["",null,null,null,null,null,null,null,null,null,null,null,null,null,null,null,null,"",{"$f":"IF(B4310=\"\",\"\",IF(R4310<5,INT((A4310-1)/Einstellung!$B$4)+1,\"\"))","v":""},""]
["",null,null,null,null,null,null,null,null,null,null,null,null,null,null,null,null,"",{"$f":"IF(B4312=\"\",\"\",IF(R4312<5,INT((A4312-1)/Einstellung!$B$4)+1,\"\"))","v":""},""]
["",null,null,null,null,null,null,null,null,null,null,null,null,null,null,null,null,"",{"$f":"IF(B4313=\"\",\"\",IF(R4313<5,INT((A4313-1)/Einstellung!$B$4)+1,\"\"))","v":""},""]
["",null,null,null,null,null,null,null,null,null,null,null,null,null,null,null,null,"",{"$f":"IF(B4316=\"\",\"\",IF(R4316<5,INT((A4316-1)/Einstellung!$B$4)+1,\"\"))","v":""},""]
["",null,null,null,null,null,null,null,null,null,null,null,null,null,null,null,null,"",{"$f":"IF(B4317=\"\",\"\",IF(R4317<5,INT((A4317-1)/Einstellung!$B$4)+1,\"\"))","v":""},""]
["",null,null,null,null,null,null,null,null,null,null,null,null,null,null,null,null,"",{"$f":"IF(B4319=\"\",\"\",IF(R4319<5,INT((A4319-1)/Einstellung!$B$4)+1,\"\"))","v":""},""]
["",null,null,null,null,null,null,null,null,null,null,null,null,null,null,null,null,"",{"$f":"IF(B4320=\"\",\"\",IF(R4320<5,INT((A4320-1)/Einstellung!$B$4)+1,\"\"))","v":""},""]
["",null,null,null,null,null,null,null,null,null,null,null,null,null,null,null,null,"",{"$f":"IF(B4323=\"\",\"\",IF(R4323<5,INT((A4323-1)/Einstellung!$B$4)+1,\"\"))","v":""},""]
["",null,null,null,null,null,null,null,null,null,null,null,null,null,null,null,null,"",{"$f":"IF(B4324=\"\",\"\",IF(R4324<5,INT((A4324-1)/Einstellung!$B$4)+1,\"\"))","v":""},""]
["",null,null,null,null,null,null,null,null,null,null,null,null,null,null,null,null,"",{"$f":"IF(B4326=\"\",\"\",IF(R4326<5,INT((A4326-1)/Einstellung!$B$4)+1,\"\"))","v":""},""]
["",null,null,null,null,null,null,null,null,null,null,null,null,null,null,null,null,"",{"$f":"IF(B4327=\"\",\"\",IF(R4327<5,INT((A4327-1)/Einstellung!$B$4)+1,\"\"))","v":""},""]
[{"$f":"IF(B4330=\"\",\"\",ROW()-7)","v":""},null,null,null,null,null,null,null,null,null,null,null,null,null,null,null,null,"",{"$f":"IF(B4330=\"\",\"\",IF(R4330<5,INT((A4330-1)/Einstellung!$B$4)+1,\"\"))","v":""},""]
["",null,null,null,null,null,null,null,null,null,null,null,null,null,null,null,null,"",{"$f":"IF(B4331=\"\",\"\",IF(R4331<5,INT((A4331-1)/Einstellung!$B$4)+1,\"\"))","v":""},""]
["",null,null,null,null,null,null,null,null,null,null,null,null,null,null,null,null,"",{"$f":"IF(B4333=\"\",\"\",IF(R4333<5,INT((A4333-1)/Einstellung!$B$4)+1,\"\"))","v":""},""]
["",null,null,null,null,null,null,null,null,null,null,null,null,null,null,null,null,"",{"$f":"IF(B4334=\"\",\"\",IF(R4334<5,INT((A4334-1)/Einstellung!$B$4)+1,\"\"))","v":""},""]
["",null,null,null,null,null,null,null,null,null,null,null,null,null,null,null,null,"",{"$f":"IF(B4337=\"\",\"\",IF(R4337<5,INT((A4337-1)/Einstellung!$B$4)+1,\"\"))","v":""},""]
["",null,null,null,null,null,null,null,null,null,null,null,null,null,null,null,null,"",{"$f":"IF(B4338=\"\",\"\",IF(R4338<5,INT((A4338-1)/Einstellung!$B$4)+1,\"\"))","v":""},""]
["",null,null,null,null,null,null,null,null,null,null,null,null,null,null,null,null,"",{"$f":"IF(B4340=\"\",\"\",IF(R4340<5,INT((A4340-1)/Einstellung!$B$4)+1,\"\"))","v":""},""]
["",null,null,null,null,null,null,null,null,null,null,null,null,null,null,null,null,"",{"$f":"IF(B4341=\"\",\"\",IF(R4341<5,INT((A4341-1)/Einstellung!$B$4)+1,\"\"))","v":""},""]
["",null,null,null,null,null,null,null,null,null,null,null,null,null,null,null,null,"",{"$f":"IF(B4344=\"\",\"\",IF(R4344<5,INT((A4344-1)/Einstellung!$B$4)+1,\"\"))","v":""},""]
["",null,null,null,null,null,null,null,null,null,null,null,null,null,null,null,null,"",{"$f":"IF(B4345=\"\",\"\",IF(R4345<5,INT((A4345-1)/Einstellung!$B$4)+1,\"\"))","v":""},""]
["",null,null,null,null,null,null,null,null,null,null,null,null,null,null,null,null,"",{"$f":"IF(B4347=\"\",\"\",IF(R4347<5,INT((A4347-1)/Einstellung!$B$4)+1,\"\"))","v":""},""]
["",null,null,null,null,null,null,null,null,null,null,null,null,null,null,null,null,"",{"$f":"IF(B4348=\"\",\"\",IF(R4348<5,INT((A4348-1)/Einstellung!$B$4)+1,\"\"))","v":""},""]
["",null,null,null,null,null,null,null,null,null,null,null,null,null,null,null,null,"",{"$f":"IF(B4351=\"\",\"\",IF(R4351<5,INT((A4351-1)/Einstellung!$B$4)+1,\"\"))","v":""},""]
["",null,null,null,null,null,null,null,null,null,null,null,null,null,null,null,null,"",{"$f":"IF(B4352=\"\",\"\",IF(R4352<5,INT((A4352-1)/Einstellung!$B$4)+1,\"\"))","v":""},""]
["",null,null,null,null,null,null,null,null,null,null,null,null,null,null,null,null,"",{"$f":"IF(B4354=\"\",\"\",IF(R4354<5,INT((A4354-1)/Einstellung!$B$4)+1,\"\"))","v":""},""]
["",null,null,null,null,null,null,null,null,null,null,null,null,null,null,null,null,"",{"$f":"IF(B4355=\"\",\"\",IF(R4355<5,INT((A4355-1)/Einstellung!$B$4)+1,\"\"))","v":""},""]
["",null,null,null,null,null,null,null,null,null,null,null,null,null,null,null,null,"",{"$f":"IF(B4358=\"\",\"\",IF(R4358<5,INT((A4358-1)/Einstellung!$B$4)+1,\"\"))","v":""},""]
["",null,null,null,null,null,null,null,null,null,null,null,null,null,null,null,null,"",{"$f":"IF(B4359=\"\",\"\",IF(R4359<5,INT((A4359-1)/Einstellung!$B$4)+1,\"\"))","v":""},""]
["",null,null,null,null,null,null,null,null,null,null,null,null,null,null,null,null,"",{"$f":"IF(B4361=\"\",\"\",IF(R4361<5,INT((A4361-1)/Einstellung!$B$4)+1,\"\"))","v":""},""]
["",null,null,null,null,null,null,null,null,null,null,null,null,null,null,null,null,"",{"$f":"IF(B4362=\"\",\"\",IF(R4362<5,INT((A4362-1)/Einstellung!$B$4)+1,\"\"))","v":""},""]
["",null,null,null,null,null,null,null,null,null,null,null,null,null,null,null,null,"",{"$f":"IF(B4365=\"\",\"\",IF(R4365<5,INT((A4365-1)/Einstellung!$B$4)+1,\"\"))","v":""},""]
["",null,null,null,null,null,null,null,null,null,null,null,null,null,null,null,null,"",{"$f":"IF(B4366=\"\",\"\",IF(R4366<5,INT((A4366-1)/Einstellung!$B$4)+1,\"\"))","v":""},""]
["",null,null,null,null,null,null,null,null,null,null,null,null,null,null,null,null,"",{"$f":"IF(B4368=\"\",\"\",IF(R4368<5,INT((A4368-1)/Einstellung!$B$4)+1,\"\"))","v":""},""]
["",null,null,null,null,null,null,null,null,null,null,null,null,null,null,null,null,"",{"$f":"IF(B4369=\"\",\"\",IF(R4369<5,INT((A4369-1)/Einstellung!$B$4)+1,\"\"))","v":""},""]
["",null,null,null,null,null,null,null,null,null,null,null,null,null,null,null,null,"",{"$f":"IF(B4372=\"\",\"\",IF(R4372<5,INT((A4372-1)/Einstellung!$B$4)+1,\"\"))","v":""},""]
["",null,null,null,null,null,null,null,null,null,null,null,null,null,null,null,null,"",{"$f":"IF(B4373=\"\",\"\",IF(R4373<5,INT((A4373-1)/Einstellung!$B$4)+1,\"\"))","v":""},""]
["",null,null,null,null,null,null,null,null,null,null,null,null,null,null,null,null,"",{"$f":"IF(B4375=\"\",\"\",IF(R4375<5,INT((A4375-1)/Einstellung!$B$4)+1,\"\"))","v":""},""]
["",null,null,null,null,null,null,null,null,null,null,null,null,null,null,null,null,"",{"$f":"IF(B4376=\"\",\"\",IF(R4376<5,INT((A4376-1)/Einstellung!$B$4)+1,\"\"))","v":""},""]
["",null,null,null,null,null,null,null,null,null,null,null,null,null,null,null,null,"",{"$f":"IF(B4379=\"\",\"\",IF(R4379<5,INT((A4379-1)/Einstellung!$B$4)+1,\"\"))","v":""},""]
["",null,null,null,null,null,null,null,null,null,null,null,null,null,null,null,null,"",{"$f":"IF(B4380=\"\",\"\",IF(R4380<5,INT((A4380-1)/Einstellung!$B$4)+1,\"\"))","v":""},""]
["",null,null,null,null,null,null,null,null,null,null,null,null,null,null,null,null,"",{"$f":"IF(B4383=\"\",\"\",IF(R4383<5,INT((A4383-1)/Einstellung!$B$4)+1,\"\"))","v":""},""]
["",null,null,null,null,null,null,null,null,null,null,null,null,null,null,null,null,"",{"$f":"IF(B4384=\"\",\"\",IF(R4384<5,INT((A4384-1)/Einstellung!$B$4)+1,\"\"))","v":""},""]
["",null,null,null,null,null,null,null,null,null,null,null,null,null,null,null,null,"",{"$f":"IF(B4386=\"\",\"\",IF(R4386<5,INT((A4386-1)/Einstellung!$B$4)+1,\"\"))","v":""},""]
["",null,null,null,null,null,null,null,null,null,null,null,null,null,null,null,null,"",{"$f":"IF(B4387=\"\",\"\",IF(R4387<5,INT((A4387-1)/Einstellung!$B$4)+1,\"\"))","v":""},""]
["",null,null,null,null,null,null,null,null,null,null,null,null,null,null,null,null,"",{"$f":"IF(B4390=\"\",\"\",IF(R4390<5,INT((A4390-1)/Einstellung!$B$4)+1,\"\"))","v":""},""]
["",null,null,null,null,null,null,null,null,null,null,null,null,null,null,null,null,"",{"$f":"IF(B4391=\"\",\"\",IF(R4391<5,INT((A4391-1)/Einstellung!$B$4)+1,\"\"))","v":""},""]
["",null,null,null,null,null,null,null,null,null,null,null,null,null,null,null,null,"",{"$f":"IF(B4393=\"\",\"\",IF(R4393<5,INT((A4393-1)/Einstellung!$B$4)+1,\"\"))","v":""},""]
[{"$f":"IF(B4394=\"\",\"\",ROW()-7)","v":""},null,null,null,null,null,null,null,null,null,null,null,null,null,null,null,null,"",{"$f":"IF(B4394=\"\",\"\",IF(R4394<5,INT((A4394-1)/Einstellung!$B$4)+1,\"\"))","v":""},""]
["",null,null,null,null,null,null,null,null,null,null,null,null,null,null,null,null,"",{"$f":"IF(B4397=\"\",\"\",IF(R4397<5,INT((A4397-1)/Einstellung!$B$4)+1,\"\"))","v":""},""]
["",null,null,null,null,null,null,null,null,null,null,null,null,null,null,null,null,"",{"$f":"IF(B4398=\"\",\"\",IF(R4398<5,INT((A4398-1)/Einstellung!$B$4)+1,\"\"))","v":""},""]
["",null,null,null,null,null,null,null,null,null,null,null,null,null,null,null,null,"",{"$f":"IF(B4400=\"\",\"\",IF(R4400<5,INT((A4400-1)/Einstellung!$B$4)+1,\"\"))","v":""},""]
["",null,null,null,null,null,null,null,null,null,null,null,null,null,null,null,null,"",{"$f":"IF(B4401=\"\",\"\",IF(R4401<5,INT((A4401-1)/Einstellung!$B$4)+1,\"\"))","v":""},""]
["",null,null,null,null,null,null,null,null,null,null,null,null,null,null,null,null,"",{"$f":"IF(B4404=\"\",\"\",IF(R4404<5,INT((A4404-1)/Einstellung!$B$4)+1,\"\"))","v":""},""]
["",null,null,null,null,null,null,null,null,null,null,null,null,null,null,null,null,"",{"$f":"IF(B4405=\"\",\"\",IF(R4405<5,INT((A4405-1)/Einstellung!$B$4)+1,\"\"))","v":""},""]
["",null,null,null,null,null,null,null,null,null,null,null,null,null,null,null,null,"",{"$f":"IF(B4407=\"\",\"\",IF(R4407<5,INT((A4407-1)/Einstellung!$B$4)+1,\"\"))","v":""},""]
["",null,null,null,null,null,null,null,null,null,null,null,null,null,null,null,null,"",{"$f":"IF(B4408=\"\",\"\",IF(R4408<5,INT((A4408-1)/Einstellung!$B$4)+1,\"\"))","v":""},""]
["",null,null,null,null,null,null,null,null,null,null,null,null,null,null,null,null,"",{"$f":"IF(B4411=\"\",\"\",IF(R4411<5,INT((A4411-1)/Einstellung!$B$4)+1,\"\"))","v":""},""]
["",null,null,null,null,null,null,null,null,null,null,null,null,null,null,null,null,"",{"$f":"IF(B4412=\"\",\"\",IF(R4412<5,INT((A4412-1)/Einstellung!$B$4)+1,\"\"))","v":""},""]
["",null,null,null,null,null,null,null,null,null,null,null,null,null,null,null,null,"",{"$f":"IF(B4414=\"\",\"\",IF(R4414<5,INT((A4414-1)/Einstellung!$B$4)+1,\"\"))","v":""},""]
["",null,null,null,null,null,null,null,null,null,null,null,null,null,null,null,null,"",{"$f":"IF(B4415=\"\",\"\",IF(R4415<5,INT((A4415-1)/Einstellung!$B$4)+1,\"\"))","v":""},""]
["",null,null,null,null,null,null,null,null,null,null,null,null,null,null,null,null,"",{"$f":"IF(B4418=\"\",\"\",IF(R4418<5,INT((A4418-1)/Einstellung!$B$4)+1,\"\"))","v":""},""]
["",null,null,null,null,null,null,null,null,null,null,null,null,null,null,null,null,"",{"$f":"IF(B4419=\"\",\"\",IF(R4419<5,INT((A4419-1)/Einstellung!$B$4)+1,\"\"))","v":""},""]
["",null,null,null,null,null,null,null,null,null,null,null,null,null,null,null,null,"",{"$f":"IF(B4421=\"\",\"\",IF(R4421<5,INT((A4421-1)/Einstellung!$B$4)+1,\"\"))","v":""},""]
["",null,null,null,null,null,null,null,null,null,null,null,null,null,null,null,null,"",{"$f":"IF(B4422=\"\",\"\",IF(R4422<5,INT((A4422-1)/Einstellung!$B$4)+1,\"\"))","v":""},""]
["",null,null,null,null,null,null,null,null,null,null,null,null,null,null,null,null,"",{"$f":"IF(B4425=\"\",\"\",IF(R4425<5,INT((A4425-1)/Einstellung!$B$4)+1,\"\"))","v":""},""]
["",null,null,null,null,null,null,null,null,null,null,null,null,null,null,null,null,"",{"$f":"IF(B4426=\"\",\"\",IF(R4426<5,INT((A4426-1)/Einstellung!$B$4)+1,\"\"))","v":""},""]
["",null,null,null,null,null,null,null,null,null,null,null,null,null,null,null,null,"",{"$f":"IF(B4428=\"\",\"\",IF(R4428<5,INT((A4428-1)/Einstellung!$B$4)+1,\"\"))","v":""},""]
["",null,null,null,null,null,null,null,null,null,null,null,null,null,null,null,null,"",{"$f":"IF(B4429=\"\",\"\",IF(R4429<5,INT((A4429-1)/Einstellung!$B$4)+1,\"\"))","v":""},""]
["",null,null,null,null,null,null,null,null,null,null,null,null,null,null,null,null,"",{"$f":"IF(B4432=\"\",\"\",IF(R4432<5,INT((A4432-1)/Einstellung!$B$4)+1,\"\"))","v":""},""]
["",null,null,null,null,null,null,null,null,null,null,null,null,null,null,null,null,"",{"$f":"IF(B4433=\"\",\"\",IF(R4433<5,INT((A4433-1)/Einstellung!$B$4)+1,\"\"))","v":""},""]
["",null,null,null,null,null,null,null,null,null,null,null,null,null,null,null,null,"",{"$f":"IF(B4435=\"\",\"\",IF(R4435<5,INT((A4435-1)/Einstellung!$B$4)+1,\"\"))","v":""},""]
["",null,null,null,null,null,null,null,null,null,null,null,null,null,null,null,null,"",{"$f":"IF(B4436=\"\",\"\",IF(R4436<5,INT((A4436-1)/Einstellung!$B$4)+1,\"\"))","v":""},""]
["",null,null,null,null,null,null,null,null,null,null,null,null,null,null,null,null,"",{"$f":"IF(B4439=\"\",\"\",IF(R4439<5,INT((A4439-1)/Einstellung!$B$4)+1,\"\"))","v":""},""]
["",null,null,null,null,null,null,null,null,null,null,null,null,null,null,null,null,"",{"$f":"IF(B4440=\"\",\"\",IF(R4440<5,INT((A4440-1)/Einstellung!$B$4)+1,\"\"))","v":""},""]
["",null,null,null,null,null,null,null,null,null,null,null,null,null,null,null,null,"",{"$f":"IF(B4442=\"\",\"\",IF(R4442<5,INT((A4442-1)/Einstellung!$B$4)+1,\"\"))","v":""},""]
["",null,null,null,null,null,null,null,null,null,null,null,null,null,null,null,null,"",{"$f":"IF(B4443=\"\",\"\",IF(R4443<5,INT((A4443-1)/Einstellung!$B$4)+1,\"\"))","v":""},""]
["",null,null,null,null,null,null,null,null,null,null,null,null,null,null,null,null,"",{"$f":"IF(B4446=\"\",\"\",IF(R4446<5,INT((A4446-1)/Einstellung!$B$4)+1,\"\"))","v":""},""]
["",null,null,null,null,null,null,null,null,null,null,null,null,null,null,null,null,"",{"$f":"IF(B4447=\"\",\"\",IF(R4447<5,INT((A4447-1)/Einstellung!$B$4)+1,\"\"))","v":""},""]
["",null,null,null,null,null,null,null,null,null,null,null,null,null,null,null,null,"",{"$f":"IF(B4449=\"\",\"\",IF(R4449<5,INT((A4449-1)/Einstellung!$B$4)+1,\"\"))","v":""},""]
["",null,null,null,null,null,null,null,null,null,null,null,null,null,null,null,null,"",{"$f":"IF(B4450=\"\",\"\",IF(R4450<5,INT((A4450-1)/Einstellung!$B$4)+1,\"\"))","v":""},""]
["",null,null,null,null,null,null,null,null,null,null,null,null,null,null,null,null,"",{"$f":"IF(B4453=\"\",\"\",IF(R4453<5,INT((A4453-1)/Einstellung!$B$4)+1,\"\"))","v":""},""]
["",null,null,null,null,null,null,null,null,null,null,null,null,null,null,null,null,"",{"$f":"IF(B4454=\"\",\"\",IF(R4454<5,INT((A4454-1)/Einstellung!$B$4)+1,\"\"))","v":""},""]
["",null,null,null,null,null,null,null,null,null,null,null,null,null,null,null,null,"",{"$f":"IF(B4456=\"\",\"\",IF(R4456<5,INT((A4456-1)/Einstellung!$B$4)+1,\"\"))","v":""},""]
["",null,null,null,null,null,null,null,null,null,null,null,null,null,null,null,null,"",{"$f":"IF(B4457=\"\",\"\",IF(R4457<5,INT((A4457-1)/Einstellung!$B$4)+1,\"\"))","v":""},""]
["",null,null,null,null,null,null,null,null,null,null,null,null,null,null,null,null,"",{"$f":"IF(B4460=\"\",\"\",IF(R4460<5,INT((A4460-1)/Einstellung!$B$4)+1,\"\"))","v":""},""]
["",null,null,null,null,null,null,null,null,null,null,null,null,null,null,null,null,"",{"$f":"IF(B4461=\"\",\"\",IF(R4461<5,INT((A4461-1)/Einstellung!$B$4)+1,\"\"))","v":""},""]
["",null,null,null,null,null,null,null,null,null,null,null,null,null,null,null,null,"",{"$f":"IF(B4463=\"\",\"\",IF(R4463<5,INT((A4463-1)/Einstellung!$B$4)+1,\"\"))","v":""},""]
["",null,null,null,null,null,null,null,null,null,null,null,null,null,null,null,null,"",{"$f":"IF(B4464=\"\",\"\",IF(R4464<5,INT((A4464-1)/Einstellung!$B$4)+1,\"\"))","v":""},""]
["",null,null,null,null,null,null,null,null,null,null,null,null,null,null,null,null,"",{"$f":"IF(B4467=\"\",\"\",IF(R4467<5,INT((A4467-1)/Einstellung!$B$4)+1,\"\"))","v":""},""]
["",null,null,null,null,null,null,null,null,null,null,null,null,null,null,null,null,"",{"$f":"IF(B4468=\"\",\"\",IF(R4468<5,INT((A4468-1)/Einstellung!$B$4)+1,\"\"))","v":""},""]
["",null,null,null,null,null,null,null,null,null,null,null,null,null,null,null,null,"",{"$f":"IF(B4470=\"\",\"\",IF(R4470<5,INT((A4470-1)/Einstellung!$B$4)+1,\"\"))","v":""},""]
["",null,null,null,null,null,null,null,null,null,null,null,null,null,null,null,null,"",{"$f":"IF(B4471=\"\",\"\",IF(R4471<5,INT((A4471-1)/Einstellung!$B$4)+1,\"\"))","v":""},""]
["",null,null,null,null,null,null,null,null,null,null,null,null,null,null,null,null,"",{"$f":"IF(B4474=\"\",\"\",IF(R4474<5,INT((A4474-1)/Einstellung!$B$4)+1,\"\"))","v":""},""]
["",null,null,null,null,null,null,null,null,null,null,null,null,null,null,null,null,"",{"$f":"IF(B4475=\"\",\"\",IF(R4475<5,INT((A4475-1)/Einstellung!$B$4)+1,\"\"))","v":""},""]
["",null,null,null,null,null,null,null,null,null,null,null,null,null,null,null,null,"",{"$f":"IF(B4477=\"\",\"\",IF(R4477<5,INT((A4477-1)/Einstellung!$B$4)+1,\"\"))","v":""},""]
["",null,null,null,null,null,null,null,null,null,null,null,null,null,null,null,null,"",{"$f":"IF(B4478=\"\",\"\",IF(R4478<5,INT((A4478-1)/Einstellung!$B$4)+1,\"\"))","v":""},""]
["",null,null,null,null,null,null,null,null,null,null,null,null,null,null,null,null,"",{"$f":"IF(B4481=\"\",\"\",IF(R4481<5,INT((A4481-1)/Einstellung!$B$4)+1,\"\"))","v":""},""]
["",null,null,null,null,null,null,null,null,null,null,null,null,null,null,null,null,"",{"$f":"IF(B4482=\"\",\"\",IF(R4482<5,INT((A4482-1)/Einstellung!$B$4)+1,\"\"))","v":""},""]
["",null,null,null,null,null,null,null,null,null,null,null,null,null,null,null,null,"",{"$f":"IF(B4484=\"\",\"\",IF(R4484<5,INT((A4484-1)/Einstellung!$B$4)+1,\"\"))","v":""},""]
["",null,null,null,null,null,null,null,null,null,null,null,null,null,null,null,null,"",{"$f":"IF(B4485=\"\",\"\",IF(R4485<5,INT((A4485-1)/Einstellung!$B$4)+1,\"\"))","v":""},""]
["",null,null,null,null,null,null,null,null,null,null,null,null,null,null,null,null,{"$f":"IF(B4488=\"\",\"\",16-((MID(B$1,1,1)=MID(B4488,1,1))+(MID(C$1,1,1)=MID(C4488,1,1))+(MID(D$1,1,1)=MID(D4488,1,1))+(MID(E$1,1,1)=MID(E4488,1,1))+(MID(F$1,1,1)=MID(F4488,1,1))+(MID(G$1,1,1)=MID(G4488,1,1))+(MID(H$1,1,1)=MID(H4488,1,1))+(MID(I$1,1,1)=MID(I4488,1,1))+(MID(J$1,1,1)=MID(J4488,1,1))+(MID(K$1,1,1)=MID(K4488,1,1))+(MID(L$1,1,1)=MID(L4488,1,1))+(MID(M$1,1,1)=MID(M4488,1,1))+(MID(N$1,1,1)=MID(N4488,1,1))+(MID(O$1,1,1)=MID(O4488,1,1))+(MID(P$1,1,1)=MID(P4488,1,1)))-B$4+C$5)","v":""},{"$f":"IF(B4488=\"\",\"\",IF(R4488<5,INT((A4488-1)/Einstellung!$B$4)+1,\"\"))","v":""},{"$f":"IF(C$5<B$4,\"\",IF(R4488>4,\"\",OFFSET(T$2,R4488-1,0)))","v":""}]
["",null,null,null,null,null,null,null,null,null,null,null,null,null,null,null,null,"",{"$f":"IF(B4489=\"\",\"\",IF(R4489<5,INT((A4489-1)/Einstellung!$B$4)+1,\"\"))","v":""},""]
["",null,null,null,null,null,null,null,null,null,null,null,null,null,null,null,null,"",{"$f":"IF(B4491=\"\",\"\",IF(R4491<5,INT((A4491-1)/Einstellung!$B$4)+1,\"\"))","v":""},""]
["",null,null,null,null,null,null,null,null,null,null,null,null,null,null,null,null,"",{"$f":"IF(B4492=\"\",\"\",IF(R4492<5,INT((A4492-1)/Einstellung!$B$4)+1,\"\"))","v":""},""]
["",null,null,null,null,null,null,null,null,null,null,null,null,null,null,null,null,"",{"$f":"IF(B4495=\"\",\"\",IF(R4495<5,INT((A4495-1)/Einstellung!$B$4)+1,\"\"))","v":""},""]
["",null,null,null,null,null,null,null,null,null,null,null,null,null,null,null,null,"",{"$f":"IF(B4496=\"\",\"\",IF(R4496<5,INT((A4496-1)/Einstellung!$B$4)+1,\"\"))","v":""},""]
["",null,null,null,null,null,null,null,null,null,null,null,null,null,null,null,null,"",{"$f":"IF(B4498=\"\",\"\",IF(R4498<5,INT((A4498-1)/Einstellung!$B$4)+1,\"\"))","v":""},""]
["",null,null,null,null,null,null,null,null,null,null,null,null,null,null,null,null,"",{"$f":"IF(B4499=\"\",\"\",IF(R4499<5,INT((A4499-1)/Einstellung!$B$4)+1,\"\"))","v":""},""]
["",null,null,null,null,null,null,null,null,null,null,null,null,null,null,null,null,"",{"$f":"IF(B4502=\"\",\"\",IF(R4502<5,INT((A4502-1)/Einstellung!$B$4)+1,\"\"))","v":""},""]
["",null,null,null,null,null,null,null,null,null,null,null,null,null,null,null,null,"",{"$f":"IF(B4503=\"\",\"\",IF(R4503<5,INT((A4503-1)/Einstellung!$B$4)+1,\"\"))","v":""},""]
["",null,null,null,null,null,null,null,null,null,null,null,null,null,null,null,null,"",{"$f":"IF(B4505=\"\",\"\",IF(R4505<5,INT((A4505-1)/Einstellung!$B$4)+1,\"\"))","v":""},""]
["",null,null,null,null,null,null,null,null,null,null,null,null,null,null,null,null,"",{"$f":"IF(B4506=\"\",\"\",IF(R4506<5,INT((A4506-1)/Einstellung!$B$4)+1,\"\"))","v":""},""]
["",null,null,null,null,null,null,null,null,null,null,null,null,null,null,null,null,"",{"$f":"IF(B4509=\"\",\"\",IF(R4509<5,INT((A4509-1)/Einstellung!$B$4)+1,\"\"))","v":""},""]
["",null,null,null,null,null,null,null,null,null,null,null,null,null,null,null,null,"",{"$f":"IF(B4510=\"\",\"\",IF(R4510<5,INT((A4510-1)/Einstellung!$B$4)+1,\"\"))","v":""},""]
["",null,null,null,null,null,null,null,null,null,null,null,null,null,null,null,null,"",{"$f":"IF(B4512=\"\",\"\",IF(R4512<5,INT((A4512-1)/Einstellung!$B$4)+1,\"\"))","v":""},""]
["",null,null,null,null,null,null,null,null,null,null,null,null,null,null,null,null,"",{"$f":"IF(B4513=\"\",\"\",IF(R4513<5,INT((A4513-1)/Einstellung!$B$4)+1,\"\"))","v":""},""]
["",null,null,null,null,null,null,null,null,null,null,null,null,null,null,null,null,"",{"$f":"IF(B4516=\"\",\"\",IF(R4516<5,INT((A4516-1)/Einstellung!$B$4)+1,\"\"))","v":""},""]
["",null,null,null,null,null,null,null,null,null,null,null,null,null,null,null,null,"",{"$f":"IF(B4517=\"\",\"\",IF(R4517<5,INT((A4517-1)/Einstellung!$B$4)+1,\"\"))","v":""},""]
["",null,null,null,null,null,null,null,null,null,null,null,null,null,null,null,null,"",{"$f":"IF(B4519=\"\",\"\",IF(R4519<5,INT((A4519-1)/Einstellung!$B$4)+1,\"\"))","v":""},""]
["",null,null,null,null,null,null,null,null,null,null,null,null,null,null,null,null,"",{"$f":"IF(B4520=\"\",\"\",IF(R4520<5,INT((A4520-1)/Einstellung!$B$4)+1,\"\"))","v":""},""]
["",null,null,null,null,null,null,null,null,null,null,null,null,null,null,null,null,"",{"$f":"IF(B4523=\"\",\"\",IF(R4523<5,INT((A4523-1)/Einstellung!$B$4)+1,\"\"))","v":""},""]
["",null,null,null,null,null,null,null,null,null,null,null,null,null,null,null,null,"",{"$f":"IF(B4524=\"\",\"\",IF(R4524<5,INT((A4524-1)/Einstellung!$B$4)+1,\"\"))","v":""},""]
["",null,null,null,null,null,null,null,null,null,null,null,null,null,null,null,null,"",{"$f":"IF(B4526=\"\",\"\",IF(R4526<5,INT((A4526-1)/Einstellung!$B$4)+1,\"\"))","v":""},""]
["",null,null,null,null,null,null,null,null,null,null,null,null,null,null,null,null,"",{"$f":"IF(B4527=\"\",\"\",IF(R4527<5,INT((A4527-1)/Einstellung!$B$4)+1,\"\"))","v":""},""]
["",null,null,null,null,null,null,null,null,null,null,null,null,null,null,null,null,"",{"$f":"IF(B4530=\"\",\"\",IF(R4530<5,INT((A4530-1)/Einstellung!$B$4)+1,\"\"))","v":""},""]
["",null,null,null,null,null,null,null,null,null,null,null,null,null,null,null,null,"",{"$f":"IF(B4531=\"\",\"\",IF(R4531<5,INT((A4531-1)/Einstellung!$B$4)+1,\"\"))","v":""},""]
["",null,null,null,null,null,null,null,null,null,null,null,null,null,null,null,null,"",{"$f":"IF(B4533=\"\",\"\",IF(R4533<5,INT((A4533-1)/Einstellung!$B$4)+1,\"\"))","v":""},""]
["",null,null,null,null,null,null,null,null,null,null,null,null,null,null,null,null,"",{"$f":"IF(B4534=\"\",\"\",IF(R4534<5,INT((A4534-1)/Einstellung!$B$4)+1,\"\"))","v":""},""]
["",null,null,null,null,null,null,null,null,null,null,null,null,null,null,null,null,"",{"$f":"IF(B4537=\"\",\"\",IF(R4537<5,INT((A4537-1)/Einstellung!$B$4)+1,\"\"))","v":""},""]
["",null,null,null,null,null,null,null,null,null,null,null,null,null,null,null,null,"",{"$f":"IF(B4538=\"\",\"\",IF(R4538<5,INT((A4538-1)/Einstellung!$B$4)+1,\"\"))","v":""},""]
["",null,null,null,null,null,null,null,null,null,null,null,null,null,null,null,null,"",{"$f":"IF(B4540=\"\",\"\",IF(R4540<5,INT((A4540-1)/Einstellung!$B$4)+1,\"\"))","v":""},""]
["",null,null,null,null,null,null,null,null,null,null,null,null,null,null,null,null,"",{"$f":"IF(B4541=\"\",\"\",IF(R4541<5,INT((A4541-1)/Einstellung!$B$4)+1,\"\"))","v":""},""]
["",null,null,null,null,null,null,null,null,null,null,null,null,null,null,null,null,"",{"$f":"IF(B4544=\"\",\"\",IF(R4544<5,INT((A4544-1)/Einstellung!$B$4)+1,\"\"))","v":""},""]
["",null,null,null,null,null,null,null,null,null,null,null,null,null,null,null,null,"",{"$f":"IF(B4545=\"\",\"\",IF(R4545<5,INT((A4545-1)/Einstellung!$B$4)+1,\"\"))","v":""},""]
["",null,null,null,null,null,null,null,null,null,null,null,null,null,null,null,null,"",{"$f":"IF(B4547=\"\",\"\",IF(R4547<5,INT((A4547-1)/Einstellung!$B$4)+1,\"\"))","v":""},""]
["",null,null,null,null,null,null,null,null,null,null,null,null,null,null,null,null,"",{"$f":"IF(B4548=\"\",\"\",IF(R4548<5,INT((A4548-1)/Einstellung!$B$4)+1,\"\"))","v":""},""]
["",null,null,null,null,null,null,null,null,null,null,null,null,null,null,null,null,"",{"$f":"IF(B4551=\"\",\"\",IF(R4551<5,INT((A4551-1)/Einstellung!$B$4)+1,\"\"))","v":""},""]
["",null,null,null,null,null,null,null,null,null,null,null,null,null,null,null,null,{"$f":"IF(B4552=\"\",\"\",16-((MID(B$1,1,1)=MID(B4552,1,1))+(MID(C$1,1,1)=MID(C4552,1,1))+(MID(D$1,1,1)=MID(D4552,1,1))+(MID(E$1,1,1)=MID(E4552,1,1))+(MID(F$1,1,1)=MID(F4552,1,1))+(MID(G$1,1,1)=MID(G4552,1,1))+(MID(H$1,1,1)=MID(H4552,1,1))+(MID(I$1,1,1)=MID(I4552,1,1))+(MID(J$1,1,1)=MID(J4552,1,1))+(MID(K$1,1,1)=MID(K4552,1,1))+(MID(L$1,1,1)=MID(L4552,1,1))+(MID(M$1,1,1)=MID(M4552,1,1))+(MID(N$1,1,1)=MID(N4552,1,1))+(MID(O$1,1,1)=MID(O4552,1,1))+(MID(P$1,1,1)=MID(P4552,1,1)))-B$4+C$5)","v":""},{"$f":"IF(B4552=\"\",\"\",IF(R4552<5,INT((A4552-1)/Einstellung!$B$4)+1,\"\"))","v":""},{"$f":"IF(C$5<B$4,\"\",IF(R4552>4,\"\",OFFSET(T$2,R4552-1,0)))","v":""}]
["",null,null,null,null,null,null,null,null,null,null,null,null,null,null,null,null,"",{"$f":"IF(B4554=\"\",\"\",IF(R4554<5,INT((A4554-1)/Einstellung!$B$4)+1,\"\"))","v":""},""]
["",null,null,null,null,null,null,null,null,null,null,null,null,null,null,null,null,"",{"$f":"IF(B4555=\"\",\"\",IF(R4555<5,INT((A4555-1)/Einstellung!$B$4)+1,\"\"))","v":""},""]
["",null,null,null,null,null,null,null,null,null,null,null,null,null,null,null,null,"",{"$f":"IF(B4558=\"\",\"\",IF(R4558<5,INT((A4558-1)/Einstellung!$B$4)+1,\"\"))","v":""},""]
["",null,null,null,null,null,null,null,null,null,null,null,null,null,null,null,null,"",{"$f":"IF(B4559=\"\",\"\",IF(R4559<5,INT((A4559-1)/Einstellung!$B$4)+1,\"\"))","v":""},""]
["",null,null,null,null,null,null,null,null,null,null,null,null,null,null,null,null,"",{"$f":"IF(B4561=\"\",\"\",IF(R4561<5,INT((A4561-1)/Einstellung!$B$4)+1,\"\"))","v":""},""]
["",null,null,null,null,null,null,null,null,null,null,null,null,null,null,null,null,"",{"$f":"IF(B4562=\"\",\"\",IF(R4562<5,INT((A4562-1)/Einstellung!$B$4)+1,\"\"))","v":""},""]
["",null,null,null,null,null,null,null,null,null,null,null,null,null,null,null,null,"",{"$f":"IF(B4565=\"\",\"\",IF(R4565<5,INT((A4565-1)/Einstellung!$B$4)+1,\"\"))","v":""},""]
["",null,null,null,null,null,null,null,null,null,null,null,null,null,null,null,null,"",{"$f":"IF(B4566=\"\",\"\",IF(R4566<5,INT((A4566-1)/Einstellung!$B$4)+1,\"\"))","v":""},""]
["",null,null,null,null,null,null,null,null,null,null,null,null,null,null,null,null,"",{"$f":"IF(B4568=\"\",\"\",IF(R4568<5,INT((A4568-1)/Einstellung!$B$4)+1,\"\"))","v":""},""]
["",null,null,null,null,null,null,null,null,null,null,null,null,null,null,null,null,"",{"$f":"IF(B4569=\"\",\"\",IF(R4569<5,INT((A4569-1)/Einstellung!$B$4)+1,\"\"))","v":""},""]
["",null,null,null,null,null,null,null,null,null,null,null,null,null,null,null,null,"",{"$f":"IF(B4572=\"\",\"\",IF(R4572<5,INT((A4572-1)/Einstellung!$B$4)+1,\"\"))","v":""},""]
["",null,null,null,null,null,null,null,null,null,null,null,null,null,null,null,null,"",{"$f":"IF(B4573=\"\",\"\",IF(R4573<5,INT((A4573-1)/Einstellung!$B$4)+1,\"\"))","v":""},""]
["",null,null,null,null,null,null,null,null,null,null,null,null,null,null,null,null,"",{"$f":"IF(B4575=\"\",\"\",IF(R4575<5,INT((A4575-1)/Einstellung!$B$4)+1,\"\"))","v":""},""]
["",null,null,null,null,null,null,null,null,null,null,null,null,null,null,null,null,"",{"$f":"IF(B4576=\"\",\"\",IF(R4576<5,INT((A4576-1)/Einstellung!$B$4)+1,\"\"))","v":""},""]
["",null,null,null,null,null,null,null,null,null,null,null,null,null,null,null,null,"",{"$f":"IF(B4579=\"\",\"\",IF(R4579<5,INT((A4579-1)/Einstellung!$B$4)+1,\"\"))","v":""},""]
["",null,null,null,null,null,null,null,null,null,null,null,null,null,null,null,null,"",{"$f":"IF(B4580=\"\",\"\",IF(R4580<5,INT((A4580-1)/Einstellung!$B$4)+1,\"\"))","v":""},""]
["",null,null,null,null,null,null,null,null,null,null,null,null,null,null,null,null,"",{"$f":"IF(B4582=\"\",\"\",IF(R4582<5,INT((A4582-1)/Einstellung!$B$4)+1,\"\"))","v":""},""]
["",null,null,null,null,null,null,null,null,null,null,null,null,null,null,null,null,"",{"$f":"IF(B4583=\"\",\"\",IF(R4583<5,INT((A4583-1)/Einstellung!$B$4)+1,\"\"))","v":""},""]
[{"$f":"IF(B4586=\"\",\"\",ROW()-7)","v":""},null,null,null,null,null,null,null,null,null,null,null,null,null,null,null,null,"",{"$f":"IF(B4586=\"\",\"\",IF(R4586<5,INT((A4586-1)/Einstellung!$B$4)+1,\"\"))","v":""},""]
["",null,null,null,null,null,null,null,null,null,null,null,null,null,null,null,null,"",{"$f":"IF(B4587=\"\",\"\",IF(R4587<5,INT((A4587-1)/Einstellung!$B$4)+1,\"\"))","v":""},""]
["",null,null,null,null,null,null,null,null,null,null,null,null,null,null,null,null,"",{"$f":"IF(B4589=\"\",\"\",IF(R4589<5,INT((A4589-1)/Einstellung!$B$4)+1,\"\"))","v":""},""]
["",null,null,null,null,null,null,null,null,null,null,null,null,null,null,null,null,"",{"$f":"IF(B4590=\"\",\"\",IF(R4590<5,INT((A4590-1)/Einstellung!$B$4)+1,\"\"))","v":""},""]
["",null,null,null,null,null,null,null,null,null,null,null,null,null,null,null,null,"",{"$f":"IF(B4593=\"\",\"\",IF(R4593<5,INT((A4593-1)/Einstellung!$B$4)+1,\"\"))","v":""},""]
["",null,null,null,null,null,null,null,null,null,null,null,null,null,null,null,null,"",{"$f":"IF(B4594=\"\",\"\",IF(R4594<5,INT((A4594-1)/Einstellung!$B$4)+1,\"\"))","v":""},""]
["",null,null,null,null,null,null,null,null,null,null,null,null,null,null,null,null,"",{"$f":"IF(B4596=\"\",\"\",IF(R4596<5,INT((A4596-1)/Einstellung!$B$4)+1,\"\"))","v":""},""]
["",null,null,null,null,null,null,null,null,null,null,null,null,null,null,null,null,"",{"$f":"IF(B4597=\"\",\"\",IF(R4597<5,INT((A4597-1)/Einstellung!$B$4)+1,\"\"))","v":""},""]
["",null,null,null,null,null,null,null,null,null,null,null,null,null,null,null,null,"",{"$f":"IF(B4600=\"\",\"\",IF(R4600<5,INT((A4600-1)/Einstellung!$B$4)+1,\"\"))","v":""},""]
["",null,null,null,null,null,null,null,null,null,null,null,null,null,null,null,null,"",{"$f":"IF(B4601=\"\",\"\",IF(R4601<5,INT((A4601-1)/Einstellung!$B$4)+1,\"\"))","v":""},""]
["",null,null,null,null,null,null,null,null,null,null,null,null,null,null,null,null,"",{"$f":"IF(B4603=\"\",\"\",IF(R4603<5,INT((A4603-1)/Einstellung!$B$4)+1,\"\"))","v":""},""]
["",null,null,null,null,null,null,null,null,null,null,null,null,null,null,null,null,"",{"$f":"IF(B4604=\"\",\"\",IF(R4604<5,INT((A4604-1)/Einstellung!$B$4)+1,\"\"))","v":""},""]
["",null,null,null,null,null,null,null,null,null,null,null,null,null,null,null,null,"",{"$f":"IF(B4607=\"\",\"\",IF(R4607<5,INT((A4607-1)/Einstellung!$B$4)+1,\"\"))","v":""},""]
["",null,null,null,null,null,null,null,null,null,null,null,null,null,null,null,null,"",{"$f":"IF(B4608=\"\",\"\",IF(R4608<5,INT((A4608-1)/Einstellung!$B$4)+1,\"\"))","v":""},""]
["",null,null,null,null,null,null,null,null,null,null,null,null,null,null,null,null,"",{"$f":"IF(B4610=\"\",\"\",IF(R4610<5,INT((A4610-1)/Einstellung!$B$4)+1,\"\"))","v":""},""]
["",null,null,null,null,null,null,null,null,null,null,null,null,null,null,null,null,"",{"$f":"IF(B4611=\"\",\"\",IF(R4611<5,INT((A4611-1)/Einstellung!$B$4)+1,\"\"))","v":""},""]
["",null,null,null,null,null,null,null,null,null,null,null,null,null,null,null,null,"",{"$f":"IF(B4614=\"\",\"\",IF(R4614<5,INT((A4614-1)/Einstellung!$B$4)+1,\"\"))","v":""},""]
["",null,null,null,null,null,null,null,null,null,null,null,null,null,null,null,null,"",{"$f":"IF(B4615=\"\",\"\",IF(R4615<5,INT((A4615-1)/Einstellung!$B$4)+1,\"\"))","v":""},""]
["",null,null,null,null,null,null,null,null,null,null,null,null,null,null,null,null,"",{"$f":"IF(B4617=\"\",\"\",IF(R4617<5,INT((A4617-1)/Einstellung!$B$4)+1,\"\"))","v":""},""]
["",null,null,null,null,null,null,null,null,null,null,null,null,null,null,null,null,"",{"$f":"IF(B4618=\"\",\"\",IF(R4618<5,INT((A4618-1)/Einstellung!$B$4)+1,\"\"))","v":""},""]
["",null,null,null,null,null,null,null,null,null,null,null,null,null,null,null,null,"",{"$f":"IF(B4621=\"\",\"\",IF(R4621<5,INT((A4621-1)/Einstellung!$B$4)+1,\"\"))","v":""},""]
["",null,null,null,null,null,null,null,null,null,null,null,null,null,null,null,null,"",{"$f":"IF(B4622=\"\",\"\",IF(R4622<5,INT((A4622-1)/Einstellung!$B$4)+1,\"\"))","v":""},""]
["",null,null,null,null,null,null,null,null,null,null,null,null,null,null,null,null,"",{"$f":"IF(B4624=\"\",\"\",IF(R4624<5,INT((A4624-1)/Einstellung!$B$4)+1,\"\"))","v":""},""]
["",null,null,null,null,null,null,null,null,null,null,null,null,null,null,null,null,"",{"$f":"IF(B4625=\"\",\"\",IF(R4625<5,INT((A4625-1)/Einstellung!$B$4)+1,\"\"))","v":""},""]
["",null,null,null,null,null,null,null,null,null,null,null,null,null,null,null,null,"",{"$f":"IF(B4628=\"\",\"\",IF(R4628<5,INT((A4628-1)/Einstellung!$B$4)+1,\"\"))","v":""},""]
["",null,null,null,null,null,null,null,null,null,null,null,null,null,null,null,null,"",{"$f":"IF(B4629=\"\",\"\",IF(R4629<5,INT((A4629-1)/Einstellung!$B$4)+1,\"\"))","v":""},""]
["",null,null,null,null,null,null,null,null,null,null,null,null,null,null,null,null,"",{"$f":"IF(B4632=\"\",\"\",IF(R4632<5,INT((A4632-1)/Einstellung!$B$4)+1,\"\"))","v":""},""]
["",null,null,null,null,null,null,null,null,null,null,null,null,null,null,null,null,"",{"$f":"IF(B4633=\"\",\"\",IF(R4633<5,INT((A4633-1)/Einstellung!$B$4)+1,\"\"))","v":""},""]
["",null,null,null,null,null,null,null,null,null,null,null,null,null,null,null,null,"",{"$f":"IF(B4635=\"\",\"\",IF(R4635<5,INT((A4635-1)/Einstellung!$B$4)+1,\"\"))","v":""},""]
["",null,null,null,null,null,null,null,null,null,null,null,null,null,null,null,null,"",{"$f":"IF(B4636=\"\",\"\",IF(R4636<5,INT((A4636-1)/Einstellung!$B$4)+1,\"\"))","v":""},""]
["",null,null,null,null,null,null,null,null,null,null,null,null,null,null,null,null,"",{"$f":"IF(B4639=\"\",\"\",IF(R4639<5,INT((A4639-1)/Einstellung!$B$4)+1,\"\"))","v":""},""]
["",null,null,null,null,null,null,null,null,null,null,null,null,null,null,null,null,"",{"$f":"IF(B4640=\"\",\"\",IF(R4640<5,INT((A4640-1)/Einstellung!$B$4)+1,\"\"))","v":""},""]
["",null,null,null,null,null,null,null,null,null,null,null,null,null,null,null,null,"",{"$f":"IF(B4642=\"\",\"\",IF(R4642<5,INT((A4642-1)/Einstellung!$B$4)+1,\"\"))","v":""},""]
["",null,null,null,null,null,null,null,null,null,null,null,null,null,null,null,null,"",{"$f":"IF(B4643=\"\",\"\",IF(R4643<5,INT((A4643-1)/Einstellung!$B$4)+1,\"\"))","v":""},""]
["",null,null,null,null,null,null,null,null,null,null,null,null,null,null,null,null,"",{"$f":"IF(B4646=\"\",\"\",IF(R4646<5,INT((A4646-1)/Einstellung!$B$4)+1,\"\"))","v":""},""]
["",null,null,null,null,null,null,null,null,null,null,null,null,null,null,null,null,"",{"$f":"IF(B4647=\"\",\"\",IF(R4647<5,INT((A4647-1)/Einstellung!$B$4)+1,\"\"))","v":""},""]
["",null,null,null,null,null,null,null,null,null,null,null,null,null,null,null,null,"",{"$f":"IF(B4649=\"\",\"\",IF(R4649<5,INT((A4649-1)/Einstellung!$B$4)+1,\"\"))","v":""},""]
[{"$f":"IF(B4650=\"\",\"\",ROW()-7)","v":""},null,null,null,null,null,null,null,null,null,null,null,null,null,null,null,null,"",{"$f":"IF(B4650=\"\",\"\",IF(R4650<5,INT((A4650-1)/Einstellung!$B$4)+1,\"\"))","v":""},""]
["",null,null,null,null,null,null,null,null,null,null,null,null,null,null,null,null,"",{"$f":"IF(B4653=\"\",\"\",IF(R4653<5,INT((A4653-1)/Einstellung!$B$4)+1,\"\"))","v":""},""]
["",null,null,null,null,null,null,null,null,null,null,null,null,null,null,null,null,"",{"$f":"IF(B4654=\"\",\"\",IF(R4654<5,INT((A4654-1)/Einstellung!$B$4)+1,\"\"))","v":""},""]
["",null,null,null,null,null,null,null,null,null,null,null,null,null,null,null,null,"",{"$f":"IF(B4656=\"\",\"\",IF(R4656<5,INT((A4656-1)/Einstellung!$B$4)+1,\"\"))","v":""},""]
["",null,null,null,null,null,null,null,null,null,null,null,null,null,null,null,null,"",{"$f":"IF(B4657=\"\",\"\",IF(R4657<5,INT((A4657-1)/Einstellung!$B$4)+1,\"\"))","v":""},""]
["",null,null,null,null,null,null,null,null,null,null,null,null,null,null,null,null,"",{"$f":"IF(B4660=\"\",\"\",IF(R4660<5,INT((A4660-1)/Einstellung!$B$4)+1,\"\"))","v":""},""]
["",null,null,null,null,null,null,null,null,null,null,null,null,null,null,null,null,"",{"$f":"IF(B4661=\"\",\"\",IF(R4661<5,INT((A4661-1)/Einstellung!$B$4)+1,\"\"))","v":""},""]
["",null,null,null,null,null,null,null,null,null,null,null,null,null,null,null,null,"",{"$f":"IF(B4663=\"\",\"\",IF(R4663<5,INT((A4663-1)/Einstellung!$B$4)+1,\"\"))","v":""},""]
["",null,null,null,null,null,null,null,null,null,null,null,null,null,null,null,null,"",{"$f":"IF(B4664=\"\",\"\",IF(R4664<5,INT((A4664-1)/Einstellung!$B$4)+1,\"\"))","v":""},""]
["",null,null,null,null,null,null,null,null,null,null,null,null,null,null,null,null,"",{"$f":"IF(B4667=\"\",\"\",IF(R4667<5,INT((A4667-1)/Einstellung!$B$4)+1,\"\"))","v":""},""]
["",null,null,null,null,null,null,null,null,null,null,null,null,null,null,null,null,"",{"$f":"IF(B4668=\"\",\"\",IF(R4668<5,INT((A4668-1)/Einstellung!$B$4)+1,\"\"))","v":""},""]
["",null,null,null,null,null,null,null,null,null,null,null,null,null,null,null,null,"",{"$f":"IF(B4670=\"\",\"\",IF(R4670<5,INT((A4670-1)/Einstellung!$B$4)+1,\"\"))","v":""},""]
["",null,null,null,null,null,null,null,null,null,null,null,null,null,null,null,null,"",{"$f":"IF(B4671=\"\",\"\",IF(R4671<5,INT((A4671-1)/Einstellung!$B$4)+1,\"\"))","v":""},""]
["",null,null,null,null,null,null,null,null,null,null,null,null,null,null,null,null,"",{"$f":"IF(B4674=\"\",\"\",IF(R4674<5,INT((A4674-1)/Einstellung!$B$4)+1,\"\"))","v":""},""]
["",null,null,null,null,null,null,null,null,null,null,null,null,null,null,null,null,"",{"$f":"IF(B4675=\"\",\"\",IF(R4675<5,INT((A4675-1)/Einstellung!$B$4)+1,\"\"))","v":""},""]
["",null,null,null,null,null,null,null,null,null,null,null,null,null,null,null,null,"",{"$f":"IF(B4677=\"\",\"\",IF(R4677<5,INT((A4677-1)/Einstellung!$B$4)+1,\"\"))","v":""},""]
["",null,null,null,null,null,null,null,null,null,null,null,null,null,null,null,null,"",{"$f":"IF(B4678=\"\",\"\",IF(R4678<5,INT((A4678-1)/Einstellung!$B$4)+1,\"\"))","v":""},""]
["",null,null,null,null,null,null,null,null,null,null,null,null,null,null,null,null,"",{"$f":"IF(B4681=\"\",\"\",IF(R4681<5,INT((A4681-1)/Einstellung!$B$4)+1,\"\"))","v":""},""]
["",null,null,null,null,null,null,null,null,null,null,null,null,null,null,null,null,"",{"$f":"IF(B4682=\"\",\"\",IF(R4682<5,INT((A4682-1)/Einstellung!$B$4)+1,\"\"))","v":""},""]
["",null,null,null,null,null,null,null,null,null,null,null,null,null,null,null,null,"",{"$f":"IF(B4684=\"\",\"\",IF(R4684<5,INT((A4684-1)/Einstellung!$B$4)+1,\"\"))","v":""},""]
["",null,null,null,null,null,null,null,null,null,null,null,null,null,null,null,null,"",{"$f":"IF(B4685=\"\",\"\",IF(R4685<5,INT((A4685-1)/Einstellung!$B$4)+1,\"\"))","v":""},""]
["",null,null,null,null,null,null,null,null,null,null,null,null,null,null,null,null,"",{"$f":"IF(B4688=\"\",\"\",IF(R4688<5,INT((A4688-1)/Einstellung!$B$4)+1,\"\"))","v":""},""]
["",null,null,null,null,null,null,null,null,null,null,null,null,null,null,null,null,"",{"$f":"IF(B4689=\"\",\"\",IF(R4689<5,INT((A4689-1)/Einstellung!$B$4)+1,\"\"))","v":""},""]
["",null,null,null,null,null,null,null,null,null,null,null,null,null,null,null,null,"",{"$f":"IF(B4691=\"\",\"\",IF(R4691<5,INT((A4691-1)/Einstellung!$B$4)+1,\"\"))","v":""},""]
["",null,null,null,null,null,null,null,null,null,null,null,null,null,null,null,null,"",{"$f":"IF(B4692=\"\",\"\",IF(R4692<5,INT((A4692-1)/Einstellung!$B$4)+1,\"\"))","v":""},""]
["",null,null,null,null,null,null,null,null,null,null,null,null,null,null,null,null,"",{"$f":"IF(B4695=\"\",\"\",IF(R4695<5,INT((A4695-1)/Einstellung!$B$4)+1,\"\"))","v":""},""]
["",null,null,null,null,null,null,null,null,null,null,null,null,null,null,null,null,"",{"$f":"IF(B4696=\"\",\"\",IF(R4696<5,INT((A4696-1)/Einstellung!$B$4)+1,\"\"))","v":""},""]
["",null,null,null,null,null,null,null,null,null,null,null,null,null,null,null,null,"",{"$f":"IF(B4698=\"\",\"\",IF(R4698<5,INT((A4698-1)/Einstellung!$B$4)+1,\"\"))","v":""},""]
["",null,null,null,null,null,null,null,null,null,null,null,null,null,null,null,null,"",{"$f":"IF(B4699=\"\",\"\",IF(R4699<5,INT((A4699-1)/Einstellung!$B$4)+1,\"\"))","v":""},""]
["",null,null,null,null,null,null,null,null,null,null,null,null,null,null,null,null,"",{"$f":"IF(B4702=\"\",\"\",IF(R4702<5,INT((A4702-1)/Einstellung!$B$4)+1,\"\"))","v":""},""]
["",null,null,null,null,null,null,null,null,null,null,null,null,null,null,null,null,"",{"$f":"IF(B4703=\"\",\"\",IF(R4703<5,INT((A4703-1)/Einstellung!$B$4)+1,\"\"))","v":""},""]
["",null,null,null,null,null,null,null,null,null,null,null,null,null,null,null,null,"",{"$f":"IF(B4705=\"\",\"\",IF(R4705<5,INT((A4705-1)/Einstellung!$B$4)+1,\"\"))","v":""},""]
["",null,null,null,null,null,null,null,null,null,null,null,null,null,null,null,null,"",{"$f":"IF(B4706=\"\",\"\",IF(R4706<5,INT((A4706-1)/Einstellung!$B$4)+1,\"\"))","v":""},""]
["",null,null,null,null,null,null,null,null,null,null,null,null,null,null,null,null,"",{"$f":"IF(B4709=\"\",\"\",IF(R4709<5,INT((A4709-1)/Einstellung!$B$4)+1,\"\"))","v":""},""]
["",null,null,null,null,null,null,null,null,null,null,null,null,null,null,null,null,"",{"$f":"IF(B4710=\"\",\"\",IF(R4710<5,INT((A4710-1)/Einstellung!$B$4)+1,\"\"))","v":""},""]
["",null,null,null,null,null,null,null,null,null,null,null,null,null,null,null,null,"",{"$f":"IF(B4712=\"\",\"\",IF(R4712<5,INT((A4712-1)/Einstellung!$B$4)+1,\"\"))","v":""},""]
["",null,null,null,null,null,null,null,null,null,null,null,null,null,null,null,null,"",{"$f":"IF(B4713=\"\",\"\",IF(R4713<5,INT((A4713-1)/Einstellung!$B$4)+1,\"\"))","v":""},""]
["",null,null,null,null,null,null,null,null,null,null,null,null,null,null,null,null,"",{"$f":"IF(B4716=\"\",\"\",IF(R4716<5,INT((A4716-1)/Einstellung!$B$4)+1,\"\"))","v":""},""]
["",null,null,null,null,null,null,null,null,null,null,null,null,null,null,null,null,"",{"$f":"IF(B4717=\"\",\"\",IF(R4717<5,INT((A4717-1)/Einstellung!$B$4)+1,\"\"))","v":""},""]
["",null,null,null,null,null,null,null,null,null,null,null,null,null,null,null,null,"",{"$f":"IF(B4719=\"\",\"\",IF(R4719<5,INT((A4719-1)/Einstellung!$B$4)+1,\"\"))","v":""},""]
["",null,null,null,null,null,null,null,null,null,null,null,null,null,null,null,null,"",{"$f":"IF(B4720=\"\",\"\",IF(R4720<5,INT((A4720-1)/Einstellung!$B$4)+1,\"\"))","v":""},""]
["",null,null,null,null,null,null,null,null,null,null,null,null,null,null,null,null,"",{"$f":"IF(B4723=\"\",\"\",IF(R4723<5,INT((A4723-1)/Einstellung!$B$4)+1,\"\"))","v":""},""]
["",null,null,null,null,null,null,null,null,null,null,null,null,null,null,null,null,"",{"$f":"IF(B4724=\"\",\"\",IF(R4724<5,INT((A4724-1)/Einstellung!$B$4)+1,\"\"))","v":""},""]
["",null,null,null,null,null,null,null,null,null,null,null,null,null,null,null,null,"",{"$f":"IF(B4726=\"\",\"\",IF(R4726<5,INT((A4726-1)/Einstellung!$B$4)+1,\"\"))","v":""},""]
["",null,null,null,null,null,null,null,null,null,null,null,null,null,null,null,null,"",{"$f":"IF(B4727=\"\",\"\",IF(R4727<5,INT((A4727-1)/Einstellung!$B$4)+1,\"\"))","v":""},""]
["",null,null,null,null,null,null,null,null,null,null,null,null,null,null,null,null,"",{"$f":"IF(B4730=\"\",\"\",IF(R4730<5,INT((A4730-1)/Einstellung!$B$4)+1,\"\"))","v":""},""]
["",null,null,null,null,null,null,null,null,null,null,null,null,null,null,null,null,"",{"$f":"IF(B4731=\"\",\"\",IF(R4731<5,INT((A4731-1)/Einstellung!$B$4)+1,\"\"))","v":""},""]
["",null,null,null,null,null,null,null,null,null,null,null,null,null,null,null,null,"",{"$f":"IF(B4733=\"\",\"\",IF(R4733<5,INT((A4733-1)/Einstellung!$B$4)+1,\"\"))","v":""},""]
["",null,null,null,null,null,null,null,null,null,null,null,null,null,null,null,null,"",{"$f":"IF(B4734=\"\",\"\",IF(R4734<5,INT((A4734-1)/Einstellung!$B$4)+1,\"\"))","v":""},""]
["",null,null,null,null,null,null,null,null,null,null,null,null,null,null,null,null,"",{"$f":"IF(B4737=\"\",\"\",IF(R4737<5,INT((A4737-1)/Einstellung!$B$4)+1,\"\"))","v":""},""]
["",null,null,null,null,null,null,null,null,null,null,null,null,null,null,null,null,"",{"$f":"IF(B4738=\"\",\"\",IF(R4738<5,INT((A4738-1)/Einstellung!$B$4)+1,\"\"))","v":""},""]
["",null,null,null,null,null,null,null,null,null,null,null,null,null,null,null,null,"",{"$f":"IF(B4740=\"\",\"\",IF(R4740<5,INT((A4740-1)/Einstellung!$B$4)+1,\"\"))","v":""},""]
["",null,null,null,null,null,null,null,null,null,null,null,null,null,null,null,null,"",{"$f":"IF(B4741=\"\",\"\",IF(R4741<5,INT((A4741-1)/Einstellung!$B$4)+1,\"\"))","v":""},""]
["",null,null,null,null,null,null,null,null,null,null,null,null,null,null,null,null,{"$f":"IF(B4744=\"\",\"\",16-((MID(B$1,1,1)=MID(B4744,1,1))+(MID(C$1,1,1)=MID(C4744,1,1))+(MID(D$1,1,1)=MID(D4744,1,1))+(MID(E$1,1,1)=MID(E4744,1,1))+(MID(F$1,1,1)=MID(F4744,1,1))+(MID(G$1,1,1)=MID(G4744,1,1))+(MID(H$1,1,1)=MID(H4744,1,1))+(MID(I$1,1,1)=MID(I4744,1,1))+(MID(J$1,1,1)=MID(J4744,1,1))+(MID(K$1,1,1)=MID(K4744,1,1))+(MID(L$1,1,1)=MID(L4744,1,1))+(MID(M$1,1,1)=MID(M4744,1,1))+(MID(N$1,1,1)=MID(N4744,1,1))+(MID(O$1,1,1)=MID(O4744,1,1))+(MID(P$1,1,1)=MID(P4744,1,1)))-B$4+C$5)","v":""},{"$f":"IF(B4744=\"\",\"\",IF(R4744<5,INT((A4744-1)/Einstellung!$B$4)+1,\"\"))","v":""},{"$f":"IF(C$5<B$4,\"\",IF(R4744>4,\"\",OFFSET(T$2,R4744-1,0)))","v":""}]
["",null,null,null,null,null,null,null,null,null,null,null,null,null,null,null,null,"",{"$f":"IF(B4745=\"\",\"\",IF(R4745<5,INT((A4745-1)/Einstellung!$B$4)+1,\"\"))","v":""},""]
["",null,null,null,null,null,null,null,null,null,null,null,null,null,null,null,null,"",{"$f":"IF(B4747=\"\",\"\",IF(R4747<5,INT((A4747-1)/Einstellung!$B$4)+1,\"\"))","v":""},""]
["",null,null,null,null,null,null,null,null,null,null,null,null,null,null,null,null,"",{"$f":"IF(B4748=\"\",\"\",IF(R4748<5,INT((A4748-1)/Einstellung!$B$4)+1,\"\"))","v":""},""]
["",null,null,null,null,null,null,null,null,null,null,null,null,null,null,null,null,"",{"$f":"IF(B4751=\"\",\"\",IF(R4751<5,INT((A4751-1)/Einstellung!$B$4)+1,\"\"))","v":""},""]
["",null,null,null,null,null,null,null,null,null,null,null,null,null,null,null,null,"",{"$f":"IF(B4752=\"\",\"\",IF(R4752<5,INT((A4752-1)/Einstellung!$B$4)+1,\"\"))","v":""},""]
["",null,null,null,null,null,null,null,null,null,null,null,null,null,null,null,null,"",{"$f":"IF(B4754=\"\",\"\",IF(R4754<5,INT((A4754-1)/Einstellung!$B$4)+1,\"\"))","v":""},""]
["",null,null,null,null,null,null,null,null,null,null,null,null,null,null,null,null,"",{"$f":"IF(B4755=\"\",\"\",IF(R4755<5,INT((A4755-1)/Einstellung!$B$4)+1,\"\"))","v":""},""]
["",null,null,null,null,null,null,null,null,null,null,null,null,null,null,null,null,"",{"$f":"IF(B4758=\"\",\"\",IF(R4758<5,INT((A4758-1)/Einstellung!$B$4)+1,\"\"))","v":""},""]
["",null,null,null,null,null,null,null,null,null,null,null,null,null,null,null,null,"",{"$f":"IF(B4759=\"\",\"\",IF(R4759<5,INT((A4759-1)/Einstellung!$B$4)+1,\"\"))","v":""},""]
["",null,null,null,null,null,null,null,null,null,null,null,null,null,null,null,null,"",{"$f":"IF(B4761=\"\",\"\",IF(R4761<5,INT((A4761-1)/Einstellung!$B$4)+1,\"\"))","v":""},""]
["",null,null,null,null,null,null,null,null,null,null,null,null,null,null,null,null,"",{"$f":"IF(B4762=\"\",\"\",IF(R4762<5,INT((A4762-1)/Einstellung!$B$4)+1,\"\"))","v":""},""]
["",null,null,null,null,null,null,null,null,null,null,null,null,null,null,null,null,"",{"$f":"IF(B4765=\"\",\"\",IF(R4765<5,INT((A4765-1)/Einstellung!$B$4)+1,\"\"))","v":""},""]
["",null,null,null,null,null,null,null,null,null,null,null,null,null,null,null,null,"",{"$f":"IF(B4766=\"\",\"\",IF(R4766<5,INT((A4766-1)/Einstellung!$B$4)+1,\"\"))","v":""},""]
["",null,null,null,null,null,null,null,null,null,null,null,null,null,null,null,null,"",{"$f":"IF(B4768=\"\",\"\",IF(R4768<5,INT((A4768-1)/Einstellung!$B$4)+1,\"\"))","v":""},""]
["",null,null,null,null,null,null,null,null,null,null,null,null,null,null,null,null,"",{"$f":"IF(B4769=\"\",\"\",IF(R4769<5,INT((A4769-1)/Einstellung!$B$4)+1,\"\"))","v":""},""]
["",null,null,null,null,null,null,null,null,null,null,null,null,null,null,null,null,"",{"$f":"IF(B4772=\"\",\"\",IF(R4772<5,INT((A4772-1)/Einstellung!$B$4)+1,\"\"))","v":""},""]
["",null,null,null,null,null,null,null,null,null,null,null,null,null,null,null,null,"",{"$f":"IF(B4773=\"\",\"\",IF(R4773<5,INT((A4773-1)/Einstellung!$B$4)+1,\"\"))","v":""},""]
["",null,null,null,null,null,null,null,null,null,null,null,null,null,null,null,null,"",{"$f":"IF(B4775=\"\",\"\",IF(R4775<5,INT((A4775-1)/Einstellung!$B$4)+1,\"\"))","v":""},""]
["",null,null,null,null,null,null,null,null,null,null,null,null,null,null,null,null,"",{"$f":"IF(B4776=\"\",\"\",IF(R4776<5,INT((A4776-1)/Einstellung!$B$4)+1,\"\"))","v":""},""]
["",null,null,null,null,null,null,null,null,null,null,null,null,null,null,null,null,"",{"$f":"IF(B4779=\"\",\"\",IF(R4779<5,INT((A4779-1)/Einstellung!$B$4)+1,\"\"))","v":""},""]
["",null,null,null,null,null,null,null,null,null,null,null,null,null,null,null,null,"",{"$f":"IF(B4780=\"\",\"\",IF(R4780<5,INT((A4780-1)/Einstellung!$B$4)+1,\"\"))","v":""},""]
["",null,null,null,null,null,null,null,null,null,null,null,null,null,null,null,null,"",{"$f":"IF(B4782=\"\",\"\",IF(R4782<5,INT((A4782-1)/Einstellung!$B$4)+1,\"\"))","v":""},""]
["",null,null,null,null,null,null,null,null,null,null,null,null,null,null,null,null,"",{"$f":"IF(B4783=\"\",\"\",IF(R4783<5,INT((A4783-1)/Einstellung!$B$4)+1,\"\"))","v":""},""]
["",null,null,null,null,null,null,null,null,null,null,null,null,null,null,null,null,"",{"$f":"IF(B4786=\"\",\"\",IF(R4786<5,INT((A4786-1)/Einstellung!$B$4)+1,\"\"))","v":""},""]
["",null,null,null,null,null,null,null,null,null,null,null,null,null,null,null,null,"",{"$f":"IF(B4787=\"\",\"\",IF(R4787<5,INT((A4787-1)/Einstellung!$B$4)+1,\"\"))","v":""},""]
["",null,null,null,null,null,null,null,null,null,null,null,null,null,null,null,null,"",{"$f":"IF(B4789=\"\",\"\",IF(R4789<5,INT((A4789-1)/Einstellung!$B$4)+1,\"\"))","v":""},""]
["",null,null,null,null,null,null,null,null,null,null,null,null,null,null,null,null,"",{"$f":"IF(B4790=\"\",\"\",IF(R4790<5,INT((A4790-1)/Einstellung!$B$4)+1,\"\"))","v":""},""]
["",null,null,null,null,null,null,null,null,null,null,null,null,null,null,null,null,"",{"$f":"IF(B4793=\"\",\"\",IF(R4793<5,INT((A4793-1)/Einstellung!$B$4)+1,\"\"))","v":""},""]
["",null,null,null,null,null,null,null,null,null,null,null,null,null,null,null,null,"",{"$f":"IF(B4794=\"\",\"\",IF(R4794<5,INT((A4794-1)/Einstellung!$B$4)+1,\"\"))","v":""},""]
["",null,null,null,null,null,null,null,null,null,null,null,null,null,null,null,null,"",{"$f":"IF(B4796=\"\",\"\",IF(R4796<5,INT((A4796-1)/Einstellung!$B$4)+1,\"\"))","v":""},""]
["",null,null,null,null,null,null,null,null,null,null,null,null,null,null,null,null,"",{"$f":"IF(B4797=\"\",\"\",IF(R4797<5,INT((A4797-1)/Einstellung!$B$4)+1,\"\"))","v":""},""]
["",null,null,null,null,null,null,null,null,null,null,null,null,null,null,null,null,"",{"$f":"IF(B4800=\"\",\"\",IF(R4800<5,INT((A4800-1)/Einstellung!$B$4)+1,\"\"))","v":""},""]
["",null,null,null,null,null,null,null,null,null,null,null,null,null,null,null,null,"",{"$f":"IF(B4801=\"\",\"\",IF(R4801<5,INT((A4801-1)/Einstellung!$B$4)+1,\"\"))","v":""},""]
["",null,null,null,null,null,null,null,null,null,null,null,null,null,null,null,null,"",{"$f":"IF(B4803=\"\",\"\",IF(R4803<5,INT((A4803-1)/Einstellung!$B$4)+1,\"\"))","v":""},""]
["",null,null,null,null,null,null,null,null,null,null,null,null,null,null,null,null,"",{"$f":"IF(B4804=\"\",\"\",IF(R4804<5,INT((A4804-1)/Einstellung!$B$4)+1,\"\"))","v":""},""]
["",null,null,null,null,null,null,null,null,null,null,null,null,null,null,null,null,"",{"$f":"IF(B4807=\"\",\"\",IF(R4807<5,INT((A4807-1)/Einstellung!$B$4)+1,\"\"))","v":""},""]
["",null,null,null,null,null,null,null,null,null,null,null,null,null,null,null,null,{"$f":"IF(B4808=\"\",\"\",16-((MID(B$1,1,1)=MID(B4808,1,1))+(MID(C$1,1,1)=MID(C4808,1,1))+(MID(D$1,1,1)=MID(D4808,1,1))+(MID(E$1,1,1)=MID(E4808,1,1))+(MID(F$1,1,1)=MID(F4808,1,1))+(MID(G$1,1,1)=MID(G4808,1,1))+(MID(H$1,1,1)=MID(H4808,1,1))+(MID(I$1,1,1)=MID(I4808,1,1))+(MID(J$1,1,1)=MID(J4808,1,1))+(MID(K$1,1,1)=MID(K4808,1,1))+(MID(L$1,1,1)=MID(L4808,1,1))+(MID(M$1,1,1)=MID(M4808,1,1))+(MID(N$1,1,1)=MID(N4808,1,1))+(MID(O$1,1,1)=MID(O4808,1,1))+(MID(P$1,1,1)=MID(P4808,1,1)))-B$4+C$5)","v":""},{"$f":"IF(B4808=\"\",\"\",IF(R4808<5,INT((A4808-1)/Einstellung!$B$4)+1,\"\"))","v":""},{"$f":"IF(C$5<B$4,\"\",IF(R4808>4,\"\",OFFSET(T$2,R4808-1,0)))","v":""}]
["",null,null,null,null,null,null,null,null,null,null,null,null,null,null,null,null,"",{"$f":"IF(B4810=\"\",\"\",IF(R4810<5,INT((A4810-1)/Einstellung!$B$4)+1,\"\"))","v":""},""]
["",null,null,null,null,null,null,null,null,null,null,null,null,null,null,null,null,"",{"$f":"IF(B4811=\"\",\"\",IF(R4811<5,INT((A4811-1)/Einstellung!$B$4)+1,\"\"))","v":""},""]
["",null,null,null,null,null,null,null,null,null,null,null,null,null,null,null,null,"",{"$f":"IF(B4814=\"\",\"\",IF(R4814<5,INT((A4814-1)/Einstellung!$B$4)+1,\"\"))","v":""},""]
["",null,null,null,null,null,null,null,null,null,null,null,null,null,null,null,null,"",{"$f":"IF(B4815=\"\",\"\",IF(R4815<5,INT((A4815-1)/Einstellung!$B$4)+1,\"\"))","v":""},""]
["",null,null,null,null,null,null,null,null,null,null,null,null,null,null,null,null,"",{"$f":"IF(B4817=\"\",\"\",IF(R4817<5,INT((A4817-1)/Einstellung!$B$4)+1,\"\"))","v":""},""]
["",null,null,null,null,null,null,null,null,null,null,null,null,null,null,null,null,"",{"$f":"IF(B4818=\"\",\"\",IF(R4818<5,INT((A4818-1)/Einstellung!$B$4)+1,\"\"))","v":""},""]
["",null,null,null,null,null,null,null,null,null,null,null,null,null,null,null,null,"",{"$f":"IF(B4821=\"\",\"\",IF(R4821<5,INT((A4821-1)/Einstellung!$B$4)+1,\"\"))","v":""},""]
["",null,null,null,null,null,null,null,null,null,null,null,null,null,null,null,null,"",{"$f":"IF(B4822=\"\",\"\",IF(R4822<5,INT((A4822-1)/Einstellung!$B$4)+1,\"\"))","v":""},""]
["",null,null,null,null,null,null,null,null,null,null,null,null,null,null,null,null,"",{"$f":"IF(B4824=\"\",\"\",IF(R4824<5,INT((A4824-1)/Einstellung!$B$4)+1,\"\"))","v":""},""]
["",null,null,null,null,null,null,null,null,null,null,null,null,null,null,null,null,"",{"$f":"IF(B4825=\"\",\"\",IF(R4825<5,INT((A4825-1)/Einstellung!$B$4)+1,\"\"))","v":""},""]
["",null,null,null,null,null,null,null,null,null,null,null,null,null,null,null,null,"",{"$f":"IF(B4828=\"\",\"\",IF(R4828<5,INT((A4828-1)/Einstellung!$B$4)+1,\"\"))","v":""},""]
["",null,null,null,null,null,null,null,null,null,null,null,null,null,null,null,null,"",{"$f":"IF(B4829=\"\",\"\",IF(R4829<5,INT((A4829-1)/Einstellung!$B$4)+1,\"\"))","v":""},""]
["",null,null,null,null,null,null,null,null,null,null,null,null,null,null,null,null,"",{"$f":"IF(B4831=\"\",\"\",IF(R4831<5,INT((A4831-1)/Einstellung!$B$4)+1,\"\"))","v":""},""]
["",null,null,null,null,null,null,null,null,null,null,null,null,null,null,null,null,"",{"$f":"IF(B4832=\"\",\"\",IF(R4832<5,INT((A4832-1)/Einstellung!$B$4)+1,\"\"))","v":""},""]
["",null,null,null,null,null,null,null,null,null,null,null,null,null,null,null,null,"",{"$f":"IF(B4835=\"\",\"\",IF(R4835<5,INT((A4835-1)/Einstellung!$B$4)+1,\"\"))","v":""},""]
["",null,null,null,null,null,null,null,null,null,null,null,null,null,null,null,null,"",{"$f":"IF(B4836=\"\",\"\",IF(R4836<5,INT((A4836-1)/Einstellung!$B$4)+1,\"\"))","v":""},""]
["",null,null,null,null,null,null,null,null,null,null,null,null,null,null,null,null,"",{"$f":"IF(B4838=\"\",\"\",IF(R4838<5,INT((A4838-1)/Einstellung!$B$4)+1,\"\"))","v":""},""]
["",null,null,null,null,null,null,null,null,null,null,null,null,null,null,null,null,"",{"$f":"IF(B4839=\"\",\"\",IF(R4839<5,INT((A4839-1)/Einstellung!$B$4)+1,\"\"))","v":""},""]
[{"$f":"IF(B4842=\"\",\"\",ROW()-7)","v":""},null,null,null,null,null,null,null,null,null,null,null,null,null,null,null,null,"",{"$f":"IF(B4842=\"\",\"\",IF(R4842<5,INT((A4842-1)/Einstellung!$B$4)+1,\"\"))","v":""},""]
["",null,null,null,null,null,null,null,null,null,null,null,null,null,null,null,null,"",{"$f":"IF(B4843=\"\",\"\",IF(R4843<5,INT((A4843-1)/Einstellung!$B$4)+1,\"\"))","v":""},""]
["",null,null,null,null,null,null,null,null,null,null,null,null,null,null,null,null,"",{"$f":"IF(B4845=\"\",\"\",IF(R4845<5,INT((A4845-1)/Einstellung!$B$4)+1,\"\"))","v":""},""]
["",null,null,null,null,null,null,null,null,null,null,null,null,null,null,null,null,"",{"$f":"IF(B4846=\"\",\"\",IF(R4846<5,INT((A4846-1)/Einstellung!$B$4)+1,\"\"))","v":""},""]
["",null,null,null,null,null,null,null,null,null,null,null,null,null,null,null,null,"",{"$f":"IF(B4849=\"\",\"\",IF(R4849<5,INT((A4849-1)/Einstellung!$B$4)+1,\"\"))","v":""},""]
["",null,null,null,null,null,null,null,null,null,null,null,null,null,null,null,null,"",{"$f":"IF(B4850=\"\",\"\",IF(R4850<5,INT((A4850-1)/Einstellung!$B$4)+1,\"\"))","v":""},""]
["",null,null,null,null,null,null,null,null,null,null,null,null,null,null,null,null,"",{"$f":"IF(B4852=\"\",\"\",IF(R4852<5,INT((A4852-1)/Einstellung!$B$4)+1,\"\"))","v":""},""]
["",null,null,null,null,null,null,null,null,null,null,null,null,null,null,null,null,"",{"$f":"IF(B4853=\"\",\"\",IF(R4853<5,INT((A4853-1)/Einstellung!$B$4)+1,\"\"))","v":""},""]
["",null,null,null,null,null,null,null,null,null,null,null,null,null,null,null,null,"",{"$f":"IF(B4856=\"\",\"\",IF(R4856<5,INT((A4856-1)/Einstellung!$B$4)+1,\"\"))","v":""},""]
["",null,null,null,null,null,null,null,null,null,null,null,null,null,null,null,null,"",{"$f":"IF(B4857=\"\",\"\",IF(R4857<5,INT((A4857-1)/Einstellung!$B$4)+1,\"\"))","v":""},""]
["",null,null,null,null,null,null,null,null,null,null,null,null,null,null,null,null,"",{"$f":"IF(B4859=\"\",\"\",IF(R4859<5,INT((A4859-1)/Einstellung!$B$4)+1,\"\"))","v":""},""]
["",null,null,null,null,null,null,null,null,null,null,null,null,null,null,null,null,"",{"$f":"IF(B4860=\"\",\"\",IF(R4860<5,INT((A4860-1)/Einstellung!$B$4)+1,\"\"))","v":""},""]
["",null,null,null,null,null,null,null,null,null,null,null,null,null,null,null,null,"",{"$f":"IF(B4863=\"\",\"\",IF(R4863<5,INT((A4863-1)/Einstellung!$B$4)+1,\"\"))","v":""},""]
["",null,null,null,null,null,null,null,null,null,null,null,null,null,null,null,null,"",{"$f":"IF(B4864=\"\",\"\",IF(R4864<5,INT((A4864-1)/Einstellung!$B$4)+1,\"\"))","v":""},""]
["",null,null,null,null,null,null,null,null,null,null,null,null,null,null,null,null,"",{"$f":"IF(B4866=\"\",\"\",IF(R4866<5,INT((A4866-1)/Einstellung!$B$4)+1,\"\"))","v":""},""]
["",null,null,null,null,null,null,null,null,null,null,null,null,null,null,null,null,"",{"$f":"IF(B4867=\"\",\"\",IF(R4867<5,INT((A4867-1)/Einstellung!$B$4)+1,\"\"))","v":""},""]
["",null,null,null,null,null,null,null,null,null,null,null,null,null,null,null,null,"",{"$f":"IF(B4870=\"\",\"\",IF(R4870<5,INT((A4870-1)/Einstellung!$B$4)+1,\"\"))","v":""},""]
["",null,null,null,null,null,null,null,null,null,null,null,null,null,null,null,null,"",{"$f":"IF(B4871=\"\",\"\",IF(R4871<5,INT((A4871-1)/Einstellung!$B$4)+1,\"\"))","v":""},""]
["",null,null,null,null,null,null,null,null,null,null,null,null,null,null,null,null,"",{"$f":"IF(B4873=\"\",\"\",IF(R4873<5,INT((A4873-1)/Einstellung!$B$4)+1,\"\"))","v":""},""]
["",null,null,null,null,null,null,null,null,null,null,null,null,null,null,null,null,"",{"$f":"IF(B4874=\"\",\"\",IF(R4874<5,INT((A4874-1)/Einstellung!$B$4)+1,\"\"))","v":""},""]
["",null,null,null,null,null,null,null,null,null,null,null,null,null,null,null,null,"",{"$f":"IF(B4877=\"\",\"\",IF(R4877<5,INT((A4877-1)/Einstellung!$B$4)+1,\"\"))","v":""},""]
["",null,null,null,null,null,null,null,null,null,null,null,null,null,null,null,null,"",{"$f":"IF(B4878=\"\",\"\",IF(R4878<5,INT((A4878-1)/Einstellung!$B$4)+1,\"\"))","v":""},""]
["",null,null,null,null,null,null,null,null,null,null,null,null,null,null,null,null,"",{"$f":"IF(B4881=\"\",\"\",IF(R4881<5,INT((A4881-1)/Einstellung!$B$4)+1,\"\"))","v":""},""]
["",null,null,null,null,null,null,null,null,null,null,null,null,null,null,null,null,"",{"$f":"IF(B4882=\"\",\"\",IF(R4882<5,INT((A4882-1)/Einstellung!$B$4)+1,\"\"))","v":""},""]
["",null,null,null,null,null,null,null,null,null,null,null,null,null,null,null,null,"",{"$f":"IF(B4884=\"\",\"\",IF(R4884<5,INT((A4884-1)/Einstellung!$B$4)+1,\"\"))","v":""},""]
["",null,null,null,null,null,null,null,null,null,null,null,null,null,null,null,null,"",{"$f":"IF(B4885=\"\",\"\",IF(R4885<5,INT((A4885-1)/Einstellung!$B$4)+1,\"\"))","v":""},""]
["",null,null,null,null,null,null,null,null,null,null,null,null,null,null,null,null,"",{"$f":"IF(B4888=\"\",\"\",IF(R4888<5,INT((A4888-1)/Einstellung!$B$4)+1,\"\"))","v":""},""]
["",null,null,null,null,null,null,null,null,null,null,null,null,null,null,null,null,"",{"$f":"IF(B4889=\"\",\"\",IF(R4889<5,INT((A4889-1)/Einstellung!$B$4)+1,\"\"))","v":""},""]
["",null,null,null,null,null,null,null,null,null,null,null,null,null,null,null,null,"",{"$f":"IF(B4891=\"\",\"\",IF(R4891<5,INT((A4891-1)/Einstellung!$B$4)+1,\"\"))","v":""},""]
["",null,null,null,null,null,null,null,null,null,null,null,null,null,null,null,null,"",{"$f":"IF(B4892=\"\",\"\",IF(R4892<5,INT((A4892-1)/Einstellung!$B$4)+1,\"\"))","v":""},""]
["",null,null,null,null,null,null,null,null,null,null,null,null,null,null,null,null,"",{"$f":"IF(B4895=\"\",\"\",IF(R4895<5,INT((A4895-1)/Einstellung!$B$4)+1,\"\"))","v":""},""]
["",null,null,null,null,null,null,null,null,null,null,null,null,null,null,null,null,"",{"$f":"IF(B4896=\"\",\"\",IF(R4896<5,INT((A4896-1)/Einstellung!$B$4)+1,\"\"))","v":""},""]
["",null,null,null,null,null,null,null,null,null,null,null,null,null,null,null,null,"",{"$f":"IF(B4898=\"\",\"\",IF(R4898<5,INT((A4898-1)/Einstellung!$B$4)+1,\"\"))","v":""},""]
["",null,null,null,null,null,null,null,null,null,null,null,null,null,null,null,null,"",{"$f":"IF(B4899=\"\",\"\",IF(R4899<5,INT((A4899-1)/Einstellung!$B$4)+1,\"\"))","v":""},""]
["",null,null,null,null,null,null,null,null,null,null,null,null,null,null,null,null,"",{"$f":"IF(B4902=\"\",\"\",IF(R4902<5,INT((A4902-1)/Einstellung!$B$4)+1,\"\"))","v":""},""]
["",null,null,null,null,null,null,null,null,null,null,null,null,null,null,null,null,"",{"$f":"IF(B4903=\"\",\"\",IF(R4903<5,INT((A4903-1)/Einstellung!$B$4)+1,\"\"))","v":""},""]
["",null,null,null,null,null,null,null,null,null,null,null,null,null,null,null,null,"",{"$f":"IF(B4905=\"\",\"\",IF(R4905<5,INT((A4905-1)/Einstellung!$B$4)+1,\"\"))","v":""},""]
[{"$f":"IF(B4906=\"\",\"\",ROW()-7)","v":""},null,null,null,null,null,null,null,null,null,null,null,null,null,null,null,null,"",{"$f":"IF(B4906=\"\",\"\",IF(R4906<5,INT((A4906-1)/Einstellung!$B$4)+1,\"\"))","v":""},""]
["",null,null,null,null,null,null,null,null,null,null,null,null,null,null,null,null,"",{"$f":"IF(B4909=\"\",\"\",IF(R4909<5,INT((A4909-1)/Einstellung!$B$4)+1,\"\"))","v":""},""]
["",null,null,null,null,null,null,null,null,null,null,null,null,null,null,null,null,"",{"$f":"IF(B4910=\"\",\"\",IF(R4910<5,INT((A4910-1)/Einstellung!$B$4)+1,\"\"))","v":""},""]
["",null,null,null,null,null,null,null,null,null,null,null,null,null,null,null,null,"",{"$f":"IF(B4912=\"\",\"\",IF(R4912<5,INT((A4912-1)/Einstellung!$B$4)+1,\"\"))","v":""},""]
["",null,null,null,null,null,null,null,null,null,null,null,null,null,null,null,null,"",{"$f":"IF(B4913=\"\",\"\",IF(R4913<5,INT((A4913-1)/Einstellung!$B$4)+1,\"\"))","v":""},""]
["",null,null,null,null,null,null,null,null,null,null,null,null,null,null,null,null,"",{"$f":"IF(B4916=\"\",\"\",IF(R4916<5,INT((A4916-1)/Einstellung!$B$4)+1,\"\"))","v":""},""]
["",null,null,null,null,null,null,null,null,null,null,null,null,null,null,null,null,"",{"$f":"IF(B4917=\"\",\"\",IF(R4917<5,INT((A4917-1)/Einstellung!$B$4)+1,\"\"))","v":""},""]
["",null,null,null,null,null,null,null,null,null,null,null,null,null,null,null,null,"",{"$f":"IF(B4919=\"\",\"\",IF(R4919<5,INT((A4919-1)/Einstellung!$B$4)+1,\"\"))","v":""},""]
["",null,null,null,null,null,null,null,null,null,null,null,null,null,null,null,null,"",{"$f":"IF(B4920=\"\",\"\",IF(R4920<5,INT((A4920-1)/Einstellung!$B$4)+1,\"\"))","v":""},""]
["",null,null,null,null,null,null,null,null,null,null,null,null,null,null,null,null,"",{"$f":"IF(B4923=\"\",\"\",IF(R4923<5,INT((A4923-1)/Einstellung!$B$4)+1,\"\"))","v":""},""]
["",null,null,null,null,null,null,null,null,null,null,null,null,null,null,null,null,"",{"$f":"IF(B4924=\"\",\"\",IF(R4924<5,INT((A4924-1)/Einstellung!$B$4)+1,\"\"))","v":""},""]
["",null,null,null,null,null,null,null,null,null,null,null,null,null,null,null,null,"",{"$f":"IF(B4926=\"\",\"\",IF(R4926<5,INT((A4926-1)/Einstellung!$B$4)+1,\"\"))","v":""},""]
["",null,null,null,null,null,null,null,null,null,null,null,null,null,null,null,null,"",{"$f":"IF(B4927=\"\",\"\",IF(R4927<5,INT((A4927-1)/Einstellung!$B$4)+1,\"\"))","v":""},""]
["",null,null,null,null,null,null,null,null,null,null,null,null,null,null,null,null,"",{"$f":"IF(B4930=\"\",\"\",IF(R4930<5,INT((A4930-1)/Einstellung!$B$4)+1,\"\"))","v":""},""]
["",null,null,null,null,null,null,null,null,null,null,null,null,null,null,null,null,"",{"$f":"IF(B4931=\"\",\"\",IF(R4931<5,INT((A4931-1)/Einstellung!$B$4)+1,\"\"))","v":""},""]
["",null,null,null,null,null,null,null,null,null,null,null,null,null,null,null,null,"",{"$f":"IF(B4933=\"\",\"\",IF(R4933<5,INT((A4933-1)/Einstellung!$B$4)+1,\"\"))","v":""},""]
["",null,null,null,null,null,null,null,null,null,null,null,null,null,null,null,null,"",{"$f":"IF(B4934=\"\",\"\",IF(R4934<5,INT((A4934-1)/Einstellung!$B$4)+1,\"\"))","v":""},""]
["",null,null,null,null,null,null,null,null,null,null,null,null,null,null,null,null,"",{"$f":"IF(B4937=\"\",\"\",IF(R4937<5,INT((A4937-1)/Einstellung!$B$4)+1,\"\"))","v":""},""]
["",null,null,null,null,null,null,null,null,null,null,null,null,null,null,null,null,"",{"$f":"IF(B4938=\"\",\"\",IF(R4938<5,INT((A4938-1)/Einstellung!$B$4)+1,\"\"))","v":""},""]
["",null,null,null,null,null,null,null,null,null,null,null,null,null,null,null,null,"",{"$f":"IF(B4940=\"\",\"\",IF(R4940<5,INT((A4940-1)/Einstellung!$B$4)+1,\"\"))","v":""},""]
["",null,null,null,null,null,null,null,null,null,null,null,null,null,null,null,null,"",{"$f":"IF(B4941=\"\",\"\",IF(R4941<5,INT((A4941-1)/Einstellung!$B$4)+1,\"\"))","v":""},""]
["",null,null,null,null,null,null,null,null,null,null,null,null,null,null,null,null,"",{"$f":"IF(B4944=\"\",\"\",IF(R4944<5,INT((A4944-1)/Einstellung!$B$4)+1,\"\"))","v":""},""]
["",null,null,null,null,null,null,null,null,null,null,null,null,null,null,null,null,"",{"$f":"IF(B4945=\"\",\"\",IF(R4945<5,INT((A4945-1)/Einstellung!$B$4)+1,\"\"))","v":""},""]
["",null,null,null,null,null,null,null,null,null,null,null,null,null,null,null,null,"",{"$f":"IF(B4947=\"\",\"\",IF(R4947<5,INT((A4947-1)/Einstellung!$B$4)+1,\"\"))","v":""},""]
["",null,null,null,null,null,null,null,null,null,null,null,null,null,null,null,null,"",{"$f":"IF(B4948=\"\",\"\",IF(R4948<5,INT((A4948-1)/Einstellung!$B$4)+1,\"\"))","v":""},""]
["",null,null,null,null,null,null,null,null,null,null,null,null,null,null,null,null,"",{"$f":"IF(B4951=\"\",\"\",IF(R4951<5,INT((A4951-1)/Einstellung!$B$4)+1,\"\"))","v":""},""]
["",null,null,null,null,null,null,null,null,null,null,null,null,null,null,null,null,"",{"$f":"IF(B4952=\"\",\"\",IF(R4952<5,INT((A4952-1)/Einstellung!$B$4)+1,\"\"))","v":""},""]
["",null,null,null,null,null,null,null,null,null,null,null,null,null,null,null,null,"",{"$f":"IF(B4954=\"\",\"\",IF(R4954<5,INT((A4954-1)/Einstellung!$B$4)+1,\"\"))","v":""},""]
["",null,null,null,null,null,null,null,null,null,null,null,null,null,null,null,null,"",{"$f":"IF(B4955=\"\",\"\",IF(R4955<5,INT((A4955-1)/Einstellung!$B$4)+1,\"\"))","v":""},""]
["",null,null,null,null,null,null,null,null,null,null,null,null,null,null,null,null,"",{"$f":"IF(B4958=\"\",\"\",IF(R4958<5,INT((A4958-1)/Einstellung!$B$4)+1,\"\"))","v":""},""]
["",null,null,null,null,null,null,null,null,null,null,null,null,null,null,null,null,"",{"$f":"IF(B4959=\"\",\"\",IF(R4959<5,INT((A4959-1)/Einstellung!$B$4)+1,\"\"))","v":""},""]
["",null,null,null,null,null,null,null,null,null,null,null,null,null,null,null,null,"",{"$f":"IF(B4961=\"\",\"\",IF(R4961<5,INT((A4961-1)/Einstellung!$B$4)+1,\"\"))","v":""},""]
["",null,null,null,null,null,null,null,null,null,null,null,null,null,null,null,null,"",{"$f":"IF(B4962=\"\",\"\",IF(R4962<5,INT((A4962-1)/Einstellung!$B$4)+1,\"\"))","v":""},""]
["",null,null,null,null,null,null,null,null,null,null,null,null,null,null,null,null,"",{"$f":"IF(B4965=\"\",\"\",IF(R4965<5,INT((A4965-1)/Einstellung!$B$4)+1,\"\"))","v":""},""]
["",null,null,null,null,null,null,null,null,null,null,null,null,null,null,null,null,"",{"$f":"IF(B4966=\"\",\"\",IF(R4966<5,INT((A4966-1)/Einstellung!$B$4)+1,\"\"))","v":""},""]
["",null,null,null,null,null,null,null,null,null,null,null,null,null,null,null,null,"",{"$f":"IF(B4968=\"\",\"\",IF(R4968<5,INT((A4968-1)/Einstellung!$B$4)+1,\"\"))","v":""},""]
["",null,null,null,null,null,null,null,null,null,null,null,null,null,null,null,null,"",{"$f":"IF(B4969=\"\",\"\",IF(R4969<5,INT((A4969-1)/Einstellung!$B$4)+1,\"\"))","v":""},""]
["",null,null,null,null,null,null,null,null,null,null,null,null,null,null,null,null,"",{"$f":"IF(B4972=\"\",\"\",IF(R4972<5,INT((A4972-1)/Einstellung!$B$4)+1,\"\"))","v":""},""]
["",null,null,null,null,null,null,null,null,null,null,null,null,null,null,null,null,"",{"$f":"IF(B4973=\"\",\"\",IF(R4973<5,INT((A4973-1)/Einstellung!$B$4)+1,\"\"))","v":""},""]
["",null,null,null,null,null,null,null,null,null,null,null,null,null,null,null,null,"",{"$f":"IF(B4975=\"\",\"\",IF(R4975<5,INT((A4975-1)/Einstellung!$B$4)+1,\"\"))","v":""},""]
["",null,null,null,null,null,null,null,null,null,null,null,null,null,null,null,null,"",{"$f":"IF(B4976=\"\",\"\",IF(R4976<5,INT((A4976-1)/Einstellung!$B$4)+1,\"\"))","v":""},""]
["",null,null,null,null,null,null,null,null,null,null,null,null,null,null,null,null,"",{"$f":"IF(B4979=\"\",\"\",IF(R4979<5,INT((A4979-1)/Einstellung!$B$4)+1,\"\"))","v":""},""]
["",null,null,null,null,null,null,null,null,null,null,null,null,null,null,null,null,"",{"$f":"IF(B4980=\"\",\"\",IF(R4980<5,INT((A4980-1)/Einstellung!$B$4)+1,\"\"))","v":""},""]
["",null,null,null,null,null,null,null,null,null,null,null,null,null,null,null,null,"",{"$f":"IF(B4982=\"\",\"\",IF(R4982<5,INT((A4982-1)/Einstellung!$B$4)+1,\"\"))","v":""},""]
["",null,null,null,null,null,null,null,null,null,null,null,null,null,null,null,null,"",{"$f":"IF(B4983=\"\",\"\",IF(R4983<5,INT((A4983-1)/Einstellung!$B$4)+1,\"\"))","v":""},""]
["",null,null,null,null,null,null,null,null,null,null,null,null,null,null,null,null,"",{"$f":"IF(B4986=\"\",\"\",IF(R4986<5,INT((A4986-1)/Einstellung!$B$4)+1,\"\"))","v":""},""]
["",null,null,null,null,null,null,null,null,null,null,null,null,null,null,null,null,"",{"$f":"IF(B4987=\"\",\"\",IF(R4987<5,INT((A4987-1)/Einstellung!$B$4)+1,\"\"))","v":""},""]
["",null,null,null,null,null,null,null,null,null,null,null,null,null,null,null,null,"",{"$f":"IF(B4989=\"\",\"\",IF(R4989<5,INT((A4989-1)/Einstellung!$B$4)+1,\"\"))","v":""},""]
["",null,null,null,null,null,null,null,null,null,null,null,null,null,null,null,null,"",{"$f":"IF(B4990=\"\",\"\",IF(R4990<5,INT((A4990-1)/Einstellung!$B$4)+1,\"\"))","v":""},""]
["",null,null,null,null,null,null,null,null,null,null,null,null,null,null,null,null,"",{"$f":"IF(B4993=\"\",\"\",IF(R4993<5,INT((A4993-1)/Einstellung!$B$4)+1,\"\"))","v":""},""]
["",null,null,null,null,null,null,null,null,null,null,null,null,null,null,null,null,"",{"$f":"IF(B4994=\"\",\"\",IF(R4994<5,INT((A4994-1)/Einstellung!$B$4)+1,\"\"))","v":""},""]
["",null,null,null,null,null,null,null,null,null,null,null,null,null,null,null,null,"",{"$f":"IF(B4996=\"\",\"\",IF(R4996<5,INT((A4996-1)/Einstellung!$B$4)+1,\"\"))","v":""},""]
["",null,null,null,null,null,null,null,null,null,null,null,null,null,null,null,null,"",{"$f":"IF(B4997=\"\",\"\",IF(R4997<5,INT((A4997-1)/Einstellung!$B$4)+1,\"\"))","v":""},""]
["",null,null,null,null,null,null,null,null,null,null,null,null,null,null,null,null,{"$f":"IF(B5000=\"\",\"\",16-((MID(B$1,1,1)=MID(B5000,1,1))+(MID(C$1,1,1)=MID(C5000,1,1))+(MID(D$1,1,1)=MID(D5000,1,1))+(MID(E$1,1,1)=MID(E5000,1,1))+(MID(F$1,1,1)=MID(F5000,1,1))+(MID(G$1,1,1)=MID(G5000,1,1))+(MID(H$1,1,1)=MID(H5000,1,1))+(MID(I$1,1,1)=MID(I5000,1,1))+(MID(J$1,1,1)=MID(J5000,1,1))+(MID(K$1,1,1)=MID(K5000,1,1))+(MID(L$1,1,1)=MID(L5000,1,1))+(MID(M$1,1,1)=MID(M5000,1,1))+(MID(N$1,1,1)=MID(N5000,1,1))+(MID(O$1,1,1)=MID(O5000,1,1))+(MID(P$1,1,1)=MID(P5000,1,1)))-B$4+C$5)","v":""},{"$f":"IF(B5000=\"\",\"\",IF(R5000<5,INT((A5000-1)/Einstellung!$B$4)+1,\"\"))","v":""},{"$f":"IF(C$5<B$4,\"\",IF(R5000>4,\"\",OFFSET(T$2,R5000-1,0)))","v":""}]
["",null,null,null,null,null,null,null,null,null,null,null,null,null,null,null,null,"",{"$f":"IF(B5001=\"\",\"\",IF(R5001<5,INT((A5001-1)/Einstellung!$B$4)+1,\"\"))","v":""},""]
["",null,null,null,null,null,null,null,null,null,null,null,null,null,null,null,null,"",{"$f":"IF(B5003=\"\",\"\",IF(R5003<5,INT((A5003-1)/Einstellung!$B$4)+1,\"\"))","v":""},""]
["",null,null,null,null,null,null,null,null,null,null,null,null,null,null,null,null,"",{"$f":"IF(B5004=\"\",\"\",IF(R5004<5,INT((A5004-1)/Einstellung!$B$4)+1,\"\"))","v":""},""]
["",null,null,null,null,null,null,null,null,null,null,null,null,null,null,null,null,"",{"$f":"IF(B5007=\"\",\"\",IF(R5007<5,INT((A5007-1)/Einstellung!$B$4)+1,\"\"))","v":""},""]
["",null,null,null,null,null,null,null,null,null,null,null,null,null,null,null,null,"",{"$f":"IF(B5008=\"\",\"\",IF(R5008<5,INT((A5008-1)/Einstellung!$B$4)+1,\"\"))","v":""},""]
["",null,null,null,null,null,null,null,null,null,null,null,null,null,null,null,null,"",{"$f":"IF(B5010=\"\",\"\",IF(R5010<5,INT((A5010-1)/Einstellung!$B$4)+1,\"\"))","v":""},""]
["",null,null,null,null,null,null,null,null,null,null,null,null,null,null,null,null,"",{"$f":"IF(B5011=\"\",\"\",IF(R5011<5,INT((A5011-1)/Einstellung!$B$4)+1,\"\"))","v":""},""]
["",null,null,null,null,null,null,null,null,null,null,null,null,null,null,null,null,"",{"$f":"IF(B5014=\"\",\"\",IF(R5014<5,INT((A5014-1)/Einstellung!$B$4)+1,\"\"))","v":""},""]
["",null,null,null,null,null,null,null,null,null,null,null,null,null,null,null,null,"",{"$f":"IF(B5015=\"\",\"\",IF(R5015<5,INT((A5015-1)/Einstellung!$B$4)+1,\"\"))","v":""},""]
["",null,null,null,null,null,null,null,null,null,null,null,null,null,null,null,null,"",{"$f":"IF(B5017=\"\",\"\",IF(R5017<5,INT((A5017-1)/Einstellung!$B$4)+1,\"\"))","v":""},""]
["",null,null,null,null,null,null,null,null,null,null,null,null,null,null,null,null,"",{"$f":"IF(B5018=\"\",\"\",IF(R5018<5,INT((A5018-1)/Einstellung!$B$4)+1,\"\"))","v":""},""]
["",null,null,null,null,null,null,null,null,null,null,null,null,null,null,null,null,"",{"$f":"IF(B5021=\"\",\"\",IF(R5021<5,INT((A5021-1)/Einstellung!$B$4)+1,\"\"))","v":""},""]
["",null,null,null,null,null,null,null,null,null,null,null,null,null,null,null,null,"",{"$f":"IF(B5022=\"\",\"\",IF(R5022<5,INT((A5022-1)/Einstellung!$B$4)+1,\"\"))","v":""},""]
["",null,null,null,null,null,null,null,null,null,null,null,null,null,null,null,null,"",{"$f":"IF(B5024=\"\",\"\",IF(R5024<5,INT((A5024-1)/Einstellung!$B$4)+1,\"\"))","v":""},""]
["",null,null,null,null,null,null,null,null,null,null,null,null,null,null,null,null,"",{"$f":"IF(B5025=\"\",\"\",IF(R5025<5,INT((A5025-1)/Einstellung!$B$4)+1,\"\"))","v":""},""]
["",null,null,null,null,null,null,null,null,null,null,null,null,null,null,null,null,"",{"$f":"IF(B5028=\"\",\"\",IF(R5028<5,INT((A5028-1)/Einstellung!$B$4)+1,\"\"))","v":""},""]
["",null,null,null,null,null,null,null,null,null,null,null,null,null,null,null,null,"",{"$f":"IF(B5029=\"\",\"\",IF(R5029<5,INT((A5029-1)/Einstellung!$B$4)+1,\"\"))","v":""},""]
["",null,null,null,null,null,null,null,null,null,null,null,null,null,null,null,null,"",{"$f":"IF(B5031=\"\",\"\",IF(R5031<5,INT((A5031-1)/Einstellung!$B$4)+1,\"\"))","v":""},""]
["",null,null,null,null,null,null,null,null,null,null,null,null,null,null,null,null,"",{"$f":"IF(B5032=\"\",\"\",IF(R5032<5,INT((A5032-1)/Einstellung!$B$4)+1,\"\"))","v":""},""]
["",null,null,null,null,null,null,null,null,null,null,null,null,null,null,null,null,"",{"$f":"IF(B5035=\"\",\"\",IF(R5035<5,INT((A5035-1)/Einstellung!$B$4)+1,\"\"))","v":""},""]
["",null,null,null,null,null,null,null,null,null,null,null,null,null,null,null,null,"",{"$f":"IF(B5036=\"\",\"\",IF(R5036<5,INT((A5036-1)/Einstellung!$B$4)+1,\"\"))","v":""},""]
["",null,null,null,null,null,null,null,null,null,null,null,null,null,null,null,null,"",{"$f":"IF(B5038=\"\",\"\",IF(R5038<5,INT((A5038-1)/Einstellung!$B$4)+1,\"\"))","v":""},""]
["",null,null,null,null,null,null,null,null,null,null,null,null,null,null,null,null,"",{"$f":"IF(B5039=\"\",\"\",IF(R5039<5,INT((A5039-1)/Einstellung!$B$4)+1,\"\"))","v":""},""]
["",null,null,null,null,null,null,null,null,null,null,null,null,null,null,null,null,"",{"$f":"IF(B5042=\"\",\"\",IF(R5042<5,INT((A5042-1)/Einstellung!$B$4)+1,\"\"))","v":""},""]
["",null,null,null,null,null,null,null,null,null,null,null,null,null,null,null,null,"",{"$f":"IF(B5043=\"\",\"\",IF(R5043<5,INT((A5043-1)/Einstellung!$B$4)+1,\"\"))","v":""},""]
["",null,null,null,null,null,null,null,null,null,null,null,null,null,null,null,null,"",{"$f":"IF(B5045=\"\",\"\",IF(R5045<5,INT((A5045-1)/Einstellung!$B$4)+1,\"\"))","v":""},""]
["",null,null,null,null,null,null,null,null,null,null,null,null,null,null,null,null,"",{"$f":"IF(B5046=\"\",\"\",IF(R5046<5,INT((A5046-1)/Einstellung!$B$4)+1,\"\"))","v":""},""]
["",null,null,null,null,null,null,null,null,null,null,null,null,null,null,null,null,"",{"$f":"IF(B5049=\"\",\"\",IF(R5049<5,INT((A5049-1)/Einstellung!$B$4)+1,\"\"))","v":""},""]
["",null,null,null,null,null,null,null,null,null,null,null,null,null,null,null,null,"",{"$f":"IF(B5050=\"\",\"\",IF(R5050<5,INT((A5050-1)/Einstellung!$B$4)+1,\"\"))","v":""},""]
["",null,null,null,null,null,null,null,null,null,null,null,null,null,null,null,null,"",{"$f":"IF(B5052=\"\",\"\",IF(R5052<5,INT((A5052-1)/Einstellung!$B$4)+1,\"\"))","v":""},""]
["",null,null,null,null,null,null,null,null,null,null,null,null,null,null,null,null,"",{"$f":"IF(B5053=\"\",\"\",IF(R5053<5,INT((A5053-1)/Einstellung!$B$4)+1,\"\"))","v":""},""]
["",null,null,null,null,null,null,null,null,null,null,null,null,null,null,null,null,"",{"$f":"IF(B5056=\"\",\"\",IF(R5056<5,INT((A5056-1)/Einstellung!$B$4)+1,\"\"))","v":""},""]
["",null,null,null,null,null,null,null,null,null,null,null,null,null,null,null,null,"",{"$f":"IF(B5057=\"\",\"\",IF(R5057<5,INT((A5057-1)/Einstellung!$B$4)+1,\"\"))","v":""},""]
["",null,null,null,null,null,null,null,null,null,null,null,null,null,null,null,null,"",{"$f":"IF(B5059=\"\",\"\",IF(R5059<5,INT((A5059-1)/Einstellung!$B$4)+1,\"\"))","v":""},""]
["",null,null,null,null,null,null,null,null,null,null,null,null,null,null,null,null,"",{"$f":"IF(B5060=\"\",\"\",IF(R5060<5,INT((A5060-1)/Einstellung!$B$4)+1,\"\"))","v":""},""]
["",null,null,null,null,null,null,null,null,null,null,null,null,null,null,null,null,"",{"$f":"IF(B5063=\"\",\"\",IF(R5063<5,INT((A5063-1)/Einstellung!$B$4)+1,\"\"))","v":""},""]
["",null,null,null,null,null,null,null,null,null,null,null,null,null,null,null,null,{"$f":"IF(B5064=\"\",\"\",16-((MID(B$1,1,1)=MID(B5064,1,1))+(MID(C$1,1,1)=MID(C5064,1,1))+(MID(D$1,1,1)=MID(D5064,1,1))+(MID(E$1,1,1)=MID(E5064,1,1))+(MID(F$1,1,1)=MID(F5064,1,1))+(MID(G$1,1,1)=MID(G5064,1,1))+(MID(H$1,1,1)=MID(H5064,1,1))+(MID(I$1,1,1)=MID(I5064,1,1))+(MID(J$1,1,1)=MID(J5064,1,1))+(MID(K$1,1,1)=MID(K5064,1,1))+(MID(L$1,1,1)=MID(L5064,1,1))+(MID(M$1,1,1)=MID(M5064,1,1))+(MID(N$1,1,1)=MID(N5064,1,1))+(MID(O$1,1,1)=MID(O5064,1,1))+(MID(P$1,1,1)=MID(P5064,1,1)))-B$4+C$5)","v":""},{"$f":"IF(B5064=\"\",\"\",IF(R5064<5,INT((A5064-1)/Einstellung!$B$4)+1,\"\"))","v":""},{"$f":"IF(C$5<B$4,\"\",IF(R5064>4,\"\",OFFSET(T$2,R5064-1,0)))","v":""}]
["",null,null,null,null,null,null,null,null,null,null,null,null,null,null,null,null,"",{"$f":"IF(B5066=\"\",\"\",IF(R5066<5,INT((A5066-1)/Einstellung!$B$4)+1,\"\"))","v":""},""]
["",null,null,null,null,null,null,null,null,null,null,null,null,null,null,null,null,"",{"$f":"IF(B5067=\"\",\"\",IF(R5067<5,INT((A5067-1)/Einstellung!$B$4)+1,\"\"))","v":""},""]
["",null,null,null,null,null,null,null,null,null,null,null,null,null,null,null,null,"",{"$f":"IF(B5070=\"\",\"\",IF(R5070<5,INT((A5070-1)/Einstellung!$B$4)+1,\"\"))","v":""},""]
["",null,null,null,null,null,null,null,null,null,null,null,null,null,null,null,null,"",{"$f":"IF(B5071=\"\",\"\",IF(R5071<5,INT((A5071-1)/Einstellung!$B$4)+1,\"\"))","v":""},""]
["",null,null,null,null,null,null,null,null,null,null,null,null,null,null,null,null,"",{"$f":"IF(B5073=\"\",\"\",IF(R5073<5,INT((A5073-1)/Einstellung!$B$4)+1,\"\"))","v":""},""]
["",null,null,null,null,null,null,null,null,null,null,null,null,null,null,null,null,"",{"$f":"IF(B5074=\"\",\"\",IF(R5074<5,INT((A5074-1)/Einstellung!$B$4)+1,\"\"))","v":""},""]
["",null,null,null,null,null,null,null,null,null,null,null,null,null,null,null,null,"",{"$f":"IF(B5077=\"\",\"\",IF(R5077<5,INT((A5077-1)/Einstellung!$B$4)+1,\"\"))","v":""},""]
["",null,null,null,null,null,null,null,null,null,null,null,null,null,null,null,null,"",{"$f":"IF(B5078=\"\",\"\",IF(R5078<5,INT((A5078-1)/Einstellung!$B$4)+1,\"\"))","v":""},""]
["",null,null,null,null,null,null,null,null,null,null,null,null,null,null,null,null,"",{"$f":"IF(B5080=\"\",\"\",IF(R5080<5,INT((A5080-1)/Einstellung!$B$4)+1,\"\"))","v":""},""]
["",null,null,null,null,null,null,null,null,null,null,null,null,null,null,null,null,"",{"$f":"IF(B5081=\"\",\"\",IF(R5081<5,INT((A5081-1)/Einstellung!$B$4)+1,\"\"))","v":""},""]
["",null,null,null,null,null,null,null,null,null,null,null,null,null,null,null,null,"",{"$f":"IF(B5084=\"\",\"\",IF(R5084<5,INT((A5084-1)/Einstellung!$B$4)+1,\"\"))","v":""},""]
["",null,null,null,null,null,null,null,null,null,null,null,null,null,null,null,null,"",{"$f":"IF(B5085=\"\",\"\",IF(R5085<5,INT((A5085-1)/Einstellung!$B$4)+1,\"\"))","v":""},""]
["",null,null,null,null,null,null,null,null,null,null,null,null,null,null,null,null,"",{"$f":"IF(B5087=\"\",\"\",IF(R5087<5,INT((A5087-1)/Einstellung!$B$4)+1,\"\"))","v":""},""]
["",null,null,null,null,null,null,null,null,null,null,null,null,null,null,null,null,"",{"$f":"IF(B5088=\"\",\"\",IF(R5088<5,INT((A5088-1)/Einstellung!$B$4)+1,\"\"))","v":""},""]
["",null,null,null,null,null,null,null,null,null,null,null,null,null,null,null,null,"",{"$f":"IF(B5091=\"\",\"\",IF(R5091<5,INT((A5091-1)/Einstellung!$B$4)+1,\"\"))","v":""},""]
["",null,null,null,null,null,null,null,null,null,null,null,null,null,null,null,null,"",{"$f":"IF(B5092=\"\",\"\",IF(R5092<5,INT((A5092-1)/Einstellung!$B$4)+1,\"\"))","v":""},""]
["",null,null,null,null,null,null,null,null,null,null,null,null,null,null,null,null,"",{"$f":"IF(B5094=\"\",\"\",IF(R5094<5,INT((A5094-1)/Einstellung!$B$4)+1,\"\"))","v":""},""]
["",null,null,null,null,null,null,null,null,null,null,null,null,null,null,null,null,"",{"$f":"IF(B5095=\"\",\"\",IF(R5095<5,INT((A5095-1)/Einstellung!$B$4)+1,\"\"))","v":""},""]
[{"$f":"IF(B5098=\"\",\"\",ROW()-7)","v":""},null,null,null,null,null,null,null,null,null,null,null,null,null,null,null,null,"",{"$f":"IF(B5098=\"\",\"\",IF(R5098<5,INT((A5098-1)/Einstellung!$B$4)+1,\"\"))","v":""},""]
["",null,null,null,null,null,null,null,null,null,null,null,null,null,null,null,null,"",{"$f":"IF(B5099=\"\",\"\",IF(R5099<5,INT((A5099-1)/Einstellung!$B$4)+1,\"\"))","v":""},""]
["",null,null,null,null,null,null,null,null,null,null,null,null,null,null,null,null,"",{"$f":"IF(B5101=\"\",\"\",IF(R5101<5,INT((A5101-1)/Einstellung!$B$4)+1,\"\"))","v":""},""]
["",null,null,null,null,null,null,null,null,null,null,null,null,null,null,null,null,"",{"$f":"IF(B5102=\"\",\"\",IF(R5102<5,INT((A5102-1)/Einstellung!$B$4)+1,\"\"))","v":""},""]
["",null,null,null,null,null,null,null,null,null,null,null,null,null,null,null,null,"",{"$f":"IF(B5105=\"\",\"\",IF(R5105<5,INT((A5105-1)/Einstellung!$B$4)+1,\"\"))","v":""},""]
["",null,null,null,null,null,null,null,null,null,null,null,null,null,null,null,null,"",{"$f":"IF(B5106=\"\",\"\",IF(R5106<5,INT((A5106-1)/Einstellung!$B$4)+1,\"\"))","v":""},""]
["",null,null,null,null,null,null,null,null,null,null,null,null,null,null,null,null,"",{"$f":"IF(B5108=\"\",\"\",IF(R5108<5,INT((A5108-1)/Einstellung!$B$4)+1,\"\"))","v":""},""]
["",null,null,null,null,null,null,null,null,null,null,null,null,null,null,null,null,"",{"$f":"IF(B5109=\"\",\"\",IF(R5109<5,INT((A5109-1)/Einstellung!$B$4)+1,\"\"))","v":""},""]
["",null,null,null,null,null,null,null,null,null,null,null,null,null,null,null,null,"",{"$f":"IF(B5112=\"\",\"\",IF(R5112<5,INT((A5112-1)/Einstellung!$B$4)+1,\"\"))","v":""},""]
["",null,null,null,null,null,null,null,null,null,null,null,null,null,null,null,null,"",{"$f":"IF(B5113=\"\",\"\",IF(R5113<5,INT((A5113-1)/Einstellung!$B$4)+1,\"\"))","v":""},""]
["",null,null,null,null,null,null,null,null,null,null,null,null,null,null,null,null,"",{"$f":"IF(B5115=\"\",\"\",IF(R5115<5,INT((A5115-1)/Einstellung!$B$4)+1,\"\"))","v":""},""]
["",null,null,null,null,null,null,null,null,null,null,null,null,null,null,null,null,"",{"$f":"IF(B5116=\"\",\"\",IF(R5116<5,INT((A5116-1)/Einstellung!$B$4)+1,\"\"))","v":""},""]
["",null,null,null,null,null,null,null,null,null,null,null,null,null,null,null,null,"",{"$f":"IF(B5119=\"\",\"\",IF(R5119<5,INT((A5119-1)/Einstellung!$B$4)+1,\"\"))","v":""},""]
["",null,null,null,null,null,null,null,null,null,null,null,null,null,null,null,null,"",{"$f":"IF(B5120=\"\",\"\",IF(R5120<5,INT((A5120-1)/Einstellung!$B$4)+1,\"\"))","v":""},""]
["",null,null,null,null,null,null,null,null,null,null,null,null,null,null,null,null,"",{"$f":"IF(B5122=\"\",\"\",IF(R5122<5,INT((A5122-1)/Einstellung!$B$4)+1,\"\"))","v":""},""]
["",null,null,null,null,null,null,null,null,null,null,null,null,null,null,null,null,"",{"$f":"IF(B5123=\"\",\"\",IF(R5123<5,INT((A5123-1)/Einstellung!$B$4)+1,\"\"))","v":""},""]
["",null,null,null,null,null,null,null,null,null,null,null,null,null,null,null,null,"",{"$f":"IF(B5126=\"\",\"\",IF(R5126<5,INT((A5126-1)/Einstellung!$B$4)+1,\"\"))","v":""},""]
["",null,null,null,null,null,null,null,null,null,null,null,null,null,null,null,null,"",{"$f":"IF(B5127=\"\",\"\",IF(R5127<5,INT((A5127-1)/Einstellung!$B$4)+1,\"\"))","v":""},""]
["",null,null,null,null,null,null,null,null,null,null,null,null,null,null,null,null,"",{"$f":"IF(B5129=\"\",\"\",IF(R5129<5,INT((A5129-1)/Einstellung!$B$4)+1,\"\"))","v":""},""]
["",null,null,null,null,null,null,null,null,null,null,null,null,null,null,null,null,"",{"$f":"IF(B5130=\"\",\"\",IF(R5130<5,INT((A5130-1)/Einstellung!$B$4)+1,\"\"))","v":""},""]
["",null,null,null,null,null,null,null,null,null,null,null,null,null,null,null,null,"",{"$f":"IF(B5133=\"\",\"\",IF(R5133<5,INT((A5133-1)/Einstellung!$B$4)+1,\"\"))","v":""},""]
["",null,null,null,null,null,null,null,null,null,null,null,null,null,null,null,null,"",{"$f":"IF(B5134=\"\",\"\",IF(R5134<5,INT((A5134-1)/Einstellung!$B$4)+1,\"\"))","v":""},""]
["",null,null,null,null,null,null,null,null,null,null,null,null,null,null,null,null,"",{"$f":"IF(B5137=\"\",\"\",IF(R5137<5,INT((A5137-1)/Einstellung!$B$4)+1,\"\"))","v":""},""]
["",null,null,null,null,null,null,null,null,null,null,null,null,null,null,null,null,"",{"$f":"IF(B5138=\"\",\"\",IF(R5138<5,INT((A5138-1)/Einstellung!$B$4)+1,\"\"))","v":""},""]
["",null,null,null,null,null,null,null,null,null,null,null,null,null,null,null,null,"",{"$f":"IF(B5140=\"\",\"\",IF(R5140<5,INT((A5140-1)/Einstellung!$B$4)+1,\"\"))","v":""},""]
["",null,null,null,null,null,null,null,null,null,null,null,null,null,null,null,null,"",{"$f":"IF(B5141=\"\",\"\",IF(R5141<5,INT((A5141-1)/Einstellung!$B$4)+1,\"\"))","v":""},""]
["",null,null,null,null,null,null,null,null,null,null,null,null,null,null,null,null,"",{"$f":"IF(B5144=\"\",\"\",IF(R5144<5,INT((A5144-1)/Einstellung!$B$4)+1,\"\"))","v":""},""]
["",null,null,null,null,null,null,null,null,null,null,null,null,null,null,null,null,"",{"$f":"IF(B5145=\"\",\"\",IF(R5145<5,INT((A5145-1)/Einstellung!$B$4)+1,\"\"))","v":""},""]
["",null,null,null,null,null,null,null,null,null,null,null,null,null,null,null,null,"",{"$f":"IF(B5147=\"\",\"\",IF(R5147<5,INT((A5147-1)/Einstellung!$B$4)+1,\"\"))","v":""},""]
["",null,null,null,null,null,null,null,null,null,null,null,null,null,null,null,null,"",{"$f":"IF(B5148=\"\",\"\",IF(R5148<5,INT((A5148-1)/Einstellung!$B$4)+1,\"\"))","v":""},""]
["",null,null,null,null,null,null,null,null,null,null,null,null,null,null,null,null,"",{"$f":"IF(B5151=\"\",\"\",IF(R5151<5,INT((A5151-1)/Einstellung!$B$4)+1,\"\"))","v":""},""]
["",null,null,null,null,null,null,null,null,null,null,null,null,null,null,null,null,"",{"$f":"IF(B5152=\"\",\"\",IF(R5152<5,INT((A5152-1)/Einstellung!$B$4)+1,\"\"))","v":""},""]
["",null,null,null,null,null,null,null,null,null,null,null,null,null,null,null,null,"",{"$f":"IF(B5154=\"\",\"\",IF(R5154<5,INT((A5154-1)/Einstellung!$B$4)+1,\"\"))","v":""},""]
["",null,null,null,null,null,null,null,null,null,null,null,null,null,null,null,null,"",{"$f":"IF(B5155=\"\",\"\",IF(R5155<5,INT((A5155-1)/Einstellung!$B$4)+1,\"\"))","v":""},""]
["",null,null,null,null,null,null,null,null,null,null,null,null,null,null,null,null,"",{"$f":"IF(B5158=\"\",\"\",IF(R5158<5,INT((A5158-1)/Einstellung!$B$4)+1,\"\"))","v":""},""]
["",null,null,null,null,null,null,null,null,null,null,null,null,null,null,null,null,"",{"$f":"IF(B5159=\"\",\"\",IF(R5159<5,INT((A5159-1)/Einstellung!$B$4)+1,\"\"))","v":""},""]
["",null,null,null,null,null,null,null,null,null,null,null,null,null,null,null,null,"",{"$f":"IF(B5161=\"\",\"\",IF(R5161<5,INT((A5161-1)/Einstellung!$B$4)+1,\"\"))","v":""},""]
[{"$f":"IF(B5162=\"\",\"\",ROW()-7)","v":""},null,null,null,null,null,null,null,null,null,null,null,null,null,null,null,null,"",{"$f":"IF(B5162=\"\",\"\",IF(R5162<5,INT((A5162-1)/Einstellung!$B$4)+1,\"\"))","v":""},""]
["",null,null,null,null,null,null,null,null,null,null,null,null,null,null,null,null,"",{"$f":"IF(B5165=\"\",\"\",IF(R5165<5,INT((A5165-1)/Einstellung!$B$4)+1,\"\"))","v":""},""]
["",null,null,null,null,null,null,null,null,null,null,null,null,null,null,null,null,"",{"$f":"IF(B5166=\"\",\"\",IF(R5166<5,INT((A5166-1)/Einstellung!$B$4)+1,\"\"))","v":""},""]
["",null,null,null,null,null,null,null,null,null,null,null,null,null,null,null,null,"",{"$f":"IF(B5168=\"\",\"\",IF(R5168<5,INT((A5168-1)/Einstellung!$B$4)+1,\"\"))","v":""},""]
["",null,null,null,null,null,null,null,null,null,null,null,null,null,null,null,null,"",{"$f":"IF(B5169=\"\",\"\",IF(R5169<5,INT((A5169-1)/Einstellung!$B$4)+1,\"\"))","v":""},""]
["",null,null,null,null,null,null,null,null,null,null,null,null,null,null,null,null,"",{"$f":"IF(B5172=\"\",\"\",IF(R5172<5,INT((A5172-1)/Einstellung!$B$4)+1,\"\"))","v":""},""]
["",null,null,null,null,null,null,null,null,null,null,null,null,null,null,null,null,"",{"$f":"IF(B5173=\"\",\"\",IF(R5173<5,INT((A5173-1)/Einstellung!$B$4)+1,\"\"))","v":""},""]
["",null,null,null,null,null,null,null,null,null,null,null,null,null,null,null,null,"",{"$f":"IF(B5175=\"\",\"\",IF(R5175<5,INT((A5175-1)/Einstellung!$B$4)+1,\"\"))","v":""},""]
["",null,null,null,null,null,null,null,null,null,null,null,null,null,null,null,null,"",{"$f":"IF(B5176=\"\",\"\",IF(R5176<5,INT((A5176-1)/Einstellung!$B$4)+1,\"\"))","v":""},""]
["",null,null,null,null,null,null,null,null,null,null,null,null,null,null,null,null,"",{"$f":"IF(B5179=\"\",\"\",IF(R5179<5,INT((A5179-1)/Einstellung!$B$4)+1,\"\"))","v":""},""]
["",null,null,null,null,null,null,null,null,null,null,null,null,null,null,null,null,"",{"$f":"IF(B5180=\"\",\"\",IF(R5180<5,INT((A5180-1)/Einstellung!$B$4)+1,\"\"))","v":""},""]
["",null,null,null,null,null,null,null,null,null,null,null,null,null,null,null,null,"",{"$f":"IF(B5182=\"\",\"\",IF(R5182<5,INT((A5182-1)/Einstellung!$B$4)+1,\"\"))","v":""},""]
["",null,null,null,null,null,null,null,null,null,null,null,null,null,null,null,null,"",{"$f":"IF(B5183=\"\",\"\",IF(R5183<5,INT((A5183-1)/Einstellung!$B$4)+1,\"\"))","v":""},""]
["",null,null,null,null,null,null,null,null,null,null,null,null,null,null,null,null,"",{"$f":"IF(B5186=\"\",\"\",IF(R5186<5,INT((A5186-1)/Einstellung!$B$4)+1,\"\"))","v":""},""]
["",null,null,null,null,null,null,null,null,null,null,null,null,null,null,null,null,"",{"$f":"IF(B5187=\"\",\"\",IF(R5187<5,INT((A5187-1)/Einstellung!$B$4)+1,\"\"))","v":""},""]
["",null,null,null,null,null,null,null,null,null,null,null,null,null,null,null,null,"",{"$f":"IF(B5189=\"\",\"\",IF(R5189<5,INT((A5189-1)/Einstellung!$B$4)+1,\"\"))","v":""},""]
["",null,null,null,null,null,null,null,null,null,null,null,null,null,null,null,null,"",{"$f":"IF(B5190=\"\",\"\",IF(R5190<5,INT((A5190-1)/Einstellung!$B$4)+1,\"\"))","v":""},""]
["",null,null,null,null,null,null,null,null,null,null,null,null,null,null,null,null,"",{"$f":"IF(B5193=\"\",\"\",IF(R5193<5,INT((A5193-1)/Einstellung!$B$4)+1,\"\"))","v":""},""]
["",null,null,null,null,null,null,null,null,null,null,null,null,null,null,null,null,"",{"$f":"IF(B5194=\"\",\"\",IF(R5194<5,INT((A5194-1)/Einstellung!$B$4)+1,\"\"))","v":""},""]
["",null,null,null,null,null,null,null,null,null,null,null,null,null,null,null,null,"",{"$f":"IF(B5196=\"\",\"\",IF(R5196<5,INT((A5196-1)/Einstellung!$B$4)+1,\"\"))","v":""},""]
["",null,null,null,null,null,null,null,null,null,null,null,null,null,null,null,null,"",{"$f":"IF(B5197=\"\",\"\",IF(R5197<5,INT((A5197-1)/Einstellung!$B$4)+1,\"\"))","v":""},""]
["",null,null,null,null,null,null,null,null,null,null,null,null,null,null,null,null,"",{"$f":"IF(B5200=\"\",\"\",IF(R5200<5,INT((A5200-1)/Einstellung!$B$4)+1,\"\"))","v":""},""]
["",null,null,null,null,null,null,null,null,null,null,null,null,null,null,null,null,"",{"$f":"IF(B5201=\"\",\"\",IF(R5201<5,INT((A5201-1)/Einstellung!$B$4)+1,\"\"))","v":""},""]
["",null,null,null,null,null,null,null,null,null,null,null,null,null,null,null,null,"",{"$f":"IF(B5203=\"\",\"\",IF(R5203<5,INT((A5203-1)/Einstellung!$B$4)+1,\"\"))","v":""},""]
["",null,null,null,null,null,null,null,null,null,null,null,null,null,null,null,null,"",{"$f":"IF(B5204=\"\",\"\",IF(R5204<5,INT((A5204-1)/Einstellung!$B$4)+1,\"\"))","v":""},""]
["",null,null,null,null,null,null,null,null,null,null,null,null,null,null,null,null,"",{"$f":"IF(B5207=\"\",\"\",IF(R5207<5,INT((A5207-1)/Einstellung!$B$4)+1,\"\"))","v":""},""]
["",null,null,null,null,null,null,null,null,null,null,null,null,null,null,null,null,"",{"$f":"IF(B5208=\"\",\"\",IF(R5208<5,INT((A5208-1)/Einstellung!$B$4)+1,\"\"))","v":""},""]
["",null,null,null,null,null,null,null,null,null,null,null,null,null,null,null,null,"",{"$f":"IF(B5210=\"\",\"\",IF(R5210<5,INT((A5210-1)/Einstellung!$B$4)+1,\"\"))","v":""},""]
["",null,null,null,null,null,null,null,null,null,null,null,null,null,null,null,null,"",{"$f":"IF(B5211=\"\",\"\",IF(R5211<5,INT((A5211-1)/Einstellung!$B$4)+1,\"\"))","v":""},""]
["",null,null,null,null,null,null,null,null,null,null,null,null,null,null,null,null,"",{"$f":"IF(B5214=\"\",\"\",IF(R5214<5,INT((A5214-1)/Einstellung!$B$4)+1,\"\"))","v":""},""]
["",null,null,null,null,null,null,null,null,null,null,null,null,null,null,null,null,"",{"$f":"IF(B5215=\"\",\"\",IF(R5215<5,INT((A5215-1)/Einstellung!$B$4)+1,\"\"))","v":""},""]
["",null,null,null,null,null,null,null,null,null,null,null,null,null,null,null,null,"",{"$f":"IF(B5217=\"\",\"\",IF(R5217<5,INT((A5217-1)/Einstellung!$B$4)+1,\"\"))","v":""},""]
["",null,null,null,null,null,null,null,null,null,null,null,null,null,null,null,null,"",{"$f":"IF(B5218=\"\",\"\",IF(R5218<5,INT((A5218-1)/Einstellung!$B$4)+1,\"\"))","v":""},""]
["",null,null,null,null,null,null,null,null,null,null,null,null,null,null,null,null,"",{"$f":"IF(B5221=\"\",\"\",IF(R5221<5,INT((A5221-1)/Einstellung!$B$4)+1,\"\"))","v":""},""]
["",null,null,null,null,null,null,null,null,null,null,null,null,null,null,null,null,"",{"$f":"IF(B5222=\"\",\"\",IF(R5222<5,INT((A5222-1)/Einstellung!$B$4)+1,\"\"))","v":""},""]
["",null,null,null,null,null,null,null,null,null,null,null,null,null,null,null,null,"",{"$f":"IF(B5224=\"\",\"\",IF(R5224<5,INT((A5224-1)/Einstellung!$B$4)+1,\"\"))","v":""},""]
["",null,null,null,null,null,null,null,null,null,null,null,null,null,null,null,null,"",{"$f":"IF(B5225=\"\",\"\",IF(R5225<5,INT((A5225-1)/Einstellung!$B$4)+1,\"\"))","v":""},""]
["",null,null,null,null,null,null,null,null,null,null,null,null,null,null,null,null,"",{"$f":"IF(B5228=\"\",\"\",IF(R5228<5,INT((A5228-1)/Einstellung!$B$4)+1,\"\"))","v":""},""]
["",null,null,null,null,null,null,null,null,null,null,null,null,null,null,null,null,"",{"$f":"IF(B5229=\"\",\"\",IF(R5229<5,INT((A5229-1)/Einstellung!$B$4)+1,\"\"))","v":""},""]
["",null,null,null,null,null,null,null,null,null,null,null,null,null,null,null,null,"",{"$f":"IF(B5231=\"\",\"\",IF(R5231<5,INT((A5231-1)/Einstellung!$B$4)+1,\"\"))","v":""},""]
["",null,null,null,null,null,null,null,null,null,null,null,null,null,null,null,null,"",{"$f":"IF(B5232=\"\",\"\",IF(R5232<5,INT((A5232-1)/Einstellung!$B$4)+1,\"\"))","v":""},""]
["",null,null,null,null,null,null,null,null,null,null,null,null,null,null,null,null,"",{"$f":"IF(B5235=\"\",\"\",IF(R5235<5,INT((A5235-1)/Einstellung!$B$4)+1,\"\"))","v":""},""]
["",null,null,null,null,null,null,null,null,null,null,null,null,null,null,null,null,"",{"$f":"IF(B5236=\"\",\"\",IF(R5236<5,INT((A5236-1)/Einstellung!$B$4)+1,\"\"))","v":""},""]
["",null,null,null,null,null,null,null,null,null,null,null,null,null,null,null,null,"",{"$f":"IF(B5238=\"\",\"\",IF(R5238<5,INT((A5238-1)/Einstellung!$B$4)+1,\"\"))","v":""},""]
["",null,null,null,null,null,null,null,null,null,null,null,null,null,null,null,null,"",{"$f":"IF(B5239=\"\",\"\",IF(R5239<5,INT((A5239-1)/Einstellung!$B$4)+1,\"\"))","v":""},""]
["",null,null,null,null,null,null,null,null,null,null,null,null,null,null,null,null,"",{"$f":"IF(B5242=\"\",\"\",IF(R5242<5,INT((A5242-1)/Einstellung!$B$4)+1,\"\"))","v":""},""]
["",null,null,null,null,null,null,null,null,null,null,null,null,null,null,null,null,"",{"$f":"IF(B5243=\"\",\"\",IF(R5243<5,INT((A5243-1)/Einstellung!$B$4)+1,\"\"))","v":""},""]
["",null,null,null,null,null,null,null,null,null,null,null,null,null,null,null,null,"",{"$f":"IF(B5245=\"\",\"\",IF(R5245<5,INT((A5245-1)/Einstellung!$B$4)+1,\"\"))","v":""},""]
["",null,null,null,null,null,null,null,null,null,null,null,null,null,null,null,null,"",{"$f":"IF(B5246=\"\",\"\",IF(R5246<5,INT((A5246-1)/Einstellung!$B$4)+1,\"\"))","v":""},""]
["",null,null,null,null,null,null,null,null,null,null,null,null,null,null,null,null,"",{"$f":"IF(B5249=\"\",\"\",IF(R5249<5,INT((A5249-1)/Einstellung!$B$4)+1,\"\"))","v":""},""]
["",null,null,null,null,null,null,null,null,null,null,null,null,null,null,null,null,"",{"$f":"IF(B5250=\"\",\"\",IF(R5250<5,INT((A5250-1)/Einstellung!$B$4)+1,\"\"))","v":""},""]
["",null,null,null,null,null,null,null,null,null,null,null,null,null,null,null,null,"",{"$f":"IF(B5252=\"\",\"\",IF(R5252<5,INT((A5252-1)/Einstellung!$B$4)+1,\"\"))","v":""},""]
["",null,null,null,null,null,null,null,null,null,null,null,null,null,null,null,null,"",{"$f":"IF(B5253=\"\",\"\",IF(R5253<5,INT((A5253-1)/Einstellung!$B$4)+1,\"\"))","v":""},""]
["",null,null,null,null,null,null,null,null,null,null,null,null,null,null,null,null,{"$f":"IF(B5256=\"\",\"\",16-((MID(B$1,1,1)=MID(B5256,1,1))+(MID(C$1,1,1)=MID(C5256,1,1))+(MID(D$1,1,1)=MID(D5256,1,1))+(MID(E$1,1,1)=MID(E5256,1,1))+(MID(F$1,1,1)=MID(F5256,1,1))+(MID(G$1,1,1)=MID(G5256,1,1))+(MID(H$1,1,1)=MID(H5256,1,1))+(MID(I$1,1,1)=MID(I5256,1,1))+(MID(J$1,1,1)=MID(J5256,1,1))+(MID(K$1,1,1)=MID(K5256,1,1))+(MID(L$1,1,1)=MID(L5256,1,1))+(MID(M$1,1,1)=MID(M5256,1,1))+(MID(N$1,1,1)=MID(N5256,1,1))+(MID(O$1,1,1)=MID(O5256,1,1))+(MID(P$1,1,1)=MID(P5256,1,1)))-B$4+C$5)","v":""},{"$f":"IF(B5256=\"\",\"\",IF(R5256<5,INT((A5256-1)/Einstellung!$B$4)+1,\"\"))","v":""},{"$f":"IF(C$5<B$4,\"\",IF(R5256>4,\"\",OFFSET(T$2,R5256-1,0)))","v":""}]
["",null,null,null,null,null,null,null,null,null,null,null,null,null,null,null,null,"",{"$f":"IF(B5257=\"\",\"\",IF(R5257<5,INT((A5257-1)/Einstellung!$B$4)+1,\"\"))","v":""},""]
["",null,null,null,null,null,null,null,null,null,null,null,null,null,null,null,null,"",{"$f":"IF(B5259=\"\",\"\",IF(R5259<5,INT((A5259-1)/Einstellung!$B$4)+1,\"\"))","v":""},""]
["",null,null,null,null,null,null,null,null,null,null,null,null,null,null,null,null,"",{"$f":"IF(B5260=\"\",\"\",IF(R5260<5,INT((A5260-1)/Einstellung!$B$4)+1,\"\"))","v":""},""]
["",null,null,null,null,null,null,null,null,null,null,null,null,null,null,null,null,"",{"$f":"IF(B5263=\"\",\"\",IF(R5263<5,INT((A5263-1)/Einstellung!$B$4)+1,\"\"))","v":""},""]
["",null,null,null,null,null,null,null,null,null,null,null,null,null,null,null,null,"",{"$f":"IF(B5264=\"\",\"\",IF(R5264<5,INT((A5264-1)/Einstellung!$B$4)+1,\"\"))","v":""},""]
["",null,null,null,null,null,null,null,null,null,null,null,null,null,null,null,null,"",{"$f":"IF(B5266=\"\",\"\",IF(R5266<5,INT((A5266-1)/Einstellung!$B$4)+1,\"\"))","v":""},""]
["",null,null,null,null,null,null,null,null,null,null,null,null,null,null,null,null,"",{"$f":"IF(B5267=\"\",\"\",IF(R5267<5,INT((A5267-1)/Einstellung!$B$4)+1,\"\"))","v":""},""]
["",null,null,null,null,null,null,null,null,null,null,null,null,null,null,null,null,"",{"$f":"IF(B5270=\"\",\"\",IF(R5270<5,INT((A5270-1)/Einstellung!$B$4)+1,\"\"))","v":""},""]
["",null,null,null,null,null,null,null,null,null,null,null,null,null,null,null,null,"",{"$f":"IF(B5271=\"\",\"\",IF(R5271<5,INT((A5271-1)/Einstellung!$B$4)+1,\"\"))","v":""},""]
["",null,null,null,null,null,null,null,null,null,null,null,null,null,null,null,null,"",{"$f":"IF(B5273=\"\",\"\",IF(R5273<5,INT((A5273-1)/Einstellung!$B$4)+1,\"\"))","v":""},""]
["",null,null,null,null,null,null,null,null,null,null,null,null,null,null,null,null,"",{"$f":"IF(B5274=\"\",\"\",IF(R5274<5,INT((A5274-1)/Einstellung!$B$4)+1,\"\"))","v":""},""]
["",null,null,null,null,null,null,null,null,null,null,null,null,null,null,null,null,"",{"$f":"IF(B5277=\"\",\"\",IF(R5277<5,INT((A5277-1)/Einstellung!$B$4)+1,\"\"))","v":""},""]
["",null,null,null,null,null,null,null,null,null,null,null,null,null,null,null,null,"",{"$f":"IF(B5278=\"\",\"\",IF(R5278<5,INT((A5278-1)/Einstellung!$B$4)+1,\"\"))","v":""},""]
["",null,null,null,null,null,null,null,null,null,null,null,null,null,null,null,null,"",{"$f":"IF(B5280=\"\",\"\",IF(R5280<5,INT((A5280-1)/Einstellung!$B$4)+1,\"\"))","v":""},""]
["",null,null,null,null,null,null,null,null,null,null,null,null,null,null,null,null,"",{"$f":"IF(B5281=\"\",\"\",IF(R5281<5,INT((A5281-1)/Einstellung!$B$4)+1,\"\"))","v":""},""]
["",null,null,null,null,null,null,null,null,null,null,null,null,null,null,null,null,"",{"$f":"IF(B5284=\"\",\"\",IF(R5284<5,INT((A5284-1)/Einstellung!$B$4)+1,\"\"))","v":""},""]
["",null,null,null,null,null,null,null,null,null,null,null,null,null,null,null,null,"",{"$f":"IF(B5285=\"\",\"\",IF(R5285<5,INT((A5285-1)/Einstellung!$B$4)+1,\"\"))","v":""},""]
["",null,null,null,null,null,null,null,null,null,null,null,null,null,null,null,null,"",{"$f":"IF(B5287=\"\",\"\",IF(R5287<5,INT((A5287-1)/Einstellung!$B$4)+1,\"\"))","v":""},""]
["",null,null,null,null,null,null,null,null,null,null,null,null,null,null,null,null,"",{"$f":"IF(B5288=\"\",\"\",IF(R5288<5,INT((A5288-1)/Einstellung!$B$4)+1,\"\"))","v":""},""]
["",null,null,null,null,null,null,null,null,null,null,null,null,null,null,null,null,"",{"$f":"IF(B5291=\"\",\"\",IF(R5291<5,INT((A5291-1)/Einstellung!$B$4)+1,\"\"))","v":""},""]
["",null,null,null,null,null,null,null,null,null,null,null,null,null,null,null,null,"",{"$f":"IF(B5292=\"\",\"\",IF(R5292<5,INT((A5292-1)/Einstellung!$B$4)+1,\"\"))","v":""},""]
["",null,null,null,null,null,null,null,null,null,null,null,null,null,null,null,null,"",{"$f":"IF(B5294=\"\",\"\",IF(R5294<5,INT((A5294-1)/Einstellung!$B$4)+1,\"\"))","v":""},""]
["",null,null,null,null,null,null,null,null,null,null,null,null,null,null,null,null,"",{"$f":"IF(B5295=\"\",\"\",IF(R5295<5,INT((A5295-1)/Einstellung!$B$4)+1,\"\"))","v":""},""]
["",null,null,null,null,null,null,null,null,null,null,null,null,null,null,null,null,"",{"$f":"IF(B5298=\"\",\"\",IF(R5298<5,INT((A5298-1)/Einstellung!$B$4)+1,\"\"))","v":""},""]
["",null,null,null,null,null,null,null,null,null,null,null,null,null,null,null,null,"",{"$f":"IF(B5299=\"\",\"\",IF(R5299<5,INT((A5299-1)/Einstellung!$B$4)+1,\"\"))","v":""},""]
["",null,null,null,null,null,null,null,null,null,null,null,null,null,null,null,null,"",{"$f":"IF(B5301=\"\",\"\",IF(R5301<5,INT((A5301-1)/Einstellung!$B$4)+1,\"\"))","v":""},""]
["",null,null,null,null,null,null,null,null,null,null,null,null,null,null,null,null,"",{"$f":"IF(B5302=\"\",\"\",IF(R5302<5,INT((A5302-1)/Einstellung!$B$4)+1,\"\"))","v":""},""]
["",null,null,null,null,null,null,null,null,null,null,null,null,null,null,null,null,"",{"$f":"IF(B5305=\"\",\"\",IF(R5305<5,INT((A5305-1)/Einstellung!$B$4)+1,\"\"))","v":""},""]
["",null,null,null,null,null,null,null,null,null,null,null,null,null,null,null,null,"",{"$f":"IF(B5306=\"\",\"\",IF(R5306<5,INT((A5306-1)/Einstellung!$B$4)+1,\"\"))","v":""},""]
["",null,null,null,null,null,null,null,null,null,null,null,null,null,null,null,null,"",{"$f":"IF(B5308=\"\",\"\",IF(R5308<5,INT((A5308-1)/Einstellung!$B$4)+1,\"\"))","v":""},""]
["",null,null,null,null,null,null,null,null,null,null,null,null,null,null,null,null,"",{"$f":"IF(B5309=\"\",\"\",IF(R5309<5,INT((A5309-1)/Einstellung!$B$4)+1,\"\"))","v":""},""]
["",null,null,null,null,null,null,null,null,null,null,null,null,null,null,null,null,"",{"$f":"IF(B5312=\"\",\"\",IF(R5312<5,INT((A5312-1)/Einstellung!$B$4)+1,\"\"))","v":""},""]
["",null,null,null,null,null,null,null,null,null,null,null,null,null,null,null,null,"",{"$f":"IF(B5313=\"\",\"\",IF(R5313<5,INT((A5313-1)/Einstellung!$B$4)+1,\"\"))","v":""},""]
["",null,null,null,null,null,null,null,null,null,null,null,null,null,null,null,null,"",{"$f":"IF(B5315=\"\",\"\",IF(R5315<5,INT((A5315-1)/Einstellung!$B$4)+1,\"\"))","v":""},""]
["",null,null,null,null,null,null,null,null,null,null,null,null,null,null,null,null,"",{"$f":"IF(B5316=\"\",\"\",IF(R5316<5,INT((A5316-1)/Einstellung!$B$4)+1,\"\"))","v":""},""]
["",null,null,null,null,null,null,null,null,null,null,null,null,null,null,null,null,"",{"$f":"IF(B5319=\"\",\"\",IF(R5319<5,INT((A5319-1)/Einstellung!$B$4)+1,\"\"))","v":""},""]
["",null,null,null,null,null,null,null,null,null,null,null,null,null,null,null,null,{"$f":"IF(B5320=\"\",\"\",16-((MID(B$1,1,1)=MID(B5320,1,1))+(MID(C$1,1,1)=MID(C5320,1,1))+(MID(D$1,1,1)=MID(D5320,1,1))+(MID(E$1,1,1)=MID(E5320,1,1))+(MID(F$1,1,1)=MID(F5320,1,1))+(MID(G$1,1,1)=MID(G5320,1,1))+(MID(H$1,1,1)=MID(H5320,1,1))+(MID(I$1,1,1)=MID(I5320,1,1))+(MID(J$1,1,1)=MID(J5320,1,1))+(MID(K$1,1,1)=MID(K5320,1,1))+(MID(L$1,1,1)=MID(L5320,1,1))+(MID(M$1,1,1)=MID(M5320,1,1))+(MID(N$1,1,1)=MID(N5320,1,1))+(MID(O$1,1,1)=MID(O5320,1,1))+(MID(P$1,1,1)=MID(P5320,1,1)))-B$4+C$5)","v":""},{"$f":"IF(B5320=\"\",\"\",IF(R5320<5,INT((A5320-1)/Einstellung!$B$4)+1,\"\"))","v":""},{"$f":"IF(C$5<B$4,\"\",IF(R5320>4,\"\",OFFSET(T$2,R5320-1,0)))","v":""}]
["",null,null,null,null,null,null,null,null,null,null,null,null,null,null,null,null,"",{"$f":"IF(B5322=\"\",\"\",IF(R5322<5,INT((A5322-1)/Einstellung!$B$4)+1,\"\"))","v":""},""]
["",null,null,null,null,null,null,null,null,null,null,null,null,null,null,null,null,"",{"$f":"IF(B5323=\"\",\"\",IF(R5323<5,INT((A5323-1)/Einstellung!$B$4)+1,\"\"))","v":""},""]
["",null,null,null,null,null,null,null,null,null,null,null,null,null,null,null,null,"",{"$f":"IF(B5326=\"\",\"\",IF(R5326<5,INT((A5326-1)/Einstellung!$B$4)+1,\"\"))","v":""},""]
["",null,null,null,null,null,null,null,null,null,null,null,null,null,null,null,null,"",{"$f":"IF(B5327=\"\",\"\",IF(R5327<5,INT((A5327-1)/Einstellung!$B$4)+1,\"\"))","v":""},""]
["",null,null,null,null,null,null,null,null,null,null,null,null,null,null,null,null,"",{"$f":"IF(B5329=\"\",\"\",IF(R5329<5,INT((A5329-1)/Einstellung!$B$4)+1,\"\"))","v":""},""]
["",null,null,null,null,null,null,null,null,null,null,null,null,null,null,null,null,"",{"$f":"IF(B5330=\"\",\"\",IF(R5330<5,INT((A5330-1)/Einstellung!$B$4)+1,\"\"))","v":""},""]
["",null,null,null,null,null,null,null,null,null,null,null,null,null,null,null,null,"",{"$f":"IF(B5333=\"\",\"\",IF(R5333<5,INT((A5333-1)/Einstellung!$B$4)+1,\"\"))","v":""},""]
["",null,null,null,null,null,null,null,null,null,null,null,null,null,null,null,null,"",{"$f":"IF(B5334=\"\",\"\",IF(R5334<5,INT((A5334-1)/Einstellung!$B$4)+1,\"\"))","v":""},""]
["",null,null,null,null,null,null,null,null,null,null,null,null,null,null,null,null,"",{"$f":"IF(B5336=\"\",\"\",IF(R5336<5,INT((A5336-1)/Einstellung!$B$4)+1,\"\"))","v":""},""]
["",null,null,null,null,null,null,null,null,null,null,null,null,null,null,null,null,"",{"$f":"IF(B5337=\"\",\"\",IF(R5337<5,INT((A5337-1)/Einstellung!$B$4)+1,\"\"))","v":""},""]
["",null,null,null,null,null,null,null,null,null,null,null,null,null,null,null,null,"",{"$f":"IF(B5340=\"\",\"\",IF(R5340<5,INT((A5340-1)/Einstellung!$B$4)+1,\"\"))","v":""},""]
["",null,null,null,null,null,null,null,null,null,null,null,null,null,null,null,null,"",{"$f":"IF(B5341=\"\",\"\",IF(R5341<5,INT((A5341-1)/Einstellung!$B$4)+1,\"\"))","v":""},""]
["",null,null,null,null,null,null,null,null,null,null,null,null,null,null,null,null,"",{"$f":"IF(B5343=\"\",\"\",IF(R5343<5,INT((A5343-1)/Einstellung!$B$4)+1,\"\"))","v":""},""]
["",null,null,null,null,null,null,null,null,null,null,null,null,null,null,null,null,"",{"$f":"IF(B5344=\"\",\"\",IF(R5344<5,INT((A5344-1)/Einstellung!$B$4)+1,\"\"))","v":""},""]
["",null,null,null,null,null,null,null,null,null,null,null,null,null,null,null,null,"",{"$f":"IF(B5347=\"\",\"\",IF(R5347<5,INT((A5347-1)/Einstellung!$B$4)+1,\"\"))","v":""},""]
["",null,null,null,null,null,null,null,null,null,null,null,null,null,null,null,null,"",{"$f":"IF(B5348=\"\",\"\",IF(R5348<5,INT((A5348-1)/Einstellung!$B$4)+1,\"\"))","v":""},""]
["",null,null,null,null,null,null,null,null,null,null,null,null,null,null,null,null,"",{"$f":"IF(B5350=\"\",\"\",IF(R5350<5,INT((A5350-1)/Einstellung!$B$4)+1,\"\"))","v":""},""]
["",null,null,null,null,null,null,null,null,null,null,null,null,null,null,null,null,"",{"$f":"IF(B5351=\"\",\"\",IF(R5351<5,INT((A5351-1)/Einstellung!$B$4)+1,\"\"))","v":""},""]
[{"$f":"IF(B5354=\"\",\"\",ROW()-7)","v":""},null,null,null,null,null,null,null,null,null,null,null,null,null,null,null,null,"",{"$f":"IF(B5354=\"\",\"\",IF(R5354<5,INT((A5354-1)/Einstellung!$B$4)+1,\"\"))","v":""},""]
["",null,null,null,null,null,null,null,null,null,null,null,null,null,null,null,null,"",{"$f":"IF(B5355=\"\",\"\",IF(R5355<5,INT((A5355-1)/Einstellung!$B$4)+1,\"\"))","v":""},""]
["",null,null,null,null,null,null,null,null,null,null,null,null,null,null,null,null,"",{"$f":"IF(B5357=\"\",\"\",IF(R5357<5,INT((A5357-1)/Einstellung!$B$4)+1,\"\"))","v":""},""]
["",null,null,null,null,null,null,null,null,null,null,null,null,null,null,null,null,"",{"$f":"IF(B5358=\"\",\"\",IF(R5358<5,INT((A5358-1)/Einstellung!$B$4)+1,\"\"))","v":""},""]
["",null,null,null,null,null,null,null,null,null,null,null,null,null,null,null,null,"",{"$f":"IF(B5361=\"\",\"\",IF(R5361<5,INT((A5361-1)/Einstellung!$B$4)+1,\"\"))","v":""},""]
["",null,null,null,null,null,null,null,null,null,null,null,null,null,null,null,null,"",{"$f":"IF(B5362=\"\",\"\",IF(R5362<5,INT((A5362-1)/Einstellung!$B$4)+1,\"\"))","v":""},""]
["",null,null,null,null,null,null,null,null,null,null,null,null,null,null,null,null,"",{"$f":"IF(B5364=\"\",\"\",IF(R5364<5,INT((A5364-1)/Einstellung!$B$4)+1,\"\"))","v":""},""]
["",null,null,null,null,null,null,null,null,null,null,null,null,null,null,null,null,"",{"$f":"IF(B5365=\"\",\"\",IF(R5365<5,INT((A5365-1)/Einstellung!$B$4)+1,\"\"))","v":""},""]
["",null,null,null,null,null,null,null,null,null,null,null,null,null,null,null,null,"",{"$f":"IF(B5368=\"\",\"\",IF(R5368<5,INT((A5368-1)/Einstellung!$B$4)+1,\"\"))","v":""},""]
["",null,null,null,null,null,null,null,null,null,null,null,null,null,null,null,null,"",{"$f":"IF(B5369=\"\",\"\",IF(R5369<5,INT((A5369-1)/Einstellung!$B$4)+1,\"\"))","v":""},""]
["",null,null,null,null,null,null,null,null,null,null,null,null,null,null,null,null,"",{"$f":"IF(B5371=\"\",\"\",IF(R5371<5,INT((A5371-1)/Einstellung!$B$4)+1,\"\"))","v":""},""]
["",null,null,null,null,null,null,null,null,null,null,null,null,null,null,null,null,"",{"$f":"IF(B5372=\"\",\"\",IF(R5372<5,INT((A5372-1)/Einstellung!$B$4)+1,\"\"))","v":""},""]
["",null,null,null,null,null,null,null,null,null,null,null,null,null,null,null,null,"",{"$f":"IF(B5375=\"\",\"\",IF(R5375<5,INT((A5375-1)/Einstellung!$B$4)+1,\"\"))","v":""},""]
["",null,null,null,null,null,null,null,null,null,null,null,null,null,null,null,null,"",{"$f":"IF(B5376=\"\",\"\",IF(R5376<5,INT((A5376-1)/Einstellung!$B$4)+1,\"\"))","v":""},""]
["",null,null,null,null,null,null,null,null,null,null,null,null,null,null,null,null,"",{"$f":"IF(B5378=\"\",\"\",IF(R5378<5,INT((A5378-1)/Einstellung!$B$4)+1,\"\"))","v":""},""]
["",null,null,null,null,null,null,null,null,null,null,null,null,null,null,null,null,"",{"$f":"IF(B5379=\"\",\"\",IF(R5379<5,INT((A5379-1)/Einstellung!$B$4)+1,\"\"))","v":""},""]
["",null,null,null,null,null,null,null,null,null,null,null,null,null,null,null,null,"",{"$f":"IF(B5382=\"\",\"\",IF(R5382<5,INT((A5382-1)/Einstellung!$B$4)+1,\"\"))","v":""},""]
["",null,null,null,null,null,null,null,null,null,null,null,null,null,null,null,null,"",{"$f":"IF(B5383=\"\",\"\",IF(R5383<5,INT((A5383-1)/Einstellung!$B$4)+1,\"\"))","v":""},""]
["",null,null,null,null,null,null,null,null,null,null,null,null,null,null,null,null,"",{"$f":"IF(B5386=\"\",\"\",IF(R5386<5,INT((A5386-1)/Einstellung!$B$4)+1,\"\"))","v":""},""]
["",null,null,null,null,null,null,null,null,null,null,null,null,null,null,null,null,"",{"$f":"IF(B5387=\"\",\"\",IF(R5387<5,INT((A5387-1)/Einstellung!$B$4)+1,\"\"))","v":""},""]
["",null,null,null,null,null,null,null,null,null,null,null,null,null,null,null,null,"",{"$f":"IF(B5389=\"\",\"\",IF(R5389<5,INT((A5389-1)/Einstellung!$B$4)+1,\"\"))","v":""},""]
["",null,null,null,null,null,null,null,null,null,null,null,null,null,null,null,null,"",{"$f":"IF(B5390=\"\",\"\",IF(R5390<5,INT((A5390-1)/Einstellung!$B$4)+1,\"\"))","v":""},""]
["",null,null,null,null,null,null,null,null,null,null,null,null,null,null,null,null,"",{"$f":"IF(B5393=\"\",\"\",IF(R5393<5,INT((A5393-1)/Einstellung!$B$4)+1,\"\"))","v":""},""]
["",null,null,null,null,null,null,null,null,null,null,null,null,null,null,null,null,"",{"$f":"IF(B5394=\"\",\"\",IF(R5394<5,INT((A5394-1)/Einstellung!$B$4)+1,\"\"))","v":""},""]
["",null,null,null,null,null,null,null,null,null,null,null,null,null,null,null,null,"",{"$f":"IF(B5396=\"\",\"\",IF(R5396<5,INT((A5396-1)/Einstellung!$B$4)+1,\"\"))","v":""},""]
["",null,null,null,null,null,null,null,null,null,null,null,null,null,null,null,null,"",{"$f":"IF(B5397=\"\",\"\",IF(R5397<5,INT((A5397-1)/Einstellung!$B$4)+1,\"\"))","v":""},""]
["",null,null,null,null,null,null,null,null,null,null,null,null,null,null,null,null,"",{"$f":"IF(B5400=\"\",\"\",IF(R5400<5,INT((A5400-1)/Einstellung!$B$4)+1,\"\"))","v":""},""]
["",null,null,null,null,null,null,null,null,null,null,null,null,null,null,null,null,"",{"$f":"IF(B5401=\"\",\"\",IF(R5401<5,INT((A5401-1)/Einstellung!$B$4)+1,\"\"))","v":""},""]
["",null,null,null,null,null,null,null,null,null,null,null,null,null,null,null,null,"",{"$f":"IF(B5403=\"\",\"\",IF(R5403<5,INT((A5403-1)/Einstellung!$B$4)+1,\"\"))","v":""},""]
["",null,null,null,null,null,null,null,null,null,null,null,null,null,null,null,null,"",{"$f":"IF(B5404=\"\",\"\",IF(R5404<5,INT((A5404-1)/Einstellung!$B$4)+1,\"\"))","v":""},""]
["",null,null,null,null,null,null,null,null,null,null,null,null,null,null,null,null,"",{"$f":"IF(B5407=\"\",\"\",IF(R5407<5,INT((A5407-1)/Einstellung!$B$4)+1,\"\"))","v":""},""]
["",null,null,null,null,null,null,null,null,null,null,null,null,null,null,null,null,"",{"$f":"IF(B5408=\"\",\"\",IF(R5408<5,INT((A5408-1)/Einstellung!$B$4)+1,\"\"))","v":""},""]
["",null,null,null,null,null,null,null,null,null,null,null,null,null,null,null,null,"",{"$f":"IF(B5410=\"\",\"\",IF(R5410<5,INT((A5410-1)/Einstellung!$B$4)+1,\"\"))","v":""},""]
["",null,null,null,null,null,null,null,null,null,null,null,null,null,null,null,null,"",{"$f":"IF(B5411=\"\",\"\",IF(R5411<5,INT((A5411-1)/Einstellung!$B$4)+1,\"\"))","v":""},""]
["",null,null,null,null,null,null,null,null,null,null,null,null,null,null,null,null,"",{"$f":"IF(B5414=\"\",\"\",IF(R5414<5,INT((A5414-1)/Einstellung!$B$4)+1,\"\"))","v":""},""]
["",null,null,null,null,null,null,null,null,null,null,null,null,null,null,null,null,"",{"$f":"IF(B5415=\"\",\"\",IF(R5415<5,INT((A5415-1)/Einstellung!$B$4)+1,\"\"))","v":""},""]
["",null,null,null,null,null,null,null,null,null,null,null,null,null,null,null,null,"",{"$f":"IF(B5417=\"\",\"\",IF(R5417<5,INT((A5417-1)/Einstellung!$B$4)+1,\"\"))","v":""},""]
[{"$f":"IF(B5418=\"\",\"\",ROW()-7)","v":""},null,null,null,null,null,null,null,null,null,null,null,null,null,null,null,null,"",{"$f":"IF(B5418=\"\",\"\",IF(R5418<5,INT((A5418-1)/Einstellung!$B$4)+1,\"\"))","v":""},""]
["",null,null,null,null,null,null,null,null,null,null,null,null,null,null,null,null,"",{"$f":"IF(B5421=\"\",\"\",IF(R5421<5,INT((A5421-1)/Einstellung!$B$4)+1,\"\"))","v":""},""]
["",null,null,null,null,null,null,null,null,null,null,null,null,null,null,null,null,"",{"$f":"IF(B5422=\"\",\"\",IF(R5422<5,INT((A5422-1)/Einstellung!$B$4)+1,\"\"))","v":""},""]
["",null,null,null,null,null,null,null,null,null,null,null,null,null,null,null,null,"",{"$f":"IF(B5424=\"\",\"\",IF(R5424<5,INT((A5424-1)/Einstellung!$B$4)+1,\"\"))","v":""},""]
["",null,null,null,null,null,null,null,null,null,null,null,null,null,null,null,null,"",{"$f":"IF(B5425=\"\",\"\",IF(R5425<5,INT((A5425-1)/Einstellung!$B$4)+1,\"\"))","v":""},""]
["",null,null,null,null,null,null,null,null,null,null,null,null,null,null,null,null,"",{"$f":"IF(B5428=\"\",\"\",IF(R5428<5,INT((A5428-1)/Einstellung!$B$4)+1,\"\"))","v":""},""]
["",null,null,null,null,null,null,null,null,null,null,null,null,null,null,null,null,"",{"$f":"IF(B5429=\"\",\"\",IF(R5429<5,INT((A5429-1)/Einstellung!$B$4)+1,\"\"))","v":""},""]
["",null,null,null,null,null,null,null,null,null,null,null,null,null,null,null,null,"",{"$f":"IF(B5431=\"\",\"\",IF(R5431<5,INT((A5431-1)/Einstellung!$B$4)+1,\"\"))","v":""},""]
["",null,null,null,null,null,null,null,null,null,null,null,null,null,null,null,null,"",{"$f":"IF(B5432=\"\",\"\",IF(R5432<5,INT((A5432-1)/Einstellung!$B$4)+1,\"\"))","v":""},""]
["",null,null,null,null,null,null,null,null,null,null,null,null,null,null,null,null,"",{"$f":"IF(B5435=\"\",\"\",IF(R5435<5,INT((A5435-1)/Einstellung!$B$4)+1,\"\"))","v":""},""]
["",null,null,null,null,null,null,null,null,null,null,null,null,null,null,null,null,"",{"$f":"IF(B5436=\"\",\"\",IF(R5436<5,INT((A5436-1)/Einstellung!$B$4)+1,\"\"))","v":""},""]
["",null,null,null,null,null,null,null,null,null,null,null,null,null,null,null,null,"",{"$f":"IF(B5438=\"\",\"\",IF(R5438<5,INT((A5438-1)/Einstellung!$B$4)+1,\"\"))","v":""},""]
["",null,null,null,null,null,null,null,null,null,null,null,null,null,null,null,null,"",{"$f":"IF(B5439=\"\",\"\",IF(R5439<5,INT((A5439-1)/Einstellung!$B$4)+1,\"\"))","v":""},""]
["",null,null,null,null,null,null,null,null,null,null,null,null,null,null,null,null,"",{"$f":"IF(B5442=\"\",\"\",IF(R5442<5,INT((A5442-1)/Einstellung!$B$4)+1,\"\"))","v":""},""]
["",null,null,null,null,null,null,null,null,null,null,null,null,null,null,null,null,"",{"$f":"IF(B5443=\"\",\"\",IF(R5443<5,INT((A5443-1)/Einstellung!$B$4)+1,\"\"))","v":""},""]
["",null,null,null,null,null,null,null,null,null,null,null,null,null,null,null,null,"",{"$f":"IF(B5445=\"\",\"\",IF(R5445<5,INT((A5445-1)/Einstellung!$B$4)+1,\"\"))","v":""},""]
["",null,null,null,null,null,null,null,null,null,null,null,null,null,null,null,null,"",{"$f":"IF(B5446=\"\",\"\",IF(R5446<5,INT((A5446-1)/Einstellung!$B$4)+1,\"\"))","v":""},""]
["",null,null,null,null,null,null,null,null,null,null,null,null,null,null,null,null,"",{"$f":"IF(B5449=\"\",\"\",IF(R5449<5,INT((A5449-1)/Einstellung!$B$4)+1,\"\"))","v":""},""]
["",null,null,null,null,null,null,null,null,null,null,null,null,null,null,null,null,"",{"$f":"IF(B5450=\"\",\"\",IF(R5450<5,INT((A5450-1)/Einstellung!$B$4)+1,\"\"))","v":""},""]
["",null,null,null,null,null,null,null,null,null,null,null,null,null,null,null,null,"",{"$f":"IF(B5452=\"\",\"\",IF(R5452<5,INT((A5452-1)/Einstellung!$B$4)+1,\"\"))","v":""},""]
["",null,null,null,null,null,null,null,null,null,null,null,null,null,null,null,null,"",{"$f":"IF(B5453=\"\",\"\",IF(R5453<5,INT((A5453-1)/Einstellung!$B$4)+1,\"\"))","v":""},""]
["",null,null,null,null,null,null,null,null,null,null,null,null,null,null,null,null,"",{"$f":"IF(B5456=\"\",\"\",IF(R5456<5,INT((A5456-1)/Einstellung!$B$4)+1,\"\"))","v":""},""]
["",null,null,null,null,null,null,null,null,null,null,null,null,null,null,null,null,"",{"$f":"IF(B5457=\"\",\"\",IF(R5457<5,INT((A5457-1)/Einstellung!$B$4)+1,\"\"))","v":""},""]
["",null,null,null,null,null,null,null,null,null,null,null,null,null,null,null,null,"",{"$f":"IF(B5459=\"\",\"\",IF(R5459<5,INT((A5459-1)/Einstellung!$B$4)+1,\"\"))","v":""},""]
["",null,null,null,null,null,null,null,null,null,null,null,null,null,null,null,null,"",{"$f":"IF(B5460=\"\",\"\",IF(R5460<5,INT((A5460-1)/Einstellung!$B$4)+1,\"\"))","v":""},""]
["",null,null,null,null,null,null,null,null,null,null,null,null,null,null,null,null,"",{"$f":"IF(B5463=\"\",\"\",IF(R5463<5,INT((A5463-1)/Einstellung!$B$4)+1,\"\"))","v":""},""]
["",null,null,null,null,null,null,null,null,null,null,null,null,null,null,null,null,"",{"$f":"IF(B5464=\"\",\"\",IF(R5464<5,INT((A5464-1)/Einstellung!$B$4)+1,\"\"))","v":""},""]
["",null,null,null,null,null,null,null,null,null,null,null,null,null,null,null,null,"",{"$f":"IF(B5466=\"\",\"\",IF(R5466<5,INT((A5466-1)/Einstellung!$B$4)+1,\"\"))","v":""},""]
["",null,null,null,null,null,null,null,null,null,null,null,null,null,null,null,null,"",{"$f":"IF(B5467=\"\",\"\",IF(R5467<5,INT((A5467-1)/Einstellung!$B$4)+1,\"\"))","v":""},""]
["",null,null,null,null,null,null,null,null,null,null,null,null,null,null,null,null,"",{"$f":"IF(B5470=\"\",\"\",IF(R5470<5,INT((A5470-1)/Einstellung!$B$4)+1,\"\"))","v":""},""]
["",null,null,null,null,null,null,null,null,null,null,null,null,null,null,null,null,"",{"$f":"IF(B5471=\"\",\"\",IF(R5471<5,INT((A5471-1)/Einstellung!$B$4)+1,\"\"))","v":""},""]
["",null,null,null,null,null,null,null,null,null,null,null,null,null,null,null,null,"",{"$f":"IF(B5473=\"\",\"\",IF(R5473<5,INT((A5473-1)/Einstellung!$B$4)+1,\"\"))","v":""},""]
["",null,null,null,null,null,null,null,null,null,null,null,null,null,null,null,null,"",{"$f":"IF(B5474=\"\",\"\",IF(R5474<5,INT((A5474-1)/Einstellung!$B$4)+1,\"\"))","v":""},""]
["",null,null,null,null,null,null,null,null,null,null,null,null,null,null,null,null,"",{"$f":"IF(B5477=\"\",\"\",IF(R5477<5,INT((A5477-1)/Einstellung!$B$4)+1,\"\"))","v":""},""]
["",null,null,null,null,null,null,null,null,null,null,null,null,null,null,null,null,"",{"$f":"IF(B5478=\"\",\"\",IF(R5478<5,INT((A5478-1)/Einstellung!$B$4)+1,\"\"))","v":""},""]
["",null,null,null,null,null,null,null,null,null,null,null,null,null,null,null,null,"",{"$f":"IF(B5480=\"\",\"\",IF(R5480<5,INT((A5480-1)/Einstellung!$B$4)+1,\"\"))","v":""},""]
["",null,null,null,null,null,null,null,null,null,null,null,null,null,null,null,null,"",{"$f":"IF(B5481=\"\",\"\",IF(R5481<5,INT((A5481-1)/Einstellung!$B$4)+1,\"\"))","v":""},""]
["",null,null,null,null,null,null,null,null,null,null,null,null,null,null,null,null,"",{"$f":"IF(B5484=\"\",\"\",IF(R5484<5,INT((A5484-1)/Einstellung!$B$4)+1,\"\"))","v":""},""]
["",null,null,null,null,null,null,null,null,null,null,null,null,null,null,null,null,"",{"$f":"IF(B5485=\"\",\"\",IF(R5485<5,INT((A5485-1)/Einstellung!$B$4)+1,\"\"))","v":""},""]
["",null,null,null,null,null,null,null,null,null,null,null,null,null,null,null,null,"",{"$f":"IF(B5487=\"\",\"\",IF(R5487<5,INT((A5487-1)/Einstellung!$B$4)+1,\"\"))","v":""},""]
["",null,null,null,null,null,null,null,null,null,null,null,null,null,null,null,null,"",{"$f":"IF(B5488=\"\",\"\",IF(R5488<5,INT((A5488-1)/Einstellung!$B$4)+1,\"\"))","v":""},""]
["",null,null,null,null,null,null,null,null,null,null,null,null,null,null,null,null,"",{"$f":"IF(B5491=\"\",\"\",IF(R5491<5,INT((A5491-1)/Einstellung!$B$4)+1,\"\"))","v":""},""]
["",null,null,null,null,null,null,null,null,null,null,null,null,null,null,null,null,"",{"$f":"IF(B5492=\"\",\"\",IF(R5492<5,INT((A5492-1)/Einstellung!$B$4)+1,\"\"))","v":""},""]
["",null,null,null,null,null,null,null,null,null,null,null,null,null,null,null,null,"",{"$f":"IF(B5494=\"\",\"\",IF(R5494<5,INT((A5494-1)/Einstellung!$B$4)+1,\"\"))","v":""},""]
["",null,null,null,null,null,null,null,null,null,null,null,null,null,null,null,null,"",{"$f":"IF(B5495=\"\",\"\",IF(R5495<5,INT((A5495-1)/Einstellung!$B$4)+1,\"\"))","v":""},""]
["",null,null,null,null,null,null,null,null,null,null,null,null,null,null,null,null,"",{"$f":"IF(B5498=\"\",\"\",IF(R5498<5,INT((A5498-1)/Einstellung!$B$4)+1,\"\"))","v":""},""]
["",null,null,null,null,null,null,null,null,null,null,null,null,null,null,null,null,"",{"$f":"IF(B5499=\"\",\"\",IF(R5499<5,INT((A5499-1)/Einstellung!$B$4)+1,\"\"))","v":""},""]
["",null,null,null,null,null,null,null,null,null,null,null,null,null,null,null,null,"",{"$f":"IF(B5501=\"\",\"\",IF(R5501<5,INT((A5501-1)/Einstellung!$B$4)+1,\"\"))","v":""},""]
["",null,null,null,null,null,null,null,null,null,null,null,null,null,null,null,null,"",{"$f":"IF(B5502=\"\",\"\",IF(R5502<5,INT((A5502-1)/Einstellung!$B$4)+1,\"\"))","v":""},""]
["",null,null,null,null,null,null,null,null,null,null,null,null,null,null,null,null,"",{"$f":"IF(B5505=\"\",\"\",IF(R5505<5,INT((A5505-1)/Einstellung!$B$4)+1,\"\"))","v":""},""]
["",null,null,null,null,null,null,null,null,null,null,null,null,null,null,null,null,"",{"$f":"IF(B5506=\"\",\"\",IF(R5506<5,INT((A5506-1)/Einstellung!$B$4)+1,\"\"))","v":""},""]
["",null,null,null,null,null,null,null,null,null,null,null,null,null,null,null,null,"",{"$f":"IF(B5508=\"\",\"\",IF(R5508<5,INT((A5508-1)/Einstellung!$B$4)+1,\"\"))","v":""},""]
["",null,null,null,null,null,null,null,null,null,null,null,null,null,null,null,null,"",{"$f":"IF(B5509=\"\",\"\",IF(R5509<5,INT((A5509-1)/Einstellung!$B$4)+1,\"\"))","v":""},""]
["",null,null,null,null,null,null,null,null,null,null,null,null,null,null,null,null,"",{"$f":"IF(B5510=\"\",\"\",IF(R5510<5,INT((A5510-1)/Einstellung!$B$4)+1,\"\"))","v":""},""]
["",null,null,null,null,null,null,null,null,null,null,null,null,null,null,null,null,"",{"$f":"IF(B5511=\"\",\"\",IF(R5511<5,INT((A5511-1)/Einstellung!$B$4)+1,\"\"))","v":""},""]
["",null,null,null,null,null,null,null,null,null,null,null,null,null,null,null,null,{"$f":"IF(B5512=\"\",\"\",16-((MID(B$1,1,1)=MID(B5512,1,1))+(MID(C$1,1,1)=MID(C5512,1,1))+(MID(D$1,1,1)=MID(D5512,1,1))+(MID(E$1,1,1)=MID(E5512,1,1))+(MID(F$1,1,1)=MID(F5512,1,1))+(MID(G$1,1,1)=MID(G5512,1,1))+(MID(H$1,1,1)=MID(H5512,1,1))+(MID(I$1,1,1)=MID(I5512,1,1))+(MID(J$1,1,1)=MID(J5512,1,1))+(MID(K$1,1,1)=MID(K5512,1,1))+(MID(L$1,1,1)=MID(L5512,1,1))+(MID(M$1,1,1)=MID(M5512,1,1))+(MID(N$1,1,1)=MID(N5512,1,1))+(MID(O$1,1,1)=MID(O5512,1,1))+(MID(P$1,1,1)=MID(P5512,1,1)))-B$4+C$5)","v":""},{"$f":"IF(B5512=\"\",\"\",IF(R5512<5,INT((A5512-1)/Einstellung!$B$4)+1,\"\"))","v":""},{"$f":"IF(C$5<B$4,\"\",IF(R5512>4,\"\",OFFSET(T$2,R5512-1,0)))","v":""}]
["",null,null,null,null,null,null,null,null,null,null,null,null,null,null,null,null,"",{"$f":"IF(B5513=\"\",\"\",IF(R5513<5,INT((A5513-1)/Einstellung!$B$4)+1,\"\"))","v":""},""]
["",null,null,null,null,null,null,null,null,null,null,null,null,null,null,null,null,"",{"$f":"IF(B5514=\"\",\"\",IF(R5514<5,INT((A5514-1)/Einstellung!$B$4)+1,\"\"))","v":""},""]
["",null,null,null,null,null,null,null,null,null,null,null,null,null,null,null,null,"",{"$f":"IF(B5515=\"\",\"\",IF(R5515<5,INT((A5515-1)/Einstellung!$B$4)+1,\"\"))","v":""},""]
["",null,null,null,null,null,null,null,null,null,null,null,null,null,null,null,null,"",{"$f":"IF(B5516=\"\",\"\",IF(R5516<5,INT((A5516-1)/Einstellung!$B$4)+1,\"\"))","v":""},""]
["",null,null,null,null,null,null,null,null,null,null,null,null,null,null,null,null,"",{"$f":"IF(B5517=\"\",\"\",IF(R5517<5,INT((A5517-1)/Einstellung!$B$4)+1,\"\"))","v":""},""]
["",null,null,null,null,null,null,null,null,null,null,null,null,null,null,null,null,"",{"$f":"IF(B5518=\"\",\"\",IF(R5518<5,INT((A5518-1)/Einstellung!$B$4)+1,\"\"))","v":""},""]
["",null,null,null,null,null,null,null,null,null,null,null,null,null,null,null,null,"",{"$f":"IF(B5519=\"\",\"\",IF(R5519<5,INT((A5519-1)/Einstellung!$B$4)+1,\"\"))","v":""},""]
["",null,null,null,null,null,null,null,null,null,null,null,null,null,null,null,null,"",{"$f":"IF(B5520=\"\",\"\",IF(R5520<5,INT((A5520-1)/Einstellung!$B$4)+1,\"\"))","v":""},""]
["",null,null,null,null,null,null,null,null,null,null,null,null,null,null,null,null,"",{"$f":"IF(B5521=\"\",\"\",IF(R5521<5,INT((A5521-1)/Einstellung!$B$4)+1,\"\"))","v":""},""]
["",null,null,null,null,null,null,null,null,null,null,null,null,null,null,null,null,"",{"$f":"IF(B5522=\"\",\"\",IF(R5522<5,INT((A5522-1)/Einstellung!$B$4)+1,\"\"))","v":""},""]
["",null,null,null,null,null,null,null,null,null,null,null,null,null,null,null,null,"",{"$f":"IF(B5523=\"\",\"\",IF(R5523<5,INT((A5523-1)/Einstellung!$B$4)+1,\"\"))","v":""},""]
["",null,null,null,null,null,null,null,null,null,null,null,null,null,null,null,null,"",{"$f":"IF(B5524=\"\",\"\",IF(R5524<5,INT((A5524-1)/Einstellung!$B$4)+1,\"\"))","v":""},""]
["",null,null,null,null,null,null,null,null,null,null,null,null,null,null,null,null,"",{"$f":"IF(B5525=\"\",\"\",IF(R5525<5,INT((A5525-1)/Einstellung!$B$4)+1,\"\"))","v":""},""]
["",null,null,null,null,null,null,null,null,null,null,null,null,null,null,null,null,"",{"$f":"IF(B5526=\"\",\"\",IF(R5526<5,INT((A5526-1)/Einstellung!$B$4)+1,\"\"))","v":""},""]
["",null,null,null,null,null,null,null,null,null,null,null,null,null,null,null,null,"",{"$f":"IF(B5527=\"\",\"\",IF(R5527<5,INT((A5527-1)/Einstellung!$B$4)+1,\"\"))","v":""},""]
["",null,null,null,null,null,null,null,null,null,null,null,null,null,null,null,null,"",{"$f":"IF(B5528=\"\",\"\",IF(R5528<5,INT((A5528-1)/Einstellung!$B$4)+1,\"\"))","v":""},""]
["",null,null,null,null,null,null,null,null,null,null,null,null,null,null,null,null,"",{"$f":"IF(B5529=\"\",\"\",IF(R5529<5,INT((A5529-1)/Einstellung!$B$4)+1,\"\"))","v":""},""]
["",null,null,null,null,null,null,null,null,null,null,null,null,null,null,null,null,"",{"$f":"IF(B5530=\"\",\"\",IF(R5530<5,INT((A5530-1)/Einstellung!$B$4)+1,\"\"))","v":""},""]
["",null,null,null,null,null,null,null,null,null,null,null,null,null,null,null,null,"",{"$f":"IF(B5531=\"\",\"\",IF(R5531<5,INT((A5531-1)/Einstellung!$B$4)+1,\"\"))","v":""},""]
["",null,null,null,null,null,null,null,null,null,null,null,null,null,null,null,null,"",{"$f":"IF(B5532=\"\",\"\",IF(R5532<5,INT((A5532-1)/Einstellung!$B$4)+1,\"\"))","v":""},""]
["",null,null,null,null,null,null,null,null,null,null,null,null,null,null,null,null,"",{"$f":"IF(B5533=\"\",\"\",IF(R5533<5,INT((A5533-1)/Einstellung!$B$4)+1,\"\"))","v":""},""]
["",null,null,null,null,null,null,null,null,null,null,null,null,null,null,null,null,"",{"$f":"IF(B5534=\"\",\"\",IF(R5534<5,INT((A5534-1)/Einstellung!$B$4)+1,\"\"))","v":""},""]
["",null,null,null,null,null,null,null,null,null,null,null,null,null,null,null,null,"",{"$f":"IF(B5535=\"\",\"\",IF(R5535<5,INT((A5535-1)/Einstellung!$B$4)+1,\"\"))","v":""},""]
["",null,null,null,null,null,null,null,null,null,null,null,null,null,null,null,null,"",{"$f":"IF(B5536=\"\",\"\",IF(R5536<5,INT((A5536-1)/Einstellung!$B$4)+1,\"\"))","v":""},""]
["",null,null,null,null,null,null,null,null,null,null,null,null,null,null,null,null,"",{"$f":"IF(B5537=\"\",\"\",IF(R5537<5,INT((A5537-1)/Einstellung!$B$4)+1,\"\"))","v":""},""]
["",null,null,null,null,null,null,null,null,null,null,null,null,null,null,null,null,"",{"$f":"IF(B5538=\"\",\"\",IF(R5538<5,INT((A5538-1)/Einstellung!$B$4)+1,\"\"))","v":""},""]
["",null,null,null,null,null,null,null,null,null,null,null,null,null,null,null,null,"",{"$f":"IF(B5539=\"\",\"\",IF(R5539<5,INT((A5539-1)/Einstellung!$B$4)+1,\"\"))","v":""},""]
["",null,null,null,null,null,null,null,null,null,null,null,null,null,null,null,null,"",{"$f":"IF(B5540=\"\",\"\",IF(R5540<5,INT((A5540-1)/Einstellung!$B$4)+1,\"\"))","v":""},""]
["",null,null,null,null,null,null,null,null,null,null,null,null,null,null,null,null,"",{"$f":"IF(B5541=\"\",\"\",IF(R5541<5,INT((A5541-1)/Einstellung!$B$4)+1,\"\"))","v":""},""]
["",null,null,null,null,null,null,null,null,null,null,null,null,null,null,null,null,"",{"$f":"IF(B5542=\"\",\"\",IF(R5542<5,INT((A5542-1)/Einstellung!$B$4)+1,\"\"))","v":""},""]
["",null,null,null,null,null,null,null,null,null,null,null,null,null,null,null,null,"",{"$f":"IF(B5543=\"\",\"\",IF(R5543<5,INT((A5543-1)/Einstellung!$B$4)+1,\"\"))","v":""},""]
["",null,null,null,null,null,null,null,null,null,null,null,null,null,null,null,null,"",{"$f":"IF(B5544=\"\",\"\",IF(R5544<5,INT((A5544-1)/Einstellung!$B$4)+1,\"\"))","v":""},""]
["",null,null,null,null,null,null,null,null,null,null,null,null,null,null,null,null,"",{"$f":"IF(B5545=\"\",\"\",IF(R5545<5,INT((A5545-1)/Einstellung!$B$4)+1,\"\"))","v":""},""]
[{"$f":"IF(B5546=\"\",\"\",ROW()-7)","v":""},null,null,null,null,null,null,null,null,null,null,null,null,null,null,null,null,"",{"$f":"IF(B5546=\"\",\"\",IF(R5546<5,INT((A5546-1)/Einstellung!$B$4)+1,\"\"))","v":""},""]
["",null,null,null,null,null,null,null,null,null,null,null,null,null,null,null,null,"",{"$f":"IF(B5547=\"\",\"\",IF(R5547<5,INT((A5547-1)/Einstellung!$B$4)+1,\"\"))","v":""},""]
["",null,null,null,null,null,null,null,null,null,null,null,null,null,null,null,null,"",{"$f":"IF(B5548=\"\",\"\",IF(R5548<5,INT((A5548-1)/Einstellung!$B$4)+1,\"\"))","v":""},""]
["",null,null,null,null,null,null,null,null,null,null,null,null,null,null,null,null,"",{"$f":"IF(B5549=\"\",\"\",IF(R5549<5,INT((A5549-1)/Einstellung!$B$4)+1,\"\"))","v":""},""]
["",null,null,null,null,null,null,null,null,null,null,null,null,null,null,null,null,"",{"$f":"IF(B5550=\"\",\"\",IF(R5550<5,INT((A5550-1)/Einstellung!$B$4)+1,\"\"))","v":""},""]
["",null,null,null,null,null,null,null,null,null,null,null,null,null,null,null,null,"",{"$f":"IF(B5551=\"\",\"\",IF(R5551<5,INT((A5551-1)/Einstellung!$B$4)+1,\"\"))","v":""},""]
["",null,null,null,null,null,null,null,null,null,null,null,null,null,null,null,null,"",{"$f":"IF(B5552=\"\",\"\",IF(R5552<5,INT((A5552-1)/Einstellung!$B$4)+1,\"\"))","v":""},""]
["",null,null,null,null,null,null,null,null,null,null,null,null,null,null,null,null,"",{"$f":"IF(B5553=\"\",\"\",IF(R5553<5,INT((A5553-1)/Einstellung!$B$4)+1,\"\"))","v":""},""]
["",null,null,null,null,null,null,null,null,null,null,null,null,null,null,null,null,"",{"$f":"IF(B5554=\"\",\"\",IF(R5554<5,INT((A5554-1)/Einstellung!$B$4)+1,\"\"))","v":""},""]
["",null,null,null,null,null,null,null,null,null,null,null,null,null,null,null,null,"",{"$f":"IF(B5555=\"\",\"\",IF(R5555<5,INT((A5555-1)/Einstellung!$B$4)+1,\"\"))","v":""},""]
["",null,null,null,null,null,null,null,null,null,null,null,null,null,null,null,null,"",{"$f":"IF(B5556=\"\",\"\",IF(R5556<5,INT((A5556-1)/Einstellung!$B$4)+1,\"\"))","v":""},""]
["",null,null,null,null,null,null,null,null,null,null,null,null,null,null,null,null,"",{"$f":"IF(B5557=\"\",\"\",IF(R5557<5,INT((A5557-1)/Einstellung!$B$4)+1,\"\"))","v":""},""]
["",null,null,null,null,null,null,null,null,null,null,null,null,null,null,null,null,"",{"$f":"IF(B5558=\"\",\"\",IF(R5558<5,INT((A5558-1)/Einstellung!$B$4)+1,\"\"))","v":""},""]
["",null,null,null,null,null,null,null,null,null,null,null,null,null,null,null,null,"",{"$f":"IF(B5559=\"\",\"\",IF(R5559<5,INT((A5559-1)/Einstellung!$B$4)+1,\"\"))","v":""},""]
["",null,null,null,null,null,null,null,null,null,null,null,null,null,null,null,null,"",{"$f":"IF(B5560=\"\",\"\",IF(R5560<5,INT((A5560-1)/Einstellung!$B$4)+1,\"\"))","v":""},""]
["",null,null,null,null,null,null,null,null,null,null,null,null,null,null,null,null,"",{"$f":"IF(B5561=\"\",\"\",IF(R5561<5,INT((A5561-1)/Einstellung!$B$4)+1,\"\"))","v":""},""]
["",null,null,null,null,null,null,null,null,null,null,null,null,null,null,null,null,"",{"$f":"IF(B5562=\"\",\"\",IF(R5562<5,INT((A5562-1)/Einstellung!$B$4)+1,\"\"))","v":""},""]
["",null,null,null,null,null,null,null,null,null,null,null,null,null,null,null,null,"",{"$f":"IF(B5563=\"\",\"\",IF(R5563<5,INT((A5563-1)/Einstellung!$B$4)+1,\"\"))","v":""},""]
["",null,null,null,null,null,null,null,null,null,null,null,null,null,null,null,null,"",{"$f":"IF(B5564=\"\",\"\",IF(R5564<5,INT((A5564-1)/Einstellung!$B$4)+1,\"\"))","v":""},""]
["",null,null,null,null,null,null,null,null,null,null,null,null,null,null,null,null,"",{"$f":"IF(B5565=\"\",\"\",IF(R5565<5,INT((A5565-1)/Einstellung!$B$4)+1,\"\"))","v":""},""]
["",null,null,null,null,null,null,null,null,null,null,null,null,null,null,null,null,"",{"$f":"IF(B5566=\"\",\"\",IF(R5566<5,INT((A5566-1)/Einstellung!$B$4)+1,\"\"))","v":""},""]
["",null,null,null,null,null,null,null,null,null,null,null,null,null,null,null,null,"",{"$f":"IF(B5567=\"\",\"\",IF(R5567<5,INT((A5567-1)/Einstellung!$B$4)+1,\"\"))","v":""},""]
["",null,null,null,null,null,null,null,null,null,null,null,null,null,null,null,null,"",{"$f":"IF(B5568=\"\",\"\",IF(R5568<5,INT((A5568-1)/Einstellung!$B$4)+1,\"\"))","v":""},""]
["",null,null,null,null,null,null,null,null,null,null,null,null,null,null,null,null,"",{"$f":"IF(B5569=\"\",\"\",IF(R5569<5,INT((A5569-1)/Einstellung!$B$4)+1,\"\"))","v":""},""]
["",null,null,null,null,null,null,null,null,null,null,null,null,null,null,null,null,"",{"$f":"IF(B5570=\"\",\"\",IF(R5570<5,INT((A5570-1)/Einstellung!$B$4)+1,\"\"))","v":""},""]
["",null,null,null,null,null,null,null,null,null,null,null,null,null,null,null,null,"",{"$f":"IF(B5571=\"\",\"\",IF(R5571<5,INT((A5571-1)/Einstellung!$B$4)+1,\"\"))","v":""},""]
["",null,null,null,null,null,null,null,null,null,null,null,null,null,null,null,null,"",{"$f":"IF(B5572=\"\",\"\",IF(R5572<5,INT((A5572-1)/Einstellung!$B$4)+1,\"\"))","v":""},""]
["",null,null,null,null,null,null,null,null,null,null,null,null,null,null,null,null,"",{"$f":"IF(B5573=\"\",\"\",IF(R5573<5,INT((A5573-1)/Einstellung!$B$4)+1,\"\"))","v":""},""]
["",null,null,null,null,null,null,null,null,null,null,null,null,null,null,null,null,"",{"$f":"IF(B5574=\"\",\"\",IF(R5574<5,INT((A5574-1)/Einstellung!$B$4)+1,\"\"))","v":""},""]
["",null,null,null,null,null,null,null,null,null,null,null,null,null,null,null,null,"",{"$f":"IF(B5575=\"\",\"\",IF(R5575<5,INT((A5575-1)/Einstellung!$B$4)+1,\"\"))","v":""},""]
["",null,null,null,null,null,null,null,null,null,null,null,null,null,null,null,null,{"$f":"IF(B5576=\"\",\"\",16-((MID(B$1,1,1)=MID(B5576,1,1))+(MID(C$1,1,1)=MID(C5576,1,1))+(MID(D$1,1,1)=MID(D5576,1,1))+(MID(E$1,1,1)=MID(E5576,1,1))+(MID(F$1,1,1)=MID(F5576,1,1))+(MID(G$1,1,1)=MID(G5576,1,1))+(MID(H$1,1,1)=MID(H5576,1,1))+(MID(I$1,1,1)=MID(I5576,1,1))+(MID(J$1,1,1)=MID(J5576,1,1))+(MID(K$1,1,1)=MID(K5576,1,1))+(MID(L$1,1,1)=MID(L5576,1,1))+(MID(M$1,1,1)=MID(M5576,1,1))+(MID(N$1,1,1)=MID(N5576,1,1))+(MID(O$1,1,1)=MID(O5576,1,1))+(MID(P$1,1,1)=MID(P5576,1,1)))-B$4+C$5)","v":""},{"$f":"IF(B5576=\"\",\"\",IF(R5576<5,INT((A5576-1)/Einstellung!$B$4)+1,\"\"))","v":""},{"$f":"IF(C$5<B$4,\"\",IF(R5576>4,\"\",OFFSET(T$2,R5576-1,0)))","v":""}]
["",null,null,null,null,null,null,null,null,null,null,null,null,null,null,null,null,"",{"$f":"IF(B5577=\"\",\"\",IF(R5577<5,INT((A5577-1)/Einstellung!$B$4)+1,\"\"))","v":""},""]
["",null,null,null,null,null,null,null,null,null,null,null,null,null,null,null,null,"",{"$f":"IF(B5578=\"\",\"\",IF(R5578<5,INT((A5578-1)/Einstellung!$B$4)+1,\"\"))","v":""},""]
["",null,null,null,null,null,null,null,null,null,null,null,null,null,null,null,null,"",{"$f":"IF(B5579=\"\",\"\",IF(R5579<5,INT((A5579-1)/Einstellung!$B$4)+1,\"\"))","v":""},""]
["",null,null,null,null,null,null,null,null,null,null,null,null,null,null,null,null,"",{"$f":"IF(B5580=\"\",\"\",IF(R5580<5,INT((A5580-1)/Einstellung!$B$4)+1,\"\"))","v":""},""]
["",null,null,null,null,null,null,null,null,null,null,null,null,null,null,null,null,"",{"$f":"IF(B5581=\"\",\"\",IF(R5581<5,INT((A5581-1)/Einstellung!$B$4)+1,\"\"))","v":""},""]
["",null,null,null,null,null,null,null,null,null,null,null,null,null,null,null,null,"",{"$f":"IF(B5582=\"\",\"\",IF(R5582<5,INT((A5582-1)/Einstellung!$B$4)+1,\"\"))","v":""},""]
["",null,null,null,null,null,null,null,null,null,null,null,null,null,null,null,null,"",{"$f":"IF(B5583=\"\",\"\",IF(R5583<5,INT((A5583-1)/Einstellung!$B$4)+1,\"\"))","v":""},""]
["",null,null,null,null,null,null,null,null,null,null,null,null,null,null,null,null,"",{"$f":"IF(B5584=\"\",\"\",IF(R5584<5,INT((A5584-1)/Einstellung!$B$4)+1,\"\"))","v":""},""]
["",null,null,null,null,null,null,null,null,null,null,null,null,null,null,null,null,"",{"$f":"IF(B5585=\"\",\"\",IF(R5585<5,INT((A5585-1)/Einstellung!$B$4)+1,\"\"))","v":""},""]
["",null,null,null,null,null,null,null,null,null,null,null,null,null,null,null,null,"",{"$f":"IF(B5586=\"\",\"\",IF(R5586<5,INT((A5586-1)/Einstellung!$B$4)+1,\"\"))","v":""},""]
["",null,null,null,null,null,null,null,null,null,null,null,null,null,null,null,null,"",{"$f":"IF(B5587=\"\",\"\",IF(R5587<5,INT((A5587-1)/Einstellung!$B$4)+1,\"\"))","v":""},""]
["",null,null,null,null,null,null,null,null,null,null,null,null,null,null,null,null,"",{"$f":"IF(B5588=\"\",\"\",IF(R5588<5,INT((A5588-1)/Einstellung!$B$4)+1,\"\"))","v":""},""]
["",null,null,null,null,null,null,null,null,null,null,null,null,null,null,null,null,"",{"$f":"IF(B5589=\"\",\"\",IF(R5589<5,INT((A5589-1)/Einstellung!$B$4)+1,\"\"))","v":""},""]
["",null,null,null,null,null,null,null,null,null,null,null,null,null,null,null,null,"",{"$f":"IF(B5590=\"\",\"\",IF(R5590<5,INT((A5590-1)/Einstellung!$B$4)+1,\"\"))","v":""},""]
["",null,null,null,null,null,null,null,null,null,null,null,null,null,null,null,null,"",{"$f":"IF(B5591=\"\",\"\",IF(R5591<5,INT((A5591-1)/Einstellung!$B$4)+1,\"\"))","v":""},""]
["",null,null,null,null,null,null,null,null,null,null,null,null,null,null,null,null,"",{"$f":"IF(B5592=\"\",\"\",IF(R5592<5,INT((A5592-1)/Einstellung!$B$4)+1,\"\"))","v":""},""]
["",null,null,null,null,null,null,null,null,null,null,null,null,null,null,null,null,"",{"$f":"IF(B5593=\"\",\"\",IF(R5593<5,INT((A5593-1)/Einstellung!$B$4)+1,\"\"))","v":""},""]
["",null,null,null,null,null,null,null,null,null,null,null,null,null,null,null,null,"",{"$f":"IF(B5594=\"\",\"\",IF(R5594<5,INT((A5594-1)/Einstellung!$B$4)+1,\"\"))","v":""},""]
["",null,null,null,null,null,null,null,null,null,null,null,null,null,null,null,null,"",{"$f":"IF(B5595=\"\",\"\",IF(R5595<5,INT((A5595-1)/Einstellung!$B$4)+1,\"\"))","v":""},""]
["",null,null,null,null,null,null,null,null,null,null,null,null,null,null,null,null,"",{"$f":"IF(B5596=\"\",\"\",IF(R5596<5,INT((A5596-1)/Einstellung!$B$4)+1,\"\"))","v":""},""]
["",null,null,null,null,null,null,null,null,null,null,null,null,null,null,null,null,"",{"$f":"IF(B5597=\"\",\"\",IF(R5597<5,INT((A5597-1)/Einstellung!$B$4)+1,\"\"))","v":""},""]
["",null,null,null,null,null,null,null,null,null,null,null,null,null,null,null,null,"",{"$f":"IF(B5598=\"\",\"\",IF(R5598<5,INT((A5598-1)/Einstellung!$B$4)+1,\"\"))","v":""},""]
["",null,null,null,null,null,null,null,null,null,null,null,null,null,null,null,null,"",{"$f":"IF(B5599=\"\",\"\",IF(R5599<5,INT((A5599-1)/Einstellung!$B$4)+1,\"\"))","v":""},""]
["",null,null,null,null,null,null,null,null,null,null,null,null,null,null,null,null,"",{"$f":"IF(B5600=\"\",\"\",IF(R5600<5,INT((A5600-1)/Einstellung!$B$4)+1,\"\"))","v":""},""]
["",null,null,null,null,null,null,null,null,null,null,null,null,null,null,null,null,"",{"$f":"IF(B5601=\"\",\"\",IF(R5601<5,INT((A5601-1)/Einstellung!$B$4)+1,\"\"))","v":""},""]
["",null,null,null,null,null,null,null,null,null,null,null,null,null,null,null,null,"",{"$f":"IF(B5602=\"\",\"\",IF(R5602<5,INT((A5602-1)/Einstellung!$B$4)+1,\"\"))","v":""},""]
["",null,null,null,null,null,null,null,null,null,null,null,null,null,null,null,null,"",{"$f":"IF(B5603=\"\",\"\",IF(R5603<5,INT((A5603-1)/Einstellung!$B$4)+1,\"\"))","v":""},""]
["",null,null,null,null,null,null,null,null,null,null,null,null,null,null,null,null,"",{"$f":"IF(B5604=\"\",\"\",IF(R5604<5,INT((A5604-1)/Einstellung!$B$4)+1,\"\"))","v":""},""]
["",null,null,null,null,null,null,null,null,null,null,null,null,null,null,null,null,"",{"$f":"IF(B5605=\"\",\"\",IF(R5605<5,INT((A5605-1)/Einstellung!$B$4)+1,\"\"))","v":""},""]
["",null,null,null,null,null,null,null,null,null,null,null,null,null,null,null,null,"",{"$f":"IF(B5606=\"\",\"\",IF(R5606<5,INT((A5606-1)/Einstellung!$B$4)+1,\"\"))","v":""},""]
["",null,null,null,null,null,null,null,null,null,null,null,null,null,null,null,null,"",{"$f":"IF(B5607=\"\",\"\",IF(R5607<5,INT((A5607-1)/Einstellung!$B$4)+1,\"\"))","v":""},""]
["",null,null,null,null,null,null,null,null,null,null,null,null,null,null,null,null,"",{"$f":"IF(B5608=\"\",\"\",IF(R5608<5,INT((A5608-1)/Einstellung!$B$4)+1,\"\"))","v":""},""]
["",null,null,null,null,null,null,null,null,null,null,null,null,null,null,null,null,"",{"$f":"IF(B5609=\"\",\"\",IF(R5609<5,INT((A5609-1)/Einstellung!$B$4)+1,\"\"))","v":""},""]
[{"$f":"IF(B5610=\"\",\"\",ROW()-7)","v":""},null,null,null,null,null,null,null,null,null,null,null,null,null,null,null,null,"",{"$f":"IF(B5610=\"\",\"\",IF(R5610<5,INT((A5610-1)/Einstellung!$B$4)+1,\"\"))","v":""},""]
["",null,null,null,null,null,null,null,null,null,null,null,null,null,null,null,null,"",{"$f":"IF(B5611=\"\",\"\",IF(R5611<5,INT((A5611-1)/Einstellung!$B$4)+1,\"\"))","v":""},""]
["",null,null,null,null,null,null,null,null,null,null,null,null,null,null,null,null,"",{"$f":"IF(B5612=\"\",\"\",IF(R5612<5,INT((A5612-1)/Einstellung!$B$4)+1,\"\"))","v":""},""]
["",null,null,null,null,null,null,null,null,null,null,null,null,null,null,null,null,"",{"$f":"IF(B5613=\"\",\"\",IF(R5613<5,INT((A5613-1)/Einstellung!$B$4)+1,\"\"))","v":""},""]
["",null,null,null,null,null,null,null,null,null,null,null,null,null,null,null,null,"",{"$f":"IF(B5614=\"\",\"\",IF(R5614<5,INT((A5614-1)/Einstellung!$B$4)+1,\"\"))","v":""},""]
["",null,null,null,null,null,null,null,null,null,null,null,null,null,null,null,null,"",{"$f":"IF(B5615=\"\",\"\",IF(R5615<5,INT((A5615-1)/Einstellung!$B$4)+1,\"\"))","v":""},""]
["",null,null,null,null,null,null,null,null,null,null,null,null,null,null,null,null,"",{"$f":"IF(B5616=\"\",\"\",IF(R5616<5,INT((A5616-1)/Einstellung!$B$4)+1,\"\"))","v":""},""]
["",null,null,null,null,null,null,null,null,null,null,null,null,null,null,null,null,"",{"$f":"IF(B5617=\"\",\"\",IF(R5617<5,INT((A5617-1)/Einstellung!$B$4)+1,\"\"))","v":""},""]
["",null,null,null,null,null,null,null,null,null,null,null,null,null,null,null,null,"",{"$f":"IF(B5618=\"\",\"\",IF(R5618<5,INT((A5618-1)/Einstellung!$B$4)+1,\"\"))","v":""},""]
["",null,null,null,null,null,null,null,null,null,null,null,null,null,null,null,null,"",{"$f":"IF(B5619=\"\",\"\",IF(R5619<5,INT((A5619-1)/Einstellung!$B$4)+1,\"\"))","v":""},""]
["",null,null,null,null,null,null,null,null,null,null,null,null,null,null,null,null,"",{"$f":"IF(B5620=\"\",\"\",IF(R5620<5,INT((A5620-1)/Einstellung!$B$4)+1,\"\"))","v":""},""]
["",null,null,null,null,null,null,null,null,null,null,null,null,null,null,null,null,"",{"$f":"IF(B5621=\"\",\"\",IF(R5621<5,INT((A5621-1)/Einstellung!$B$4)+1,\"\"))","v":""},""]
["",null,null,null,null,null,null,null,null,null,null,null,null,null,null,null,null,"",{"$f":"IF(B5622=\"\",\"\",IF(R5622<5,INT((A5622-1)/Einstellung!$B$4)+1,\"\"))","v":""},""]
["",null,null,null,null,null,null,null,null,null,null,null,null,null,null,null,null,"",{"$f":"IF(B5623=\"\",\"\",IF(R5623<5,INT((A5623-1)/Einstellung!$B$4)+1,\"\"))","v":""},""]
["",null,null,null,null,null,null,null,null,null,null,null,null,null,null,null,null,"",{"$f":"IF(B5624=\"\",\"\",IF(R5624<5,INT((A5624-1)/Einstellung!$B$4)+1,\"\"))","v":""},""]
["",null,null,null,null,null,null,null,null,null,null,null,null,null,null,null,null,"",{"$f":"IF(B5625=\"\",\"\",IF(R5625<5,INT((A5625-1)/Einstellung!$B$4)+1,\"\"))","v":""},""]
["",null,null,null,null,null,null,null,null,null,null,null,null,null,null,null,null,"",{"$f":"IF(B5626=\"\",\"\",IF(R5626<5,INT((A5626-1)/Einstellung!$B$4)+1,\"\"))","v":""},""]
["",null,null,null,null,null,null,null,null,null,null,null,null,null,null,null,null,"",{"$f":"IF(B5627=\"\",\"\",IF(R5627<5,INT((A5627-1)/Einstellung!$B$4)+1,\"\"))","v":""},""]
["",null,null,null,null,null,null,null,null,null,null,null,null,null,null,null,null,"",{"$f":"IF(B5628=\"\",\"\",IF(R5628<5,INT((A5628-1)/Einstellung!$B$4)+1,\"\"))","v":""},""]
["",null,null,null,null,null,null,null,null,null,null,null,null,null,null,null,null,"",{"$f":"IF(B5629=\"\",\"\",IF(R5629<5,INT((A5629-1)/Einstellung!$B$4)+1,\"\"))","v":""},""]
["",null,null,null,null,null,null,null,null,null,null,null,null,null,null,null,null,"",{"$f":"IF(B5630=\"\",\"\",IF(R5630<5,INT((A5630-1)/Einstellung!$B$4)+1,\"\"))","v":""},""]
["",null,null,null,null,null,null,null,null,null,null,null,null,null,null,null,null,"",{"$f":"IF(B5631=\"\",\"\",IF(R5631<5,INT((A5631-1)/Einstellung!$B$4)+1,\"\"))","v":""},""]
["",null,null,null,null,null,null,null,null,null,null,null,null,null,null,null,null,"",{"$f":"IF(B5632=\"\",\"\",IF(R5632<5,INT((A5632-1)/Einstellung!$B$4)+1,\"\"))","v":""},""]
["",null,null,null,null,null,null,null,null,null,null,null,null,null,null,null,null,"",{"$f":"IF(B5633=\"\",\"\",IF(R5633<5,INT((A5633-1)/Einstellung!$B$4)+1,\"\"))","v":""},""]
["",null,null,null,null,null,null,null,null,null,null,null,null,null,null,null,null,"",{"$f":"IF(B5634=\"\",\"\",IF(R5634<5,INT((A5634-1)/Einstellung!$B$4)+1,\"\"))","v":""},""]
["",null,null,null,null,null,null,null,null,null,null,null,null,null,null,null,null,"",{"$f":"IF(B5635=\"\",\"\",IF(R5635<5,INT((A5635-1)/Einstellung!$B$4)+1,\"\"))","v":""},""]
["",null,null,null,null,null,null,null,null,null,null,null,null,null,null,null,null,"",{"$f":"IF(B5636=\"\",\"\",IF(R5636<5,INT((A5636-1)/Einstellung!$B$4)+1,\"\"))","v":""},""]
["",null,null,null,null,null,null,null,null,null,null,null,null,null,null,null,null,"",{"$f":"IF(B5637=\"\",\"\",IF(R5637<5,INT((A5637-1)/Einstellung!$B$4)+1,\"\"))","v":""},""]
["",null,null,null,null,null,null,null,null,null,null,null,null,null,null,null,null,"",{"$f":"IF(B5638=\"\",\"\",IF(R5638<5,INT((A5638-1)/Einstellung!$B$4)+1,\"\"))","v":""},""]
["",null,null,null,null,null,null,null,null,null,null,null,null,null,null,null,null,"",{"$f":"IF(B5639=\"\",\"\",IF(R5639<5,INT((A5639-1)/Einstellung!$B$4)+1,\"\"))","v":""},""]
["",null,null,null,null,null,null,null,null,null,null,null,null,null,null,null,null,{"$f":"IF(B5640=\"\",\"\",16-((MID(B$1,1,1)=MID(B5640,1,1))+(MID(C$1,1,1)=MID(C5640,1,1))+(MID(D$1,1,1)=MID(D5640,1,1))+(MID(E$1,1,1)=MID(E5640,1,1))+(MID(F$1,1,1)=MID(F5640,1,1))+(MID(G$1,1,1)=MID(G5640,1,1))+(MID(H$1,1,1)=MID(H5640,1,1))+(MID(I$1,1,1)=MID(I5640,1,1))+(MID(J$1,1,1)=MID(J5640,1,1))+(MID(K$1,1,1)=MID(K5640,1,1))+(MID(L$1,1,1)=MID(L5640,1,1))+(MID(M$1,1,1)=MID(M5640,1,1))+(MID(N$1,1,1)=MID(N5640,1,1))+(MID(O$1,1,1)=MID(O5640,1,1))+(MID(P$1,1,1)=MID(P5640,1,1)))-B$4+C$5)","v":""},{"$f":"IF(B5640=\"\",\"\",IF(R5640<5,INT((A5640-1)/Einstellung!$B$4)+1,\"\"))","v":""},{"$f":"IF(C$5<B$4,\"\",IF(R5640>4,\"\",OFFSET(T$2,R5640-1,0)))","v":""}]
["",null,null,null,null,null,null,null,null,null,null,null,null,null,null,null,null,"",{"$f":"IF(B5641=\"\",\"\",IF(R5641<5,INT((A5641-1)/Einstellung!$B$4)+1,\"\"))","v":""},""]
["",null,null,null,null,null,null,null,null,null,null,null,null,null,null,null,null,"",{"$f":"IF(B5642=\"\",\"\",IF(R5642<5,INT((A5642-1)/Einstellung!$B$4)+1,\"\"))","v":""},""]
["",null,null,null,null,null,null,null,null,null,null,null,null,null,null,null,null,"",{"$f":"IF(B5643=\"\",\"\",IF(R5643<5,INT((A5643-1)/Einstellung!$B$4)+1,\"\"))","v":""},""]
["",null,null,null,null,null,null,null,null,null,null,null,null,null,null,null,null,"",{"$f":"IF(B5644=\"\",\"\",IF(R5644<5,INT((A5644-1)/Einstellung!$B$4)+1,\"\"))","v":""},""]
["",null,null,null,null,null,null,null,null,null,null,null,null,null,null,null,null,"",{"$f":"IF(B5645=\"\",\"\",IF(R5645<5,INT((A5645-1)/Einstellung!$B$4)+1,\"\"))","v":""},""]
["",null,null,null,null,null,null,null,null,null,null,null,null,null,null,null,null,"",{"$f":"IF(B5646=\"\",\"\",IF(R5646<5,INT((A5646-1)/Einstellung!$B$4)+1,\"\"))","v":""},""]
["",null,null,null,null,null,null,null,null,null,null,null,null,null,null,null,null,"",{"$f":"IF(B5647=\"\",\"\",IF(R5647<5,INT((A5647-1)/Einstellung!$B$4)+1,\"\"))","v":""},""]
["",null,null,null,null,null,null,null,null,null,null,null,null,null,null,null,null,"",{"$f":"IF(B5648=\"\",\"\",IF(R5648<5,INT((A5648-1)/Einstellung!$B$4)+1,\"\"))","v":""},""]
["",null,null,null,null,null,null,null,null,null,null,null,null,null,null,null,null,"",{"$f":"IF(B5649=\"\",\"\",IF(R5649<5,INT((A5649-1)/Einstellung!$B$4)+1,\"\"))","v":""},""]
["",null,null,null,null,null,null,null,null,null,null,null,null,null,null,null,null,"",{"$f":"IF(B5650=\"\",\"\",IF(R5650<5,INT((A5650-1)/Einstellung!$B$4)+1,\"\"))","v":""},""]
["",null,null,null,null,null,null,null,null,null,null,null,null,null,null,null,null,"",{"$f":"IF(B5651=\"\",\"\",IF(R5651<5,INT((A5651-1)/Einstellung!$B$4)+1,\"\"))","v":""},""]
["",null,null,null,null,null,null,null,null,null,null,null,null,null,null,null,null,"",{"$f":"IF(B5652=\"\",\"\",IF(R5652<5,INT((A5652-1)/Einstellung!$B$4)+1,\"\"))","v":""},""]
["",null,null,null,null,null,null,null,null,null,null,null,null,null,null,null,null,"",{"$f":"IF(B5653=\"\",\"\",IF(R5653<5,INT((A5653-1)/Einstellung!$B$4)+1,\"\"))","v":""},""]
["",null,null,null,null,null,null,null,null,null,null,null,null,null,null,null,null,"",{"$f":"IF(B5654=\"\",\"\",IF(R5654<5,INT((A5654-1)/Einstellung!$B$4)+1,\"\"))","v":""},""]
["",null,null,null,null,null,null,null,null,null,null,null,null,null,null,null,null,"",{"$f":"IF(B5655=\"\",\"\",IF(R5655<5,INT((A5655-1)/Einstellung!$B$4)+1,\"\"))","v":""},""]
["",null,null,null,null,null,null,null,null,null,null,null,null,null,null,null,null,"",{"$f":"IF(B5656=\"\",\"\",IF(R5656<5,INT((A5656-1)/Einstellung!$B$4)+1,\"\"))","v":""},""]
["",null,null,null,null,null,null,null,null,null,null,null,null,null,null,null,null,"",{"$f":"IF(B5657=\"\",\"\",IF(R5657<5,INT((A5657-1)/Einstellung!$B$4)+1,\"\"))","v":""},""]
["",null,null,null,null,null,null,null,null,null,null,null,null,null,null,null,null,"",{"$f":"IF(B5658=\"\",\"\",IF(R5658<5,INT((A5658-1)/Einstellung!$B$4)+1,\"\"))","v":""},""]
["",null,null,null,null,null,null,null,null,null,null,null,null,null,null,null,null,"",{"$f":"IF(B5659=\"\",\"\",IF(R5659<5,INT((A5659-1)/Einstellung!$B$4)+1,\"\"))","v":""},""]
["",null,null,null,null,null,null,null,null,null,null,null,null,null,null,null,null,"",{"$f":"IF(B5660=\"\",\"\",IF(R5660<5,INT((A5660-1)/Einstellung!$B$4)+1,\"\"))","v":""},""]
["",null,null,null,null,null,null,null,null,null,null,null,null,null,null,null,null,"",{"$f":"IF(B5661=\"\",\"\",IF(R5661<5,INT((A5661-1)/Einstellung!$B$4)+1,\"\"))","v":""},""]
["",null,null,null,null,null,null,null,null,null,null,null,null,null,null,null,null,"",{"$f":"IF(B5662=\"\",\"\",IF(R5662<5,INT((A5662-1)/Einstellung!$B$4)+1,\"\"))","v":""},""]
["",null,null,null,null,null,null,null,null,null,null,null,null,null,null,null,null,"",{"$f":"IF(B5663=\"\",\"\",IF(R5663<5,INT((A5663-1)/Einstellung!$B$4)+1,\"\"))","v":""},""]
["",null,null,null,null,null,null,null,null,null,null,null,null,null,null,null,null,"",{"$f":"IF(B5664=\"\",\"\",IF(R5664<5,INT((A5664-1)/Einstellung!$B$4)+1,\"\"))","v":""},""]
["",null,null,null,null,null,null,null,null,null,null,null,null,null,null,null,null,"",{"$f":"IF(B5665=\"\",\"\",IF(R5665<5,INT((A5665-1)/Einstellung!$B$4)+1,\"\"))","v":""},""]
["",null,null,null,null,null,null,null,null,null,null,null,null,null,null,null,null,"",{"$f":"IF(B5666=\"\",\"\",IF(R5666<5,INT((A5666-1)/Einstellung!$B$4)+1,\"\"))","v":""},""]
["",null,null,null,null,null,null,null,null,null,null,null,null,null,null,null,null,"",{"$f":"IF(B5667=\"\",\"\",IF(R5667<5,INT((A5667-1)/Einstellung!$B$4)+1,\"\"))","v":""},""]
["",null,null,null,null,null,null,null,null,null,null,null,null,null,null,null,null,"",{"$f":"IF(B5668=\"\",\"\",IF(R5668<5,INT((A5668-1)/Einstellung!$B$4)+1,\"\"))","v":""},""]
["",null,null,null,null,null,null,null,null,null,null,null,null,null,null,null,null,"",{"$f":"IF(B5669=\"\",\"\",IF(R5669<5,INT((A5669-1)/Einstellung!$B$4)+1,\"\"))","v":""},""]
["",null,null,null,null,null,null,null,null,null,null,null,null,null,null,null,null,"",{"$f":"IF(B5670=\"\",\"\",IF(R5670<5,INT((A5670-1)/Einstellung!$B$4)+1,\"\"))","v":""},""]
["",null,null,null,null,null,null,null,null,null,null,null,null,null,null,null,null,"",{"$f":"IF(B5671=\"\",\"\",IF(R5671<5,INT((A5671-1)/Einstellung!$B$4)+1,\"\"))","v":""},""]
["",null,null,null,null,null,null,null,null,null,null,null,null,null,null,null,null,"",{"$f":"IF(B5672=\"\",\"\",IF(R5672<5,INT((A5672-1)/Einstellung!$B$4)+1,\"\"))","v":""},""]
["",null,null,null,null,null,null,null,null,null,null,null,null,null,null,null,null,"",{"$f":"IF(B5673=\"\",\"\",IF(R5673<5,INT((A5673-1)/Einstellung!$B$4)+1,\"\"))","v":""},""]
[{"$f":"IF(B5674=\"\",\"\",ROW()-7)","v":""},null,null,null,null,null,null,null,null,null,null,null,null,null,null,null,null,"",{"$f":"IF(B5674=\"\",\"\",IF(R5674<5,INT((A5674-1)/Einstellung!$B$4)+1,\"\"))","v":""},""]
["",null,null,null,null,null,null,null,null,null,null,null,null,null,null,null,null,"",{"$f":"IF(B5675=\"\",\"\",IF(R5675<5,INT((A5675-1)/Einstellung!$B$4)+1,\"\"))","v":""},""]
["",null,null,null,null,null,null,null,null,null,null,null,null,null,null,null,null,"",{"$f":"IF(B5676=\"\",\"\",IF(R5676<5,INT((A5676-1)/Einstellung!$B$4)+1,\"\"))","v":""},""]
["",null,null,null,null,null,null,null,null,null,null,null,null,null,null,null,null,"",{"$f":"IF(B5677=\"\",\"\",IF(R5677<5,INT((A5677-1)/Einstellung!$B$4)+1,\"\"))","v":""},""]
["",null,null,null,null,null,null,null,null,null,null,null,null,null,null,null,null,"",{"$f":"IF(B5678=\"\",\"\",IF(R5678<5,INT((A5678-1)/Einstellung!$B$4)+1,\"\"))","v":""},""]
["",null,null,null,null,null,null,null,null,null,null,null,null,null,null,null,null,"",{"$f":"IF(B5679=\"\",\"\",IF(R5679<5,INT((A5679-1)/Einstellung!$B$4)+1,\"\"))","v":""},""]
["",null,null,null,null,null,null,null,null,null,null,null,null,null,null,null,null,"",{"$f":"IF(B5680=\"\",\"\",IF(R5680<5,INT((A5680-1)/Einstellung!$B$4)+1,\"\"))","v":""},""]
["",null,null,null,null,null,null,null,null,null,null,null,null,null,null,null,null,"",{"$f":"IF(B5681=\"\",\"\",IF(R5681<5,INT((A5681-1)/Einstellung!$B$4)+1,\"\"))","v":""},""]
["",null,null,null,null,null,null,null,null,null,null,null,null,null,null,null,null,"",{"$f":"IF(B5682=\"\",\"\",IF(R5682<5,INT((A5682-1)/Einstellung!$B$4)+1,\"\"))","v":""},""]
["",null,null,null,null,null,null,null,null,null,null,null,null,null,null,null,null,"",{"$f":"IF(B5683=\"\",\"\",IF(R5683<5,INT((A5683-1)/Einstellung!$B$4)+1,\"\"))","v":""},""]
["",null,null,null,null,null,null,null,null,null,null,null,null,null,null,null,null,"",{"$f":"IF(B5684=\"\",\"\",IF(R5684<5,INT((A5684-1)/Einstellung!$B$4)+1,\"\"))","v":""},""]
["",null,null,null,null,null,null,null,null,null,null,null,null,null,null,null,null,"",{"$f":"IF(B5685=\"\",\"\",IF(R5685<5,INT((A5685-1)/Einstellung!$B$4)+1,\"\"))","v":""},""]
["",null,null,null,null,null,null,null,null,null,null,null,null,null,null,null,null,"",{"$f":"IF(B5686=\"\",\"\",IF(R5686<5,INT((A5686-1)/Einstellung!$B$4)+1,\"\"))","v":""},""]
["",null,null,null,null,null,null,null,null,null,null,null,null,null,null,null,null,"",{"$f":"IF(B5687=\"\",\"\",IF(R5687<5,INT((A5687-1)/Einstellung!$B$4)+1,\"\"))","v":""},""]
["",null,null,null,null,null,null,null,null,null,null,null,null,null,null,null,null,"",{"$f":"IF(B5688=\"\",\"\",IF(R5688<5,INT((A5688-1)/Einstellung!$B$4)+1,\"\"))","v":""},""]
["",null,null,null,null,null,null,null,null,null,null,null,null,null,null,null,null,"",{"$f":"IF(B5689=\"\",\"\",IF(R5689<5,INT((A5689-1)/Einstellung!$B$4)+1,\"\"))","v":""},""]
["",null,null,null,null,null,null,null,null,null,null,null,null,null,null,null,null,"",{"$f":"IF(B5690=\"\",\"\",IF(R5690<5,INT((A5690-1)/Einstellung!$B$4)+1,\"\"))","v":""},""]
["",null,null,null,null,null,null,null,null,null,null,null,null,null,null,null,null,"",{"$f":"IF(B5691=\"\",\"\",IF(R5691<5,INT((A5691-1)/Einstellung!$B$4)+1,\"\"))","v":""},""]
["",null,null,null,null,null,null,null,null,null,null,null,null,null,null,null,null,"",{"$f":"IF(B5692=\"\",\"\",IF(R5692<5,INT((A5692-1)/Einstellung!$B$4)+1,\"\"))","v":""},""]
["",null,null,null,null,null,null,null,null,null,null,null,null,null,null,null,null,"",{"$f":"IF(B5693=\"\",\"\",IF(R5693<5,INT((A5693-1)/Einstellung!$B$4)+1,\"\"))","v":""},""]
["",null,null,null,null,null,null,null,null,null,null,null,null,null,null,null,null,"",{"$f":"IF(B5694=\"\",\"\",IF(R5694<5,INT((A5694-1)/Einstellung!$B$4)+1,\"\"))","v":""},""]
["",null,null,null,null,null,null,null,null,null,null,null,null,null,null,null,null,"",{"$f":"IF(B5695=\"\",\"\",IF(R5695<5,INT((A5695-1)/Einstellung!$B$4)+1,\"\"))","v":""},""]
["",null,null,null,null,null,null,null,null,null,null,null,null,null,null,null,null,"",{"$f":"IF(B5696=\"\",\"\",IF(R5696<5,INT((A5696-1)/Einstellung!$B$4)+1,\"\"))","v":""},""]
["",null,null,null,null,null,null,null,null,null,null,null,null,null,null,null,null,"",{"$f":"IF(B5697=\"\",\"\",IF(R5697<5,INT((A5697-1)/Einstellung!$B$4)+1,\"\"))","v":""},""]
["",null,null,null,null,null,null,null,null,null,null,null,null,null,null,null,null,"",{"$f":"IF(B5698=\"\",\"\",IF(R5698<5,INT((A5698-1)/Einstellung!$B$4)+1,\"\"))","v":""},""]
["",null,null,null,null,null,null,null,null,null,null,null,null,null,null,null,null,"",{"$f":"IF(B5699=\"\",\"\",IF(R5699<5,INT((A5699-1)/Einstellung!$B$4)+1,\"\"))","v":""},""]
["",null,null,null,null,null,null,null,null,null,null,null,null,null,null,null,null,"",{"$f":"IF(B5700=\"\",\"\",IF(R5700<5,INT((A5700-1)/Einstellung!$B$4)+1,\"\"))","v":""},""]
["",null,null,null,null,null,null,null,null,null,null,null,null,null,null,null,null,"",{"$f":"IF(B5701=\"\",\"\",IF(R5701<5,INT((A5701-1)/Einstellung!$B$4)+1,\"\"))","v":""},""]
["",null,null,null,null,null,null,null,null,null,null,null,null,null,null,null,null,"",{"$f":"IF(B5702=\"\",\"\",IF(R5702<5,INT((A5702-1)/Einstellung!$B$4)+1,\"\"))","v":""},""]
["",null,null,null,null,null,null,null,null,null,null,null,null,null,null,null,null,"",{"$f":"IF(B5703=\"\",\"\",IF(R5703<5,INT((A5703-1)/Einstellung!$B$4)+1,\"\"))","v":""},""]
["",null,null,null,null,null,null,null,null,null,null,null,null,null,null,null,null,{"$f":"IF(B5704=\"\",\"\",16-((MID(B$1,1,1)=MID(B5704,1,1))+(MID(C$1,1,1)=MID(C5704,1,1))+(MID(D$1,1,1)=MID(D5704,1,1))+(MID(E$1,1,1)=MID(E5704,1,1))+(MID(F$1,1,1)=MID(F5704,1,1))+(MID(G$1,1,1)=MID(G5704,1,1))+(MID(H$1,1,1)=MID(H5704,1,1))+(MID(I$1,1,1)=MID(I5704,1,1))+(MID(J$1,1,1)=MID(J5704,1,1))+(MID(K$1,1,1)=MID(K5704,1,1))+(MID(L$1,1,1)=MID(L5704,1,1))+(MID(M$1,1,1)=MID(M5704,1,1))+(MID(N$1,1,1)=MID(N5704,1,1))+(MID(O$1,1,1)=MID(O5704,1,1))+(MID(P$1,1,1)=MID(P5704,1,1)))-B$4+C$5)","v":""},{"$f":"IF(B5704=\"\",\"\",IF(R5704<5,INT((A5704-1)/Einstellung!$B$4)+1,\"\"))","v":""},{"$f":"IF(C$5<B$4,\"\",IF(R5704>4,\"\",OFFSET(T$2,R5704-1,0)))","v":""}]
["",null,null,null,null,null,null,null,null,null,null,null,null,null,null,null,null,"",{"$f":"IF(B5705=\"\",\"\",IF(R5705<5,INT((A5705-1)/Einstellung!$B$4)+1,\"\"))","v":""},""]
["",null,null,null,null,null,null,null,null,null,null,null,null,null,null,null,null,"",{"$f":"IF(B5706=\"\",\"\",IF(R5706<5,INT((A5706-1)/Einstellung!$B$4)+1,\"\"))","v":""},""]
["",null,null,null,null,null,null,null,null,null,null,null,null,null,null,null,null,"",{"$f":"IF(B5707=\"\",\"\",IF(R5707<5,INT((A5707-1)/Einstellung!$B$4)+1,\"\"))","v":""},""]
["",null,null,null,null,null,null,null,null,null,null,null,null,null,null,null,null,"",{"$f":"IF(B5708=\"\",\"\",IF(R5708<5,INT((A5708-1)/Einstellung!$B$4)+1,\"\"))","v":""},""]
["",null,null,null,null,null,null,null,null,null,null,null,null,null,null,null,null,"",{"$f":"IF(B5709=\"\",\"\",IF(R5709<5,INT((A5709-1)/Einstellung!$B$4)+1,\"\"))","v":""},""]
["",null,null,null,null,null,null,null,null,null,null,null,null,null,null,null,null,"",{"$f":"IF(B5710=\"\",\"\",IF(R5710<5,INT((A5710-1)/Einstellung!$B$4)+1,\"\"))","v":""},""]
["",null,null,null,null,null,null,null,null,null,null,null,null,null,null,null,null,"",{"$f":"IF(B5711=\"\",\"\",IF(R5711<5,INT((A5711-1)/Einstellung!$B$4)+1,\"\"))","v":""},""]
["",null,null,null,null,null,null,null,null,null,null,null,null,null,null,null,null,"",{"$f":"IF(B5712=\"\",\"\",IF(R5712<5,INT((A5712-1)/Einstellung!$B$4)+1,\"\"))","v":""},""]
["",null,null,null,null,null,null,null,null,null,null,null,null,null,null,null,null,"",{"$f":"IF(B5713=\"\",\"\",IF(R5713<5,INT((A5713-1)/Einstellung!$B$4)+1,\"\"))","v":""},""]
["",null,null,null,null,null,null,null,null,null,null,null,null,null,null,null,null,"",{"$f":"IF(B5714=\"\",\"\",IF(R5714<5,INT((A5714-1)/Einstellung!$B$4)+1,\"\"))","v":""},""]
["",null,null,null,null,null,null,null,null,null,null,null,null,null,null,null,null,"",{"$f":"IF(B5715=\"\",\"\",IF(R5715<5,INT((A5715-1)/Einstellung!$B$4)+1,\"\"))","v":""},""]
["",null,null,null,null,null,null,null,null,null,null,null,null,null,null,null,null,"",{"$f":"IF(B5716=\"\",\"\",IF(R5716<5,INT((A5716-1)/Einstellung!$B$4)+1,\"\"))","v":""},""]
["",null,null,null,null,null,null,null,null,null,null,null,null,null,null,null,null,"",{"$f":"IF(B5717=\"\",\"\",IF(R5717<5,INT((A5717-1)/Einstellung!$B$4)+1,\"\"))","v":""},""]
["",null,null,null,null,null,null,null,null,null,null,null,null,null,null,null,null,"",{"$f":"IF(B5718=\"\",\"\",IF(R5718<5,INT((A5718-1)/Einstellung!$B$4)+1,\"\"))","v":""},""]
["",null,null,null,null,null,null,null,null,null,null,null,null,null,null,null,null,"",{"$f":"IF(B5719=\"\",\"\",IF(R5719<5,INT((A5719-1)/Einstellung!$B$4)+1,\"\"))","v":""},""]
["",null,null,null,null,null,null,null,null,null,null,null,null,null,null,null,null,"",{"$f":"IF(B5720=\"\",\"\",IF(R5720<5,INT((A5720-1)/Einstellung!$B$4)+1,\"\"))","v":""},""]
["",null,null,null,null,null,null,null,null,null,null,null,null,null,null,null,null,"",{"$f":"IF(B5721=\"\",\"\",IF(R5721<5,INT((A5721-1)/Einstellung!$B$4)+1,\"\"))","v":""},""]
["",null,null,null,null,null,null,null,null,null,null,null,null,null,null,null,null,"",{"$f":"IF(B5722=\"\",\"\",IF(R5722<5,INT((A5722-1)/Einstellung!$B$4)+1,\"\"))","v":""},""]
["",null,null,null,null,null,null,null,null,null,null,null,null,null,null,null,null,"",{"$f":"IF(B5723=\"\",\"\",IF(R5723<5,INT((A5723-1)/Einstellung!$B$4)+1,\"\"))","v":""},""]
["",null,null,null,null,null,null,null,null,null,null,null,null,null,null,null,null,"",{"$f":"IF(B5724=\"\",\"\",IF(R5724<5,INT((A5724-1)/Einstellung!$B$4)+1,\"\"))","v":""},""]
["",null,null,null,null,null,null,null,null,null,null,null,null,null,null,null,null,"",{"$f":"IF(B5725=\"\",\"\",IF(R5725<5,INT((A5725-1)/Einstellung!$B$4)+1,\"\"))","v":""},""]
["",null,null,null,null,null,null,null,null,null,null,null,null,null,null,null,null,"",{"$f":"IF(B5726=\"\",\"\",IF(R5726<5,INT((A5726-1)/Einstellung!$B$4)+1,\"\"))","v":""},""]
["",null,null,null,null,null,null,null,null,null,null,null,null,null,null,null,null,"",{"$f":"IF(B5727=\"\",\"\",IF(R5727<5,INT((A5727-1)/Einstellung!$B$4)+1,\"\"))","v":""},""]
["",null,null,null,null,null,null,null,null,null,null,null,null,null,null,null,null,"",{"$f":"IF(B5728=\"\",\"\",IF(R5728<5,INT((A5728-1)/Einstellung!$B$4)+1,\"\"))","v":""},""]
["",null,null,null,null,null,null,null,null,null,null,null,null,null,null,null,null,"",{"$f":"IF(B5729=\"\",\"\",IF(R5729<5,INT((A5729-1)/Einstellung!$B$4)+1,\"\"))","v":""},""]
["",null,null,null,null,null,null,null,null,null,null,null,null,null,null,null,null,"",{"$f":"IF(B5730=\"\",\"\",IF(R5730<5,INT((A5730-1)/Einstellung!$B$4)+1,\"\"))","v":""},""]
["",null,null,null,null,null,null,null,null,null,null,null,null,null,null,null,null,"",{"$f":"IF(B5731=\"\",\"\",IF(R5731<5,INT((A5731-1)/Einstellung!$B$4)+1,\"\"))","v":""},""]
["",null,null,null,null,null,null,null,null,null,null,null,null,null,null,null,null,"",{"$f":"IF(B5732=\"\",\"\",IF(R5732<5,INT((A5732-1)/Einstellung!$B$4)+1,\"\"))","v":""},""]
["",null,null,null,null,null,null,null,null,null,null,null,null,null,null,null,null,"",{"$f":"IF(B5733=\"\",\"\",IF(R5733<5,INT((A5733-1)/Einstellung!$B$4)+1,\"\"))","v":""},""]
["",null,null,null,null,null,null,null,null,null,null,null,null,null,null,null,null,"",{"$f":"IF(B5734=\"\",\"\",IF(R5734<5,INT((A5734-1)/Einstellung!$B$4)+1,\"\"))","v":""},""]
["",null,null,null,null,null,null,null,null,null,null,null,null,null,null,null,null,"",{"$f":"IF(B5735=\"\",\"\",IF(R5735<5,INT((A5735-1)/Einstellung!$B$4)+1,\"\"))","v":""},""]
["",null,null,null,null,null,null,null,null,null,null,null,null,null,null,null,null,"",{"$f":"IF(B5736=\"\",\"\",IF(R5736<5,INT((A5736-1)/Einstellung!$B$4)+1,\"\"))","v":""},""]
["",null,null,null,null,null,null,null,null,null,null,null,null,null,null,null,null,"",{"$f":"IF(B5737=\"\",\"\",IF(R5737<5,INT((A5737-1)/Einstellung!$B$4)+1,\"\"))","v":""},""]
[{"$f":"IF(B5738=\"\",\"\",ROW()-7)","v":""},null,null,null,null,null,null,null,null,null,null,null,null,null,null,null,null,"",{"$f":"IF(B5738=\"\",\"\",IF(R5738<5,INT((A5738-1)/Einstellung!$B$4)+1,\"\"))","v":""},""]
["",null,null,null,null,null,null,null,null,null,null,null,null,null,null,null,null,"",{"$f":"IF(B5739=\"\",\"\",IF(R5739<5,INT((A5739-1)/Einstellung!$B$4)+1,\"\"))","v":""},""]
["",null,null,null,null,null,null,null,null,null,null,null,null,null,null,null,null,"",{"$f":"IF(B5740=\"\",\"\",IF(R5740<5,INT((A5740-1)/Einstellung!$B$4)+1,\"\"))","v":""},""]
["",null,null,null,null,null,null,null,null,null,null,null,null,null,null,null,null,"",{"$f":"IF(B5741=\"\",\"\",IF(R5741<5,INT((A5741-1)/Einstellung!$B$4)+1,\"\"))","v":""},""]
["",null,null,null,null,null,null,null,null,null,null,null,null,null,null,null,null,"",{"$f":"IF(B5742=\"\",\"\",IF(R5742<5,INT((A5742-1)/Einstellung!$B$4)+1,\"\"))","v":""},""]
["",null,null,null,null,null,null,null,null,null,null,null,null,null,null,null,null,"",{"$f":"IF(B5743=\"\",\"\",IF(R5743<5,INT((A5743-1)/Einstellung!$B$4)+1,\"\"))","v":""},""]
["",null,null,null,null,null,null,null,null,null,null,null,null,null,null,null,null,"",{"$f":"IF(B5744=\"\",\"\",IF(R5744<5,INT((A5744-1)/Einstellung!$B$4)+1,\"\"))","v":""},""]
["",null,null,null,null,null,null,null,null,null,null,null,null,null,null,null,null,"",{"$f":"IF(B5745=\"\",\"\",IF(R5745<5,INT((A5745-1)/Einstellung!$B$4)+1,\"\"))","v":""},""]
["",null,null,null,null,null,null,null,null,null,null,null,null,null,null,null,null,"",{"$f":"IF(B5746=\"\",\"\",IF(R5746<5,INT((A5746-1)/Einstellung!$B$4)+1,\"\"))","v":""},""]
["",null,null,null,null,null,null,null,null,null,null,null,null,null,null,null,null,"",{"$f":"IF(B5747=\"\",\"\",IF(R5747<5,INT((A5747-1)/Einstellung!$B$4)+1,\"\"))","v":""},""]
["",null,null,null,null,null,null,null,null,null,null,null,null,null,null,null,null,"",{"$f":"IF(B5748=\"\",\"\",IF(R5748<5,INT((A5748-1)/Einstellung!$B$4)+1,\"\"))","v":""},""]
["",null,null,null,null,null,null,null,null,null,null,null,null,null,null,null,null,"",{"$f":"IF(B5749=\"\",\"\",IF(R5749<5,INT((A5749-1)/Einstellung!$B$4)+1,\"\"))","v":""},""]
["",null,null,null,null,null,null,null,null,null,null,null,null,null,null,null,null,"",{"$f":"IF(B5750=\"\",\"\",IF(R5750<5,INT((A5750-1)/Einstellung!$B$4)+1,\"\"))","v":""},""]
["",null,null,null,null,null,null,null,null,null,null,null,null,null,null,null,null,"",{"$f":"IF(B5751=\"\",\"\",IF(R5751<5,INT((A5751-1)/Einstellung!$B$4)+1,\"\"))","v":""},""]
["",null,null,null,null,null,null,null,null,null,null,null,null,null,null,null,null,"",{"$f":"IF(B5752=\"\",\"\",IF(R5752<5,INT((A5752-1)/Einstellung!$B$4)+1,\"\"))","v":""},""]
["",null,null,null,null,null,null,null,null,null,null,null,null,null,null,null,null,"",{"$f":"IF(B5753=\"\",\"\",IF(R5753<5,INT((A5753-1)/Einstellung!$B$4)+1,\"\"))","v":""},""]
["",null,null,null,null,null,null,null,null,null,null,null,null,null,null,null,null,"",{"$f":"IF(B5754=\"\",\"\",IF(R5754<5,INT((A5754-1)/Einstellung!$B$4)+1,\"\"))","v":""},""]
["",null,null,null,null,null,null,null,null,null,null,null,null,null,null,null,null,"",{"$f":"IF(B5755=\"\",\"\",IF(R5755<5,INT((A5755-1)/Einstellung!$B$4)+1,\"\"))","v":""},""]
["",null,null,null,null,null,null,null,null,null,null,null,null,null,null,null,null,"",{"$f":"IF(B5756=\"\",\"\",IF(R5756<5,INT((A5756-1)/Einstellung!$B$4)+1,\"\"))","v":""},""]
["",null,null,null,null,null,null,null,null,null,null,null,null,null,null,null,null,"",{"$f":"IF(B5757=\"\",\"\",IF(R5757<5,INT((A5757-1)/Einstellung!$B$4)+1,\"\"))","v":""},""]
["",null,null,null,null,null,null,null,null,null,null,null,null,null,null,null,null,"",{"$f":"IF(B5758=\"\",\"\",IF(R5758<5,INT((A5758-1)/Einstellung!$B$4)+1,\"\"))","v":""},""]
["",null,null,null,null,null,null,null,null,null,null,null,null,null,null,null,null,"",{"$f":"IF(B5759=\"\",\"\",IF(R5759<5,INT((A5759-1)/Einstellung!$B$4)+1,\"\"))","v":""},""]
["",null,null,null,null,null,null,null,null,null,null,null,null,null,null,null,null,"",{"$f":"IF(B5760=\"\",\"\",IF(R5760<5,INT((A5760-1)/Einstellung!$B$4)+1,\"\"))","v":""},""]
["",null,null,null,null,null,null,null,null,null,null,null,null,null,null,null,null,"",{"$f":"IF(B5761=\"\",\"\",IF(R5761<5,INT((A5761-1)/Einstellung!$B$4)+1,\"\"))","v":""},""]
["",null,null,null,null,null,null,null,null,null,null,null,null,null,null,null,null,"",{"$f":"IF(B5762=\"\",\"\",IF(R5762<5,INT((A5762-1)/Einstellung!$B$4)+1,\"\"))","v":""},""]
["",null,null,null,null,null,null,null,null,null,null,null,null,null,null,null,null,"",{"$f":"IF(B5763=\"\",\"\",IF(R5763<5,INT((A5763-1)/Einstellung!$B$4)+1,\"\"))","v":""},""]
["",null,null,null,null,null,null,null,null,null,null,null,null,null,null,null,null,"",{"$f":"IF(B5764=\"\",\"\",IF(R5764<5,INT((A5764-1)/Einstellung!$B$4)+1,\"\"))","v":""},""]
["",null,null,null,null,null,null,null,null,null,null,null,null,null,null,null,null,"",{"$f":"IF(B5765=\"\",\"\",IF(R5765<5,INT((A5765-1)/Einstellung!$B$4)+1,\"\"))","v":""},""]
["",null,null,null,null,null,null,null,null,null,null,null,null,null,null,null,null,"",{"$f":"IF(B5766=\"\",\"\",IF(R5766<5,INT((A5766-1)/Einstellung!$B$4)+1,\"\"))","v":""},""]
["",null,null,null,null,null,null,null,null,null,null,null,null,null,null,null,null,"",{"$f":"IF(B5767=\"\",\"\",IF(R5767<5,INT((A5767-1)/Einstellung!$B$4)+1,\"\"))","v":""},""]
["",null,null,null,null,null,null,null,null,null,null,null,null,null,null,null,null,{"$f":"IF(B5768=\"\",\"\",16-((MID(B$1,1,1)=MID(B5768,1,1))+(MID(C$1,1,1)=MID(C5768,1,1))+(MID(D$1,1,1)=MID(D5768,1,1))+(MID(E$1,1,1)=MID(E5768,1,1))+(MID(F$1,1,1)=MID(F5768,1,1))+(MID(G$1,1,1)=MID(G5768,1,1))+(MID(H$1,1,1)=MID(H5768,1,1))+(MID(I$1,1,1)=MID(I5768,1,1))+(MID(J$1,1,1)=MID(J5768,1,1))+(MID(K$1,1,1)=MID(K5768,1,1))+(MID(L$1,1,1)=MID(L5768,1,1))+(MID(M$1,1,1)=MID(M5768,1,1))+(MID(N$1,1,1)=MID(N5768,1,1))+(MID(O$1,1,1)=MID(O5768,1,1))+(MID(P$1,1,1)=MID(P5768,1,1)))-B$4+C$5)","v":""},{"$f":"IF(B5768=\"\",\"\",IF(R5768<5,INT((A5768-1)/Einstellung!$B$4)+1,\"\"))","v":""},{"$f":"IF(C$5<B$4,\"\",IF(R5768>4,\"\",OFFSET(T$2,R5768-1,0)))","v":""}]
["",null,null,null,null,null,null,null,null,null,null,null,null,null,null,null,null,"",{"$f":"IF(B5769=\"\",\"\",IF(R5769<5,INT((A5769-1)/Einstellung!$B$4)+1,\"\"))","v":""},""]
["",null,null,null,null,null,null,null,null,null,null,null,null,null,null,null,null,"",{"$f":"IF(B5770=\"\",\"\",IF(R5770<5,INT((A5770-1)/Einstellung!$B$4)+1,\"\"))","v":""},""]
["",null,null,null,null,null,null,null,null,null,null,null,null,null,null,null,null,"",{"$f":"IF(B5771=\"\",\"\",IF(R5771<5,INT((A5771-1)/Einstellung!$B$4)+1,\"\"))","v":""},""]
["",null,null,null,null,null,null,null,null,null,null,null,null,null,null,null,null,"",{"$f":"IF(B5772=\"\",\"\",IF(R5772<5,INT((A5772-1)/Einstellung!$B$4)+1,\"\"))","v":""},""]
["",null,null,null,null,null,null,null,null,null,null,null,null,null,null,null,null,"",{"$f":"IF(B5773=\"\",\"\",IF(R5773<5,INT((A5773-1)/Einstellung!$B$4)+1,\"\"))","v":""},""]
["",null,null,null,null,null,null,null,null,null,null,null,null,null,null,null,null,"",{"$f":"IF(B5774=\"\",\"\",IF(R5774<5,INT((A5774-1)/Einstellung!$B$4)+1,\"\"))","v":""},""]
["",null,null,null,null,null,null,null,null,null,null,null,null,null,null,null,null,"",{"$f":"IF(B5775=\"\",\"\",IF(R5775<5,INT((A5775-1)/Einstellung!$B$4)+1,\"\"))","v":""},""]
["",null,null,null,null,null,null,null,null,null,null,null,null,null,null,null,null,"",{"$f":"IF(B5776=\"\",\"\",IF(R5776<5,INT((A5776-1)/Einstellung!$B$4)+1,\"\"))","v":""},""]
["",null,null,null,null,null,null,null,null,null,null,null,null,null,null,null,null,"",{"$f":"IF(B5777=\"\",\"\",IF(R5777<5,INT((A5777-1)/Einstellung!$B$4)+1,\"\"))","v":""},""]
["",null,null,null,null,null,null,null,null,null,null,null,null,null,null,null,null,"",{"$f":"IF(B5778=\"\",\"\",IF(R5778<5,INT((A5778-1)/Einstellung!$B$4)+1,\"\"))","v":""},""]
["",null,null,null,null,null,null,null,null,null,null,null,null,null,null,null,null,"",{"$f":"IF(B5779=\"\",\"\",IF(R5779<5,INT((A5779-1)/Einstellung!$B$4)+1,\"\"))","v":""},""]
["",null,null,null,null,null,null,null,null,null,null,null,null,null,null,null,null,"",{"$f":"IF(B5780=\"\",\"\",IF(R5780<5,INT((A5780-1)/Einstellung!$B$4)+1,\"\"))","v":""},""]
["",null,null,null,null,null,null,null,null,null,null,null,null,null,null,null,null,"",{"$f":"IF(B5781=\"\",\"\",IF(R5781<5,INT((A5781-1)/Einstellung!$B$4)+1,\"\"))","v":""},""]
["",null,null,null,null,null,null,null,null,null,null,null,null,null,null,null,null,"",{"$f":"IF(B5782=\"\",\"\",IF(R5782<5,INT((A5782-1)/Einstellung!$B$4)+1,\"\"))","v":""},""]
["",null,null,null,null,null,null,null,null,null,null,null,null,null,null,null,null,"",{"$f":"IF(B5783=\"\",\"\",IF(R5783<5,INT((A5783-1)/Einstellung!$B$4)+1,\"\"))","v":""},""]
["",null,null,null,null,null,null,null,null,null,null,null,null,null,null,null,null,"",{"$f":"IF(B5784=\"\",\"\",IF(R5784<5,INT((A5784-1)/Einstellung!$B$4)+1,\"\"))","v":""},""]
["",null,null,null,null,null,null,null,null,null,null,null,null,null,null,null,null,"",{"$f":"IF(B5785=\"\",\"\",IF(R5785<5,INT((A5785-1)/Einstellung!$B$4)+1,\"\"))","v":""},""]
["",null,null,null,null,null,null,null,null,null,null,null,null,null,null,null,null,"",{"$f":"IF(B5786=\"\",\"\",IF(R5786<5,INT((A5786-1)/Einstellung!$B$4)+1,\"\"))","v":""},""]
["",null,null,null,null,null,null,null,null,null,null,null,null,null,null,null,null,"",{"$f":"IF(B5787=\"\",\"\",IF(R5787<5,INT((A5787-1)/Einstellung!$B$4)+1,\"\"))","v":""},""]
["",null,null,null,null,null,null,null,null,null,null,null,null,null,null,null,null,"",{"$f":"IF(B5788=\"\",\"\",IF(R5788<5,INT((A5788-1)/Einstellung!$B$4)+1,\"\"))","v":""},""]
["",null,null,null,null,null,null,null,null,null,null,null,null,null,null,null,null,"",{"$f":"IF(B5789=\"\",\"\",IF(R5789<5,INT((A5789-1)/Einstellung!$B$4)+1,\"\"))","v":""},""]
["",null,null,null,null,null,null,null,null,null,null,null,null,null,null,null,null,"",{"$f":"IF(B5790=\"\",\"\",IF(R5790<5,INT((A5790-1)/Einstellung!$B$4)+1,\"\"))","v":""},""]
["",null,null,null,null,null,null,null,null,null,null,null,null,null,null,null,null,"",{"$f":"IF(B5791=\"\",\"\",IF(R5791<5,INT((A5791-1)/Einstellung!$B$4)+1,\"\"))","v":""},""]
["",null,null,null,null,null,null,null,null,null,null,null,null,null,null,null,null,"",{"$f":"IF(B5792=\"\",\"\",IF(R5792<5,INT((A5792-1)/Einstellung!$B$4)+1,\"\"))","v":""},""]
["",null,null,null,null,null,null,null,null,null,null,null,null,null,null,null,null,"",{"$f":"IF(B5793=\"\",\"\",IF(R5793<5,INT((A5793-1)/Einstellung!$B$4)+1,\"\"))","v":""},""]
["",null,null,null,null,null,null,null,null,null,null,null,null,null,null,null,null,"",{"$f":"IF(B5794=\"\",\"\",IF(R5794<5,INT((A5794-1)/Einstellung!$B$4)+1,\"\"))","v":""},""]
["",null,null,null,null,null,null,null,null,null,null,null,null,null,null,null,null,"",{"$f":"IF(B5795=\"\",\"\",IF(R5795<5,INT((A5795-1)/Einstellung!$B$4)+1,\"\"))","v":""},""]
["",null,null,null,null,null,null,null,null,null,null,null,null,null,null,null,null,"",{"$f":"IF(B5796=\"\",\"\",IF(R5796<5,INT((A5796-1)/Einstellung!$B$4)+1,\"\"))","v":""},""]
["",null,null,null,null,null,null,null,null,null,null,null,null,null,null,null,null,"",{"$f":"IF(B5797=\"\",\"\",IF(R5797<5,INT((A5797-1)/Einstellung!$B$4)+1,\"\"))","v":""},""]
["",null,null,null,null,null,null,null,null,null,null,null,null,null,null,null,null,"",{"$f":"IF(B5798=\"\",\"\",IF(R5798<5,INT((A5798-1)/Einstellung!$B$4)+1,\"\"))","v":""},""]
["",null,null,null,null,null,null,null,null,null,null,null,null,null,null,null,null,"",{"$f":"IF(B5799=\"\",\"\",IF(R5799<5,INT((A5799-1)/Einstellung!$B$4)+1,\"\"))","v":""},""]
["",null,null,null,null,null,null,null,null,null,null,null,null,null,null,null,null,"",{"$f":"IF(B5800=\"\",\"\",IF(R5800<5,INT((A5800-1)/Einstellung!$B$4)+1,\"\"))","v":""},""]
["",null,null,null,null,null,null,null,null,null,null,null,null,null,null,null,null,"",{"$f":"IF(B5801=\"\",\"\",IF(R5801<5,INT((A5801-1)/Einstellung!$B$4)+1,\"\"))","v":""},""]
[{"$f":"IF(B5802=\"\",\"\",ROW()-7)","v":""},null,null,null,null,null,null,null,null,null,null,null,null,null,null,null,null,"",{"$f":"IF(B5802=\"\",\"\",IF(R5802<5,INT((A5802-1)/Einstellung!$B$4)+1,\"\"))","v":""},""]
["",null,null,null,null,null,null,null,null,null,null,null,null,null,null,null,null,"",{"$f":"IF(B5803=\"\",\"\",IF(R5803<5,INT((A5803-1)/Einstellung!$B$4)+1,\"\"))","v":""},""]
["",null,null,null,null,null,null,null,null,null,null,null,null,null,null,null,null,"",{"$f":"IF(B5804=\"\",\"\",IF(R5804<5,INT((A5804-1)/Einstellung!$B$4)+1,\"\"))","v":""},""]
["",null,null,null,null,null,null,null,null,null,null,null,null,null,null,null,null,"",{"$f":"IF(B5805=\"\",\"\",IF(R5805<5,INT((A5805-1)/Einstellung!$B$4)+1,\"\"))","v":""},""]
["",null,null,null,null,null,null,null,null,null,null,null,null,null,null,null,null,"",{"$f":"IF(B5806=\"\",\"\",IF(R5806<5,INT((A5806-1)/Einstellung!$B$4)+1,\"\"))","v":""},""]
["",null,null,null,null,null,null,null,null,null,null,null,null,null,null,null,null,"",{"$f":"IF(B5807=\"\",\"\",IF(R5807<5,INT((A5807-1)/Einstellung!$B$4)+1,\"\"))","v":""},""]
["",null,null,null,null,null,null,null,null,null,null,null,null,null,null,null,null,"",{"$f":"IF(B5808=\"\",\"\",IF(R5808<5,INT((A5808-1)/Einstellung!$B$4)+1,\"\"))","v":""},""]
["",null,null,null,null,null,null,null,null,null,null,null,null,null,null,null,null,"",{"$f":"IF(B5809=\"\",\"\",IF(R5809<5,INT((A5809-1)/Einstellung!$B$4)+1,\"\"))","v":""},""]
["",null,null,null,null,null,null,null,null,null,null,null,null,null,null,null,null,"",{"$f":"IF(B5810=\"\",\"\",IF(R5810<5,INT((A5810-1)/Einstellung!$B$4)+1,\"\"))","v":""},""]
["",null,null,null,null,null,null,null,null,null,null,null,null,null,null,null,null,"",{"$f":"IF(B5811=\"\",\"\",IF(R5811<5,INT((A5811-1)/Einstellung!$B$4)+1,\"\"))","v":""},""]
["",null,null,null,null,null,null,null,null,null,null,null,null,null,null,null,null,"",{"$f":"IF(B5812=\"\",\"\",IF(R5812<5,INT((A5812-1)/Einstellung!$B$4)+1,\"\"))","v":""},""]
["",null,null,null,null,null,null,null,null,null,null,null,null,null,null,null,null,"",{"$f":"IF(B5813=\"\",\"\",IF(R5813<5,INT((A5813-1)/Einstellung!$B$4)+1,\"\"))","v":""},""]
["",null,null,null,null,null,null,null,null,null,null,null,null,null,null,null,null,"",{"$f":"IF(B5814=\"\",\"\",IF(R5814<5,INT((A5814-1)/Einstellung!$B$4)+1,\"\"))","v":""},""]
["",null,null,null,null,null,null,null,null,null,null,null,null,null,null,null,null,"",{"$f":"IF(B5815=\"\",\"\",IF(R5815<5,INT((A5815-1)/Einstellung!$B$4)+1,\"\"))","v":""},""]
["",null,null,null,null,null,null,null,null,null,null,null,null,null,null,null,null,"",{"$f":"IF(B5816=\"\",\"\",IF(R5816<5,INT((A5816-1)/Einstellung!$B$4)+1,\"\"))","v":""},""]
["",null,null,null,null,null,null,null,null,null,null,null,null,null,null,null,null,"",{"$f":"IF(B5817=\"\",\"\",IF(R5817<5,INT((A5817-1)/Einstellung!$B$4)+1,\"\"))","v":""},""]
["",null,null,null,null,null,null,null,null,null,null,null,null,null,null,null,null,"",{"$f":"IF(B5818=\"\",\"\",IF(R5818<5,INT((A5818-1)/Einstellung!$B$4)+1,\"\"))","v":""},""]
["",null,null,null,null,null,null,null,null,null,null,null,null,null,null,null,null,"",{"$f":"IF(B5819=\"\",\"\",IF(R5819<5,INT((A5819-1)/Einstellung!$B$4)+1,\"\"))","v":""},""]
["",null,null,null,null,null,null,null,null,null,null,null,null,null,null,null,null,"",{"$f":"IF(B5820=\"\",\"\",IF(R5820<5,INT((A5820-1)/Einstellung!$B$4)+1,\"\"))","v":""},""]
["",null,null,null,null,null,null,null,null,null,null,null,null,null,null,null,null,"",{"$f":"IF(B5821=\"\",\"\",IF(R5821<5,INT((A5821-1)/Einstellung!$B$4)+1,\"\"))","v":""},""]
["",null,null,null,null,null,null,null,null,null,null,null,null,null,null,null,null,"",{"$f":"IF(B5822=\"\",\"\",IF(R5822<5,INT((A5822-1)/Einstellung!$B$4)+1,\"\"))","v":""},""]
["",null,null,null,null,null,null,null,null,null,null,null,null,null,null,null,null,"",{"$f":"IF(B5823=\"\",\"\",IF(R5823<5,INT((A5823-1)/Einstellung!$B$4)+1,\"\"))","v":""},""]
["",null,null,null,null,null,null,null,null,null,null,null,null,null,null,null,null,"",{"$f":"IF(B5824=\"\",\"\",IF(R5824<5,INT((A5824-1)/Einstellung!$B$4)+1,\"\"))","v":""},""]
["",null,null,null,null,null,null,null,null,null,null,null,null,null,null,null,null,"",{"$f":"IF(B5825=\"\",\"\",IF(R5825<5,INT((A5825-1)/Einstellung!$B$4)+1,\"\"))","v":""},""]
["",null,null,null,null,null,null,null,null,null,null,null,null,null,null,null,null,"",{"$f":"IF(B5826=\"\",\"\",IF(R5826<5,INT((A5826-1)/Einstellung!$B$4)+1,\"\"))","v":""},""]
["",null,null,null,null,null,null,null,null,null,null,null,null,null,null,null,null,"",{"$f":"IF(B5827=\"\",\"\",IF(R5827<5,INT((A5827-1)/Einstellung!$B$4)+1,\"\"))","v":""},""]
["",null,null,null,null,null,null,null,null,null,null,null,null,null,null,null,null,"",{"$f":"IF(B5828=\"\",\"\",IF(R5828<5,INT((A5828-1)/Einstellung!$B$4)+1,\"\"))","v":""},""]
["",null,null,null,null,null,null,null,null,null,null,null,null,null,null,null,null,"",{"$f":"IF(B5829=\"\",\"\",IF(R5829<5,INT((A5829-1)/Einstellung!$B$4)+1,\"\"))","v":""},""]
["",null,null,null,null,null,null,null,null,null,null,null,null,null,null,null,null,"",{"$f":"IF(B5830=\"\",\"\",IF(R5830<5,INT((A5830-1)/Einstellung!$B$4)+1,\"\"))","v":""},""]
["",null,null,null,null,null,null,null,null,null,null,null,null,null,null,null,null,"",{"$f":"IF(B5831=\"\",\"\",IF(R5831<5,INT((A5831-1)/Einstellung!$B$4)+1,\"\"))","v":""},""]
["",null,null,null,null,null,null,null,null,null,null,null,null,null,null,null,null,{"$f":"IF(B5832=\"\",\"\",16-((MID(B$1,1,1)=MID(B5832,1,1))+(MID(C$1,1,1)=MID(C5832,1,1))+(MID(D$1,1,1)=MID(D5832,1,1))+(MID(E$1,1,1)=MID(E5832,1,1))+(MID(F$1,1,1)=MID(F5832,1,1))+(MID(G$1,1,1)=MID(G5832,1,1))+(MID(H$1,1,1)=MID(H5832,1,1))+(MID(I$1,1,1)=MID(I5832,1,1))+(MID(J$1,1,1)=MID(J5832,1,1))+(MID(K$1,1,1)=MID(K5832,1,1))+(MID(L$1,1,1)=MID(L5832,1,1))+(MID(M$1,1,1)=MID(M5832,1,1))+(MID(N$1,1,1)=MID(N5832,1,1))+(MID(O$1,1,1)=MID(O5832,1,1))+(MID(P$1,1,1)=MID(P5832,1,1)))-B$4+C$5)","v":""},{"$f":"IF(B5832=\"\",\"\",IF(R5832<5,INT((A5832-1)/Einstellung!$B$4)+1,\"\"))","v":""},{"$f":"IF(C$5<B$4,\"\",IF(R5832>4,\"\",OFFSET(T$2,R5832-1,0)))","v":""}]
["",null,null,null,null,null,null,null,null,null,null,null,null,null,null,null,null,"",{"$f":"IF(B5833=\"\",\"\",IF(R5833<5,INT((A5833-1)/Einstellung!$B$4)+1,\"\"))","v":""},""]
["",null,null,null,null,null,null,null,null,null,null,null,null,null,null,null,null,"",{"$f":"IF(B5834=\"\",\"\",IF(R5834<5,INT((A5834-1)/Einstellung!$B$4)+1,\"\"))","v":""},""]
["",null,null,null,null,null,null,null,null,null,null,null,null,null,null,null,null,"",{"$f":"IF(B5835=\"\",\"\",IF(R5835<5,INT((A5835-1)/Einstellung!$B$4)+1,\"\"))","v":""},""]
["",null,null,null,null,null,null,null,null,null,null,null,null,null,null,null,null,"",{"$f":"IF(B5836=\"\",\"\",IF(R5836<5,INT((A5836-1)/Einstellung!$B$4)+1,\"\"))","v":""},""]
["",null,null,null,null,null,null,null,null,null,null,null,null,null,null,null,null,"",{"$f":"IF(B5837=\"\",\"\",IF(R5837<5,INT((A5837-1)/Einstellung!$B$4)+1,\"\"))","v":""},""]
["",null,null,null,null,null,null,null,null,null,null,null,null,null,null,null,null,"",{"$f":"IF(B5838=\"\",\"\",IF(R5838<5,INT((A5838-1)/Einstellung!$B$4)+1,\"\"))","v":""},""]
["",null,null,null,null,null,null,null,null,null,null,null,null,null,null,null,null,"",{"$f":"IF(B5839=\"\",\"\",IF(R5839<5,INT((A5839-1)/Einstellung!$B$4)+1,\"\"))","v":""},""]
["",null,null,null,null,null,null,null,null,null,null,null,null,null,null,null,null,"",{"$f":"IF(B5840=\"\",\"\",IF(R5840<5,INT((A5840-1)/Einstellung!$B$4)+1,\"\"))","v":""},""]
["",null,null,null,null,null,null,null,null,null,null,null,null,null,null,null,null,"",{"$f":"IF(B5841=\"\",\"\",IF(R5841<5,INT((A5841-1)/Einstellung!$B$4)+1,\"\"))","v":""},""]
["",null,null,null,null,null,null,null,null,null,null,null,null,null,null,null,null,"",{"$f":"IF(B5842=\"\",\"\",IF(R5842<5,INT((A5842-1)/Einstellung!$B$4)+1,\"\"))","v":""},""]
["",null,null,null,null,null,null,null,null,null,null,null,null,null,null,null,null,"",{"$f":"IF(B5843=\"\",\"\",IF(R5843<5,INT((A5843-1)/Einstellung!$B$4)+1,\"\"))","v":""},""]
["",null,null,null,null,null,null,null,null,null,null,null,null,null,null,null,null,"",{"$f":"IF(B5844=\"\",\"\",IF(R5844<5,INT((A5844-1)/Einstellung!$B$4)+1,\"\"))","v":""},""]
["",null,null,null,null,null,null,null,null,null,null,null,null,null,null,null,null,"",{"$f":"IF(B5845=\"\",\"\",IF(R5845<5,INT((A5845-1)/Einstellung!$B$4)+1,\"\"))","v":""},""]
["",null,null,null,null,null,null,null,null,null,null,null,null,null,null,null,null,"",{"$f":"IF(B5846=\"\",\"\",IF(R5846<5,INT((A5846-1)/Einstellung!$B$4)+1,\"\"))","v":""},""]
["",null,null,null,null,null,null,null,null,null,null,null,null,null,null,null,null,"",{"$f":"IF(B5847=\"\",\"\",IF(R5847<5,INT((A5847-1)/Einstellung!$B$4)+1,\"\"))","v":""},""]
["",null,null,null,null,null,null,null,null,null,null,null,null,null,null,null,null,"",{"$f":"IF(B5848=\"\",\"\",IF(R5848<5,INT((A5848-1)/Einstellung!$B$4)+1,\"\"))","v":""},""]
["",null,null,null,null,null,null,null,null,null,null,null,null,null,null,null,null,"",{"$f":"IF(B5849=\"\",\"\",IF(R5849<5,INT((A5849-1)/Einstellung!$B$4)+1,\"\"))","v":""},""]
["",null,null,null,null,null,null,null,null,null,null,null,null,null,null,null,null,"",{"$f":"IF(B5850=\"\",\"\",IF(R5850<5,INT((A5850-1)/Einstellung!$B$4)+1,\"\"))","v":""},""]
["",null,null,null,null,null,null,null,null,null,null,null,null,null,null,null,null,"",{"$f":"IF(B5851=\"\",\"\",IF(R5851<5,INT((A5851-1)/Einstellung!$B$4)+1,\"\"))","v":""},""]
["",null,null,null,null,null,null,null,null,null,null,null,null,null,null,null,null,"",{"$f":"IF(B5852=\"\",\"\",IF(R5852<5,INT((A5852-1)/Einstellung!$B$4)+1,\"\"))","v":""},""]
["",null,null,null,null,null,null,null,null,null,null,null,null,null,null,null,null,"",{"$f":"IF(B5853=\"\",\"\",IF(R5853<5,INT((A5853-1)/Einstellung!$B$4)+1,\"\"))","v":""},""]
["",null,null,null,null,null,null,null,null,null,null,null,null,null,null,null,null,"",{"$f":"IF(B5854=\"\",\"\",IF(R5854<5,INT((A5854-1)/Einstellung!$B$4)+1,\"\"))","v":""},""]
["",null,null,null,null,null,null,null,null,null,null,null,null,null,null,null,null,"",{"$f":"IF(B5855=\"\",\"\",IF(R5855<5,INT((A5855-1)/Einstellung!$B$4)+1,\"\"))","v":""},""]
["",null,null,null,null,null,null,null,null,null,null,null,null,null,null,null,null,"",{"$f":"IF(B5856=\"\",\"\",IF(R5856<5,INT((A5856-1)/Einstellung!$B$4)+1,\"\"))","v":""},""]
["",null,null,null,null,null,null,null,null,null,null,null,null,null,null,null,null,"",{"$f":"IF(B5857=\"\",\"\",IF(R5857<5,INT((A5857-1)/Einstellung!$B$4)+1,\"\"))","v":""},""]
["",null,null,null,null,null,null,null,null,null,null,null,null,null,null,null,null,"",{"$f":"IF(B5858=\"\",\"\",IF(R5858<5,INT((A5858-1)/Einstellung!$B$4)+1,\"\"))","v":""},""]
["",null,null,null,null,null,null,null,null,null,null,null,null,null,null,null,null,"",{"$f":"IF(B5859=\"\",\"\",IF(R5859<5,INT((A5859-1)/Einstellung!$B$4)+1,\"\"))","v":""},""]
["",null,null,null,null,null,null,null,null,null,null,null,null,null,null,null,null,"",{"$f":"IF(B5860=\"\",\"\",IF(R5860<5,INT((A5860-1)/Einstellung!$B$4)+1,\"\"))","v":""},""]
["",null,null,null,null,null,null,null,null,null,null,null,null,null,null,null,null,"",{"$f":"IF(B5861=\"\",\"\",IF(R5861<5,INT((A5861-1)/Einstellung!$B$4)+1,\"\"))","v":""},""]
["",null,null,null,null,null,null,null,null,null,null,null,null,null,null,null,null,"",{"$f":"IF(B5862=\"\",\"\",IF(R5862<5,INT((A5862-1)/Einstellung!$B$4)+1,\"\"))","v":""},""]
["",null,null,null,null,null,null,null,null,null,null,null,null,null,null,null,null,"",{"$f":"IF(B5863=\"\",\"\",IF(R5863<5,INT((A5863-1)/Einstellung!$B$4)+1,\"\"))","v":""},""]
["",null,null,null,null,null,null,null,null,null,null,null,null,null,null,null,null,"",{"$f":"IF(B5864=\"\",\"\",IF(R5864<5,INT((A5864-1)/Einstellung!$B$4)+1,\"\"))","v":""},""]
["",null,null,null,null,null,null,null,null,null,null,null,null,null,null,null,null,"",{"$f":"IF(B5865=\"\",\"\",IF(R5865<5,INT((A5865-1)/Einstellung!$B$4)+1,\"\"))","v":""},""]
[{"$f":"IF(B5866=\"\",\"\",ROW()-7)","v":""},null,null,null,null,null,null,null,null,null,null,null,null,null,null,null,null,"",{"$f":"IF(B5866=\"\",\"\",IF(R5866<5,INT((A5866-1)/Einstellung!$B$4)+1,\"\"))","v":""},""]
["",null,null,null,null,null,null,null,null,null,null,null,null,null,null,null,null,"",{"$f":"IF(B5867=\"\",\"\",IF(R5867<5,INT((A5867-1)/Einstellung!$B$4)+1,\"\"))","v":""},""]
["",null,null,null,null,null,null,null,null,null,null,null,null,null,null,null,null,"",{"$f":"IF(B5868=\"\",\"\",IF(R5868<5,INT((A5868-1)/Einstellung!$B$4)+1,\"\"))","v":""},""]
["",null,null,null,null,null,null,null,null,null,null,null,null,null,null,null,null,"",{"$f":"IF(B5869=\"\",\"\",IF(R5869<5,INT((A5869-1)/Einstellung!$B$4)+1,\"\"))","v":""},""]
["",null,null,null,null,null,null,null,null,null,null,null,null,null,null,null,null,"",{"$f":"IF(B5870=\"\",\"\",IF(R5870<5,INT((A5870-1)/Einstellung!$B$4)+1,\"\"))","v":""},""]
["",null,null,null,null,null,null,null,null,null,null,null,null,null,null,null,null,"",{"$f":"IF(B5871=\"\",\"\",IF(R5871<5,INT((A5871-1)/Einstellung!$B$4)+1,\"\"))","v":""},""]
["",null,null,null,null,null,null,null,null,null,null,null,null,null,null,null,null,"",{"$f":"IF(B5872=\"\",\"\",IF(R5872<5,INT((A5872-1)/Einstellung!$B$4)+1,\"\"))","v":""},""]
["",null,null,null,null,null,null,null,null,null,null,null,null,null,null,null,null,"",{"$f":"IF(B5873=\"\",\"\",IF(R5873<5,INT((A5873-1)/Einstellung!$B$4)+1,\"\"))","v":""},""]
["",null,null,null,null,null,null,null,null,null,null,null,null,null,null,null,null,"",{"$f":"IF(B5874=\"\",\"\",IF(R5874<5,INT((A5874-1)/Einstellung!$B$4)+1,\"\"))","v":""},""]
["",null,null,null,null,null,null,null,null,null,null,null,null,null,null,null,null,"",{"$f":"IF(B5875=\"\",\"\",IF(R5875<5,INT((A5875-1)/Einstellung!$B$4)+1,\"\"))","v":""},""]
["",null,null,null,null,null,null,null,null,null,null,null,null,null,null,null,null,"",{"$f":"IF(B5876=\"\",\"\",IF(R5876<5,INT((A5876-1)/Einstellung!$B$4)+1,\"\"))","v":""},""]
["",null,null,null,null,null,null,null,null,null,null,null,null,null,null,null,null,"",{"$f":"IF(B5877=\"\",\"\",IF(R5877<5,INT((A5877-1)/Einstellung!$B$4)+1,\"\"))","v":""},""]
["",null,null,null,null,null,null,null,null,null,null,null,null,null,null,null,null,"",{"$f":"IF(B5878=\"\",\"\",IF(R5878<5,INT((A5878-1)/Einstellung!$B$4)+1,\"\"))","v":""},""]
["",null,null,null,null,null,null,null,null,null,null,null,null,null,null,null,null,"",{"$f":"IF(B5879=\"\",\"\",IF(R5879<5,INT((A5879-1)/Einstellung!$B$4)+1,\"\"))","v":""},""]
["",null,null,null,null,null,null,null,null,null,null,null,null,null,null,null,null,"",{"$f":"IF(B5880=\"\",\"\",IF(R5880<5,INT((A5880-1)/Einstellung!$B$4)+1,\"\"))","v":""},""]
["",null,null,null,null,null,null,null,null,null,null,null,null,null,null,null,null,"",{"$f":"IF(B5881=\"\",\"\",IF(R5881<5,INT((A5881-1)/Einstellung!$B$4)+1,\"\"))","v":""},""]
["",null,null,null,null,null,null,null,null,null,null,null,null,null,null,null,null,"",{"$f":"IF(B5882=\"\",\"\",IF(R5882<5,INT((A5882-1)/Einstellung!$B$4)+1,\"\"))","v":""},""]
["",null,null,null,null,null,null,null,null,null,null,null,null,null,null,null,null,"",{"$f":"IF(B5883=\"\",\"\",IF(R5883<5,INT((A5883-1)/Einstellung!$B$4)+1,\"\"))","v":""},""]
["",null,null,null,null,null,null,null,null,null,null,null,null,null,null,null,null,"",{"$f":"IF(B5884=\"\",\"\",IF(R5884<5,INT((A5884-1)/Einstellung!$B$4)+1,\"\"))","v":""},""]
["",null,null,null,null,null,null,null,null,null,null,null,null,null,null,null,null,"",{"$f":"IF(B5885=\"\",\"\",IF(R5885<5,INT((A5885-1)/Einstellung!$B$4)+1,\"\"))","v":""},""]
["",null,null,null,null,null,null,null,null,null,null,null,null,null,null,null,null,"",{"$f":"IF(B5886=\"\",\"\",IF(R5886<5,INT((A5886-1)/Einstellung!$B$4)+1,\"\"))","v":""},""]
["",null,null,null,null,null,null,null,null,null,null,null,null,null,null,null,null,"",{"$f":"IF(B5887=\"\",\"\",IF(R5887<5,INT((A5887-1)/Einstellung!$B$4)+1,\"\"))","v":""},""]
["",null,null,null,null,null,null,null,null,null,null,null,null,null,null,null,null,"",{"$f":"IF(B5888=\"\",\"\",IF(R5888<5,INT((A5888-1)/Einstellung!$B$4)+1,\"\"))","v":""},""]
["",null,null,null,null,null,null,null,null,null,null,null,null,null,null,null,null,"",{"$f":"IF(B5889=\"\",\"\",IF(R5889<5,INT((A5889-1)/Einstellung!$B$4)+1,\"\"))","v":""},""]
["",null,null,null,null,null,null,null,null,null,null,null,null,null,null,null,null,"",{"$f":"IF(B5890=\"\",\"\",IF(R5890<5,INT((A5890-1)/Einstellung!$B$4)+1,\"\"))","v":""},""]
["",null,null,null,null,null,null,null,null,null,null,null,null,null,null,null,null,"",{"$f":"IF(B5891=\"\",\"\",IF(R5891<5,INT((A5891-1)/Einstellung!$B$4)+1,\"\"))","v":""},""]
["",null,null,null,null,null,null,null,null,null,null,null,null,null,null,null,null,"",{"$f":"IF(B5892=\"\",\"\",IF(R5892<5,INT((A5892-1)/Einstellung!$B$4)+1,\"\"))","v":""},""]
["",null,null,null,null,null,null,null,null,null,null,null,null,null,null,null,null,"",{"$f":"IF(B5893=\"\",\"\",IF(R5893<5,INT((A5893-1)/Einstellung!$B$4)+1,\"\"))","v":""},""]
["",null,null,null,null,null,null,null,null,null,null,null,null,null,null,null,null,"",{"$f":"IF(B5894=\"\",\"\",IF(R5894<5,INT((A5894-1)/Einstellung!$B$4)+1,\"\"))","v":""},""]
["",null,null,null,null,null,null,null,null,null,null,null,null,null,null,null,null,"",{"$f":"IF(B5895=\"\",\"\",IF(R5895<5,INT((A5895-1)/Einstellung!$B$4)+1,\"\"))","v":""},""]
["",null,null,null,null,null,null,null,null,null,null,null,null,null,null,null,null,{"$f":"IF(B5896=\"\",\"\",16-((MID(B$1,1,1)=MID(B5896,1,1))+(MID(C$1,1,1)=MID(C5896,1,1))+(MID(D$1,1,1)=MID(D5896,1,1))+(MID(E$1,1,1)=MID(E5896,1,1))+(MID(F$1,1,1)=MID(F5896,1,1))+(MID(G$1,1,1)=MID(G5896,1,1))+(MID(H$1,1,1)=MID(H5896,1,1))+(MID(I$1,1,1)=MID(I5896,1,1))+(MID(J$1,1,1)=MID(J5896,1,1))+(MID(K$1,1,1)=MID(K5896,1,1))+(MID(L$1,1,1)=MID(L5896,1,1))+(MID(M$1,1,1)=MID(M5896,1,1))+(MID(N$1,1,1)=MID(N5896,1,1))+(MID(O$1,1,1)=MID(O5896,1,1))+(MID(P$1,1,1)=MID(P5896,1,1)))-B$4+C$5)","v":""},{"$f":"IF(B5896=\"\",\"\",IF(R5896<5,INT((A5896-1)/Einstellung!$B$4)+1,\"\"))","v":""},{"$f":"IF(C$5<B$4,\"\",IF(R5896>4,\"\",OFFSET(T$2,R5896-1,0)))","v":""}]
["",null,null,null,null,null,null,null,null,null,null,null,null,null,null,null,null,"",{"$f":"IF(B5897=\"\",\"\",IF(R5897<5,INT((A5897-1)/Einstellung!$B$4)+1,\"\"))","v":""},""]
["",null,null,null,null,null,null,null,null,null,null,null,null,null,null,null,null,"",{"$f":"IF(B5898=\"\",\"\",IF(R5898<5,INT((A5898-1)/Einstellung!$B$4)+1,\"\"))","v":""},""]
["",null,null,null,null,null,null,null,null,null,null,null,null,null,null,null,null,"",{"$f":"IF(B5899=\"\",\"\",IF(R5899<5,INT((A5899-1)/Einstellung!$B$4)+1,\"\"))","v":""},""]
["",null,null,null,null,null,null,null,null,null,null,null,null,null,null,null,null,"",{"$f":"IF(B5900=\"\",\"\",IF(R5900<5,INT((A5900-1)/Einstellung!$B$4)+1,\"\"))","v":""},""]
["",null,null,null,null,null,null,null,null,null,null,null,null,null,null,null,null,"",{"$f":"IF(B5901=\"\",\"\",IF(R5901<5,INT((A5901-1)/Einstellung!$B$4)+1,\"\"))","v":""},""]
["",null,null,null,null,null,null,null,null,null,null,null,null,null,null,null,null,"",{"$f":"IF(B5902=\"\",\"\",IF(R5902<5,INT((A5902-1)/Einstellung!$B$4)+1,\"\"))","v":""},""]
["",null,null,null,null,null,null,null,null,null,null,null,null,null,null,null,null,"",{"$f":"IF(B5903=\"\",\"\",IF(R5903<5,INT((A5903-1)/Einstellung!$B$4)+1,\"\"))","v":""},""]
["",null,null,null,null,null,null,null,null,null,null,null,null,null,null,null,null,"",{"$f":"IF(B5904=\"\",\"\",IF(R5904<5,INT((A5904-1)/Einstellung!$B$4)+1,\"\"))","v":""},""]
["",null,null,null,null,null,null,null,null,null,null,null,null,null,null,null,null,"",{"$f":"IF(B5905=\"\",\"\",IF(R5905<5,INT((A5905-1)/Einstellung!$B$4)+1,\"\"))","v":""},""]
["",null,null,null,null,null,null,null,null,null,null,null,null,null,null,null,null,"",{"$f":"IF(B5906=\"\",\"\",IF(R5906<5,INT((A5906-1)/Einstellung!$B$4)+1,\"\"))","v":""},""]
["",null,null,null,null,null,null,null,null,null,null,null,null,null,null,null,null,"",{"$f":"IF(B5907=\"\",\"\",IF(R5907<5,INT((A5907-1)/Einstellung!$B$4)+1,\"\"))","v":""},""]
["",null,null,null,null,null,null,null,null,null,null,null,null,null,null,null,null,"",{"$f":"IF(B5908=\"\",\"\",IF(R5908<5,INT((A5908-1)/Einstellung!$B$4)+1,\"\"))","v":""},""]
["",null,null,null,null,null,null,null,null,null,null,null,null,null,null,null,null,"",{"$f":"IF(B5909=\"\",\"\",IF(R5909<5,INT((A5909-1)/Einstellung!$B$4)+1,\"\"))","v":""},""]
["",null,null,null,null,null,null,null,null,null,null,null,null,null,null,null,null,"",{"$f":"IF(B5910=\"\",\"\",IF(R5910<5,INT((A5910-1)/Einstellung!$B$4)+1,\"\"))","v":""},""]
["",null,null,null,null,null,null,null,null,null,null,null,null,null,null,null,null,"",{"$f":"IF(B5911=\"\",\"\",IF(R5911<5,INT((A5911-1)/Einstellung!$B$4)+1,\"\"))","v":""},""]
["",null,null,null,null,null,null,null,null,null,null,null,null,null,null,null,null,"",{"$f":"IF(B5912=\"\",\"\",IF(R5912<5,INT((A5912-1)/Einstellung!$B$4)+1,\"\"))","v":""},""]
["",null,null,null,null,null,null,null,null,null,null,null,null,null,null,null,null,"",{"$f":"IF(B5913=\"\",\"\",IF(R5913<5,INT((A5913-1)/Einstellung!$B$4)+1,\"\"))","v":""},""]
["",null,null,null,null,null,null,null,null,null,null,null,null,null,null,null,null,"",{"$f":"IF(B5914=\"\",\"\",IF(R5914<5,INT((A5914-1)/Einstellung!$B$4)+1,\"\"))","v":""},""]
["",null,null,null,null,null,null,null,null,null,null,null,null,null,null,null,null,"",{"$f":"IF(B5915=\"\",\"\",IF(R5915<5,INT((A5915-1)/Einstellung!$B$4)+1,\"\"))","v":""},""]
["",null,null,null,null,null,null,null,null,null,null,null,null,null,null,null,null,"",{"$f":"IF(B5916=\"\",\"\",IF(R5916<5,INT((A5916-1)/Einstellung!$B$4)+1,\"\"))","v":""},""]
["",null,null,null,null,null,null,null,null,null,null,null,null,null,null,null,null,"",{"$f":"IF(B5917=\"\",\"\",IF(R5917<5,INT((A5917-1)/Einstellung!$B$4)+1,\"\"))","v":""},""]
["",null,null,null,null,null,null,null,null,null,null,null,null,null,null,null,null,"",{"$f":"IF(B5918=\"\",\"\",IF(R5918<5,INT((A5918-1)/Einstellung!$B$4)+1,\"\"))","v":""},""]
["",null,null,null,null,null,null,null,null,null,null,null,null,null,null,null,null,"",{"$f":"IF(B5919=\"\",\"\",IF(R5919<5,INT((A5919-1)/Einstellung!$B$4)+1,\"\"))","v":""},""]
["",null,null,null,null,null,null,null,null,null,null,null,null,null,null,null,null,"",{"$f":"IF(B5920=\"\",\"\",IF(R5920<5,INT((A5920-1)/Einstellung!$B$4)+1,\"\"))","v":""},""]
["",null,null,null,null,null,null,null,null,null,null,null,null,null,null,null,null,"",{"$f":"IF(B5921=\"\",\"\",IF(R5921<5,INT((A5921-1)/Einstellung!$B$4)+1,\"\"))","v":""},""]
["",null,null,null,null,null,null,null,null,null,null,null,null,null,null,null,null,"",{"$f":"IF(B5922=\"\",\"\",IF(R5922<5,INT((A5922-1)/Einstellung!$B$4)+1,\"\"))","v":""},""]
["",null,null,null,null,null,null,null,null,null,null,null,null,null,null,null,null,"",{"$f":"IF(B5923=\"\",\"\",IF(R5923<5,INT((A5923-1)/Einstellung!$B$4)+1,\"\"))","v":""},""]
["",null,null,null,null,null,null,null,null,null,null,null,null,null,null,null,null,"",{"$f":"IF(B5924=\"\",\"\",IF(R5924<5,INT((A5924-1)/Einstellung!$B$4)+1,\"\"))","v":""},""]
["",null,null,null,null,null,null,null,null,null,null,null,null,null,null,null,null,"",{"$f":"IF(B5925=\"\",\"\",IF(R5925<5,INT((A5925-1)/Einstellung!$B$4)+1,\"\"))","v":""},""]
["",null,null,null,null,null,null,null,null,null,null,null,null,null,null,null,null,"",{"$f":"IF(B5926=\"\",\"\",IF(R5926<5,INT((A5926-1)/Einstellung!$B$4)+1,\"\"))","v":""},""]
["",null,null,null,null,null,null,null,null,null,null,null,null,null,null,null,null,"",{"$f":"IF(B5927=\"\",\"\",IF(R5927<5,INT((A5927-1)/Einstellung!$B$4)+1,\"\"))","v":""},""]
["",null,null,null,null,null,null,null,null,null,null,null,null,null,null,null,null,"",{"$f":"IF(B5928=\"\",\"\",IF(R5928<5,INT((A5928-1)/Einstellung!$B$4)+1,\"\"))","v":""},""]
["",null,null,null,null,null,null,null,null,null,null,null,null,null,null,null,null,"",{"$f":"IF(B5929=\"\",\"\",IF(R5929<5,INT((A5929-1)/Einstellung!$B$4)+1,\"\"))","v":""},""]
[{"$f":"IF(B5930=\"\",\"\",ROW()-7)","v":""},null,null,null,null,null,null,null,null,null,null,null,null,null,null,null,null,"",{"$f":"IF(B5930=\"\",\"\",IF(R5930<5,INT((A5930-1)/Einstellung!$B$4)+1,\"\"))","v":""},""]
["",null,null,null,null,null,null,null,null,null,null,null,null,null,null,null,null,"",{"$f":"IF(B5931=\"\",\"\",IF(R5931<5,INT((A5931-1)/Einstellung!$B$4)+1,\"\"))","v":""},""]
["",null,null,null,null,null,null,null,null,null,null,null,null,null,null,null,null,"",{"$f":"IF(B5932=\"\",\"\",IF(R5932<5,INT((A5932-1)/Einstellung!$B$4)+1,\"\"))","v":""},""]
["",null,null,null,null,null,null,null,null,null,null,null,null,null,null,null,null,"",{"$f":"IF(B5933=\"\",\"\",IF(R5933<5,INT((A5933-1)/Einstellung!$B$4)+1,\"\"))","v":""},""]
["",null,null,null,null,null,null,null,null,null,null,null,null,null,null,null,null,"",{"$f":"IF(B5934=\"\",\"\",IF(R5934<5,INT((A5934-1)/Einstellung!$B$4)+1,\"\"))","v":""},""]
["",null,null,null,null,null,null,null,null,null,null,null,null,null,null,null,null,"",{"$f":"IF(B5935=\"\",\"\",IF(R5935<5,INT((A5935-1)/Einstellung!$B$4)+1,\"\"))","v":""},""]
["",null,null,null,null,null,null,null,null,null,null,null,null,null,null,null,null,"",{"$f":"IF(B5936=\"\",\"\",IF(R5936<5,INT((A5936-1)/Einstellung!$B$4)+1,\"\"))","v":""},""]
["",null,null,null,null,null,null,null,null,null,null,null,null,null,null,null,null,"",{"$f":"IF(B5937=\"\",\"\",IF(R5937<5,INT((A5937-1)/Einstellung!$B$4)+1,\"\"))","v":""},""]
["",null,null,null,null,null,null,null,null,null,null,null,null,null,null,null,null,"",{"$f":"IF(B5938=\"\",\"\",IF(R5938<5,INT((A5938-1)/Einstellung!$B$4)+1,\"\"))","v":""},""]
["",null,null,null,null,null,null,null,null,null,null,null,null,null,null,null,null,"",{"$f":"IF(B5939=\"\",\"\",IF(R5939<5,INT((A5939-1)/Einstellung!$B$4)+1,\"\"))","v":""},""]
["",null,null,null,null,null,null,null,null,null,null,null,null,null,null,null,null,"",{"$f":"IF(B5940=\"\",\"\",IF(R5940<5,INT((A5940-1)/Einstellung!$B$4)+1,\"\"))","v":""},""]
["",null,null,null,null,null,null,null,null,null,null,null,null,null,null,null,null,"",{"$f":"IF(B5941=\"\",\"\",IF(R5941<5,INT((A5941-1)/Einstellung!$B$4)+1,\"\"))","v":""},""]
["",null,null,null,null,null,null,null,null,null,null,null,null,null,null,null,null,"",{"$f":"IF(B5942=\"\",\"\",IF(R5942<5,INT((A5942-1)/Einstellung!$B$4)+1,\"\"))","v":""},""]
["",null,null,null,null,null,null,null,null,null,null,null,null,null,null,null,null,"",{"$f":"IF(B5943=\"\",\"\",IF(R5943<5,INT((A5943-1)/Einstellung!$B$4)+1,\"\"))","v":""},""]
["",null,null,null,null,null,null,null,null,null,null,null,null,null,null,null,null,"",{"$f":"IF(B5944=\"\",\"\",IF(R5944<5,INT((A5944-1)/Einstellung!$B$4)+1,\"\"))","v":""},""]
["",null,null,null,null,null,null,null,null,null,null,null,null,null,null,null,null,"",{"$f":"IF(B5945=\"\",\"\",IF(R5945<5,INT((A5945-1)/Einstellung!$B$4)+1,\"\"))","v":""},""]
["",null,null,null,null,null,null,null,null,null,null,null,null,null,null,null,null,"",{"$f":"IF(B5946=\"\",\"\",IF(R5946<5,INT((A5946-1)/Einstellung!$B$4)+1,\"\"))","v":""},""]
["",null,null,null,null,null,null,null,null,null,null,null,null,null,null,null,null,"",{"$f":"IF(B5947=\"\",\"\",IF(R5947<5,INT((A5947-1)/Einstellung!$B$4)+1,\"\"))","v":""},""]
["",null,null,null,null,null,null,null,null,null,null,null,null,null,null,null,null,"",{"$f":"IF(B5948=\"\",\"\",IF(R5948<5,INT((A5948-1)/Einstellung!$B$4)+1,\"\"))","v":""},""]
["",null,null,null,null,null,null,null,null,null,null,null,null,null,null,null,null,"",{"$f":"IF(B5949=\"\",\"\",IF(R5949<5,INT((A5949-1)/Einstellung!$B$4)+1,\"\"))","v":""},""]
["",null,null,null,null,null,null,null,null,null,null,null,null,null,null,null,null,"",{"$f":"IF(B5950=\"\",\"\",IF(R5950<5,INT((A5950-1)/Einstellung!$B$4)+1,\"\"))","v":""},""]
["",null,null,null,null,null,null,null,null,null,null,null,null,null,null,null,null,"",{"$f":"IF(B5951=\"\",\"\",IF(R5951<5,INT((A5951-1)/Einstellung!$B$4)+1,\"\"))","v":""},""]
["",null,null,null,null,null,null,null,null,null,null,null,null,null,null,null,null,"",{"$f":"IF(B5952=\"\",\"\",IF(R5952<5,INT((A5952-1)/Einstellung!$B$4)+1,\"\"))","v":""},""]
["",null,null,null,null,null,null,null,null,null,null,null,null,null,null,null,null,"",{"$f":"IF(B5953=\"\",\"\",IF(R5953<5,INT((A5953-1)/Einstellung!$B$4)+1,\"\"))","v":""},""]
["",null,null,null,null,null,null,null,null,null,null,null,null,null,null,null,null,"",{"$f":"IF(B5954=\"\",\"\",IF(R5954<5,INT((A5954-1)/Einstellung!$B$4)+1,\"\"))","v":""},""]
["",null,null,null,null,null,null,null,null,null,null,null,null,null,null,null,null,"",{"$f":"IF(B5955=\"\",\"\",IF(R5955<5,INT((A5955-1)/Einstellung!$B$4)+1,\"\"))","v":""},""]
["",null,null,null,null,null,null,null,null,null,null,null,null,null,null,null,null,"",{"$f":"IF(B5956=\"\",\"\",IF(R5956<5,INT((A5956-1)/Einstellung!$B$4)+1,\"\"))","v":""},""]
["",null,null,null,null,null,null,null,null,null,null,null,null,null,null,null,null,"",{"$f":"IF(B5957=\"\",\"\",IF(R5957<5,INT((A5957-1)/Einstellung!$B$4)+1,\"\"))","v":""},""]
["",null,null,null,null,null,null,null,null,null,null,null,null,null,null,null,null,"",{"$f":"IF(B5958=\"\",\"\",IF(R5958<5,INT((A5958-1)/Einstellung!$B$4)+1,\"\"))","v":""},""]
["",null,null,null,null,null,null,null,null,null,null,null,null,null,null,null,null,"",{"$f":"IF(B5959=\"\",\"\",IF(R5959<5,INT((A5959-1)/Einstellung!$B$4)+1,\"\"))","v":""},""]
["",null,null,null,null,null,null,null,null,null,null,null,null,null,null,null,null,{"$f":"IF(B5960=\"\",\"\",16-((MID(B$1,1,1)=MID(B5960,1,1))+(MID(C$1,1,1)=MID(C5960,1,1))+(MID(D$1,1,1)=MID(D5960,1,1))+(MID(E$1,1,1)=MID(E5960,1,1))+(MID(F$1,1,1)=MID(F5960,1,1))+(MID(G$1,1,1)=MID(G5960,1,1))+(MID(H$1,1,1)=MID(H5960,1,1))+(MID(I$1,1,1)=MID(I5960,1,1))+(MID(J$1,1,1)=MID(J5960,1,1))+(MID(K$1,1,1)=MID(K5960,1,1))+(MID(L$1,1,1)=MID(L5960,1,1))+(MID(M$1,1,1)=MID(M5960,1,1))+(MID(N$1,1,1)=MID(N5960,1,1))+(MID(O$1,1,1)=MID(O5960,1,1))+(MID(P$1,1,1)=MID(P5960,1,1)))-B$4+C$5)","v":""},{"$f":"IF(B5960=\"\",\"\",IF(R5960<5,INT((A5960-1)/Einstellung!$B$4)+1,\"\"))","v":""},{"$f":"IF(C$5<B$4,\"\",IF(R5960>4,\"\",OFFSET(T$2,R5960-1,0)))","v":""}]
["",null,null,null,null,null,null,null,null,null,null,null,null,null,null,null,null,"",{"$f":"IF(B5961=\"\",\"\",IF(R5961<5,INT((A5961-1)/Einstellung!$B$4)+1,\"\"))","v":""},""]
["",null,null,null,null,null,null,null,null,null,null,null,null,null,null,null,null,"",{"$f":"IF(B5962=\"\",\"\",IF(R5962<5,INT((A5962-1)/Einstellung!$B$4)+1,\"\"))","v":""},""]
["",null,null,null,null,null,null,null,null,null,null,null,null,null,null,null,null,"",{"$f":"IF(B5963=\"\",\"\",IF(R5963<5,INT((A5963-1)/Einstellung!$B$4)+1,\"\"))","v":""},""]
["",null,null,null,null,null,null,null,null,null,null,null,null,null,null,null,null,"",{"$f":"IF(B5964=\"\",\"\",IF(R5964<5,INT((A5964-1)/Einstellung!$B$4)+1,\"\"))","v":""},""]
["",null,null,null,null,null,null,null,null,null,null,null,null,null,null,null,null,"",{"$f":"IF(B5965=\"\",\"\",IF(R5965<5,INT((A5965-1)/Einstellung!$B$4)+1,\"\"))","v":""},""]
["",null,null,null,null,null,null,null,null,null,null,null,null,null,null,null,null,"",{"$f":"IF(B5966=\"\",\"\",IF(R5966<5,INT((A5966-1)/Einstellung!$B$4)+1,\"\"))","v":""},""]
["",null,null,null,null,null,null,null,null,null,null,null,null,null,null,null,null,"",{"$f":"IF(B5967=\"\",\"\",IF(R5967<5,INT((A5967-1)/Einstellung!$B$4)+1,\"\"))","v":""},""]
["",null,null,null,null,null,null,null,null,null,null,null,null,null,null,null,null,"",{"$f":"IF(B5968=\"\",\"\",IF(R5968<5,INT((A5968-1)/Einstellung!$B$4)+1,\"\"))","v":""},""]
["",null,null,null,null,null,null,null,null,null,null,null,null,null,null,null,null,"",{"$f":"IF(B5969=\"\",\"\",IF(R5969<5,INT((A5969-1)/Einstellung!$B$4)+1,\"\"))","v":""},""]
["",null,null,null,null,null,null,null,null,null,null,null,null,null,null,null,null,"",{"$f":"IF(B5970=\"\",\"\",IF(R5970<5,INT((A5970-1)/Einstellung!$B$4)+1,\"\"))","v":""},""]
["",null,null,null,null,null,null,null,null,null,null,null,null,null,null,null,null,"",{"$f":"IF(B5971=\"\",\"\",IF(R5971<5,INT((A5971-1)/Einstellung!$B$4)+1,\"\"))","v":""},""]
["",null,null,null,null,null,null,null,null,null,null,null,null,null,null,null,null,"",{"$f":"IF(B5972=\"\",\"\",IF(R5972<5,INT((A5972-1)/Einstellung!$B$4)+1,\"\"))","v":""},""]
["",null,null,null,null,null,null,null,null,null,null,null,null,null,null,null,null,"",{"$f":"IF(B5973=\"\",\"\",IF(R5973<5,INT((A5973-1)/Einstellung!$B$4)+1,\"\"))","v":""},""]
["",null,null,null,null,null,null,null,null,null,null,null,null,null,null,null,null,"",{"$f":"IF(B5974=\"\",\"\",IF(R5974<5,INT((A5974-1)/Einstellung!$B$4)+1,\"\"))","v":""},""]
["",null,null,null,null,null,null,null,null,null,null,null,null,null,null,null,null,"",{"$f":"IF(B5975=\"\",\"\",IF(R5975<5,INT((A5975-1)/Einstellung!$B$4)+1,\"\"))","v":""},""]
["",null,null,null,null,null,null,null,null,null,null,null,null,null,null,null,null,"",{"$f":"IF(B5976=\"\",\"\",IF(R5976<5,INT((A5976-1)/Einstellung!$B$4)+1,\"\"))","v":""},""]
["",null,null,null,null,null,null,null,null,null,null,null,null,null,null,null,null,"",{"$f":"IF(B5977=\"\",\"\",IF(R5977<5,INT((A5977-1)/Einstellung!$B$4)+1,\"\"))","v":""},""]
["",null,null,null,null,null,null,null,null,null,null,null,null,null,null,null,null,"",{"$f":"IF(B5978=\"\",\"\",IF(R5978<5,INT((A5978-1)/Einstellung!$B$4)+1,\"\"))","v":""},""]
["",null,null,null,null,null,null,null,null,null,null,null,null,null,null,null,null,"",{"$f":"IF(B5979=\"\",\"\",IF(R5979<5,INT((A5979-1)/Einstellung!$B$4)+1,\"\"))","v":""},""]
["",null,null,null,null,null,null,null,null,null,null,null,null,null,null,null,null,"",{"$f":"IF(B5980=\"\",\"\",IF(R5980<5,INT((A5980-1)/Einstellung!$B$4)+1,\"\"))","v":""},""]
["",null,null,null,null,null,null,null,null,null,null,null,null,null,null,null,null,"",{"$f":"IF(B5981=\"\",\"\",IF(R5981<5,INT((A5981-1)/Einstellung!$B$4)+1,\"\"))","v":""},""]
["",null,null,null,null,null,null,null,null,null,null,null,null,null,null,null,null,"",{"$f":"IF(B5982=\"\",\"\",IF(R5982<5,INT((A5982-1)/Einstellung!$B$4)+1,\"\"))","v":""},""]
["",null,null,null,null,null,null,null,null,null,null,null,null,null,null,null,null,"",{"$f":"IF(B5983=\"\",\"\",IF(R5983<5,INT((A5983-1)/Einstellung!$B$4)+1,\"\"))","v":""},""]
["",null,null,null,null,null,null,null,null,null,null,null,null,null,null,null,null,"",{"$f":"IF(B5984=\"\",\"\",IF(R5984<5,INT((A5984-1)/Einstellung!$B$4)+1,\"\"))","v":""},""]
["",null,null,null,null,null,null,null,null,null,null,null,null,null,null,null,null,"",{"$f":"IF(B5985=\"\",\"\",IF(R5985<5,INT((A5985-1)/Einstellung!$B$4)+1,\"\"))","v":""},""]
["",null,null,null,null,null,null,null,null,null,null,null,null,null,null,null,null,"",{"$f":"IF(B5986=\"\",\"\",IF(R5986<5,INT((A5986-1)/Einstellung!$B$4)+1,\"\"))","v":""},""]
["",null,null,null,null,null,null,null,null,null,null,null,null,null,null,null,null,"",{"$f":"IF(B5987=\"\",\"\",IF(R5987<5,INT((A5987-1)/Einstellung!$B$4)+1,\"\"))","v":""},""]
["",null,null,null,null,null,null,null,null,null,null,null,null,null,null,null,null,"",{"$f":"IF(B5988=\"\",\"\",IF(R5988<5,INT((A5988-1)/Einstellung!$B$4)+1,\"\"))","v":""},""]
["",null,null,null,null,null,null,null,null,null,null,null,null,null,null,null,null,"",{"$f":"IF(B5989=\"\",\"\",IF(R5989<5,INT((A5989-1)/Einstellung!$B$4)+1,\"\"))","v":""},""]
["",null,null,null,null,null,null,null,null,null,null,null,null,null,null,null,null,"",{"$f":"IF(B5990=\"\",\"\",IF(R5990<5,INT((A5990-1)/Einstellung!$B$4)+1,\"\"))","v":""},""]
["",null,null,null,null,null,null,null,null,null,null,null,null,null,null,null,null,"",{"$f":"IF(B5991=\"\",\"\",IF(R5991<5,INT((A5991-1)/Einstellung!$B$4)+1,\"\"))","v":""},""]
["",null,null,null,null,null,null,null,null,null,null,null,null,null,null,null,null,"",{"$f":"IF(B5992=\"\",\"\",IF(R5992<5,INT((A5992-1)/Einstellung!$B$4)+1,\"\"))","v":""},""]
["",null,null,null,null,null,null,null,null,null,null,null,null,null,null,null,null,"",{"$f":"IF(B5993=\"\",\"\",IF(R5993<5,INT((A5993-1)/Einstellung!$B$4)+1,\"\"))","v":""},""]
[{"$f":"IF(B5994=\"\",\"\",ROW()-7)","v":""},null,null,null,null,null,null,null,null,null,null,null,null,null,null,null,null,"",{"$f":"IF(B5994=\"\",\"\",IF(R5994<5,INT((A5994-1)/Einstellung!$B$4)+1,\"\"))","v":""},""]
["",null,null,null,null,null,null,null,null,null,null,null,null,null,null,null,null,"",{"$f":"IF(B5995=\"\",\"\",IF(R5995<5,INT((A5995-1)/Einstellung!$B$4)+1,\"\"))","v":""},""]
["",null,null,null,null,null,null,null,null,null,null,null,null,null,null,null,null,"",{"$f":"IF(B5996=\"\",\"\",IF(R5996<5,INT((A5996-1)/Einstellung!$B$4)+1,\"\"))","v":""},""]
["",null,null,null,null,null,null,null,null,null,null,null,null,null,null,null,null,"",{"$f":"IF(B5997=\"\",\"\",IF(R5997<5,INT((A5997-1)/Einstellung!$B$4)+1,\"\"))","v":""},""]
["",null,null,null,null,null,null,null,null,null,null,null,null,null,null,null,null,"",{"$f":"IF(B5998=\"\",\"\",IF(R5998<5,INT((A5998-1)/Einstellung!$B$4)+1,\"\"))","v":""},""]
["",null,null,null,null,null,null,null,null,null,null,null,null,null,null,null,null,"",{"$f":"IF(B5999=\"\",\"\",IF(R5999<5,INT((A5999-1)/Einstellung!$B$4)+1,\"\"))","v":""},""]
["",null,null,null,null,null,null,null,null,null,null,null,null,null,null,null,null,"",{"$f":"IF(B6000=\"\",\"\",IF(R6000<5,INT((A6000-1)/Einstellung!$B$4)+1,\"\"))","v":""},""]
["",null,null,null,null,null,null,null,null,null,null,null,null,null,null,null,null,"",{"$f":"IF(B6001=\"\",\"\",IF(R6001<5,INT((A6001-1)/Einstellung!$B$4)+1,\"\"))","v":""},""]
["",null,null,null,null,null,null,null,null,null,null,null,null,null,null,null,null,"",{"$f":"IF(B6002=\"\",\"\",IF(R6002<5,INT((A6002-1)/Einstellung!$B$4)+1,\"\"))","v":""},""]
["",null,null,null,null,null,null,null,null,null,null,null,null,null,null,null,null,"",{"$f":"IF(B6003=\"\",\"\",IF(R6003<5,INT((A6003-1)/Einstellung!$B$4)+1,\"\"))","v":""},""]
["",null,null,null,null,null,null,null,null,null,null,null,null,null,null,null,null,"",{"$f":"IF(B6004=\"\",\"\",IF(R6004<5,INT((A6004-1)/Einstellung!$B$4)+1,\"\"))","v":""},""]
["",null,null,null,null,null,null,null,null,null,null,null,null,null,null,null,null,"",{"$f":"IF(B6005=\"\",\"\",IF(R6005<5,INT((A6005-1)/Einstellung!$B$4)+1,\"\"))","v":""},""]
["",null,null,null,null,null,null,null,null,null,null,null,null,null,null,null,null,"",{"$f":"IF(B6006=\"\",\"\",IF(R6006<5,INT((A6006-1)/Einstellung!$B$4)+1,\"\"))","v":""},""]
["",null,null,null,null,null,null,null,null,null,null,null,null,null,null,null,null,"",{"$f":"IF(B6007=\"\",\"\",IF(R6007<5,INT((A6007-1)/Einstellung!$B$4)+1,\"\"))","v":""},""]

{"sheet":"oben","index":3,"n_rows":28,"n_cols":68,"rows_kept":28,"cut":false,"hidden":false,"merged":[]}
["drucke Einzelschein",2,null,null,null,null,null,null,null,null,null,null,null,null,null,null,null,null,null,null,null,null,null,"Druck mit oberem Rand zuerst"]
["Anzahl Reihen",{"$f":"Reihen!B3","v":79},null,null,{"$f":"INDEX(Druckmaske,1,E28)","v":""},1,1,1,2,2,2,"",3,3,3,4,4,4,"",5,5,5,6,6,6,"",7,7,7,8,8,8,"",9,9,9,10,10,10,"",11,11,11,12,12,12,""]
["erste Reihe",{"$f":"(B1-1)*Einstellung!B4+1","v":13},null,null,{"$f":"INDEX(Druckmaske,2,E28)","v":""},1,0,2,1,0,2,"",1,0,2,1,0,2,"",1,0,2,1,0,2,"",1,0,2,1,0,2,"",1,0,2,1,0,2,"",1,0,2,1,0,2,""]
["Zeichen","x",null,null,null,null,null,null,null,null,null,null,null,null,null,null,null,null,null,null,null,null,null,null,null,null,null,null,null,null,null,null,null,null,null,null,null,null,null,null,null,null,null,null,null,null,null,null,null,null,null,null,1,2,3,4,5,6,7,8,9,10,11,12,13,14,15]
[null,null,null,null,{"$f":"IF(E$2=\"\",\"\",IF($D5=\"\",\"\",IF(INDEX(Scheintipps,E$2,$D5)=E$3,$B$4,\"\")))","v":""},"","","","","","","",{"$f":"IF(M$2=\"\",\"\",IF($D5=\"\",\"\",IF(INDEX($BA$5:$BO$16,M$2,$D5)=M$3,$B$4,\"\")))","v":""},"","","","","","","","","",{"$f":"IF(W$2=\"\",\"\",IF($D5=\"\",\"\",IF(INDEX($BA$5:$BO$16,W$2,$D5)=W$3,$B$4,\"\")))","v":""},"","","","","","","","","",{"$f":"IF(AG$2=\"\",\"\",IF($D5=\"\",\"\",IF(INDEX($BA$5:$BO$16,AG$2,$D5)=AG$3,$B$4,\"\")))","v":""},"","","","","","","","","","","","","","",null,null,null,null,{"$f":"IF(BP5>B$8,\"\",IF(B$3+BP5>B$2+1,\"\",B$3+BP5-1))","v":13},{"$f":"IF($AZ5=\"\",\"\",IF(BA$4>$B$6,\"\",INDEX(alle_Tipps,$AZ5,BA$4)))","v":1},1,1,1,2,2,1,0,0,2,1,2,0,"","",1]
["Anzahl Spiele",{"$f":"Reihen!B4","v":13},null,1,"","x","","","","","x","","x","","","","x","","","","","x","","","x","","","x","","x","","","","","","x","","","x","","","","x","","","x","",1,null,null,null,{"$f":"IF(BP6>B$8,\"\",IF(B$3+BP6>B$2+1,\"\",B$3+BP6-1))","v":14},2,2,1,1,1,2,0,1,0,2,1,0,0,"","",2]
[null,null,null,2,"","x","","","","","x","","","","x","","x","","","","","x","","x","","","","","x","","","x","","","","x","","","x","","","x","","","","x","",2,null,null,null,15,1,2,1,1,2,1,1,1,1,2,1,0,0,"","",3]
["Tipps je Schein",{"$f":"Einstellung!B4","v":12},null,3,"","x","","","x","","","","x","","","x","","","","x","","","x","","","","x","","","x","","","","x","","","x","","","","x","","","x","","","",3,null,null,null,16,0,0,1,2,2,1,1,2,1,2,1,0,0,"","",4]
[null,null,null,4,"","x","","","x","","","","x","","","","","x","","x","","","x","","","","x","","","","x","","","x","","","","","x","","","","x","","x","","",4,null,null,null,17,2,2,1,1,0,2,1,1,1,2,1,0,0,"","",5]
[null,null,null,5,"","","","x","x","","","","","","x","","","x","","","x","","","","x","","","","x","","x","","","x","","","","x","","","","","x","x","","","",5,null,null,null,18,2,0,1,1,2,2,1,1,1,2,1,0,0,"","",6]
[" Makro drucke  Scheine",{"$f":"Reihen!W2","v":7},null,6,{"$f":"IF(E$2=\"\",\"\",IF($D11=\"\",\"\",IF(INDEX($BA$5:$BO$16,E$2,$D11)=E$3,$B$4,\"\")))","v":""},"","","x","","","x","","x","","","x","","","","","","x","","","x","","","x","","x","","","","","x","","x","","","","x","","","x","","","",6,null,null,null,19,0,2,1,1,2,0,1,0,2,2,1,0,0,"","",7]
["von",2,null,7,"","x","","","","x","","","x","","","x","","","","x","","","x","","","","x","","","x","","","","x","","","x","","","","x","","","x","","","",7,null,null,null,20,1,2,1,0,0,1,1,0,2,2,1,0,0,"","",8]
["bis",2,null,8,"","","x","","x","","","","x","","","","","x","","x","","","x","","","","","x","","","x","","","x","","","x","","","","x","","","","x","","",8,null,null,null,21,2,2,1,1,1,0,1,1,0,0,2,0,0,"","",9]
[null,null,null,9,"","","x","","","x","","","x","","","x","","","","x","","","x","","","","","","x","","","x","","","x","","","x","","","","x","","","","x","",9,null,null,null,22,2,2,1,2,0,1,1,1,0,1,2,0,0,"","",10]
[null,null,null,10,"","","","x","","","x","",{"$f":"IF(M$2=\"\",\"\",IF($D15=\"\",\"\",IF(INDEX($BA$5:$BO$16,M$2,$D15)=M$3,$B$4,\"\")))","v":""},"","x","","","x","","","","x",{"$f":"IF(W$2=\"\",\"\",IF($D15=\"\",\"\",IF(INDEX($BA$5:$BO$16,W$2,$D15)=W$3,$B$4,\"\")))","v":""},"","x","","","","x","","","x",{"$f":"IF(AG$2=\"\",\"\",IF($D15=\"\",\"\",IF(INDEX($BA$5:$BO$16,AG$2,$D15)=AG$3,$B$4,\"\")))","v":""},"","x","","x","","","","x","","","x","","","",10,null,null,null,23,2,0,1,2,2,1,1,1,0,1,2,0,0,"","",11]
[null,null,null,11,"","x","","","x","","","","x","","","x","","","","x","","","x","","","","x","","","x","","","","","","x","","","x","","","","x","","","x","",11,null,null,null,24,2,2,1,0,1,1,1,0,2,1,2,0,0,"","",12]
[null,null,null,12,"","","","x","","x","","","","x","","","x","","","","x","","","x","","","","x","","","x","","","","x","","","x","","","","x","","","x","","",12]
[null,null,null,13,"","","x","","","x","","","","x","","","x","","","","x","","","x","","","","x","","","x","","","","x","","","x","","","","x","","","x","","",13]
[null,null,null,14,"","","","","","","","","","","","","","","","","","","","","","","","","","","","","","","","","","","","","","","","","","","",14]
[null,null,null,15,"","","","","","","","","","","","","","","","","","","","","","","","","","","","","","","","","","","","","","","","","","","",15]
[null,null,null,1,{"$f":"IF(INDEX(Fusszeilen,$D21,E$28)=\"\",\"\",IF(INDEX(Fusszeilen,$D21,E$28)=\"h\",INT($B$1/100),IF(INDEX(Fusszeilen,$D21,E$28)=\"z\",MOD(INT($B$1/10),10),IF(INDEX(Fusszeilen,$D21,E$28)=\"e\",MOD($B$1,10),INDEX(Fusszeilen,$D21,E$28)))))","v":""},"","","","","","","","","",{"$f":"IF(INDEX(Fusszeilen,$D21,O$28)=\"\",\"\",IF(INDEX(Fusszeilen,$D21,O$28)=\"h\",INT($B$1/100),IF(INDEX(Fusszeilen,$D21,O$28)=\"z\",MOD(INT($B$1/10),10),IF(INDEX(Fusszeilen,$D21,O$28)=\"e\",MOD($B$1,10),INDEX(Fusszeilen,$D21,O$28)))))","v":""},"","","","","","","","","",{"$f":"IF(INDEX(Fusszeilen,$D21,Y$28)=\"\",\"\",IF(INDEX(Fusszeilen,$D21,Y$28)=\"h\",INT($B$1/100),IF(INDEX(Fusszeilen,$D21,Y$28)=\"z\",MOD(INT($B$1/10),10),IF(INDEX(Fusszeilen,$D21,Y$28)=\"e\",MOD($B$1,10),INDEX(Fusszeilen,$D21,Y$28)))))","v":""},"","","","","","","","","",{"$f":"IF(INDEX(Fusszeilen,$D21,AI$28)=\"\",\"\",IF(INDEX(Fusszeilen,$D21,AI$28)=\"h\",INT($B$1/100),IF(INDEX(Fusszeilen,$D21,AI$28)=\"z\",MOD(INT($B$1/10),10),IF(INDEX(Fusszeilen,$D21,AI$28)=\"e\",MOD($B$1,10),INDEX(Fusszeilen,$D21,AI$28)))))","v":""},"","","","","","","","","","","","",1]
[null,null,null,2,"","","","","","","","","","","","","","","","","","","","","","","","","","","","","","","","","","","","","","","","","","","",2]
[null,null,null,3,"","","","","","","","","","","","","","","","","","","","","","","","","","","","","","","","","","","","","","",0,0,2,"","",3]
[null,null,null,4,"","","","","","","","","","","","","","","","","","","","","","","","","","","","","","","","","","","","","","","","","","","",4]
[null,null,null,5,"","","","","","","","","","","","","","","","x","","","","","x","","","","","","","","","","","","","","","","","","","","","","",5]
[null,null,null,6,"","","","","","","","","","","","","","","","","","","","","","","","","","","","","","","","","","","","","","","","","","","",6]
[null,null,null,7,"","","","","","","","","","","","","","","","","","","","","","","","","","","","","","","","","","","","","","","","","","","",7]
[null,null,null,null,1,2,3,4,5,6,7,8,9,10,11,12,13,14,15,16,17,18,19,20,21,22,23,24,25,26,27,28,29,30,31,32,33,34,35,36,37,38,39,40,41,42,43]

{"sheet":"links","index":4,"n_rows":48,"n_cols":68,"rows_kept":48,"cut":false,"hidden":false,"merged":[]}
["drucke Einzelschein",1,null,null,null,null,null,null,null,null,null,null,null,null,null,null,null,"Druck mit linkem Rand zuerst"]
["Anzahl Reihen",{"$f":"Reihen!B3","v":79}]
["erste Reihe",{"$f":"(B1-1)*Einstellung!B4+1","v":1}]
["Zeichen","x",null,null,7,6,5,4,3,2,1,15,14,13,12,11,10,9,8,7,6,5,4,3,2,1,null,null,null,null,null,null,null,null,null,null,null,null,null,null,null,null,null,null,null,null,null,null,null,null,null,null,1,2,3,4,5,6,7,8,9,10,11,12,13,14,15]
[null,null,null,1,{"$f":"IF(INDEX(Fusszeilen,E$4,$D5)=\"\",\"\",IF(INDEX(Fusszeilen,E$4,$D5)=\"h\",INT($B$1/100),IF(INDEX(Fusszeilen,E$4,$D5)=\"z\",MOD(INT($B$1/10),10),IF(INDEX(Fusszeilen,E$4,$D5)=\"e\",MOD($B$1,10),INDEX(Fusszeilen,E$4,$D5)))))","v":""},"","","","","","",{"$f":"IF($AD5=\"\",\"\",IF(L$4=\"\",\"\",IF(INDEX(Scheintipps,$AD5,L$4)=$AC5,$B$4,\"\")))","v":""},"","","","","","","","","","","","","","","",1,{"$f":"INDEX(Druckmaske,2,$AB5)","v":""},{"$f":"INDEX(Druckmaske,1,$AB5)","v":""},null,null,null,null,null,null,null,null,null,null,null,null,null,null,null,null,null,null,null,null,null,{"$f":"IF(BP5>B$8,\"\",IF(B$3+BP5>B$2+1,\"\",B$3+BP5-1))","v":1},{"$f":"IF($AZ5=\"\",\"\",IF(BA$4>$B$6,\"\",INDEX(alle_Tipps,$AZ5,BA$4)))","v":2},2,1,2,2,0,1,1,0,1,0,0,0,"","",1]
["Anzahl Spiele",{"$f":"Reihen!B4","v":13},null,2,"","","","","","","","","","","","","x","","x","x","","","","x","","","",2,1,1,null,null,null,null,null,null,null,null,null,null,null,null,null,null,null,null,null,null,null,null,null,{"$f":"IF(BP6>B$8,\"\",IF(B$3+BP6>B$2+1,\"\",B$3+BP6-1))","v":2},2,2,1,2,1,1,1,1,0,1,0,0,0,"","",2]
[null,null,null,3,"","","","","","","","","","x","x","x","","x","","","x","","","","","","",3,0,1,null,null,null,null,null,null,null,null,null,null,null,null,null,null,null,null,null,null,null,null,null,3,2,1,1,2,2,2,1,1,0,1,0,0,0,"","",3]
["Tipps je Schein",{"$f":"Einstellung!B4","v":12},null,4,"","","","","","","","","","","","","","","","","","x","x","","x","x","",4,2,1,null,null,null,null,null,null,null,null,null,null,null,null,null,null,null,null,null,null,null,null,null,4,1,2,1,2,2,1,1,0,0,0,1,0,0,"","",4]
[null,null,null,5,"","","","","","","","","","","","","x","","x","x","x","x","","x","","","",5,1,2,null,null,null,null,null,null,null,null,null,null,null,null,null,null,null,null,null,null,null,null,null,5,2,1,1,1,2,0,1,0,2,0,1,0,0,"","",5]
[null,null,null,6,"","","","","","","","","","x","x","x","","x","","","","","","","","","",6,0,2,null,null,null,null,null,null,null,null,null,null,null,null,null,null,null,null,null,null,null,null,null,6,0,2,1,1,1,2,1,1,0,1,1,0,1,"","",6]
[" Makro drucke  Scheine",{"$f":"Reihen!W2","v":7},null,7,"","","","","","","","","","","","","","","","","","","x","","x","x","",7,2,2,null,null,null,null,null,null,null,null,null,null,null,null,null,null,null,null,null,null,null,null,null,7,1,2,1,2,1,1,1,0,1,1,1,0,0,"","",7]
["von",2,null,8,"","","","","","","","","","","","","","","","","","","","","","","",8,"","",null,null,null,null,null,null,null,null,null,null,null,null,null,null,null,null,null,null,null,null,null,8,1,2,1,2,1,2,0,1,1,1,1,0,0,"","",8]
["bis",1,null,9,"","","","","","","","","","","","","x","","x","x","","","","x","x","","",9,1,3,null,null,null,null,null,null,null,null,null,null,null,null,null,null,null,null,null,null,null,null,null,9,0,1,1,2,2,0,1,0,2,1,1,0,0,"","",9]
[null,null,null,10,"","","","","","","","","","x","x","x","","x","","","","","","","","","",10,0,3,null,null,null,null,null,null,null,null,null,null,null,null,null,null,null,null,null,null,null,null,null,10,2,2,1,2,0,1,1,1,2,1,1,0,0,"","",10]
[null,null,null,11,{"$f":"IF(INDEX(Fusszeilen,E$4,$D15)=\"\",\"\",IF(INDEX(Fusszeilen,E$4,$D15)=\"h\",INT($B$1/100),IF(INDEX(Fusszeilen,E$4,$D15)=\"z\",MOD(INT($B$1/10),10),IF(INDEX(Fusszeilen,E$4,$D15)=\"e\",MOD($B$1,10),INDEX(Fusszeilen,E$4,$D15)))))","v":""},"","","","","","",{"$f":"IF($AD15=\"\",\"\",IF(L$4=\"\",\"\",IF(INDEX(Scheintipps,$AD15,L$4)=$AC15,$B$4,\"\")))","v":""},"","","","","","","","","x","x","x","","","x","",11,2,3,null,null,null,null,null,null,null,null,null,null,null,null,null,null,null,null,null,null,null,null,null,11,2,0,1,2,2,1,1,1,2,1,1,0,0,"","",11]
[null,null,null,12,"","","","","","","","","","","","x","","","","x","x","","","x","","x","",12,1,4,null,null,null,null,null,null,null,null,null,null,null,null,null,null,null,null,null,null,null,null,null,12,2,2,1,0,1,2,1,1,2,1,1,0,0,"","",12]
[null,null,null,13,"","","","","","","","","","x","x","","x","x","x","","","","","","","","",13,0,4]
[null,null,null,14,"","","","","","","","","","","","","","","","","","x","x","","x","","",14,2,4]
[null,null,null,15,"","","","","","","","","","","","","","","","","","","","","","","",15,"",""]
[null,null,null,16,"","","x","","","","","","","","","x","","","","x","","","x","x","x","","",16,1,5]
[null,null,null,17,"","","","","","","","","","x","x","","x","","x","","x","","","","","","",17,0,5]
[null,null,null,18,"","","","","","","","","","","","","","x","","","","x","","","","x","",18,2,5]
[null,null,null,19,"","","","","","","","","","x","","x","x","","x","x","","x","x","x","","","",19,1,6]
[null,null,null,20,"","","","","","","","","","","x","","","x","","","","","","","","x","",20,0,6]
[null,null,null,21,{"$f":"IF(INDEX(Fusszeilen,E$4,$D25)=\"\",\"\",IF(INDEX(Fusszeilen,E$4,$D25)=\"h\",INT($B$1/100),IF(INDEX(Fusszeilen,E$4,$D25)=\"z\",MOD(INT($B$1/10),10),IF(INDEX(Fusszeilen,E$4,$D25)=\"e\",MOD($B$1,10),INDEX(Fusszeilen,E$4,$D25)))))","v":""},"","x","","","","",{"$f":"IF($AD25=\"\",\"\",IF(L$4=\"\",\"\",IF(INDEX(Scheintipps,$AD25,L$4)=$AC25,$B$4,\"\")))","v":""},"","","","","","","","","x","","","","x","","",21,2,6]
[null,null,null,22,"","","","","","","","","","","","","","","","","","","","","","","",22,"",""]
[null,null,null,23,"","","","","","","","","","","","x","x","x","","x","x","x","","x","","x","",23,1,7]
[null,null,null,24,"","","","","","","","","","x","x","","","","x","","","","","","","","",24,0,7]
[null,null,null,25,"","","","","","","","","","","","","","","","","","","x","","x","","",25,2,7]
[null,null,null,26,"","","","","","","","","","","","x","x","x","x","","","x","","x","","x","",26,1,8]
[null,null,null,27,"","","","","","","","","","x","x","","","","","x","","","","","","","",27,0,8]
[null,null,null,28,"","","","","","","","","","","","","","","","","x","","x","","x","","",28,2,8]
[null,null,null,29,"","","","","","","","","","","","","","","","","","","","","","","",29,"",""]
[null,null,null,30,"","","","","","","","","","","","x","x","","","x","","","","x","x","","",30,1,9]
[null,null,null,31,{"$f":"IF(INDEX(Fusszeilen,E$4,$D35)=\"\",\"\",IF(INDEX(Fusszeilen,E$4,$D35)=\"h\",INT($B$1/100),IF(INDEX(Fusszeilen,E$4,$D35)=\"z\",MOD(INT($B$1/10),10),IF(INDEX(Fusszeilen,E$4,$D35)=\"e\",MOD($B$1,10),INDEX(Fusszeilen,E$4,$D35)))))","v":""},"","","","","","",{"$f":"IF($AD35=\"\",\"\",IF(L$4=\"\",\"\",IF(INDEX(Scheintipps,$AD35,L$4)=$AC35,$B$4,\"\")))","v":""},"","x","x","","","","x","","x","","","","","x","",31,0,9]
[null,null,null,32,"","","","","","","","","","","","","","x","","","","x","x","","","","",32,2,9]
[null,null,null,33,"","","","","","","","","","","","x","x","","x","x","x","","","x","","","",33,1,10]
[null,null,null,34,"","","","","","","","","","x","x","","","","","","","x","","","","","",34,0,10]
[null,null,null,35,"","","","","","","","","","","","","","x","","","","","x","","x","x","",35,2,10]
[null,null,null,36,"","","","","","","","","","","","","","","","","","","","","","","",36,"",""]
[null,null,null,37,"","","","","","","","","","","","x","x","","x","x","x","","","x","","","",37,1,11]
[null,null,null,38,"","","","","","","","","","x","x","","","","","","","","","","x","","",38,0,11]
[null,null,null,39,"","","","",0,"","","","","","","","","x","","","","x","x","","","x","",39,2,11]
[null,null,null,40,"","","","",0,"","","","","","","x","x","","x","x","","x","","x","","","",40,1,12]
[null,null,null,41,"","","","",1,"","","","","x","x","","","","","","","","x","","","","",41,0,12]
[null,null,null,42,"","","","","","","","","","","","","","x","","","x","","","","x","x","",42,2,12]
[null,null,null,43,"","","","","","","","","","","","","","","","","","","","","","","",43,"",""]
[null,null,null,null,7,6,5,4,3,2,1,15,14,13,12,11,10,9,8,7,6,5,4,3,2,1]

{"sheet":"rechts","index":5,"n_rows":48,"n_cols":68,"rows_kept":48,"cut":false,"hidden":false,"merged":[]}
["drucke Einzelschein",1,null,null,null,null,null,null,null,null,null,null,null,null,null,null,null,null,null,null,null,null,null,null,null,null,null,null,null,null,null,null,null,null,"Druck mit rechtem Rand zuerst"]
["Anzahl Reihen",{"$f":"Reihen!B3","v":79}]
["erste Reihe",{"$f":"(B1-1)*Einstellung!B4+1","v":1}]
["Zeichen","x",null,null,null,null,null,null,null,null,null,null,null,null,null,null,null,null,null,null,null,null,1,2,3,4,5,6,7,8,9,10,11,12,13,14,15,1,2,3,4,5,6,7,null,null,null,null,null,null,null,null,1,2,3,4,5,6,7,8,9,10,11,12,13,14,15]
[null,null,null,null,null,null,null,null,null,null,null,null,null,null,null,null,null,null,null,null,43,{"$f":"IF($AU5=\"\",\"\",IF(V$4=\"\",\"\",IF(INDEX(Scheintipps,$AU5,V$4)=$AT5,$B$4,\"\")))","v":""},"","","","","","","","","","","","","","","",{"$f":"IF(INDEX(Fusszeilen,AL$4,$U5)=\"\",\"\",IF(INDEX(Fusszeilen,AL$4,$U5)=\"h\",INT($B$1/100),IF(INDEX(Fusszeilen,AL$4,$U5)=\"z\",MOD(INT($B$1/10),10),IF(INDEX(Fusszeilen,AL$4,$U5)=\"e\",MOD($B$1,10),INDEX(Fusszeilen,AL$4,$U5)))))","v":""},"","","","","","",43,{"$f":"INDEX(Druckmaske,2,$AS5)","v":""},{"$f":"INDEX(Druckmaske,1,$AS5)","v":""},null,null,null,null,{"$f":"IF(BP5>B$8,\"\",IF(B$3+BP5>B$2+1,\"\",B$3+BP5-1))","v":1},{"$f":"IF($AZ5=\"\",\"\",IF(BA$4>$B$6,\"\",INDEX(alle_Tipps,$AZ5,BA$4)))","v":2},2,1,2,2,0,1,1,0,1,0,0,0,"","",1]
["Anzahl Spiele",{"$f":"Reihen!B4","v":13},null,null,null,null,null,null,null,null,null,null,null,null,null,null,null,null,null,null,42,"","x","x","","","","x","","","x","","","","","","","","","","","","","",42,2,12,null,null,null,null,{"$f":"IF(BP6>B$8,\"\",IF(B$3+BP6>B$2+1,\"\",B$3+BP6-1))","v":2},2,2,1,2,1,1,1,1,0,1,0,0,0,"","",2]
[null,null,null,null,null,null,null,null,null,null,null,null,null,null,null,null,null,null,null,null,41,"","","","","x","","","","","","","","x","x","","","","",1,"","","","",41,0,12,null,null,null,null,3,2,1,1,2,2,2,1,1,0,1,0,0,0,"","",3]
["Tipps je Schein",{"$f":"Einstellung!B4","v":12},null,null,null,null,null,null,null,null,null,null,null,null,null,null,null,null,null,null,40,"","","","x","","x","","x","x","","x","x","","","","","","",0,"","","","",40,1,12,null,null,null,null,4,1,2,1,2,2,1,1,0,0,0,1,0,0,"","",4]
[null,null,null,null,null,null,null,null,null,null,null,null,null,null,null,null,null,null,null,null,39,"","x","","","x","x","","","","x","","","","","","","","",0,"","","","",39,2,11,null,null,null,null,5,2,1,1,1,2,0,1,0,2,0,1,0,0,"","",5]
[null,null,null,null,null,null,null,null,null,null,null,null,null,null,null,null,null,null,null,null,38,"","","x","","","","","","","","","","x","x","","","","","","","","","",38,0,11,null,null,null,null,6,0,2,1,1,1,2,1,1,0,1,1,0,1,"","",6]
[" Makro drucke  Scheine",{"$f":"Reihen!W2","v":7},null,null,null,null,null,null,null,null,null,null,null,null,null,null,null,null,null,null,37,"","","","x","","","x","x","x","","x","x","","","","","","","","","","","",37,1,11,null,null,null,null,7,1,2,1,2,1,1,1,0,1,1,1,0,0,"","",7]
["von",2,null,null,null,null,null,null,null,null,null,null,null,null,null,null,null,null,null,null,36,"","","","","","","","","","","","","","","","","","","","","","","",36,"","",null,null,null,null,8,1,2,1,2,1,2,0,1,1,1,1,0,0,"","",8]
["bis",1,null,null,null,null,null,null,null,null,null,null,null,null,null,null,null,null,null,null,35,"","x","x","","x","","","","","x","","","","","","","","","","","","","",35,2,10,null,null,null,null,9,0,1,1,2,2,0,1,0,2,1,1,0,0,"","",9]
[null,null,null,null,null,null,null,null,null,null,null,null,null,null,null,null,null,null,null,null,34,"","","","","","x","","","","","","","x","x","","","","","","","","","",34,0,10,null,null,null,null,10,2,2,1,2,0,1,1,1,2,1,1,0,0,"","",10]
[null,null,null,null,null,null,null,null,null,null,null,null,null,null,null,null,null,null,null,null,33,{"$f":"IF($AU15=\"\",\"\",IF(V$4=\"\",\"\",IF(INDEX(Scheintipps,$AU15,V$4)=$AT15,$B$4,\"\")))","v":""},"","","x","","","x","x","x","","x","x","","","","",{"$f":"IF(INDEX(Fusszeilen,AL$4,$U15)=\"\",\"\",IF(INDEX(Fusszeilen,AL$4,$U15)=\"h\",INT($B$1/100),IF(INDEX(Fusszeilen,AL$4,$U15)=\"z\",MOD(INT($B$1/10),10),IF(INDEX(Fusszeilen,AL$4,$U15)=\"e\",MOD($B$1,10),INDEX(Fusszeilen,AL$4,$U15)))))","v":""},"","","","","","",33,1,10,null,null,null,null,11,2,0,1,2,2,1,1,1,2,1,1,0,0,"","",11]
[null,null,null,null,null,null,null,null,null,null,null,null,null,null,null,null,null,null,null,null,32,"","","","","x","x","","","","x","","","","","","","","","","","","","",32,2,9,null,null,null,null,12,2,2,1,0,1,2,1,1,2,1,1,0,0,"","",12]
[null,null,null,null,null,null,null,null,null,null,null,null,null,null,null,null,null,null,null,null,31,"","x","","","","","x","","x","","","","x","x","","","","","","","","","",31,0,9]
[null,null,null,null,null,null,null,null,null,null,null,null,null,null,null,null,null,null,null,null,30,"","","x","x","","","","x","","","x","x","","","","","","","","","","","",30,1,9]
[null,null,null,null,null,null,null,null,null,null,null,null,null,null,null,null,null,null,null,null,29,"","","","","","","","","","","","","","","","","","","","","","","",29,"",""]
[null,null,null,null,null,null,null,null,null,null,null,null,null,null,null,null,null,null,null,null,28,"","","x","","x","","x","","","","","","","","","","","","","","","","",28,2,8]
[null,null,null,null,null,null,null,null,null,null,null,null,null,null,null,null,null,null,null,null,27,"","","","","","","","x","","","","","x","x","","","","","","","","","",27,0,8]
[null,null,null,null,null,null,null,null,null,null,null,null,null,null,null,null,null,null,null,null,26,"","x","","x","","x","","","x","x","x","x","","","","","","","","","","","",26,1,8]
[null,null,null,null,null,null,null,null,null,null,null,null,null,null,null,null,null,null,null,null,25,"","","x","","x","","","","","","","","","","","","","","","","","","",25,2,7]
[null,null,null,null,null,null,null,null,null,null,null,null,null,null,null,null,null,null,null,null,24,"","","","","","","","","x","","","","x","x","","","","","","","","","",24,0,7]
[null,null,null,null,null,null,null,null,null,null,null,null,null,null,null,null,null,null,null,null,23,{"$f":"IF($AU25=\"\",\"\",IF(V$4=\"\",\"\",IF(INDEX(Scheintipps,$AU25,V$4)=$AT25,$B$4,\"\")))","v":""},"x","","x","","x","x","x","","x","x","x","","","","",{"$f":"IF(INDEX(Fusszeilen,AL$4,$U25)=\"\",\"\",IF(INDEX(Fusszeilen,AL$4,$U25)=\"h\",INT($B$1/100),IF(INDEX(Fusszeilen,AL$4,$U25)=\"z\",MOD(INT($B$1/10),10),IF(INDEX(Fusszeilen,AL$4,$U25)=\"e\",MOD($B$1,10),INDEX(Fusszeilen,AL$4,$U25)))))","v":""},"","","","","","",23,1,7]
[null,null,null,null,null,null,null,null,null,null,null,null,null,null,null,null,null,null,null,null,22,"","","","","","","","","","","","","","","","","","","","","","","",22,"",""]
[null,null,null,null,null,null,null,null,null,null,null,null,null,null,null,null,null,null,null,null,21,"","","x","","","","x","","","","","","","","","","","","","","x","","",21,2,6]
[null,null,null,null,null,null,null,null,null,null,null,null,null,null,null,null,null,null,null,null,20,"","x","","","","","","","","x","","","x","","","","","","","","","","",20,0,6]
[null,null,null,null,null,null,null,null,null,null,null,null,null,null,null,null,null,null,null,null,19,"","","","x","x","x","","x","x","","x","x","","x","","","","","","","","","",19,1,6]
[null,null,null,null,null,null,null,null,null,null,null,null,null,null,null,null,null,null,null,null,18,"","x","","","","x","","","","x","","","","","","","","","","","","","",18,2,5]
[null,null,null,null,null,null,null,null,null,null,null,null,null,null,null,null,null,null,null,null,17,"","","","","","","x","","x","","x","","x","x","","","","","","","","","",17,0,5]
[null,null,null,null,null,null,null,null,null,null,null,null,null,null,null,null,null,null,null,null,16,"","","x","x","x","","","x","","","","x","","","","","","","","","x","","",16,1,5]
[null,null,null,null,null,null,null,null,null,null,null,null,null,null,null,null,null,null,null,null,15,"","","","","","","","","","","","","","","","","","","","","","","",15,"",""]
[null,null,null,null,null,null,null,null,null,null,null,null,null,null,null,null,null,null,null,null,14,"","","x","","x","x","","","","","","","","","","","","","","","","","",14,2,4]
[null,null,null,null,null,null,null,null,null,null,null,null,null,null,null,null,null,null,null,null,13,{"$f":"IF($AU35=\"\",\"\",IF(V$4=\"\",\"\",IF(INDEX(Scheintipps,$AU35,V$4)=$AT35,$B$4,\"\")))","v":""},"","","","","","","","x","x","x","","x","x","","",{"$f":"IF(INDEX(Fusszeilen,AL$4,$U35)=\"\",\"\",IF(INDEX(Fusszeilen,AL$4,$U35)=\"h\",INT($B$1/100),IF(INDEX(Fusszeilen,AL$4,$U35)=\"z\",MOD(INT($B$1/10),10),IF(INDEX(Fusszeilen,AL$4,$U35)=\"e\",MOD($B$1,10),INDEX(Fusszeilen,AL$4,$U35)))))","v":""},"","","","","","",13,0,4]
[null,null,null,null,null,null,null,null,null,null,null,null,null,null,null,null,null,null,null,null,12,"","x","","x","","","x","x","","","","x","","","","","","","","","","","",12,1,4]
[null,null,null,null,null,null,null,null,null,null,null,null,null,null,null,null,null,null,null,null,11,"","x","","","x","x","x","","","","","","","","","","","","","","","","",11,2,3]
[null,null,null,null,null,null,null,null,null,null,null,null,null,null,null,null,null,null,null,null,10,"","","","","","","","","","x","","x","x","x","","","","","","","","","",10,0,3]
[null,null,null,null,null,null,null,null,null,null,null,null,null,null,null,null,null,null,null,null,9,"","","x","x","","","","x","x","","x","","","","","","","","","","","","",9,1,3]
[null,null,null,null,null,null,null,null,null,null,null,null,null,null,null,null,null,null,null,null,8,"","","","","","","","","","","","","","","","","","","","","","","",8,"",""]
[null,null,null,null,null,null,null,null,null,null,null,null,null,null,null,null,null,null,null,null,7,"","x","x","","x","","","","","","","","","","","","","","","","","","",7,2,2]
[null,null,null,null,null,null,null,null,null,null,null,null,null,null,null,null,null,null,null,null,6,"","","","","","","","","","x","","x","x","x","","","","","","","","","",6,0,2]
[null,null,null,null,null,null,null,null,null,null,null,null,null,null,null,null,null,null,null,null,5,"","","","x","","x","x","x","x","","x","","","","","","","","","","","","",5,1,2]
[null,null,null,null,null,null,null,null,null,null,null,null,null,null,null,null,null,null,null,null,4,"","x","x","","x","x","","","","","","","","","","","","","","","","","",4,2,1]
[null,null,null,null,null,null,null,null,null,null,null,null,null,null,null,null,null,null,null,null,3,"","","","","","","x","","","x","","x","x","x","","","","","","","","","",3,0,1]
[null,null,null,null,null,null,null,null,null,null,null,null,null,null,null,null,null,null,null,null,2,"","","","x","","","","x","x","","x","","","","","","","","","","","","",2,1,1]
[null,null,null,null,null,null,null,null,null,null,null,null,null,null,null,null,null,null,null,null,1,"","","","","","","","","","","","","","","","","","","","","","","",1,"",""]
[null,null,null,null,null,null,null,null,null,null,null,null,null,null,null,null,null,null,null,null,null,null,1,2,3,4,5,6,7,8,9,10,11,12,13,14,15,1,2,3,4,5,6,7]