{"text_format":"1","workbook":"xlsx","n_sheets":6,"sheets":["So_gehts","Einstellung","Reihen","oben","links","rechts"],"not_rendered":{"charts":0,"images":0,"macros":1,"external_links":0,"defined_names":23,"comments":0,"pivot_tables":0},"unopened":[],"bounds":{"document_bytes":16777216,"sheet_cells":100000,"rows_first":2000,"rows_last":500,"rows_between":2000,"halvings":0,"cell_chars":16384,"cell_head_chars":4096},"cells_cut":0,"cells_raw":0,"read":"whole","date_system":"1900"}

{"sheet":"So_gehts","index":0,"n_rows":39,"n_cols":2,"rows_kept":39,"cut":false,"hidden":false,"merged":[[11,3,11,25],[12,3,12,25],[14,3,14,25],[3,3,3,25],[4,3,4,25],[6,3,6,25],[7,3,7,25],[8,3,8,25],[10,3,10,25]]}
[]
[null,"Ich stelle mich vor : Druck_6aus - Gewinnauswertung und Spielschein-Druck für Lotto und Auswahlwette"]
[]
[null,"Allgemeines "]
[null,"Ich wurde von Auriga hergestellt, um ihm und anderen Glücksrittern die Arbeit zu erleichtern. Ich beherrsche zwar keine Tipp-Erstellung aber dafür gibts mich ja auch für lau."]
[null,"Meine Aufgaben sind:"]
[null,"1. Der Ausdruck von Normalscheinen für Lotto und die Toto-Auswahlwette für alle Bundesländer\n2. Die Überwachung und Gewinnauswertung des laufenden Spieltages"]
[null,"Bei mir sind nur die  Zellen mit roter Schrift  für  Eingaben vorgesehen."]
[null,"Sollte man mich für LOTTO benutzen, so ist eine kleine Änderung nötig: \n\nIm Blatt Reihen ist der Wert in Zelle Q21  durch den Wert in Zelle Q24 zu ersetzen. Dadurch wird die Auswertung für die Ränge im Lotto aktiviert. Der 1. Rang kann hier natürlich nicht angezeigt werden, aber das ist dann wohl auch Wurscht. Dann ist sowieso die Ohnmacht nahe. :-))"]
[]
[null,"Das Blatt Einstellung"]
[null,"Die Einstellungen sind in der Regel nur einmal festzulegen. Hier gebt ihr mir in Zelle B2 das Kürzel eures Bundeslandes mit. Daraus ermittle ich mir den groben Druckaufbau des Spielscheins, die Anzahl Spiele je Schein und die Anzahl Scheine über Alles."]
[null,"Auch der untere Bereich des Scheins mit den Zusatzlotterien muss nur einmal festgelegt werden. Mit Hilfe der Druckmaske darüber tragt ihr hier die Kreuze ein, wo ihr sie braucht. Jeder Eintrag hier wird in die Fusszeilen jedes Scheins gedruckt."]
[null,"Die Kreuze hier drucke ich etwas kleiner, weil deren Kästchen nicht immer genau unter einer der oberen Spalten stehen. So könnt ihr später, aber nur  im gewählten Druckblatt das Kreuz über Zellenformatierung und Ausrichtung noch etwas in jede Richtung verschieben."]
[null,"Wollt ihr eine eigene Schein-Nummer ausdrucken, solltet ihr dafür eine \"ungefährliche\" Gegend im Fussbereich wählen. Da ich keine Zellen verbinden will, gebt ihr mir die einzelnen Stellen für die Schein-Nummer ein: h, z oder e für die Hunderter-, Zehner- und Einerstelle. Bei weniger als 100 Scheinen könnt ihr euch das \"h\" natürlich sparen."]
[null,"Noch ein Tipp zur Schein-Nr.: Ich habe auch die Farbe auf grau gesetzt. Diese Nummer sollte ja sowieso so wenig wie möglich auffallen um das Lesegerät nicht zu verwirren.  Sollte das Lesegerät trotzdem meckern, müsst ihr euch eine andere Stelle dafür aussuchen, vielleicht auch die Druckgröße für diese Zellen verkleinern.  Also zu Anfang nur ein oder zwei Scheine mit Nummer drucken bis alles durchgeht. Nehmt die letzten mit der größten Nummer."]
[]
[null,"Mein Blatt - Reihen"]
[null,"In meinen Spalten C bis H, ab Zeile 5 erwarte ich die Tippreihen. Aus diesen Reihen errechne ich die Anzahl der Spielscheine."]
[null,"Im Verlauf des Spieltages zeige ich die noch möglichen und  die bereits erreichten Treffer an.  Dazu brauche ich die Eingabe der Gewinnzahlen  in den Zellen C1 bis I1. Da die Gewinnzahlen in der AW ja bis zum Schluss noch wechseln können, sind die Trefferangaben natürlich nur eine Orientierungshilfe solange noch nicht alle Spiele durch sind. "]
[null,"In der Spalte P unter der Überschrift 'schon raus' kann man mir auch mitteilen, welche Zahlen bei der AW schon aus dem Rennen sind. Die werden dann bei der Trefferanzeige mit berücksichtigt."]
[null,"Den Teil ab Spalte Q nutze ich für Einsatz- und Gewinnberechnungen."]
[]
[null,"Meine Blätter für den Druck - Die Versionen  oben, links und rechts"]
[null,"Eins vorweg: Bei Excel sind Zeilenhöhen und Spaltenbreiten nicht gleitend auf jeden Wert einstellbar, sondern nur in kleinen Sprüngen. Außerdem, und das habe ich erst jetzt festgestellt, werden diese Werte auf jedem Rechner anders dargestellt. Ich kann also nur den richtigen Aufbau der Scheine liefern. \nSomit wird jeder  die Zeilenhöhen und Spaltenbreiten für sich selbst herausfinden müssen, und zwar durch Probedrucke. Und ist das passiert, bitte speichern und nur an diesem Rechner damit weiterarbeiten, also auch die Tipps nur dort einspielen."]
[null,"So, nun seid ihr dran. Das grobe Druckbild habe ich aus euren Einstellungen zusammengebastelt, das Papierformat auf A4 hochkant und alle Seitenränder auf 0 gesetzt.  Der Druckbereich ist alles innerhalb des gelben Rahmens. Die Felder, die direkt an den Rahmen grenzen, sollten nicht bedruckt werden. Die sind zur Justierung gedacht."]
[null,"Grundsätzlich solltet ihr erst zur letzten Feineinstellung (Punkt 3) Totoscheine verwenden. Vorher würde ich alte DIN A4 Blätter nehmen, weil die ersten Druckversuche sicher in der \"Wallachei\" und nicht auf dem Totoschein landen. Nicht jeder Drucker mag es, wenn zu oft gedruckt wird wo kein Papier ist.\nIch habe bei meinen Tests 2 Spielscheine jeweils einen quer und einen längs zerschnitten. Damit konnte ich auf dem A4-Blatt dann sehr gut die Abstände vermessen."]
[null,"Zum genauen Justieren  empfehle ich jetzt folgende Vorgehensweise:"]
[null,"1. Die Entscheidung für die Ausrichtung der Scheine im Drucker. Ich kann, zum Beispiel in Hamburg, die Version rechts nicht benutzen, weil mein Drucker oben nicht randlos drucken kann und die letzte Zahl fast direkt an den Rand muss. Da wird wohl jeder seine Besonderheiten haben.\nDie weiteren Justierungen müssen nur in der gewählten Version gemacht werden. Die anderen braucht ihr dann nicht mehr."]
[null,"2. Das Druckbild an den Spielschein anpassen. Die Fusszeilen dabei über Zeilenhöhe (Version oben) oder Spaltenbreite (Versionen links und rechts) soweit korrigieren dass die Kreuze für die Zusatzlotterien auf den richtigen Abstand zu den Tipps kommen."]
[null,"Ich empfehle  erstmal die Höhen oder Breiten aller Spiele oder aller Tippreihen gemeinsam zu verändern, bis es passt Sollte das nicht gelingen, müsst ihr  so dicht wie möglich rankommen und dann einzelne Zeilen oder Spalten mittendrin verändern."]
[null,"Die  Größe des Druckes im Ganzen könnt ihr auch noch  über die Skalierung im Menue Seitenlayout ändern. Also mit etwas Basteln sollte das hinzukriegen sein."]
[null,"3. Zuletzt das fertige Druckbild an die richtige Stelle schieben. Das geht nur mit echten Spielscheinen, weil es verschiedene Papiereinzüge bei den Druckern gibt. Normalerweise sollten dafür Korrekturen in der Zeilenhöhe von Zeile 5 und in der Spaltenbreite von Spalte E ausreichen. Die habe ich jeweils orange gekennzeichnet.\nMit Seitenrändern oben und links können die Korrekturen kleiner ausfallen."]
[null,"Und jetzt auf keinen Fall das Sichern vergessen. Nach erneutem Download  sind die Justierungen wohl leider zu wiederholen."]
[null,"Und nun zum Druck selbst:"]
[null,"Einzelscheine kann ich direkt drucken. Dazu brauche ich nur in Zelle B1 die Schein-Nr. Der Druck geht dann über den normalen Druckaufruf."]
[null,"Viel komfortabler geht es über den Makro \"Druck\"  (sollte auch mit Strg d möglich sein) Damit kann ich  alle oder eine Anzahl von Scheinen automatisch drucken. Dazu brauche ich in  \"von\"  und \"bis\" die Nummer des ersten und letzten zu druckenden Scheins. Ist der Wert \"bis\" kleiner als der Wert \"von\", wird nur der eine Schein aus \"von\" gedruckt, der Wert in \"von\" aber hochgezählt. So kann ich per Makro auch alle Scheine einzeln nacheinander drucken ohne irgendwas neu einzugeben."]
[null,"Nun wünsche ich euch nur noch einen Haufen Spielscheine und ein erfolgreiches Probieren. Viel Spaß"]
[null,"Ich bitte sehr um Rückmeldungen, besonders bei Fehlern. Die werde ich so schnell es geht bereinigen. Aber auch, wenn etwas in dieser Anleitung besser erklärt werden sollte, meldet euch."]

{"sheet":"Einstellung","index":1,"n_rows":35,"n_cols":52,"rows_kept":35,"cut":false,"hidden":false,"merged":[]}
["Auswahl",null,null,null,null,null,null,null,null,null,null,null,null,null,null,null,null,null,null,null,null,null,null,null,null,null,"einmalige Einstellungen und Druckmasken"]
["Bundesland","hh",{"$f":"MATCH(B2,B16:B36,0)","v":6},null,null,{"$f":"IF(INDEX(Masken,$B3*3-2,F12)=\"\",\"\",INDEX(Masken,$B3*3-2,F12))","v":""},"","",1,2,3,4,5,6,7,1,2,3,4,5,6,7,1,2,3,4,5,6,7,1,2,3,4,5,6,7,1,2,3,4,5,6,7,1,2,3,4,5,6,7,"",""]
["Maske",{"$f":"INDEX(C16:C31,C2)","v":1},null,null,null,{"$f":"IF(INDEX(Masken,$B3*3-1,F12)=\"\",\"\",INDEX(Masken,$B3*3-1,F12))","v":1},8,15,22,29,36,43,1,8,15,22,29,36,43,"","","","","","","","","","","","","","","","","","","","","","","","","","","","","","","","",""]
["Tipps je Schein",{"$f":"COUNTIF(E2:AZ2,1)*COUNTIF(E3:AZ3,1)","v":12}]
["Spalten je Feld",{"$f":"LARGE(F2:V2,1)","v":7},null,null,1,null,null,null,null,null,null,null,null,null,null,null,null,null,null,null,null,null,null,null,null,null,null,null,null,null,null,null,null,null,null,null,null,null,null,null,null,null,null,null,null,null,null,null,null,null,null,1]
["Versatz 2. Block",{"$f":"MATCH(1,G3:Q3,0)","v":7},null,null,2,null,null,null,null,null,null,null,null,null,null,null,null,null,null,null,null,null,null,null,null,null,null,null,null,null,null,null,null,null,null,null,null,null,null,null,null,null,null,null,null,null,null,null,null,null,null,2]
["erste 1 waagerecht",{"$f":"MATCH(1,F2:S2,0)","v":4},null,null,3,null,null,null,null,null,null,null,null,null,null,null,null,null,null,null,null,null,null,null,null,null,null,null,null,null,null,null,null,null,null,null,null,null,null,null,null,"h","z","e",null,null,null,null,null,null,null,3]
[null,null,null,null,4,null,null,null,null,null,null,null,null,null,null,null,null,null,null,null,null,null,null,null,null,null,null,null,null,null,null,null,null,null,null,null,null,null,null,null,null,null,null,null,null,null,null,null,null,null,null,4]
[null,null,null,null,5,null,null,null,null,null,null,null,null,null,null,null,null,null,null,null,null,null,null,"x",null,null,null,null,"x",null,null,null,null,null,null,null,null,null,null,null,null,null,null,null,null,null,null,null,null,null,null,5]
[null,null,null,null,6,null,null,null,null,null,null,null,null,null,null,null,null,null,null,null,null,null,null,null,null,null,null,null,null,null,null,null,null,null,null,null,null,null,null,null,null,null,null,null,null,null,null,null,null,null,null,6]
[null,null,null,null,7,null,null,null,null,null,null,null,null,null,null,null,null,null,null,null,null,null,null,null,null,null,null,null,null,null,null,null,null,null,null,null,null,null,null,null,null,null,null,null,null,null,null,null,null,null,null,7]
[null,null,null,null,null,1,2,3,4,5,6,7,8,9,10,11,12,13,14,15,16,17,18,19,20,21,22,23,24,25,26,27,28,29,30,31,32,33,34,35,36,37,38,39,40,41,42,43,44,45,46]
[]
["Bundesländer","Kürzel","Maske",null,null,null,null,null,null,null,null,null,null,null,null,null,null,null,null,null,null,null,null,null,null,null,"Masken für den Tippbereich"]
[null,null,null,null,null,{"$f":"\"\"","v":""},{"$f":"\"\"","v":""},{"$f":"\"\"","v":""},{"$f":"\"\"","v":""},{"$f":"\"\"","v":""},{"$f":"\"\"","v":""},{"$f":"\"\"","v":""},{"$f":"\"\"","v":""},{"$f":"\"\"","v":""},{"$f":"\"\"","v":""},{"$f":"\"\"","v":""},{"$f":"\"\"","v":""},{"$f":"\"\"","v":""},{"$f":"\"\"","v":""},{"$f":"\"\"","v":""},{"$f":"\"\"","v":""},{"$f":"\"\"","v":""},{"$f":"\"\"","v":""},{"$f":"\"\"","v":""},{"$f":"\"\"","v":""},{"$f":"\"\"","v":""},{"$f":"\"\"","v":""},{"$f":"\"\"","v":""},{"$f":"\"\"","v":""},{"$f":"\"\"","v":""},{"$f":"\"\"","v":""},{"$f":"\"\"","v":""},{"$f":"\"\"","v":""},{"$f":"\"\"","v":""},{"$f":"\"\"","v":""},{"$f":"\"\"","v":""},{"$f":"\"\"","v":""},{"$f":"\"\"","v":""},{"$f":"\"\"","v":""},{"$f":"\"\"","v":""},{"$f":"\"\"","v":""},{"$f":"\"\"","v":""},{"$f":"\"\"","v":""},{"$f":"\"\"","v":""},{"$f":"\"\"","v":""},{"$f":"\"\"","v":""},{"$f":"\"\"","v":""},{"$f":"\"\"","v":""}]
["Baden-Württemberg","bw",null,1,{"$f":"\"\"","v":""},{"$f":"\"\"","v":""},{"$f":"\"\"","v":""},1,2,3,4,5,6,7,1,2,3,4,5,6,7,1,2,3,4,5,6,7,1,2,3,4,5,6,7,1,2,3,4,5,6,7,1,2,3,4,5,6,7]
["Bayern","by",null,null,1,8,15,22,29,36,43,1,8,15,22,29,36,43]
["Berlin","be"]
["Brandenburg","bb",3,2,{"$f":"\"\"","v":""},{"$f":"\"\"","v":""},1,2,3,4,5,6,7,1,2,3,4,5,6,7,1,2,3,4,5,6,7,1,2,3,4,5,6,7,1,2,3,4,5,6,7,1,2,3,4,5,6,7]
["Bremen","hb",null,null,1,8,15,22,29,36,43,null,1,8,15,22,29,36,43]
["Hamburg","hh",1]
["Hessen","he",null,3,{"$f":"\"\"","v":""},{"$f":"\"\"","v":""},1,2,3,4,5,6,7,1,2,3,4,5,6,7,1,2,3,4,5,6,7,1,2,3,4,5,6,7,1,2,3,4,5,6,7,1,2,3,4,5,6,7]
["Mecklenburg-Vorpommern","mv",null,null,1,8,15,22,29,36,43,1,8,15,22,29,36,43]
["Niedersachsen","ni"]
["Nordrhein-Westfalen","nw"]
["Rheinland Pfalz","rp"]
["Saarland","sl"]
["Sachsen","sn",2]
["Sachsen-Anhalt","st"]
["Schleswig-Holstein","sh"]
["Thüringen","th"]
[]
[]
[]
[null,null,null,null,null,{"$f":"\"\"","v":""},{"$f":"\"\"","v":""},{"$f":"\"\"","v":""},{"$f":"\"\"","v":""},{"$f":"\"\"","v":""},{"$f":"\"\"","v":""},{"$f":"\"\"","v":""},{"$f":"\"\"","v":""},{"$f":"\"\"","v":""},{"$f":"\"\"","v":""},{"$f":"\"\"","v":""},{"$f":"\"\"","v":""},{"$f":"\"\"","v":""},{"$f":"\"\"","v":""},{"$f":"\"\"","v":""},{"$f":"\"\"","v":""},{"$f":"\"\"","v":""},{"$f":"\"\"","v":""},{"$f":"\"\"","v":""},{"$f":"\"\"","v":""},{"$f":"\"\"","v":""},{"$f":"\"\"","v":""},{"$f":"\"\"","v":""},{"$f":"\"\"","v":""},{"$f":"\"\"","v":""},{"$f":"\"\"","v":""},{"$f":"\"\"","v":""},{"$f":"\"\"","v":""},{"$f":"\"\"","v":""},{"$f":"\"\"","v":""},{"$f":"\"\"","v":""},{"$f":"\"\"","v":""},{"$f":"\"\"","v":""},{"$f":"\"\"","v":""},{"$f":"\"\"","v":""},{"$f":"\"\"","v":""},{"$f":"\"\"","v":""},{"$f":"\"\"","v":""},{"$f":"\"\"","v":""},{"$f":"\"\"","v":""},{"$f":"\"\"","v":""},{"$f":"\"\"","v":""},{"$f":"\"\"","v":""}]

{"sheet":"Reihen","index":2,"n_rows":2020,"n_cols":21,"rows_kept":2020,"cut":false,"hidden":false,"merged":[]}
["Ergebnisse:",null,10,12,14,17]
[null,null,null,null,"Gewinnzahlen",null,null,null,"Zus",null,null,null,null,null,null,null,"Anzahl Scheine",{"$f":"INT((R9+R8-1)/R8)","v":4}]
[null,null,null,null,null,null,null,null,null,"echte",null,"mögl.","               Ränge",null,"raus je","schon","Preis je Tipp",0.65]
["Reihe",null,1,2,3,4,5,6,null,"Treff","Schein","Treff","mögl.","erreicht","Reihe","raus ","Scheingebühr",0.7]
[{"$f":"IF(C5=\"\",\"\",1)","v":1},null,1,3,13,24,28,29,null,{"$f":"IF(C5=\"\",\"\",COUNTIF(C$1:H$1,C5)+COUNTIF(C$1:H$1,D5)+COUNTIF(C$1:H$1,E5)+COUNTIF(C$1:H$1,F5)+COUNTIF(C$1:H$1,G5)+COUNTIF(C$1:H$1,H5))","v":0},{"$f":"IF(A5=\"\",\"\",INT((A5+11)/R$8))","v":1},{"$f":"IF(C5=\"\",\"\",J5+MIN(6-J5-O5,6-R$10))","v":2},{"$f":"IF(C5=\"\",\"\",IF(L5<3,\"\",MID(Q$21,L5*2-5+COUNTIF(C5:H5,I$1)+(I$1=\"\"),1)))","v":""},{"$f":"IF(C5=\"\",\"\",IF(J5<3,\"\",MID(Q$21,J5*2-5+COUNTIF(C5:H5,I$1),1)))","v":""},{"$f":"IF(C5=\"\",\"\",COUNTIF(P$5:P$52,C5)+COUNTIF(P$5:P$52,D5)+COUNTIF(P$5:P$52,E5)+COUNTIF(P$5:P$52,F5)+COUNTIF(P$5:P$52,G5)+COUNTIF(P$5:P$52,H5))","v":0},22,"Gesamteinsatz",{"$f":"R9*R3+R2*R4","v":32.049999999999997}]
[{"$f":"IF(C6=\"\",\"\",1+A5)","v":2},null,2,3,14,17,25,45,null,2,1,4,"4","",1,2,{"$f":"\"- Gewinne\"","v":"- Gewinne"},0]
[{"$f":"IF(C7=\"\",\"\",1+A6)","v":3},null,1,3,14,15,26,47,null,1,1,3,"5","",0,null,"zu zahlen",{"$f":"R5-R6","v":32.049999999999997}]
[4,null,1,3,21,22,27,29,null,0,1,2,"","",1,null,"Reihen je Schein",{"$f":"Felder_je_Schein","v":12}]
[5,null,2,4,7,8,35,44,null,0,1,2,"","",1,null,"Reihen gesamt",{"$f":"COUNT(C5:C991)","v":45}]
[6,null,2,4,7,19,42,43,null,0,1,2,"","",1,null,"Ergebnisse bisher",{"$f":"COUNTA(C1:H1)","v":4}]
[7,null,2,4,13,14,24,25,null,1,1,3,"5","",1]
[8,null,2,4,13,17,22,29,null,1,1,3,"5","",2,null,"Ränge","möglich","erreicht","Quoten","Gewinn"]
[9,null,2,4,13,19,26,27,null,0,1,2,"","",1,null,1,{"$f":"COUNTIF(M$5:M$8075,Q13)","v":0},{"$f":"COUNTIF(N$5:N$8075,Q13)","v":0},8,{"$f":"S13*T13","v":0}]
[10,null,2,4,17,19,22,27,null,1,1,3,"5","",2,null,{"$f":"Q13+1","v":2},1,0,7,0]
[11,null,2,7,13,17,25,26,null,1,1,3,"5","",1,null,3,0,0,6,0]
[12,null,2,7,14,22,24,29,null,1,1,3,"5","",2,null,4,11,0,5,0]
[13,null,2,7,19,24,25,29,null,0,2,2,"","",1,null,5,19,0,2.5,0]
[14,null,2,7,20,25,27,29,null,0,2,2,"","",1,null,6,0,2,1.2,2.4]
[15,null,2,10,13,19,22,24,null,1,2,3,"5","",2,null,7,0,0,0,0]
[16,null,2,10,14,17,22,25,null,3,2,4,"4","6",2,null,8,0,0,0,0]
[17,null,2,10,14,25,27,29,null,2,2,4,"4","",1,null,65443211,null,null,"Summe:",{"$f":"SUM(U13:U20)","v":2.4}]
[18,null,3,4,13,19,22,24,null,0,2,2,"","",1]
[19,null,3,4,13,24,27,29,null,0,2,2,"","",0,null,65443211," Toto-AW"]
[20,null,3,4,14,25,27,29,null,1,2,3,"5","",0,null,"87654322"," Lotto"]
[21,null,3,4,17,19,26,29,null,1,2,3,"5","",0]
[22,null,3,4,17,22,25,27,null,1,2,3,"5","",1]
[23,null,3,7,13,20,22,27,null,0,2,2,"","",1]
[24,null,3,7,14,20,25,26,null,1,2,3,"5","",0]
[25,null,3,7,14,25,26,29,null,1,3,3,"5","",0]
[26,null,3,7,19,22,24,25,null,0,3,2,"","",1]
[27,null,3,7,20,22,25,27,null,0,3,2,"","",1]
[28,null,3,10,13,17,22,27,null,2,3,4,"4","",1]
[29,null,3,10,14,17,22,24,null,3,3,5,"2","6",1]
[30,null,3,10,17,22,25,29,null,2,3,4,"4","",1]
[31,null,4,7,10,13,22,27,null,1,3,3,"5","",1]
[32,null,4,7,10,17,26,29,null,2,3,4,"4","",0]
[33,null,4,7,13,14,27,29,null,1,3,3,"5","",0]
[34,null,4,7,14,19,22,26,null,1,3,3,"5","",1]
[35,null,4,7,14,24,25,26,null,1,3,3,"5","",0]
[36,null,4,7,17,20,22,25,null,1,3,3,"5","",1]
[37,null,4,7,19,20,25,27,null,0,4,2,"","",0]
[38,null,4,7,20,24,26,29,null,0,4,2,"","",0]
[39,null,4,10,13,24,26,27,null,1,4,3,"5","",0]
[40,null,4,10,14,19,24,29,null,2,4,4,"4","",0]
[41,null,4,10,14,19,25,27,null,2,4,4,"4","",0]
[42,null,4,10,17,19,22,24,null,2,4,4,"4","",1]
[43,null,4,10,17,24,25,29,null,2,4,4,"4","",0]
[44,null,7,10,13,14,24,26,null,2,4,4,"4","",0]
[45,null,7,10,13,19,26,29,null,1,4,3,"5","",0]
["",null,null,null,null,null,null,null,null,"","","","","",""]
["",null,null,null,null,null,null,null,null,"","","","","",""]
["",null,null,null,null,null,null,null,null,"","","","","",""]
["",null,null,null,null,null,null,null,null,"","","","","",""]
["",null,{"$f":"IF(Q62=\"\",\"\",LARGE(Q62:BM62,6))","v":""},{"$f":"IF(C54=\"\",\"\",LARGE(Q62:BM62,5))","v":""},{"$f":"IF(C54=\"\",\"\",LARGE(Q62:BM62,4))","v":""},{"$f":"IF(C54=\"\",\"\",LARGE(Q62:BM62,3))","v":""},{"$f":"IF(C54=\"\",\"\",LARGE(Q62:BM62,2))","v":""},{"$f":"IF(C54=\"\",\"\",LARGE(Q62:BM62,1))","v":""},null,"","","","","",""]
["",null,{"$f":"IF(Q63=\"\",\"\",LARGE(Q63:BM63,6))","v":""},"","","","","",null,"","","","","",""]
["",null,{"$f":"IF(Q64=\"\",\"\",LARGE(Q64:BM64,6))","v":""},"","","","","",null,"","","","","",""]
["",null,{"$f":"IF(Q65=\"\",\"\",LARGE(Q65:BM65,6))","v":""},"","","","","",null,"","","","","",""]
["",null,{"$f":"IF(Q66=\"\",\"\",LARGE(Q66:BM66,6))","v":""},"","","","","",null,"","","","","",""]
["",null,"","","","","","",null,"","","","","",""]
["",null,"","","","","","",null,"","","","","",""]
["",null,"","","","","","",null,"","","","","",""]
["",null,"","","","","","",null,"","","","","",""]
["",null,"","","","","","",null,"","","","","",""]
["",null,"","","","","","",null,"","","","","",""]
["",null,"","","","","","",null,"","","","","",""]
["",null,"","","","","","",null,"","","","","",""]
["",null,"","","","","","",null,"","","","","",""]
["",null,"","","","","","",null,"","","","","",""]
["",null,"","","","","","",null,{"$f":"IF(C69=\"\",\"\",COUNTIF(C$1:H$1,C69)+COUNTIF(C$1:H$1,D69)+COUNTIF(C$1:H$1,E69)+COUNTIF(C$1:H$1,F69)+COUNTIF(C$1:H$1,G69)+COUNTIF(C$1:H$1,H69))","v":""},{"$f":"IF(A69=\"\",\"\",INT((A69+11)/R$8))","v":""},{"$f":"IF(C69=\"\",\"\",J69+MIN(6-J69-O69,6-R$10))","v":""},{"$f":"IF(C69=\"\",\"\",IF(L69<3,\"\",MID(Q$21,L69*2-5+COUNTIF(C69:H69,I$1)+(I$1=\"\"),1)))","v":""},{"$f":"IF(C69=\"\",\"\",IF(J69<3,\"\",MID(Q$21,J69*2-5+COUNTIF(C69:H69,I$1),1)))","v":""},{"$f":"IF(C69=\"\",\"\",COUNTIF(P$5:P$52,C69)+COUNTIF(P$5:P$52,D69)+COUNTIF(P$5:P$52,E69)+COUNTIF(P$5:P$52,F69)+COUNTIF(P$5:P$52,G69)+COUNTIF(P$5:P$52,H69))","v":""}]
["",null,"","","","","","",null,"","","","","",""]
[{"$f":"IF(C71=\"\",\"\",1+A70)","v":""},null,"","","","","","",null,"","","","","",""]
["",null,"","","","","","",null,"","","","","",""]
["",null,"","","","","","",null,"","","","","",""]
["",null,"","","","","","",null,"","","","","",""]
["",null,"","","","","","",null,"","","","","",""]
["",null,"","","","","","",null,"","","","","",""]
["",null,"","","","","","",null,"","","","","",""]
["",null,"","","","","","",null,"","","","","",""]
["",null,"","","","","","",null,"","","","","",""]
["",null,"","","","","","",null,"","","","","",""]
["",null,"","","","","","",null,"","","","","",""]
["",null,"","","","","","",null,"","","","","",""]
["",null,"","","","","","",null,"","","","","",""]
["",null,"","","","","","",null,"","","","","",""]
["",null,"","","","","","",null,"","","","","",""]
["",null,"","","","","","",null,"","","","","",""]
["",null,"","","","","","",null,"","","","","",""]
["",null,"","","","","","",null,"","","","","",""]
["",null,"","","","","","",null,"","","","","",""]
["",null,"","","","","","",null,"","","","","",""]
["",null,"","","","","","",null,"","","","","",""]
["",null,"","","","","","",null,"","","","","",""]
["",null,"","","","","","",null,"","","","","",""]
["",null,"","","","","","",null,"","","","","",""]
["",null,"","","","","","",null,"","","","","",""]
["",null,"","","","","","",null,"","","","","",""]
["",null,"","","","","","",null,"","","","","",""]
["",null,"","","","","","",null,"","","","","",""]
["",null,"","","","","","",null,"","","","","",""]
["",null,"","","","","","",null,"","","","","",""]
["",null,"","","","","","",null,"","","","","",""]
["",null,"","","","","","",null,"","","","","",""]
["",null,"","","","","","",null,"","","","","",""]
["",null,"","","","","","",null,"","","","","",""]
["",null,"","","","","","",null,"","","","","",""]
["",null,"","","","","","",null,"","","","","",""]
["",null,"","","","","","",null,"","","","","",""]
["",null,"","","","","","",null,"","","","","",""]
["",null,"","","","","","",null,"","","","","",""]
["",null,"","","","","","",null,"","","","","",""]
["",null,"","","","","","",null,"","","","","",""]
["",null,"","","","","","",null,"","","","","",""]
["",null,"","","","","","",null,"","","","","",""]
["",null,"","","","","","",null,"","","","","",""]
["",null,"","","","","","",null,"","","","","",""]
["",null,"","","","","","",null,"","","","","",""]
["",null,"","","","","","",null,"","","","","",""]
["",null,"",{"$f":"IF(C118=\"\",\"\",LARGE(Q126:BM126,5))","v":""},{"$f":"IF(C118=\"\",\"\",LARGE(Q126:BM126,4))","v":""},{"$f":"IF(C118=\"\",\"\",LARGE(Q126:BM126,3))","v":""},{"$f":"IF(C118=\"\",\"\",LARGE(Q126:BM126,2))","v":""},{"$f":"IF(C118=\"\",\"\",LARGE(Q126:BM126,1))","v":""},null,"","","","","",""]
["",null,"","","","","","",null,"","","","","",""]
["",null,"","","","","","",null,"","","","","",""]
["",null,"","","","","","",null,"","","","","",""]
["",null,{"$f":"IF(Q130=\"\",\"\",LARGE(Q130:BM130,6))","v":""},"","","","","",null,"","","","","",""]
["",null,"","","","","","",null,"","","","","",""]
["",null,"","","","","","",null,"","","","","",""]
["",null,"","","","","","",null,"","","","","",""]
["",null,"","","","","","",null,"","","","","",""]
["",null,"","","","","","",null,"","","","","",""]
["",null,"","","","","","",null,"","","","","",""]
["",null,"","","","","","",null,"","","","","",""]
["",null,"","","","","","",null,"","","","","",""]
["",null,"","","","","","",null,"","","","","",""]
["",null,"","","","","","",null,"","","","","",""]
["",null,"","","","","","",null,{"$f":"IF(C133=\"\",\"\",COUNTIF(C$1:H$1,C133)+COUNTIF(C$1:H$1,D133)+COUNTIF(C$1:H$1,E133)+COUNTIF(C$1:H$1,F133)+COUNTIF(C$1:H$1,G133)+COUNTIF(C$1:H$1,H133))","v":""},{"$f":"IF(A133=\"\",\"\",INT((A133+11)/R$8))","v":""},{"$f":"IF(C133=\"\",\"\",J133+MIN(6-J133-O133,6-R$10))","v":""},{"$f":"IF(C133=\"\",\"\",IF(L133<3,\"\",MID(Q$21,L133*2-5+COUNTIF(C133:H133,I$1)+(I$1=\"\"),1)))","v":""},{"$f":"IF(C133=\"\",\"\",IF(J133<3,\"\",MID(Q$21,J133*2-5+COUNTIF(C133:H133,I$1),1)))","v":""},{"$f":"IF(C133=\"\",\"\",COUNTIF(P$5:P$52,C133)+COUNTIF(P$5:P$52,D133)+COUNTIF(P$5:P$52,E133)+COUNTIF(P$5:P$52,F133)+COUNTIF(P$5:P$52,G133)+COUNTIF(P$5:P$52,H133))","v":""}]
["",null,"","","","","","",null,"","","","","",""]
[{"$f":"IF(C135=\"\",\"\",1+A134)","v":""},null,"","","","","","",null,"","","","","",""]
["",null,"","","","","","",null,"","","","","",""]
["",null,"","","","","","",null,"","","","","",""]
["",null,"","","","","","",null,"","","","","",""]
["",null,"","","","","","",null,"","","","","",""]
["",null,"","","","","","",null,"","","","","",""]
["",null,"","","","","","",null,"","","","","",""]
["",null,"","","","","","",null,"","","","","",""]
["",null,"","","","","","",null,"","","","","",""]
["",null,"","","","","","",null,"","","","","",""]
["",null,"","","","","","",null,"","","","","",""]
["",null,"","","","","","",null,"","","","","",""]
["",null,"","","","","","",null,"","","","","",""]
["",null,"","","","","","",null,"","","","","",""]
["",null,"","","","","","",null,"","","","","",""]
["",null,"","","","","","",null,"","","","","",""]
["",null,{"$f":"IF(Q159=\"\",\"\",LARGE(Q159:BM159,6))","v":""},"","","","","",null,"","","","","",""]
["",null,"","","","","","",null,"","","","","",""]
["",null,"","","","","","",null,"","","","","",""]
["",null,"","","","","","",null,"","","","","",""]
["",null,"","","","","","",null,"","","","","",""]
["",null,"","","","","","",null,"","","","","",""]
["",null,"","","","","","",null,"","","","","",""]
["",null,"","","","","","",null,"","","","","",""]
["",null,"","","","","","",null,"","","","","",""]
["",null,"","","","","","",null,"","","","","",""]
["",null,"","","","","","",null,"","","","","",""]
["",null,"","","","","","",null,"","","","","",""]
["",null,"","","","","","",null,"","","","","",""]
["",null,"","","","","","",null,"","","","","",""]
["",null,"","","","","","",null,"","","","","",""]
["",null,"","","","","","",null,"","","","","",""]
["",null,"","","","","","",null,"","","","","",""]
["",null,"","","","","","",null,"","","","","",""]
["",null,"","","","","","",null,"","","","","",""]
["",null,"","","","","","",null,"","","","","",""]
["",null,"","","","","","",null,"","","","","",""]
["",null,"","","","","","",null,"","","","","",""]
["",null,"","","","","","",null,"","","","","",""]
["",null,"","","","","","",null,"","","","","",""]
["",null,"","","","","","",null,"","","","","",""]
["",null,"","","","","","",null,"","","","","",""]
["",null,"","","","","","",null,"","","","","",""]
["",null,"","","","","","",null,"","","","","",""]
["",null,"","","","","","",null,"","","","","",""]
["",null,"","","","","","",null,"","","","","",""]
["",null,"","","","","","",null,"","","","","",""]
["",null,"",{"$f":"IF(C182=\"\",\"\",LARGE(Q190:BM190,5))","v":""},{"$f":"IF(C182=\"\",\"\",LARGE(Q190:BM190,4))","v":""},{"$f":"IF(C182=\"\",\"\",LARGE(Q190:BM190,3))","v":""},{"$f":"IF(C182=\"\",\"\",LARGE(Q190:BM190,2))","v":""},{"$f":"IF(C182=\"\",\"\",LARGE(Q190:BM190,1))","v":""},null,"","","","","",""]
["",null,"","","","","","",null,"","","","","",""]
["",null,"","","","","","",null,"","","","","",""]
["",null,"","","","","","",null,"","","","","",""]
["",null,"","","","","","",null,"","","","","",""]
["",null,"","","","","","",null,"","","","","",""]
["",null,"","","","","","",null,"","","","","",""]
["",null,"","","","","","",null,"","","","","",""]
["",null,"","","","","","",null,"","","","","",""]
["",null,"","","","","","",null,"","","","","",""]
["",null,"","","","","","",null,"","","","","",""]
["",null,"","","","","","",null,"","","","","",""]
["",null,"","","","","","",null,"","","","","",""]
["",null,"","","","","","",null,"","","","","",""]
["",null,"","","","","","",null,"","","","","",""]
["",null,"","","","","","",null,{"$f":"IF(C197=\"\",\"\",COUNTIF(C$1:H$1,C197)+COUNTIF(C$1:H$1,D197)+COUNTIF(C$1:H$1,E197)+COUNTIF(C$1:H$1,F197)+COUNTIF(C$1:H$1,G197)+COUNTIF(C$1:H$1,H197))","v":""},{"$f":"IF(A197=\"\",\"\",INT((A197+11)/R$8))","v":""},{"$f":"IF(C197=\"\",\"\",J197+MIN(6-J197-O197,6-R$10))","v":""},{"$f":"IF(C197=\"\",\"\",IF(L197<3,\"\",MID(Q$21,L197*2-5+COUNTIF(C197:H197,I$1)+(I$1=\"\"),1)))","v":""},{"$f":"IF(C197=\"\",\"\",IF(J197<3,\"\",MID(Q$21,J197*2-5+COUNTIF(C197:H197,I$1),1)))","v":""},{"$f":"IF(C197=\"\",\"\",COUNTIF(P$5:P$52,C197)+COUNTIF(P$5:P$52,D197)+COUNTIF(P$5:P$52,E197)+COUNTIF(P$5:P$52,F197)+COUNTIF(P$5:P$52,G197)+COUNTIF(P$5:P$52,H197))","v":""}]
["",null,"","","","","","",null,"","","","","",""]
[{"$f":"IF(C199=\"\",\"\",1+A198)","v":""},null,"","","","","","",null,"","","","","",""]
["",null,"","","","","","",null,"","","","","",""]
["",null,"","","","","","",null,"","","","","",""]
["",null,"","","","","","",null,"","","","","",""]
["",null,"","","","","","",null,"","","","","",""]
["",null,"","","","","","",null,"","","","","",""]
["",null,"","","","","","",null,"","","","","",""]
["",null,"","","","","","",null,"","","","","",""]
["",null,"","","","","","",null,"","","","","",""]
["",null,"","","","","","",null,"","","","","",""]
["",null,"","","","","","",null,"","","","","",""]
["",null,"","","","","","",null,"","","","","",""]
["",null,"","","","","","",null,"","","","","",""]
["",null,"","","","","","",null,"","","","","",""]
["",null,"","","","","","",null,"","","","","",""]
["",null,"","","","","","",null,"","","","","",""]
["",null,{"$f":"IF(Q223=\"\",\"\",LARGE(Q223:BM223,6))","v":""},"","","","","",null,"","","","","",""]
["",null,"","","","","","",null,"","","","","",""]
["",null,"","","","","","",null,"","","","","",""]
["",null,"","","","","","",null,"","","","","",""]
["",null,"","","","","","",null,"","","","","",""]
["",null,"","","","","","",null,"","","","","",""]
["",null,"","","","","","",null,"","","","","",""]
["",null,"","","","","","",null,"","","","","",""]
["",null,"","","","","","",null,"","","","","",""]
["",null,"","","","","","",null,"","","","","",""]
["",null,"","","","","","",null,"","","","","",""]
["",null,"","","","","","",null,"","","","","",""]
["",null,"","","","","","",null,"","","","","",""]
["",null,"","","","","","",null,"","","","","",""]
["",null,"","","","","","",null,"","","","","",""]
["",null,"","","","","","",null,"","","","","",""]
["",null,"","","","","","",null,"","","","","",""]
["",null,"","","","","","",null,"","","","","",""]
["",null,"","","","","","",null,"","","","","",""]
["",null,"","","","","","",null,"","","","","",""]
["",null,"","","","","","",null,"","","","","",""]
["",null,"","","","","","",null,"","","","","",""]
["",null,"","","","","","",null,"","","","","",""]
["",null,"","","","","","",null,"","","","","",""]
["",null,"","","","","","",null,"","","","","",""]
["",null,"","","","","","",null,"","","","","",""]
["",null,"","","","","","",null,"","","","","",""]
["",null,"","","","","","",null,"","","","","",""]
["",null,"","","","","","",null,"","","","","",""]
["",null,"","","","","","",null,"","","","","",""]
["",null,"","","","","","",null,"","","","","",""]
["",null,"",{"$f":"IF(C246=\"\",\"\",LARGE(Q254:BM254,5))","v":""},{"$f":"IF(C246=\"\",\"\",LARGE(Q254:BM254,4))","v":""},{"$f":"IF(C246=\"\",\"\",LARGE(Q254:BM254,3))","v":""},{"$f":"IF(C246=\"\",\"\",LARGE(Q254:BM254,2))","v":""},{"$f":"IF(C246=\"\",\"\",LARGE(Q254:BM254,1))","v":""},null,"","","","","",""]
["",null,"","","","","","",null,"","","","","",""]
["",null,"","","","","","",null,"","","","","",""]
["",null,"","","","","","",null,"","","","","",""]
["",null,"","","","","","",null,"","","","","",""]
["",null,"","","","","","",null,"","","","","",""]
["",null,"","","","","","",null,"","","","","",""]
["",null,"","","","","","",null,"","","","","",""]
["",null,"","","","","","",null,"","","","","",""]
["",null,"","","","","","",null,"","","","","",""]
["",null,"","","","","","",null,"","","","","",""]
["",null,"","","","","","",null,"","","","","",""]
["",null,"","","","","","",null,"","","","","",""]
["",null,"","","","","","",null,"","","","","",""]
["",null,"","","","","","",null,"","","","","",""]
["",null,"","","","","","",null,{"$f":"IF(C261=\"\",\"\",COUNTIF(C$1:H$1,C261)+COUNTIF(C$1:H$1,D261)+COUNTIF(C$1:H$1,E261)+COUNTIF(C$1:H$1,F261)+COUNTIF(C$1:H$1,G261)+COUNTIF(C$1:H$1,H261))","v":""},{"$f":"IF(A261=\"\",\"\",INT((A261+11)/R$8))","v":""},{"$f":"IF(C261=\"\",\"\",J261+MIN(6-J261-O261,6-R$10))","v":""},{"$f":"IF(C261=\"\",\"\",IF(L261<3,\"\",MID(Q$21,L261*2-5+COUNTIF(C261:H261,I$1)+(I$1=\"\"),1)))","v":""},{"$f":"IF(C261=\"\",\"\",IF(J261<3,\"\",MID(Q$21,J261*2-5+COUNTIF(C261:H261,I$1),1)))","v":""},{"$f":"IF(C261=\"\",\"\",COUNTIF(P$5:P$52,C261)+COUNTIF(P$5:P$52,D261)+COUNTIF(P$5:P$52,E261)+COUNTIF(P$5:P$52,F261)+COUNTIF(P$5:P$52,G261)+COUNTIF(P$5:P$52,H261))","v":""}]
["",null,"","","","","","",null,"","","","","",""]
[{"$f":"IF(C263=\"\",\"\",1+A262)","v":""},null,"","","","","","",null,"","","","","",""]
["",null,"","","","","","",null,"","","","","",""]
["",null,"","","","","","",null,"","","","","",""]
["",null,"","","","","","",null,"","","","","",""]
["",null,"","","","","","",null,"","","","","",""]
["",null,"","","","","","",null,"","","","","",""]
["",null,"","","","","","",null,"","","","","",""]
["",null,"","","","","","",null,"","","","","",""]
["",null,"","","","","","",null,"","","","","",""]
["",null,"","","","","","",null,"","","","","",""]
["",null,"","","","","","",null,"","","","","",""]
["",null,"","","","","","",null,"","","","","",""]
["",null,"","","","","","",null,"","","","","",""]
["",null,"","","","","","",null,"","","","","",""]
["",null,"","","","","","",null,"","","","","",""]
["",null,"","","","","","",null,"","","","","",""]
["",null,{"$f":"IF(Q287=\"\",\"\",LARGE(Q287:BM287,6))","v":""},"","","","","",null,"","","","","",""]
["",null,"","","","","","",null,"","","","","",""]
["",null,"","","","","","",null,"","","","","",""]
["",null,"","","","","","",null,"","","","","",""]
["",null,"","","","","","",null,"","","","","",""]
["",null,"","","","","","",null,"","","","","",""]
["",null,"","","","","","",null,"","","","","",""]
["",null,"","","","","","",null,"","","","","",""]
["",null,"","","","","","",null,"","","","","",""]
["",null,"","","","","","",null,"","","","","",""]
["",null,"","","","","","",null,"","","","","",""]
["",null,"","","","","","",null,"","","","","",""]
["",null,"","","","","","",null,"","","","","",""]
["",null,"","","","","","",null,"","","","","",""]
["",null,"","","","","","",null,"","","","","",""]
["",null,"","","","","","",null,"","","","","",""]
["",null,"","","","","","",null,"","","","","",""]
["",null,"","","","","","",null,"","","","","",""]
["",null,"","","","","","",null,"","","","","",""]
["",null,"","","","","","",null,"","","","","",""]
["",null,"","","","","","",null,"","","","","",""]
["",null,"","","","","","",null,"","","","","",""]
["",null,"","","","","","",null,"","","","","",""]
["",null,"","","","","","",null,"","","","","",""]
["",null,"","","","","","",null,"","","","","",""]
["",null,"","","","","","",null,"","","","","",""]
["",null,"","","","","","",null,"","","","","",""]
["",null,"","","","","","",null,"","","","","",""]
["",null,"","","","","","",null,"","","","","",""]
["",null,"","","","","","",null,"","","","","",""]
["",null,"","","","","","",null,"","","","","",""]
["",null,"",{"$f":"IF(C310=\"\",\"\",LARGE(Q318:BM318,5))","v":""},{"$f":"IF(C310=\"\",\"\",LARGE(Q318:BM318,4))","v":""},{"$f":"IF(C310=\"\",\"\",LARGE(Q318:BM318,3))","v":""},{"$f":"IF(C310=\"\",\"\",LARGE(Q318:BM318,2))","v":""},{"$f":"IF(C310=\"\",\"\",LARGE(Q318:BM318,1))","v":""},null,"","","","","",""]
["",null,"","","","","","",null,"","","","","",""]
["",null,"","","","","","",null,"","","","","",""]
["",null,"","","","","","",null,"","","","","",""]
["",null,"","","","","","",null,"","","","","",""]
["",null,"","","","","","",null,"","","","","",""]
["",null,"","","","","","",null,"","","","","",""]
["",null,"","","","","","",null,"","","","","",""]
["",null,"","","","","","",null,"","","","","",""]
["",null,"","","","","","",null,"","","","","",""]
["",null,"","","","","","",null,"","","","","",""]
["",null,"","","","","","",null,"","","","","",""]
["",null,"","","","","","",null,"","","","","",""]
["",null,"","","","","","",null,"","","","","",""]
["",null,"","","","","","",null,"","","","","",""]
["",null,"","","","","","",null,{"$f":"IF(C325=\"\",\"\",COUNTIF(C$1:H$1,C325)+COUNTIF(C$1:H$1,D325)+COUNTIF(C$1:H$1,E325)+COUNTIF(C$1:H$1,F325)+COUNTIF(C$1:H$1,G325)+COUNTIF(C$1:H$1,H325))","v":""},{"$f":"IF(A325=\"\",\"\",INT((A325+11)/R$8))","v":""},{"$f":"IF(C325=\"\",\"\",J325+MIN(6-J325-O325,6-R$10))","v":""},{"$f":"IF(C325=\"\",\"\",IF(L325<3,\"\",MID(Q$21,L325*2-5+COUNTIF(C325:H325,I$1)+(I$1=\"\"),1)))","v":""},{"$f":"IF(C325=\"\",\"\",IF(J325<3,\"\",MID(Q$21,J325*2-5+COUNTIF(C325:H325,I$1),1)))","v":""},{"$f":"IF(C325=\"\",\"\",COUNTIF(P$5:P$52,C325)+COUNTIF(P$5:P$52,D325)+COUNTIF(P$5:P$52,E325)+COUNTIF(P$5:P$52,F325)+COUNTIF(P$5:P$52,G325)+COUNTIF(P$5:P$52,H325))","v":""}]
["",null,"","","","","","",null,"","","","","",""]
[{"$f":"IF(C327=\"\",\"\",1+A326)","v":""},null,"","","","","","",null,"","","","","",""]
["",null,"","","","","","",null,"","","","","",""]
["",null,"","","","","","",null,"","","","","",""]
["",null,"","","","","","",null,"","","","","",""]
["",null,"","","","","","",null,"","","","","",""]
["",null,"","","","","","",null,"","","","","",""]
["",null,"","","","","","",null,"","","","","",""]
["",null,"","","","","","",null,"","","","","",""]
["",null,"","","","","","",null,"","","","","",""]
["",null,"","","","","","",null,"","","","","",""]
["",null,"","","","","","",null,"","","","","",""]
["",null,"","","","","","",null,"","","","","",""]
["",null,"","","","","","",null,"","","","","",""]
["",null,"","","","","","",null,"","","","","",""]
["",null,"","","","","","",null,"","","","","",""]
["",null,"","","","","","",null,"","","","","",""]
["",null,{"$f":"IF(Q351=\"\",\"\",LARGE(Q351:BM351,6))","v":""},"","","","","",null,"","","","","",""]
["",null,"","","","","","",null,"","","","","",""]
["",null,"","","","","","",null,"","","","","",""]
["",null,"","","","","","",null,"","","","","",""]
["",null,"","","","","","",null,"","","","","",""]
["",null,"","","","","","",null,"","","","","",""]
["",null,"","","","","","",null,"","","","","",""]
["",null,"","","","","","",null,"","","","","",""]
["",null,"","","","","","",null,"","","","","",""]
["",null,"","","","","","",null,"","","","","",""]
["",null,"","","","","","",null,"","","","","",""]
["",null,"","","","","","",null,"","","","","",""]
["",null,"","","","","","",null,"","","","","",""]
["",null,"","","","","","",null,"","","","","",""]
["",null,"","","","","","",null,"","","","","",""]
["",null,"","","","","","",null,"","","","","",""]
["",null,"","","","","","",null,"","","","","",""]
["",null,"","","","","","",null,"","","","","",""]
["",null,"","","","","","",null,"","","","","",""]
["",null,"","","","","","",null,"","","","","",""]
["",null,"","","","","","",null,"","","","","",""]
["",null,"","","","","","",null,"","","","","",""]
["",null,"","","","","","",null,"","","","","",""]
["",null,"","","","","","",null,"","","","","",""]
["",null,"","","","","","",null,"","","","","",""]
["",null,"","","","","","",null,"","","","","",""]
["",null,"","","","","","",null,"","","","","",""]
["",null,"","","","","","",null,"","","","","",""]
["",null,"","","","","","",null,"","","","","",""]
["",null,"","","","","","",null,"","","","","",""]
["",null,"","","","","","",null,"","","","","",""]
["",null,"",{"$f":"IF(C374=\"\",\"\",LARGE(Q382:BM382,5))","v":""},{"$f":"IF(C374=\"\",\"\",LARGE(Q382:BM382,4))","v":""},{"$f":"IF(C374=\"\",\"\",LARGE(Q382:BM382,3))","v":""},{"$f":"IF(C374=\"\",\"\",LARGE(Q382:BM382,2))","v":""},{"$f":"IF(C374=\"\",\"\",LARGE(Q382:BM382,1))","v":""},null,"","","","","",""]
["",null,"","","","","","",null,"","","","","",""]
["",null,"","","","","","",null,"","","","","",""]
["",null,"","","","","","",null,"","","","","",""]
["",null,"","","","","","",null,"","","","","",""]
["",null,"","","","","","",null,"","","","","",""]
["",null,"","","","","","",null,"","","","","",""]
["",null,"","","","","","",null,"","","","","",""]
["",null,"","","","","","",null,"","","","","",""]
["",null,"","","","","","",null,"","","","","",""]
["",null,"","","","","","",null,"","","","","",""]
["",null,"","","","","","",null,"","","","","",""]
["",null,"","","","","","",null,"","","","","",""]
["",null,"","","","","","",null,"","","","","",""]
["",null,"","","","","","",null,"","","","","",""]
["",null,"","","","","","",null,{"$f":"IF(C389=\"\",\"\",COUNTIF(C$1:H$1,C389)+COUNTIF(C$1:H$1,D389)+COUNTIF(C$1:H$1,E389)+COUNTIF(C$1:H$1,F389)+COUNTIF(C$1:H$1,G389)+COUNTIF(C$1:H$1,H389))","v":""},{"$f":"IF(A389=\"\",\"\",INT((A389+11)/R$8))","v":""},{"$f":"IF(C389=\"\",\"\",J389+MIN(6-J389-O389,6-R$10))","v":""},{"$f":"IF(C389=\"\",\"\",IF(L389<3,\"\",MID(Q$21,L389*2-5+COUNTIF(C389:H389,I$1)+(I$1=\"\"),1)))","v":""},{"$f":"IF(C389=\"\",\"\",IF(J389<3,\"\",MID(Q$21,J389*2-5+COUNTIF(C389:H389,I$1),1)))","v":""},{"$f":"IF(C389=\"\",\"\",COUNTIF(P$5:P$52,C389)+COUNTIF(P$5:P$52,D389)+COUNTIF(P$5:P$52,E389)+COUNTIF(P$5:P$52,F389)+COUNTIF(P$5:P$52,G389)+COUNTIF(P$5:P$52,H389))","v":""}]
["",null,"","","","","","",null,"","","","","",""]
[{"$f":"IF(C391=\"\",\"\",1+A390)","v":""},null,"","","","","","",null,"","","","","",""]
["",null,"","","","","","",null,"","","","","",""]
["",null,"","","","","","",null,"","","","","",""]
["",null,"","","","","","",null,"","","","","",""]
["",null,"","","","","","",null,"","","","","",""]
["",null,"","","","","","",null,"","","","","",""]
["",null,"","","","","","",null,"","","","","",""]
["",null,"","","","","","",null,"","","","","",""]
["",null,"","","","","","",null,"","","","","",""]
["",null,"","","","","","",null,"","","","","",""]
["",null,"","","","","","",null,"","","","","",""]
["",null,"","","","","","",null,"","","","","",""]
["",null,"","","","","","",null,"","","","","",""]
["",null,"","","","","","",null,"","","","","",""]
["",null,{"$f":"IF(Q413=\"\",\"\",LARGE(Q413:BM413,6))","v":""},"","","","","",null,"","","","","",""]
["",null,"","","","","","",null,"","","","","",""]
["",null,"","","","","","",null,"","","","","",""]
["",null,"","","","","","",null,"","","","","",""]
["",null,"","","","","","",null,"","","","","",""]
["",null,"","","","","","",null,"","","","","",""]
["",null,"","","","","","",null,"","","","","",""]
["",null,"","","","","","",null,"","","","","",""]
["",null,"","","","","","",null,"","","","","",""]
["",null,"","","","","","",null,"","","","","",""]
["",null,"","","","","","",null,"","","","","",""]
["",null,"","","","","","",null,"","","","","",""]
["",null,"","","","","","",null,"","","","","",""]
["",null,"","","","","","",null,"","","","","",""]
["",null,"","","","","","",null,"","","","","",""]
["",null,"","","","","","",null,"","","","","",""]
["",null,"","","","","","",null,"","","","","",""]
["",null,"","","","","","",null,"","","","","",""]
["",null,"","","","","","",null,"","","","","",""]
["",null,"","","","","","",null,"","","","","",""]
["",null,"","","","","","",null,"","","","","",""]
["",null,"","","","","","",null,"","","","","",""]
["",null,"","","","","","",null,"","","","","",""]
["",null,"","","","","","",null,"","","","","",""]
["",null,"","","","","","",null,"","","","","",""]
["",null,"","","","","","",null,"","","","","",""]
["",null,"","","","","","",null,"","","","","",""]
["",null,"","","","","","",null,"","","","","",""]
["",null,"","","","","","",null,"","","","","",""]
["",null,"","","","","","",null,"","","","","",""]
["",null,"","","","","","",null,"","","","","",""]
["",null,"","","","","","",null,"","","","","",""]
["",null,"","","","","","",null,"","","","","",""]
["",null,"",{"$f":"IF(C438=\"\",\"\",LARGE(Q446:BM446,5))","v":""},{"$f":"IF(C438=\"\",\"\",LARGE(Q446:BM446,4))","v":""},{"$f":"IF(C438=\"\",\"\",LARGE(Q446:BM446,3))","v":""},{"$f":"IF(C438=\"\",\"\",LARGE(Q446:BM446,2))","v":""},{"$f":"IF(C438=\"\",\"\",LARGE(Q446:BM446,1))","v":""},null,"","","","","",""]
["",null,"","","","","","",null,"","","","","",""]
["",null,"","","","","","",null,"","","","","",""]
["",null,"","","","","","",null,"","","","","",""]
["",null,"","","","","","",null,"","","","","",""]
["",null,"","","","","","",null,"","","","","",""]
["",null,"","","","","","",null,"","","","","",""]
["",null,"","","","","","",null,"","","","","",""]
["",null,"","","","","","",null,"","","","","",""]
["",null,"","","","","","",null,"","","","","",""]
["",null,"","","","","","",null,"","","","","",""]
["",null,"","","","","","",null,"","","","","",""]
["",null,"","","","","","",null,"","","","","",""]
["",null,"","","","","","",null,"","","","","",""]
["",null,"","","","","","",null,"","","","","",""]
["",null,"","","","","","",null,{"$f":"IF(C453=\"\",\"\",COUNTIF(C$1:H$1,C453)+COUNTIF(C$1:H$1,D453)+COUNTIF(C$1:H$1,E453)+COUNTIF(C$1:H$1,F453)+COUNTIF(C$1:H$1,G453)+COUNTIF(C$1:H$1,H453))","v":""},{"$f":"IF(A453=\"\",\"\",INT((A453+11)/R$8))","v":""},{"$f":"IF(C453=\"\",\"\",J453+MIN(6-J453-O453,6-R$10))","v":""},{"$f":"IF(C453=\"\",\"\",IF(L453<3,\"\",MID(Q$21,L453*2-5+COUNTIF(C453:H453,I$1)+(I$1=\"\"),1)))","v":""},{"$f":"IF(C453=\"\",\"\",IF(J453<3,\"\",MID(Q$21,J453*2-5+COUNTIF(C453:H453,I$1),1)))","v":""},{"$f":"IF(C453=\"\",\"\",COUNTIF(P$5:P$52,C453)+COUNTIF(P$5:P$52,D453)+COUNTIF(P$5:P$52,E453)+COUNTIF(P$5:P$52,F453)+COUNTIF(P$5:P$52,G453)+COUNTIF(P$5:P$52,H453))","v":""}]
["",null,"","","","","","",null,"","","","","",""]
[{"$f":"IF(C455=\"\",\"\",1+A454)","v":""},null,"","","","","","",null,"","","","","",""]
["",null,"","","","","","",null,"","","","","",""]
["",null,"","","","","","",null,"","","","","",""]
["",null,"","","","","","",null,"","","","","",""]
["",null,"","","","","","",null,"","","","","",""]
["",null,"","","","","","",null,"","","","","",""]
["",null,"","","","","","",null,"","","","","",""]
["",null,"","","","","","",null,"","","","","",""]
["",null,"","","","","","",null,"","","","","",""]
["",null,"","","","","","",null,"","","","","",""]
["",null,"","","","","","",null,"","","","","",""]
["",null,"","","","","","",null,"","","","","",""]
["",null,"","","","","","",null,"","","","","",""]
["",null,"","","","","","",null,"","","","","",""]
["",null,{"$f":"IF(Q477=\"\",\"\",LARGE(Q477:BM477,6))","v":""},"","","","","",null,"","","","","",""]
["",null,"","","","","","",null,"","","","","",""]
["",null,"","","","","","",null,"","","","","",""]
["",null,"","","","","","",null,"","","","","",""]
["",null,"","","","","","",null,"","","","","",""]
["",null,"","","","","","",null,"","","","","",""]
["",null,"","","","","","",null,"","","","","",""]
["",null,"","","","","","",null,"","","","","",""]
["",null,"","","","","","",null,"","","","","",""]
["",null,"","","","","","",null,"","","","","",""]
["",null,"","","","","","",null,"","","","","",""]
["",null,"","","","","","",null,"","","","","",""]
["",null,"","","","","","",null,"","","","","",""]
["",null,"","","","","","",null,"","","","","",""]
["",null,"","","","","","",null,"","","","","",""]
["",null,"","","","","","",null,"","","","","",""]
["",null,"","","","","","",null,"","","","","",""]
["",null,"","","","","","",null,"","","","","",""]
["",null,"","","","","","",null,"","","","","",""]
["",null,"","","","","","",null,"","","","","",""]
["",null,"","","","","","",null,"","","","","",""]
["",null,"","","","","","",null,"","","","","",""]
["",null,"","","","","","",null,"","","","","",""]
["",null,"","","","","","",null,"","","","","",""]
["",null,"","","","","","",null,"","","","","",""]
["",null,"","","","","","",null,"","","","","",""]
["",null,"","","","","","",null,"","","","","",""]
["",null,"","","","","","",null,"","","","","",""]
["",null,"","","","","","",null,"","","","","",""]
["",null,"","","","","","",null,"","","","","",""]
["",null,"","","","","","",null,"","","","","",""]
["",null,"","","","","","",null,"","","","","",""]
["",null,"","","","","","",null,"","","","","",""]
["",null,"",{"$f":"IF(C502=\"\",\"\",LARGE(Q510:BM510,5))","v":""},{"$f":"IF(C502=\"\",\"\",LARGE(Q510:BM510,4))","v":""},{"$f":"IF(C502=\"\",\"\",LARGE(Q510:BM510,3))","v":""},{"$f":"IF(C502=\"\",\"\",LARGE(Q510:BM510,2))","v":""},{"$f":"IF(C502=\"\",\"\",LARGE(Q510:BM510,1))","v":""},null,"","","","","",""]
["",null,"","","","","","",null,"","","","","",""]
["",null,"","","","","","",null,"","","","","",""]
["",null,"","","","","","",null,"","","","","",""]
["",null,"","","","","","",null,"","","","","",""]
["",null,"","","","","","",null,"","","","","",""]
["",null,"","","","","","",null,"","","","","",""]
["",null,"","","","","","",null,"","","","","",""]
["",null,"","","","","","",null,"","","","","",""]
["",null,"","","","","","",null,"","","","","",""]
["",null,"","","","","","",null,"","","","","",""]
["",null,"","","","","","",null,"","","","","",""]
["",null,"","","","","","",null,"","","","","",""]
["",null,"","","","","","",null,"","","","","",""]
["",null,"","","","","","",null,"","","","","",""]
["",null,"","","","","","",null,{"$f":"IF(C517=\"\",\"\",COUNTIF(C$1:H$1,C517)+COUNTIF(C$1:H$1,D517)+COUNTIF(C$1:H$1,E517)+COUNTIF(C$1:H$1,F517)+COUNTIF(C$1:H$1,G517)+COUNTIF(C$1:H$1,H517))","v":""},{"$f":"IF(A517=\"\",\"\",INT((A517+11)/R$8))","v":""},{"$f":"IF(C517=\"\",\"\",J517+MIN(6-J517-O517,6-R$10))","v":""},{"$f":"IF(C517=\"\",\"\",IF(L517<3,\"\",MID(Q$21,L517*2-5+COUNTIF(C517:H517,I$1)+(I$1=\"\"),1)))","v":""},{"$f":"IF(C517=\"\",\"\",IF(J517<3,\"\",MID(Q$21,J517*2-5+COUNTIF(C517:H517,I$1),1)))","v":""},{"$f":"IF(C517=\"\",\"\",COUNTIF(P$5:P$52,C517)+COUNTIF(P$5:P$52,D517)+COUNTIF(P$5:P$52,E517)+COUNTIF(P$5:P$52,F517)+COUNTIF(P$5:P$52,G517)+COUNTIF(P$5:P$52,H517))","v":""}]
["",null,"","","","","","",null,"","","","","",""]
[{"$f":"IF(C519=\"\",\"\",1+A518)","v":""},null,"","","","","","",null,"","","","","",""]
["",null,"","","","","","",null,"","","","","",""]
["",null,"","","","","","",null,"","","","","",""]
["",null,"","","","","","",null,"","","","","",""]
["",null,"","","","","","",null,"","","","","",""]
["",null,"","","","","","",null,"","","","","",""]
["",null,"","","","","","",null,"","","","","",""]
["",null,"","","","","","",null,"","","","","",""]
["",null,"","","","","","",null,"","","","","",""]
["",null,"","","","","","",null,"","","","","",""]
["",null,"","","","","","",null,"","","","","",""]
["",null,"","","","","","",null,"","","","","",""]
["",null,"","","","","","",null,"","","","","",""]
["",null,"","","","","","",null,"","","","","",""]
["",null,{"$f":"IF(Q541=\"\",\"\",LARGE(Q541:BM541,6))","v":""},"","","","","",null,"","","","","",""]
["",null,"","","","","","",null,"","","","","",""]
["",null,"","","","","","",null,"","","","","",""]
["",null,"","","","","","",null,"","","","","",""]
["",null,"","","","","","",null,"","","","","",""]
["",null,"","","","","","",null,"","","","","",""]
["",null,"","","","","","",null,"","","","","",""]
["",null,"","","","","","",null,"","","","","",""]
["",null,"","","","","","",null,"","","","","",""]
["",null,"","","","","","",null,"","","","","",""]
["",null,"","","","","","",null,"","","","","",""]
["",null,"","","","","","",null,"","","","","",""]
["",null,"","","","","","",null,"","","","","",""]
["",null,"","","","","","",null,"","","","","",""]
["",null,"","","","","","",null,"","","","","",""]
["",null,"","","","","","",null,"","","","","",""]
["",null,"","","","","","",null,"","","","","",""]
["",null,"","","","","","",null,"","","","","",""]
["",null,"","","","","","",null,"","","","","",""]
["",null,"","","","","","",null,"","","","","",""]
["",null,"","","","","","",null,"","","","","",""]
["",null,"","","","","","",null,"","","","","",""]
["",null,"","","","","","",null,"","","","","",""]
["",null,"","","","","","",null,"","","","","",""]
["",null,"","","","","","",null,"","","","","",""]
["",null,"","","","","","",null,"","","","","",""]
["",null,"","","","","","",null,"","","","","",""]
["",null,"","","","","","",null,"","","","","",""]
["",null,"","","","","","",null,"","","","","",""]
["",null,"","","","","","",null,"","","","","",""]
["",null,"","","","","","",null,"","","","","",""]
["",null,"","","","","","",null,"","","","","",""]
["",null,"","","","","","",null,"","","","","",""]
["",null,"",{"$f":"IF(C566=\"\",\"\",LARGE(Q574:BM574,5))","v":""},{"$f":"IF(C566=\"\",\"\",LARGE(Q574:BM574,4))","v":""},{"$f":"IF(C566=\"\",\"\",LARGE(Q574:BM574,3))","v":""},{"$f":"IF(C566=\"\",\"\",LARGE(Q574:BM574,2))","v":""},{"$f":"IF(C566=\"\",\"\",LARGE(Q574:BM574,1))","v":""},null,"","","","","",""]
["",null,"","","","","","",null,"","","","","",""]
["",null,"","","","","","",null,"","","","","",""]
["",null,"","","","","","",null,"","","","","",""]
["",null,"","","","","","",null,"","","","","",""]
["",null,"","","","","","",null,"","","","","",""]
["",null,"","","","","","",null,"","","","","",""]
["",null,"","","","","","",null,"","","","","",""]
["",null,"","","","","","",null,"","","","","",""]
["",null,"","","","","","",null,"","","","","",""]
["",null,"","","","","","",null,"","","","","",""]
["",null,"","","","","","",null,"","","","","",""]
["",null,"","","","","","",null,"","","","","",""]
["",null,"","","","","","",null,"","","","","",""]
["",null,"","","","","","",null,"","","","","",""]
["",null,"","","","","","",null,{"$f":"IF(C581=\"\",\"\",COUNTIF(C$1:H$1,C581)+COUNTIF(C$1:H$1,D581)+COUNTIF(C$1:H$1,E581)+COUNTIF(C$1:H$1,F581)+COUNTIF(C$1:H$1,G581)+COUNTIF(C$1:H$1,H581))","v":""},{"$f":"IF(A581=\"\",\"\",INT((A581+11)/R$8))","v":""},{"$f":"IF(C581=\"\",\"\",J581+MIN(6-J581-O581,6-R$10))","v":""},{"$f":"IF(C581=\"\",\"\",IF(L581<3,\"\",MID(Q$21,L581*2-5+COUNTIF(C581:H581,I$1)+(I$1=\"\"),1)))","v":""},{"$f":"IF(C581=\"\",\"\",IF(J581<3,\"\",MID(Q$21,J581*2-5+COUNTIF(C581:H581,I$1),1)))","v":""},{"$f":"IF(C581=\"\",\"\",COUNTIF(P$5:P$52,C581)+COUNTIF(P$5:P$52,D581)+COUNTIF(P$5:P$52,E581)+COUNTIF(P$5:P$52,F581)+COUNTIF(P$5:P$52,G581)+COUNTIF(P$5:P$52,H581))","v":""}]
["",null,"","","","","","",null,"","","","","",""]
[{"$f":"IF(C583=\"\",\"\",1+A582)","v":""},null,"","","","","","",null,"","","","","",""]
["",null,"","","","","","",null,"","","","","",""]
["",null,"","","","","","",null,"","","","","",""]
["",null,"","","","","","",null,"","","","","",""]
["",null,"","","","","","",null,"","","","","",""]
["",null,"","","","","","",null,"","","","","",""]
["",null,"","","","","","",null,"","","","","",""]
["",null,"","","","","","",null,"","","","","",""]
["",null,"","","","","","",null,"","","","","",""]
["",null,"","","","","","",null,"","","","","",""]
["",null,"","","","","","",null,"","","","","",""]
["",null,"","","","","","",null,"","","","","",""]
["",null,"","","","","","",null,"","","","","",""]
["",null,"","","","","","",null,"","","","","",""]
["",null,{"$f":"IF(Q605=\"\",\"\",LARGE(Q605:BM605,6))","v":""},"","","","","",null,"","","","","",""]
["",null,"","","","","","",null,"","","","","",""]
["",null,"","","","","","",null,"","","","","",""]
["",null,"","","","","","",null,"","","","","",""]
["",null,"","","","","","",null,"","","","","",""]
["",null,"","","","","","",null,"","","","","",""]
["",null,"","","","","","",null,"","","","","",""]
["",null,"","","","","","",null,"","","","","",""]
["",null,"","","","","","",null,"","","","","",""]
["",null,"","","","","","",null,"","","","","",""]
["",null,"","","","","","",null,"","","","","",""]
["",null,"","","","","","",null,"","","","","",""]
["",null,"","","","","","",null,"","","","","",""]
["",null,"","","","","","",null,"","","","","",""]
["",null,"","","","","","",null,"","","","","",""]
["",null,"","","","","","",null,"","","","","",""]
["",null,"","","","","","",null,"","","","","",""]
["",null,"","","","","","",null,"","","","","",""]
["",null,"","","","","","",null,"","","","","",""]
["",null,"","","","","","",null,"","","","","",""]
["",null,"","","","","","",null,"","","","","",""]
["",null,"","","","","","",null,"","","","","",""]
["",null,"","","","","","",null,"","","","","",""]
["",null,"","","","","","",null,"","","","","",""]
["",null,"","","","","","",null,"","","","","",""]
["",null,"","","","","","",null,"","","","","",""]
["",null,"","","","","","",null,"","","","","",""]
["",null,"","","","","","",null,"","","","","",""]
["",null,"","","","","","",null,"","","","","",""]
["",null,"","","","","","",null,"","","","","",""]
["",null,"","","","","","",null,"","","","","",""]
["",null,"","","","","","",null,"","","","","",""]
["",null,"","","","","","",null,"","","","","",""]
["",null,"",{"$f":"IF(C630=\"\",\"\",LARGE(Q638:BM638,5))","v":""},{"$f":"IF(C630=\"\",\"\",LARGE(Q638:BM638,4))","v":""},{"$f":"IF(C630=\"\",\"\",LARGE(Q638:BM638,3))","v":""},{"$f":"IF(C630=\"\",\"\",LARGE(Q638:BM638,2))","v":""},{"$f":"IF(C630=\"\",\"\",LARGE(Q638:BM638,1))","v":""},null,"","","","","",""]
["",null,"","","","","","",null,"","","","","",""]
["",null,"","","","","","",null,"","","","","",""]
["",null,"","","","","","",null,"","","","","",""]
["",null,"","","","","","",null,"","","","","",""]
["",null,"","","","","","",null,"","","","","",""]
["",null,"","","","","","",null,"","","","","",""]
["",null,"","","","","","",null,"","","","","",""]
["",null,"","","","","","",null,"","","","","",""]
["",null,"","","","","","",null,"","","","","",""]
["",null,"","","","","","",null,"","","","","",""]
["",null,"","","","","","",null,"","","","","",""]
["",null,"","","","","","",null,"","","","","",""]
["",null,"","","","","","",null,"","","","","",""]
["",null,"","","","","","",null,"","","","","",""]
["",null,"","","","","","",null,{"$f":"IF(C645=\"\",\"\",COUNTIF(C$1:H$1,C645)+COUNTIF(C$1:H$1,D645)+COUNTIF(C$1:H$1,E645)+COUNTIF(C$1:H$1,F645)+COUNTIF(C$1:H$1,G645)+COUNTIF(C$1:H$1,H645))","v":""},{"$f":"IF(A645=\"\",\"\",INT((A645+11)/R$8))","v":""},{"$f":"IF(C645=\"\",\"\",J645+MIN(6-J645-O645,6-R$10))","v":""},{"$f":"IF(C645=\"\",\"\",IF(L645<3,\"\",MID(Q$21,L645*2-5+COUNTIF(C645:H645,I$1)+(I$1=\"\"),1)))","v":""},{"$f":"IF(C645=\"\",\"\",IF(J645<3,\"\",MID(Q$21,J645*2-5+COUNTIF(C645:H645,I$1),1)))","v":""},{"$f":"IF(C645=\"\",\"\",COUNTIF(P$5:P$52,C645)+COUNTIF(P$5:P$52,D645)+COUNTIF(P$5:P$52,E645)+COUNTIF(P$5:P$52,F645)+COUNTIF(P$5:P$52,G645)+COUNTIF(P$5:P$52,H645))","v":""}]
["",null,"","","","","","",null,"","","","","",""]
[{"$f":"IF(C647=\"\",\"\",1+A646)","v":""},null,"","","","","","",null,"","","","","",""]
["",null,"","","","","","",null,"","","","","",""]
["",null,"","","","","","",null,"","","","","",""]
["",null,"","","","","","",null,"","","","","",""]
["",null,"","","","","","",null,"","","","","",""]
["",null,"","","","","","",null,"","","","","",""]
["",null,"","","","","","",null,"","","","","",""]
["",null,"","","","","","",null,"","","","","",""]
["",null,"","","","","","",null,"","","","","",""]
["",null,"","","","","","",null,"","","","","",""]
["",null,"","","","","","",null,"","","","","",""]
["",null,"","","","","","",null,"","","","","",""]
["",null,"","","","","","",null,"","","","","",""]
["",null,"","","","","","",null,"","","","","",""]
["",null,{"$f":"IF(Q669=\"\",\"\",LARGE(Q669:BM669,6))","v":""},"","","","","",null,"","","","","",""]
["",null,"","","","","","",null,"","","","","",""]
["",null,"","","","","","",null,"","","","","",""]
["",null,"","","","","","",null,"","","","","",""]
["",null,"","","","","","",null,"","","","","",""]
["",null,"","","","","","",null,"","","","","",""]
["",null,"","","","","","",null,"","","","","",""]
["",null,"","","","","","",null,"","","","","",""]
["",null,"","","","","","",null,"","","","","",""]
["",null,"","","","","","",null,"","","","","",""]
["",null,"","","","","","",null,"","","","","",""]
["",null,"","","","","","",null,"","","","","",""]
["",null,"","","","","","",null,"","","","","",""]
["",null,"","","","","","",null,"","","","","",""]
["",null,"","","","","","",null,"","","","","",""]
["",null,"","","","","","",null,"","","","","",""]
["",null,"","","","","","",null,"","","","","",""]
["",null,"","","","","","",null,"","","","","",""]
["",null,"","","","","","",null,"","","","","",""]
["",null,"","","","","","",null,"","","","","",""]
["",null,"","","","","","",null,"","","","","",""]
["",null,"","","","","","",null,"","","","","",""]
["",null,"","","","","","",null,"","","","","",""]
["",null,"","","","","","",null,"","","","","",""]
["",null,"","","","","","",null,"","","","","",""]
["",null,"","","","","","",null,"","","","","",""]
["",null,"","","","","","",null,"","","","","",""]
["",null,"","","","","","",null,"","","","","",""]
["",null,"","","","","","",null,"","","","","",""]
["",null,"","","","","","",null,"","","","","",""]
["",null,"","","","","","",null,"","","","","",""]
["",null,"","","","","","",null,"","","","","",""]
["",null,"","","","","","",null,"","","","","",""]
["",null,"",{"$f":"IF(C694=\"\",\"\",LARGE(Q702:BM702,5))","v":""},{"$f":"IF(C694=\"\",\"\",LARGE(Q702:BM702,4))","v":""},{"$f":"IF(C694=\"\",\"\",LARGE(Q702:BM702,3))","v":""},{"$f":"IF(C694=\"\",\"\",LARGE(Q702:BM702,2))","v":""},{"$f":"IF(C694=\"\",\"\",LARGE(Q702:BM702,1))","v":""},null,"","","","","",""]
["",null,"","","","","","",null,"","","","","",""]
["",null,"","","","","","",null,"","","","","",""]
["",null,"","","","","","",null,"","","","","",""]
["",null,"","","","","","",null,"","","","","",""]
["",null,"","","","","","",null,"","","","","",""]
["",null,"","","","","","",null,"","","","","",""]
["",null,"","","","","","",null,"","","","","",""]
["",null,"","","","","","",null,"","","","","",""]
["",null,"","","","","","",null,"","","","","",""]
["",null,"","","","","","",null,"","","","","",""]
["",null,"","","","","","",null,"","","","","",""]
["",null,"","","","","","",null,"","","","","",""]
["",null,"","","","","","",null,"","","","","",""]
["",null,"","","","","","",null,"","","","","",""]
["",null,"","","","","","",null,{"$f":"IF(C709=\"\",\"\",COUNTIF(C$1:H$1,C709)+COUNTIF(C$1:H$1,D709)+COUNTIF(C$1:H$1,E709)+COUNTIF(C$1:H$1,F709)+COUNTIF(C$1:H$1,G709)+COUNTIF(C$1:H$1,H709))","v":""},{"$f":"IF(A709=\"\",\"\",INT((A709+11)/R$8))","v":""},{"$f":"IF(C709=\"\",\"\",J709+MIN(6-J709-O709,6-R$10))","v":""},{"$f":"IF(C709=\"\",\"\",IF(L709<3,\"\",MID(Q$21,L709*2-5+COUNTIF(C709:H709,I$1)+(I$1=\"\"),1)))","v":""},{"$f":"IF(C709=\"\",\"\",IF(J709<3,\"\",MID(Q$21,J709*2-5+COUNTIF(C709:H709,I$1),1)))","v":""},{"$f":"IF(C709=\"\",\"\",COUNTIF(P$5:P$52,C709)+COUNTIF(P$5:P$52,D709)+COUNTIF(P$5:P$52,E709)+COUNTIF(P$5:P$52,F709)+COUNTIF(P$5:P$52,G709)+COUNTIF(P$5:P$52,H709))","v":""}]
["",null,"","","","","","",null,"","","","","",""]
[{"$f":"IF(C711=\"\",\"\",1+A710)","v":""},null,"","","","","","",null,"","","","","",""]
["",null,"","","","","","",null,"","","","","",""]
["",null,"","","","","","",null,"","","","","",""]
["",null,"","","","","","",null,"","","","","",""]
["",null,"","","","","","",null,"","","","","",""]
["",null,"","","","","","",null,"","","","","",""]
["",null,"","","","","","",null,"","","","","",""]
["",null,"","","","","","",null,"","","","","",""]
["",null,"","","","","","",null,"","","","","",""]
["",null,"","","","","","",null,"","","","","",""]
["",null,"","","","","","",null,"","","","","",""]
["",null,"","","","","","",null,"","","","","",""]
["",null,"","","","","","",null,"","","","","",""]
["",null,"","","","","","",null,"","","","","",""]
["",null,{"$f":"IF(Q733=\"\",\"\",LARGE(Q733:BM733,6))","v":""},"","","","","",null,"","","","","",""]
["",null,"","","","","","",null,"","","","","",""]
["",null,"","","","","","",null,"","","","","",""]
["",null,"","","","","","",null,"","","","","",""]
["",null,"","","","","","",null,"","","","","",""]
["",null,"","","","","","",null,"","","","","",""]
["",null,"","","","","","",null,"","","","","",""]
["",null,"","","","","","",null,"","","","","",""]
["",null,"","","","","","",null,"","","","","",""]
["",null,"","","","","","",null,"","","","","",""]
["",null,"","","","","","",null,"","","","","",""]
["",null,"","","","","","",null,"","","","","",""]
["",null,"","","","","","",null,"","","","","",""]
["",null,"","","","","","",null,"","","","","",""]
["",null,"","","","","","",null,"","","","","",""]
["",null,"","","","","","",null,"","","","","",""]
["",null,"","","","","","",null,"","","","","",""]
["",null,"","","","","","",null,"","","","","",""]
["",null,"","","","","","",null,"","","","","",""]
["",null,"","","","","","",null,"","","","","",""]
["",null,"","","","","","",null,"","","","","",""]
["",null,"","","","","","",null,"","","","","",""]
["",null,"","","","","","",null,"","","","","",""]
["",null,"","","","","","",null,"","","","","",""]
["",null,"","","","","","",null,"","","","","",""]
["",null,"","","","","","",null,"","","","","",""]
["",null,"","","","","","",null,"","","","","",""]
["",null,"","","","","","",null,"","","","","",""]
["",null,"","","","","","",null,"","","","","",""]
["",null,"","","","","","",null,"","","","","",""]
["",null,"","","","","","",null,"","","","","",""]
["",null,"","","","","","",null,"","","","","",""]
["",null,"","","","","","",null,"","","","","",""]
["",null,"",{"$f":"IF(C758=\"\",\"\",LARGE(Q766:BM766,5))","v":""},{"$f":"IF(C758=\"\",\"\",LARGE(Q766:BM766,4))","v":""},{"$f":"IF(C758=\"\",\"\",LARGE(Q766:BM766,3))","v":""},{"$f":"IF(C758=\"\",\"\",LARGE(Q766:BM766,2))","v":""},{"$f":"IF(C758=\"\",\"\",LARGE(Q766:BM766,1))","v":""},null,"","","","","",""]
["",null,"","","","","","",null,"","","","","",""]
["",null,"","","","","","",null,"","","","","",""]
["",null,"","","","","","",null,"","","","","",""]
["",null,"","","","","","",null,"","","","","",""]
["",null,"","","","","","",null,"","","","","",""]
["",null,"","","","","","",null,"","","","","",""]
["",null,"","","","","","",null,"","","","","",""]
["",null,"","","","","","",null,"","","","","",""]
["",null,"","","","","","",null,"","","","","",""]
["",null,"","","","","","",null,"","","","","",""]
["",null,"","","","","","",null,"","","","","",""]
["",null,"","","","","","",null,"","","","","",""]
["",null,"","","","","","",null,"","","","","",""]
["",null,"","","","","","",null,"","","","","",""]
["",null,"","","","","","",null,{"$f":"IF(C773=\"\",\"\",COUNTIF(C$1:H$1,C773)+COUNTIF(C$1:H$1,D773)+COUNTIF(C$1:H$1,E773)+COUNTIF(C$1:H$1,F773)+COUNTIF(C$1:H$1,G773)+COUNTIF(C$1:H$1,H773))","v":""},{"$f":"IF(A773=\"\",\"\",INT((A773+11)/R$8))","v":""},{"$f":"IF(C773=\"\",\"\",J773+MIN(6-J773-O773,6-R$10))","v":""},{"$f":"IF(C773=\"\",\"\",IF(L773<3,\"\",MID(Q$21,L773*2-5+COUNTIF(C773:H773,I$1)+(I$1=\"\"),1)))","v":""},{"$f":"IF(C773=\"\",\"\",IF(J773<3,\"\",MID(Q$21,J773*2-5+COUNTIF(C773:H773,I$1),1)))","v":""},{"$f":"IF(C773=\"\",\"\",COUNTIF(P$5:P$52,C773)+COUNTIF(P$5:P$52,D773)+COUNTIF(P$5:P$52,E773)+COUNTIF(P$5:P$52,F773)+COUNTIF(P$5:P$52,G773)+COUNTIF(P$5:P$52,H773))","v":""}]
["",null,"","","","","","",null,"","","","","",""]
[{"$f":"IF(C775=\"\",\"\",1+A774)","v":""},null,"","","","","","",null,"","","","","",""]
["",null,"","","","","","",null,"","","","","",""]
["",null,"","","","","","",null,"","","","","",""]
["",null,"","","","","","",null,"","","","","",""]
["",null,"","","","","","",null,"","","","","",""]
["",null,"","","","","","",null,"","","","","",""]
["",null,"","","","","","",null,"","","","","",""]
["",null,"","","","","","",null,"","","","","",""]
["",null,"","","","","","",null,"","","","","",""]
["",null,"","","","","","",null,"","","","","",""]
["",null,"","","","","","",null,"","","","","",""]
["",null,"","","","","","",null,"","","","","",""]
["",null,"","","","","","",null,"","","","","",""]
["",null,"","","","","","",null,"","","","","",""]
["",null,{"$f":"IF(Q797=\"\",\"\",LARGE(Q797:BM797,6))","v":""},"","","","","",null,"","","","","",""]
["",null,"","","","","","",null,"","","","","",""]
["",null,"","","","","","",null,"","","","","",""]
["",null,"","","","","","",null,"","","","","",""]
["",null,"","","","","","",null,"","","","","",""]
["",null,"","","","","","",null,"","","","","",""]
["",null,"","","","","","",null,"","","","","",""]
["",null,"","","","","","",null,"","","","","",""]
["",null,"","","","","","",null,"","","","","",""]
["",null,"","","","","","",null,"","","","","",""]
["",null,"","","","","","",null,"","","","","",""]
["",null,"","","","","","",null,"","","","","",""]
["",null,"","","","","","",null,"","","","","",""]
["",null,"","","","","","",null,"","","","","",""]
[{"$f":"IF(C803=\"\",\"\",1+A802)","v":""},null,{"$f":"IF(Q811=\"\",\"\",LARGE(Q811:BM811,6))","v":""},{"$f":"IF(C803=\"\",\"\",LARGE(Q811:BM811,5))","v":""},{"$f":"IF(C803=\"\",\"\",LARGE(Q811:BM811,4))","v":""},{"$f":"IF(C803=\"\",\"\",LARGE(Q811:BM811,3))","v":""},{"$f":"IF(C803=\"\",\"\",LARGE(Q811:BM811,2))","v":""},{"$f":"IF(C803=\"\",\"\",LARGE(Q811:BM811,1))","v":""},null,{"$f":"IF(C803=\"\",\"\",COUNTIF(C$1:H$1,C803)+COUNTIF(C$1:H$1,D803)+COUNTIF(C$1:H$1,E803)+COUNTIF(C$1:H$1,F803)+COUNTIF(C$1:H$1,G803)+COUNTIF(C$1:H$1,H803))","v":""},{"$f":"IF(A803=\"\",\"\",INT((A803+11)/R$8))","v":""},{"$f":"IF(C803=\"\",\"\",J803+MIN(6-J803-O803,6-R$10))","v":""},{"$f":"IF(C803=\"\",\"\",IF(L803<3,\"\",MID(Q$21,L803*2-5+COUNTIF(C803:H803,I$1)+(I$1=\"\"),1)))","v":""},{"$f":"IF(C803=\"\",\"\",IF(J803<3,\"\",MID(Q$21,J803*2-5+COUNTIF(C803:H803,I$1),1)))","v":""},{"$f":"IF(C803=\"\",\"\",COUNTIF(P$5:P$52,C803)+COUNTIF(P$5:P$52,D803)+COUNTIF(P$5:P$52,E803)+COUNTIF(P$5:P$52,F803)+COUNTIF(P$5:P$52,G803)+COUNTIF(P$5:P$52,H803))","v":""}]
["",null,"","","","","","",null,"","","","","",""]
["",null,"","","","","","",null,"","","","","",""]
["",null,"","","","","","",null,"","","","","",""]
["",null,"","","","","","",null,"","","","","",""]
["",null,"","","","","","",null,"","","","","",""]
["",null,"","","","","","",null,"","","","","",""]
["",null,"","","","","","",null,"","","","","",""]
["",null,"","","","","","",null,"","","","","",""]
["",null,"","","","","","",null,"","","","","",""]
["",null,"","","","","","",null,"","","","","",""]
["",null,"","","","","","",null,"","","","","",""]
["",null,"","","","","","",null,"","","","","",""]
["",null,"","","","","","",null,"","","","","",""]
["",null,"","","","","","",null,"","","","","",""]
["",null,"","","","","","",null,"","","","","",""]
["",null,"","","","","","",null,"","","","","",""]
["",null,"","","","","","",null,"","","","","",""]
["",null,"","","","","","",null,"","","","","",""]
["",null,"","","","","","",null,"","","","","",""]
["",null,"","","","","","",null,"","","","","",""]
["",null,"","","","","","",null,"","","","","",""]
["",null,"","","","","","",null,"","","","","",""]
["",null,"","","","","","",null,"","","","","",""]
["",null,"","","","","","",null,"","","","","",""]
["",null,"","","","","","",null,"","","","","",""]
["",null,"","","","","","",null,"","","","","",""]
["",null,"","","","","","",null,"","","","","",""]
["",null,"","","","","","",null,"","","","","",""]
["",null,"","","","","","",null,"","","","","",""]
["",null,"","","","","","",null,"","","","","",""]
["",null,"","","","","","",null,"","","","","",""]
["",null,"","","","","","",null,"","","","","",""]
["",null,"","","","","","",null,"","","","","",""]
["",null,"","","","","","",null,"","","","","",""]
["",null,"","","","","","",null,"","","","","",""]
["",null,"","","","","","",null,"","","","","",""]
["",null,"","","","","","",null,"","","","","",""]
["",null,"","","","","","",null,"","","","","",""]
["",null,"","","","","","",null,"","","","","",""]
["",null,"","","","","","",null,"","","","","",""]
["",null,"","","","","","",null,"","","","","",""]
["",null,"","","","","","",null,"","","","","",""]
["",null,"","","","","","",null,"","","","","",""]
["",null,"","","","","","",null,"","","","","",""]
["",null,"","","","","","",null,"","","","","",""]
["",null,"","","","","","",null,"","","","","",""]
["",null,"","","","","","",null,"","","","","",""]
["",null,"","","","","","",null,"","","","","",""]
["",null,"","","","","","",null,"","","","","",""]
["",null,"","","","","","",null,"","","","","",""]
["",null,"","","","","","",null,"","","","","",""]
["",null,"","","","","","",null,"","","","","",""]
["",null,"","","","","","",null,"","","","","",""]
["",null,"","","","","","",null,"","","","","",""]
["",null,"","","","","","",null,"","","","","",""]
["",null,"","","","","","",null,"","","","","",""]
["",null,"","","","","","",null,"","","","","",""]
["",null,"","","","","","",null,"","","","","",""]
["",null,"","","","","","",null,"","","","","",""]
["",null,"","","","","","",null,"","","","","",""]
["",null,"","","","","","",null,"","","","","",""]
["",null,"","","","","","",null,"","","","","",""]
["",null,"","","","","","",null,"","","","","",""]
[{"$f":"IF(C867=\"\",\"\",1+A866)","v":""},null,{"$f":"IF(Q875=\"\",\"\",LARGE(Q875:BM875,6))","v":""},{"$f":"IF(C867=\"\",\"\",LARGE(Q875:BM875,5))","v":""},{"$f":"IF(C867=\"\",\"\",LARGE(Q875:BM875,4))","v":""},{"$f":"IF(C867=\"\",\"\",LARGE(Q875:BM875,3))","v":""},{"$f":"IF(C867=\"\",\"\",LARGE(Q875:BM875,2))","v":""},{"$f":"IF(C867=\"\",\"\",LARGE(Q875:BM875,1))","v":""},null,{"$f":"IF(C867=\"\",\"\",COUNTIF(C$1:H$1,C867)+COUNTIF(C$1:H$1,D867)+COUNTIF(C$1:H$1,E867)+COUNTIF(C$1:H$1,F867)+COUNTIF(C$1:H$1,G867)+COUNTIF(C$1:H$1,H867))","v":""},{"$f":"IF(A867=\"\",\"\",INT((A867+11)/R$8))","v":""},{"$f":"IF(C867=\"\",\"\",J867+MIN(6-J867-O867,6-R$10))","v":""},{"$f":"IF(C867=\"\",\"\",IF(L867<3,\"\",MID(Q$21,L867*2-5+COUNTIF(C867:H867,I$1)+(I$1=\"\"),1)))","v":""},{"$f":"IF(C867=\"\",\"\",IF(J867<3,\"\",MID(Q$21,J867*2-5+COUNTIF(C867:H867,I$1),1)))","v":""},{"$f":"IF(C867=\"\",\"\",COUNTIF(P$5:P$52,C867)+COUNTIF(P$5:P$52,D867)+COUNTIF(P$5:P$52,E867)+COUNTIF(P$5:P$52,F867)+COUNTIF(P$5:P$52,G867)+COUNTIF(P$5:P$52,H867))","v":""}]
["",null,"","","","","","",null,"","","","","",""]
["",null,"","","","","","",null,"","","","","",""]
["",null,"","","","","","",null,"","","","","",""]
["",null,"","","","","","",null,"","","","","",""]
["",null,"","","","","","",null,"","","","","",""]
["",null,"","","","","","",null,"","","","","",""]
["",null,"","","","","","",null,"","","","","",""]
["",null,"","","","","","",null,"","","","","",""]
["",null,"","","","","","",null,"","","","","",""]
["",null,"","","","","","",null,"","","","","",""]
["",null,"","","","","","",null,"","","","","",""]
["",null,"","","","","","",null,"","","","","",""]
["",null,"","","","","","",null,"","","","","",""]
["",null,"","","","","","",null,"","","","","",""]
["",null,"","","","","","",null,"","","","","",""]
["",null,"","","","","","",null,"","","","","",""]
["",null,"","","","","","",null,"","","","","",""]
["",null,"","","","","","",null,"","","","","",""]
["",null,"","","","","","",null,"","","","","",""]
["",null,"","","","","","",null,"","","","","",""]
["",null,"","","","","","",null,"","","","","",""]
["",null,"","","","","","",null,"","","","","",""]
["",null,"","","","","","",null,"","","","","",""]
["",null,"","","","","","",null,"","","","","",""]
["",null,"","","","","","",null,"","","","","",""]
["",null,"","","","","","",null,"","","","","",""]
["",null,"","","","","","",null,"","","","","",""]
["",null,"","","","","","",null,"","","","","",""]
["",null,"","","","","","",null,"","","","","",""]
["",null,"","","","","","",null,"","","","","",""]
["",null,"","","","","","",null,"","","","","",""]
["",null,"","","","","","",null,"","","","","",""]
["",null,"","","","","","",null,"","","","","",""]
["",null,"","","","","","",null,"","","","","",""]
["",null,"","","","","","",null,"","","","","",""]
["",null,"","","","","","",null,"","","","","",""]
["",null,"","","","","","",null,"","","","","",""]
["",null,"","","","","","",null,"","","","","",""]
["",null,"","","","","","",null,"","","","","",""]
["",null,"","","","","","",null,"","","","","",""]
["",null,"","","","","","",null,"","","","","",""]
["",null,"","","","","","",null,"","","","","",""]
["",null,"","","","","","",null,"","","","","",""]
["",null,"","","","","","",null,"","","","","",""]
["",null,"","","","","","",null,"","","","","",""]
["",null,"","","","","","",null,"","","","","",""]
["",null,"","","","","","",null,"","","","","",""]
["",null,"","","","","","",null,"","","","","",""]
["",null,"","","","","","",null,"","","","","",""]
["",null,"","","","","","",null,"","","","","",""]
["",null,"","","","","","",null,"","","","","",""]
["",null,"","","","","","",null,"","","","","",""]
["",null,"","","","","","",null,"","","","","",""]
["",null,"","","","","","",null,"","","","","",""]
["",null,"","","","","","",null,"","","","","",""]
["",null,"","","","","","",null,"","","","","",""]
["",null,"","","","","","",null,"","","","","",""]
["",null,"","","","","","",null,"","","","","",""]
["",null,"","","","","","",null,"","","","","",""]
["",null,"","","","","","",null,"","","","","",""]
["",null,"","","","","","",null,"","","","","",""]
["",null,"","","","","","",null,"","","","","",""]
["",null,"","","","","","",null,"","","","","",""]
[{"$f":"IF(C931=\"\",\"\",1+A930)","v":""},null,{"$f":"IF(Q939=\"\",\"\",LARGE(Q939:BM939,6))","v":""},{"$f":"IF(C931=\"\",\"\",LARGE(Q939:BM939,5))","v":""},{"$f":"IF(C931=\"\",\"\",LARGE(Q939:BM939,4))","v":""},{"$f":"IF(C931=\"\",\"\",LARGE(Q939:BM939,3))","v":""},{"$f":"IF(C931=\"\",\"\",LARGE(Q939:BM939,2))","v":""},{"$f":"IF(C931=\"\",\"\",LARGE(Q939:BM939,1))","v":""},null,{"$f":"IF(C931=\"\",\"\",COUNTIF(C$1:H$1,C931)+COUNTIF(C$1:H$1,D931)+COUNTIF(C$1:H$1,E931)+COUNTIF(C$1:H$1,F931)+COUNTIF(C$1:H$1,G931)+COUNTIF(C$1:H$1,H931))","v":""},{"$f":"IF(A931=\"\",\"\",INT((A931+11)/R$8))","v":""},{"$f":"IF(C931=\"\",\"\",J931+MIN(6-J931-O931,6-R$10))","v":""},{"$f":"IF(C931=\"\",\"\",IF(L931<3,\"\",MID(Q$21,L931*2-5+COUNTIF(C931:H931,I$1)+(I$1=\"\"),1)))","v":""},{"$f":"IF(C931=\"\",\"\",IF(J931<3,\"\",MID(Q$21,J931*2-5+COUNTIF(C931:H931,I$1),1)))","v":""},{"$f":"IF(C931=\"\",\"\",COUNTIF(P$5:P$52,C931)+COUNTIF(P$5:P$52,D931)+COUNTIF(P$5:P$52,E931)+COUNTIF(P$5:P$52,F931)+COUNTIF(P$5:P$52,G931)+COUNTIF(P$5:P$52,H931))","v":""}]
["",null,"","","","","","",null,"","","","","",""]
["",null,"","","","","","",null,"","","","","",""]
["",null,"","","","","","",null,"","","","","",""]
["",null,"","","","","","",null,"","","","","",""]
["",null,"","","","","","",null,"","","","","",""]
["",null,"","","","","","",null,"","","","","",""]
["",null,"","","","","","",null,"","","","","",""]
["",null,"","","","","","",null,"","","","","",""]
["",null,"","","","","","",null,"","","","","",""]
["",null,"","","","","","",null,"","","","","",""]
["",null,"","","","","","",null,"","","","","",""]
["",null,"","","","","","",null,"","","","","",""]
["",null,"","","","","","",null,"","","","","",""]
["",null,"","","","","","",null,"","","","","",""]
["",null,"","","","","","",null,"","","","","",""]
["",null,"","","","","","",null,"","","","","",""]
["",null,"","","","","","",null,"","","","","",""]
["",null,"","","","","","",null,"","","","","",""]
["",null,"","","","","","",null,"","","","","",""]
["",null,"","","","","","",null,"","","","","",""]
["",null,"","","","","","",null,"","","","","",""]
["",null,"","","","","","",null,"","","","","",""]
["",null,"","","","","","",null,"","","","","",""]
["",null,"","","","","","",null,"","","","","",""]
["",null,"","","","","","",null,"","","","","",""]
["",null,"","","","","","",null,"","","","","",""]
["",null,"","","","","","",null,"","","","","",""]
["",null,"","","","","","",null,"","","","","",""]
["",null,"","","","","","",null,"","","","","",""]
["",null,"","","","","","",null,"","","","","",""]
["",null,"","","","","","",null,"","","","","",""]
["",null,"","","","","","",null,"","","","","",""]
["",null,"","","","","","",null,"","","","","",""]
["",null,"","","","","","",null,"","","","","",""]
["",null,"","","","","","",null,"","","","","",""]
["",null,"","","","","","",null,"","","","","",""]
["",null,"","","","","","",null,"","","","","",""]
["",null,"","","","","","",null,"","","","","",""]
["",null,"","","","","","",null,"","","","","",""]
["",null,"","","","","","",null,"","","","","",""]
["",null,"","","","","","",null,"","","","","",""]
["",null,"","","","","","",null,"","","","","",""]
["",null,"","","","","","",null,"","","","","",""]
["",null,"","","","","","",null,"","","","","",""]
["",null,"","","","","","",null,"","","","","",""]
["",null,"","","","","","",null,"","","","","",""]
["",null,"","","","","","",null,"","","","","",""]
["",null,"","","","","","",null,"","","","","",""]
["",null,"","","","","","",null,"","","","","",""]
["",null,"","","","","","",null,"","","","","",""]
["",null,"","","","","","",null,"","","","","",""]
["",null,"","","","","","",null,"","","","","",""]
["",null,"","","","","","",null,"","","","","",""]
["",null,"","","","","","",null,"","","","","",""]
["",null,"","","","","","",null,"","","","","",""]
["",null,"","","","","","",null,"","","","","",""]
["",null,"","","","","","",null,"","","","","",""]
["",null,"","","","","","",null,"","","","","",""]
["",null,"","","","","","",null,"","","","","",""]
["",null,"","","","","","",null,"","","","","",""]
["",null,"","","","","","",null,"","","","","",""]
["",null,"","","","","","",null,"","","","","",""]
["",null,"","","","","","",null,"","","","","",""]
[{"$f":"IF(C995=\"\",\"\",1+A994)","v":""},null,{"$f":"IF(Q1003=\"\",\"\",LARGE(Q1003:BM1003,6))","v":""},{"$f":"IF(C995=\"\",\"\",LARGE(Q1003:BM1003,5))","v":""},{"$f":"IF(C995=\"\",\"\",LARGE(Q1003:BM1003,4))","v":""},{"$f":"IF(C995=\"\",\"\",LARGE(Q1003:BM1003,3))","v":""},{"$f":"IF(C995=\"\",\"\",LARGE(Q1003:BM1003,2))","v":""},{"$f":"IF(C995=\"\",\"\",LARGE(Q1003:BM1003,1))","v":""},null,{"$f":"IF(C995=\"\",\"\",COUNTIF(C$1:H$1,C995)+COUNTIF(C$1:H$1,D995)+COUNTIF(C$1:H$1,E995)+COUNTIF(C$1:H$1,F995)+COUNTIF(C$1:H$1,G995)+COUNTIF(C$1:H$1,H995))","v":""},{"$f":"IF(A995=\"\",\"\",INT((A995+11)/R$8))","v":""},{"$f":"IF(C995=\"\",\"\",J995+MIN(6-J995-O995,6-R$10))","v":""},{"$f":"IF(C995=\"\",\"\",IF(L995<3,\"\",MID(Q$21,L995*2-5+COUNTIF(C995:H995,I$1)+(I$1=\"\"),1)))","v":""},{"$f":"IF(C995=\"\",\"\",IF(J995<3,\"\",MID(Q$21,J995*2-5+COUNTIF(C995:H995,I$1),1)))","v":""},{"$f":"IF(C995=\"\",\"\",COUNTIF(P$5:P$52,C995)+COUNTIF(P$5:P$52,D995)+COUNTIF(P$5:P$52,E995)+COUNTIF(P$5:P$52,F995)+COUNTIF(P$5:P$52,G995)+COUNTIF(P$5:P$52,H995))","v":""}]
["",null,"","","","","","",null,"","","","","",""]
["",null,"","","","","","",null,"","","","","",""]
["",null,"","","","","","",null,"","","","","",""]
["",null,"","","","","","",null,"","","","","",""]
["",null,"","","","","","",null,"","","","","",""]
["",null,"","","","","","",null,"","","","","",""]
["",null,"","","","","","",null,"","","","","",""]
["",null,"","","","","","",null,"","","","","",""]
["",null,"","","","","","",null,"","","","","",""]
["",null,"","","","","","",null,"","","","","",""]
["",null,"","","","","","",null,"","","","","",""]
["",null,"","","","","","",null,"","","","","",""]
["",null,"","","","","","",null,"","","","","",""]
["",null,"","","","","","",null,"","","","","",""]
["",null,"","","","","","",null,"","","","","",""]
["",null,"","","","","","",null,"","","","","",""]
["",null,"","","","","","",null,"","","","","",""]
["",null,"","","","","","",null,"","","","","",""]
["",null,"","","","","","",null,"","","","","",""]
["",null,"","","","","","",null,"","","","","",""]
["",null,"","","","","","",null,"","","","","",""]
["",null,"","","","","","",null,"","","","","",""]
["",null,"","","","","","",null,"","","","","",""]
["",null,"","","","","","",null,"","","","","",""]
["",null,"","","","","","",null,"","","","","",""]
["",null,"","","","","","",null,"","","","","",""]
["",null,"","","","","","",null,"","","","","",""]
["",null,"","","","","","",null,"","","","","",""]
["",null,"","","","","","",null,"","","","","",""]
["",null,"","","","","","",null,"","","","","",""]
["",null,"","","","","","",null,"","","","","",""]
["",null,"","","","","","",null,"","","","","",""]
["",null,"","","","","","",null,"","","","","",""]
["",null,"","","","","","",null,"","","","","",""]
["",null,"","","","","","",null,"","","","","",""]
["",null,"","","","","","",null,"","","","","",""]
["",null,"","","","","","",null,"","","","","",""]
["",null,"","","","","","",null,"","","","","",""]
["",null,"","","","","","",null,"","","","","",""]
["",null,"","","","","","",null,"","","","","",""]
["",null,"","","","","","",null,"","","","","",""]
["",null,"","","","","","",null,"","","","","",""]
["",null,"","","","","","",null,"","","","","",""]
["",null,"","","","","","",null,"","","","","",""]
["",null,"","","","","","",null,"","","","","",""]
["",null,"","","","","","",null,"","","","","",""]
["",null,"","","","","","",null,"","","","","",""]
["",null,"","","","","","",null,"","","","","",""]
["",null,"","","","","","",null,"","","","","",""]
["",null,"","","","","","",null,"","","","","",""]
["",null,"","","","","","",null,"","","","","",""]
["",null,"","","","","","",null,"","","","","",""]
["",null,"","","","","","",null,"","","","","",""]
["",null,"","","","","","",null,"","","","","",""]
["",null,"","","","","","",null,"","","","","",""]
["",null,"","","","","","",null,"","","","","",""]
["",null,"","","","","","",null,"","","","","",""]
["",null,"","","","","","",null,"","","","","",""]
["",null,"","","","","","",null,"","","","","",""]
["",null,"","","","","","",null,"","","","","",""]
["",null,"","","","","","",null,"","","","","",""]
["",null,"","","","","","",null,"","","","","",""]
["",null,"","","","","","",null,"","","","","",""]
[{"$f":"IF(C1059=\"\",\"\",1+A1058)","v":""},null,{"$f":"IF(Q1067=\"\",\"\",LARGE(Q1067:BM1067,6))","v":""},{"$f":"IF(C1059=\"\",\"\",LARGE(Q1067:BM1067,5))","v":""},{"$f":"IF(C1059=\"\",\"\",LARGE(Q1067:BM1067,4))","v":""},{"$f":"IF(C1059=\"\",\"\",LARGE(Q1067:BM1067,3))","v":""},{"$f":"IF(C1059=\"\",\"\",LARGE(Q1067:BM1067,2))","v":""},{"$f":"IF(C1059=\"\",\"\",LARGE(Q1067:BM1067,1))","v":""},null,{"$f":"IF(C1059=\"\",\"\",COUNTIF(C$1:H$1,C1059)+COUNTIF(C$1:H$1,D1059)+COUNTIF(C$1:H$1,E1059)+COUNTIF(C$1:H$1,F1059)+COUNTIF(C$1:H$1,G1059)+COUNTIF(C$1:H$1,H1059))","v":""},{"$f":"IF(A1059=\"\",\"\",INT((A1059+11)/R$8))","v":""},{"$f":"IF(C1059=\"\",\"\",J1059+MIN(6-J1059-O1059,6-R$10))","v":""},{"$f":"IF(C1059=\"\",\"\",IF(L1059<3,\"\",MID(Q$21,L1059*2-5+COUNTIF(C1059:H1059,I$1)+(I$1=\"\"),1)))","v":""},{"$f":"IF(C1059=\"\",\"\",IF(J1059<3,\"\",MID(Q$21,J1059*2-5+COUNTIF(C1059:H1059,I$1),1)))","v":""},{"$f":"IF(C1059=\"\",\"\",COUNTIF(P$5:P$52,C1059)+COUNTIF(P$5:P$52,D1059)+COUNTIF(P$5:P$52,E1059)+COUNTIF(P$5:P$52,F1059)+COUNTIF(P$5:P$52,G1059)+COUNTIF(P$5:P$52,H1059))","v":""}]
["",null,"","","","","","",null,"","","","","",""]
["",null,"","","","","","",null,"","","","","",""]
["",null,"","","","","","",null,"","","","","",""]
["",null,"","","","","","",null,"","","","","",""]
["",null,"","","","","","",null,"","","","","",""]
["",null,"","","","","","",null,"","","","","",""]
["",null,"","","","","","",null,"","","","","",""]
["",null,"","","","","","",null,"","","","","",""]
["",null,"","","","","","",null,"","","","","",""]
["",null,"","","","","","",null,"","","","","",""]
["",null,"","","","","","",null,"","","","","",""]
["",null,"","","","","","",null,"","","","","",""]
["",null,"","","","","","",null,"","","","","",""]
["",null,"","","","","","",null,"","","","","",""]
["",null,"","","","","","",null,"","","","","",""]
["",null,"","","","","","",null,"","","","","",""]
["",null,"","","","","","",null,"","","","","",""]
["",null,"","","","","","",null,"","","","","",""]
["",null,"","","","","","",null,"","","","","",""]
["",null,"","","","","","",null,"","","","","",""]
["",null,"","","","","","",null,"","","","","",""]
["",null,"","","","","","",null,"","","","","",""]
["",null,"","","","","","",null,"","","","","",""]
["",null,"","","","","","",null,"","","","","",""]
["",null,"","","","","","",null,"","","","","",""]
["",null,"","","","","","",null,"","","","","",""]
["",null,"","","","","","",null,"","","","","",""]
["",null,"","","","","","",null,"","","","","",""]
["",null,"","","","","","",null,"","","","","",""]
["",null,"","","","","","",null,"","","","","",""]
["",null,"","","","","","",null,"","","","","",""]
["",null,"","","","","","",null,"","","","","",""]
["",null,"","","","","","",null,"","","","","",""]
["",null,"","","","","","",null,"","","","","",""]
["",null,"","","","","","",null,"","","","","",""]
["",null,"","","","","","",null,"","","","","",""]
["",null,"","","","","","",null,"","","","","",""]
["",null,"","","","","","",null,"","","","","",""]
["",null,"","","","","","",null,"","","","","",""]
["",null,"","","","","","",null,"","","","","",""]
["",null,"","","","","","",null,"","","","","",""]
["",null,"","","","","","",null,"","","","","",""]
["",null,"","","","","","",null,"","","","","",""]
["",null,"","","","","","",null,"","","","","",""]
["",null,"","","","","","",null,"","","","","",""]
["",null,"","","","","","",null,"","","","","",""]
["",null,"","","","","","",null,"","","","","",""]
["",null,"","","","","","",null,"","","","","",""]
["",null,"","","","","","",null,"","","","","",""]
["",null,"","","","","","",null,"","","","","",""]
["",null,"","","","","","",null,"","","","","",""]
["",null,"","","","","","",null,"","","","","",""]
["",null,"","","","","","",null,"","","","","",""]
["",null,"","","","","","",null,"","","","","",""]
["",null,"","","","","","",null,"","","","","",""]
["",null,"","","","","","",null,"","","","","",""]
["",null,"","","","","","",null,"","","","","",""]
["",null,"","","","","","",null,"","","","","",""]
["",null,"","","","","","",null,"","","","","",""]
["",null,"","","","","","",null,"","","","","",""]
["",null,"","","","","","",null,"","","","","",""]
["",null,"","","","","","",null,"","","","","",""]
["",null,"","","","","","",null,"","","","","",""]
[{"$f":"IF(C1123=\"\",\"\",1+A1122)","v":""},null,{"$f":"IF(Q1131=\"\",\"\",LARGE(Q1131:BM1131,6))","v":""},{"$f":"IF(C1123=\"\",\"\",LARGE(Q1131:BM1131,5))","v":""},{"$f":"IF(C1123=\"\",\"\",LARGE(Q1131:BM1131,4))","v":""},{"$f":"IF(C1123=\"\",\"\",LARGE(Q1131:BM1131,3))","v":""},{"$f":"IF(C1123=\"\",\"\",LARGE(Q1131:BM1131,2))","v":""},{"$f":"IF(C1123=\"\",\"\",LARGE(Q1131:BM1131,1))","v":""},null,{"$f":"IF(C1123=\"\",\"\",COUNTIF(C$1:H$1,C1123)+COUNTIF(C$1:H$1,D1123)+COUNTIF(C$1:H$1,E1123)+COUNTIF(C$1:H$1,F1123)+COUNTIF(C$1:H$1,G1123)+COUNTIF(C$1:H$1,H1123))","v":""},{"$f":"IF(A1123=\"\",\"\",INT((A1123+11)/R$8))","v":""},{"$f":"IF(C1123=\"\",\"\",J1123+MIN(6-J1123-O1123,6-R$10))","v":""},{"$f":"IF(C1123=\"\",\"\",IF(L1123<3,\"\",MID(Q$21,L1123*2-5+COUNTIF(C1123:H1123,I$1)+(I$1=\"\"),1)))","v":""},{"$f":"IF(C1123=\"\",\"\",IF(J1123<3,\"\",MID(Q$21,J1123*2-5+COUNTIF(C1123:H1123,I$1),1)))","v":""},{"$f":"IF(C1123=\"\",\"\",COUNTIF(P$5:P$52,C1123)+COUNTIF(P$5:P$52,D1123)+COUNTIF(P$5:P$52,E1123)+COUNTIF(P$5:P$52,F1123)+COUNTIF(P$5:P$52,G1123)+COUNTIF(P$5:P$52,H1123))","v":""}]
["",null,"","","","","","",null,"","","","","",""]
["",null,"","","","","","",null,"","","","","",""]
["",null,"","","","","","",null,"","","","","",""]
["",null,"","","","","","",null,"","","","","",""]
["",null,"","","","","","",null,"","","","","",""]
["",null,"","","","","","",null,"","","","","",""]
["",null,"","","","","","",null,"","","","","",""]
["",null,"","","","","","",null,"","","","","",""]
["",null,"","","","","","",null,"","","","","",""]
["",null,"","","","","","",null,"","","","","",""]
["",null,"","","","","","",null,"","","","","",""]
["",null,"","","","","","",null,"","","","","",""]
["",null,"","","","","","",null,"","","","","",""]
["",null,"","","","","","",null,"","","","","",""]
["",null,"","","","","","",null,"","","","","",""]
["",null,"","","","","","",null,"","","","","",""]
["",null,"","","","","","",null,"","","","","",""]
["",null,"","","","","","",null,"","","","","",""]
["",null,"","","","","","",null,"","","","","",""]
["",null,"","","","","","",null,"","","","","",""]
["",null,"","","","","","",null,"","","","","",""]
["",null,"","","","","","",null,"","","","","",""]
["",null,"","","","","","",null,"","","","","",""]
["",null,"","","","","","",null,"","","","","",""]
["",null,"","","","","","",null,"","","","","",""]
["",null,"","","","","","",null,"","","","","",""]
["",null,"","","","","","",null,"","","","","",""]
["",null,"","","","","","",null,"","","","","",""]
["",null,"","","","","","",null,"","","","","",""]
["",null,"","","","","","",null,"","","","","",""]
["",null,"","","","","","",null,"","","","","",""]
["",null,"","","","","","",null,"","","","","",""]
["",null,"","","","","","",null,"","","","","",""]
["",null,"","","","","","",null,"","","","","",""]
["",null,"","","","","","",null,"","","","","",""]
["",null,"","","","","","",null,"","","","","",""]
["",null,"","","","","","",null,"","","","","",""]
["",null,"","","","","","",null,"","","","","",""]
["",null,"","","","","","",null,"","","","","",""]
["",null,"","","","","","",null,"","","","","",""]
["",null,"","","","","","",null,"","","","","",""]
["",null,"","","","","","",null,"","","","","",""]
["",null,"","","","","","",null,"","","","","",""]
["",null,"","","","","","",null,"","","","","",""]
["",null,"","","","","","",null,"","","","","",""]
["",null,"","","","","","",null,"","","","","",""]
["",null,"","","","","","",null,"","","","","",""]
["",null,"","","","","","",null,"","","","","",""]
["",null,"","","","","","",null,"","","","","",""]
["",null,"","","","","","",null,"","","","","",""]
["",null,"","","","","","",null,"","","","","",""]
["",null,"","","","","","",null,"","","","","",""]
["",null,"","","","","","",null,"","","","","",""]
["",null,"","","","","","",null,"","","","","",""]
["",null,"","","","","","",null,"","","","","",""]
["",null,"","","","","","",null,"","","","","",""]
["",null,"","","","","","",null,"","","","","",""]
["",null,"","","","","","",null,"","","","","",""]
["",null,"","","","","","",null,"","","","","",""]
["",null,"","","","","","",null,"","","","","",""]
["",null,"","","","","","",null,"","","","","",""]
["",null,"","","","","","",null,"","","","","",""]
["",null,"","","","","","",null,"","","","","",""]
[{"$f":"IF(C1187=\"\",\"\",1+A1186)","v":""},null,{"$f":"IF(Q1195=\"\",\"\",LARGE(Q1195:BM1195,6))","v":""},{"$f":"IF(C1187=\"\",\"\",LARGE(Q1195:BM1195,5))","v":""},{"$f":"IF(C1187=\"\",\"\",LARGE(Q1195:BM1195,4))","v":""},{"$f":"IF(C1187=\"\",\"\",LARGE(Q1195:BM1195,3))","v":""},{"$f":"IF(C1187=\"\",\"\",LARGE(Q1195:BM1195,2))","v":""},{"$f":"IF(C1187=\"\",\"\",LARGE(Q1195:BM1195,1))","v":""},null,{"$f":"IF(C1187=\"\",\"\",COUNTIF(C$1:H$1,C1187)+COUNTIF(C$1:H$1,D1187)+COUNTIF(C$1:H$1,E1187)+COUNTIF(C$1:H$1,F1187)+COUNTIF(C$1:H$1,G1187)+COUNTIF(C$1:H$1,H1187))","v":""},{"$f":"IF(A1187=\"\",\"\",INT((A1187+11)/R$8))","v":""},{"$f":"IF(C1187=\"\",\"\",J1187+MIN(6-J1187-O1187,6-R$10))","v":""},{"$f":"IF(C1187=\"\",\"\",IF(L1187<3,\"\",MID(Q$21,L1187*2-5+COUNTIF(C1187:H1187,I$1)+(I$1=\"\"),1)))","v":""},{"$f":"IF(C1187=\"\",\"\",IF(J1187<3,\"\",MID(Q$21,J1187*2-5+COUNTIF(C1187:H1187,I$1),1)))","v":""},{"$f":"IF(C1187=\"\",\"\",COUNTIF(P$5:P$52,C1187)+COUNTIF(P$5:P$52,D1187)+COUNTIF(P$5:P$52,E1187)+COUNTIF(P$5:P$52,F1187)+COUNTIF(P$5:P$52,G1187)+COUNTIF(P$5:P$52,H1187))","v":""}]
["",null,"","","","","","",null,"","","","","",""]
["",null,"","","","","","",null,"","","","","",""]
["",null,"","","","","","",null,"","","","","",""]
["",null,"","","","","","",null,"","","","","",""]
["",null,"","","","","","",null,"","","","","",""]
["",null,"","","","","","",null,"","","","","",""]
["",null,"","","","","","",null,"","","","","",""]
["",null,"","","","","","",null,"","","","","",""]
["",null,"","","","","","",null,"","","","","",""]
["",null,"","","","","","",null,"","","","","",""]
["",null,"","","","","","",null,"","","","","",""]
["",null,"","","","","","",null,"","","","","",""]
["",null,"","","","","","",null,"","","","","",""]
["",null,"","","","","","",null,"","","","","",""]
["",null,"","","","","","",null,"","","","","",""]
["",null,"","","","","","",null,"","","","","",""]
["",null,"","","","","","",null,"","","","","",""]
["",null,"","","","","","",null,"","","","","",""]
["",null,"","","","","","",null,"","","","","",""]
["",null,"","","","","","",null,"","","","","",""]
["",null,"","","","","","",null,"","","","","",""]
["",null,"","","","","","",null,"","","","","",""]
["",null,"","","","","","",null,"","","","","",""]
["",null,"","","","","","",null,"","","","","",""]
["",null,"","","","","","",null,"","","","","",""]
["",null,"","","","","","",null,"","","","","",""]
["",null,"","","","","","",null,"","","","","",""]
["",null,"","","","","","",null,"","","","","",""]
["",null,"","","","","","",null,"","","","","",""]
["",null,"","","","","","",null,"","","","","",""]
["",null,"","","","","","",null,"","","","","",""]
["",null,"","","","","","",null,"","","","","",""]
["",null,"","","","","","",null,"","","","","",""]
["",null,"","","","","","",null,"","","","","",""]
["",null,"","","","","","",null,"","","","","",""]
["",null,"","","","","","",null,"","","","","",""]
["",null,"","","","","","",null,"","","","","",""]
["",null,"","","","","","",null,"","","","","",""]
["",null,"","","","","","",null,"","","","","",""]
["",null,"","","","","","",null,"","","","","",""]
["",null,"","","","","","",null,"","","","","",""]
["",null,"","","","","","",null,"","","","","",""]
["",null,"","","","","","",null,"","","","","",""]
["",null,"","","","","","",null,"","","","","",""]
["",null,"","","","","","",null,"","","","","",""]
["",null,"","","","","","",null,"","","","","",""]
["",null,"","","","","","",null,"","","","","",""]
["",null,"","","","","","",null,"","","","","",""]
["",null,"","","","","","",null,"","","","","",""]
["",null,"","","","","","",null,"","","","","",""]
["",null,"","","","","","",null,"","","","","",""]
["",null,"","","","","","",null,"","","","","",""]
["",null,"","","","","","",null,"","","","","",""]
["",null,"","","","","","",null,"","","","","",""]
["",null,"","","","","","",null,"","","","","",""]
["",null,"","","","","","",null,"","","","","",""]
["",null,"","","","","","",null,"","","","","",""]
["",null,"","","","","","",null,"","","","","",""]
["",null,"","","","","","",null,"","","","","",""]
["",null,"","","","","","",null,"","","","","",""]
["",null,"","","","","","",null,"","","","","",""]
["",null,"","","","","","",null,"","","","","",""]
["",null,"","","","","","",null,"","","","","",""]
[{"$f":"IF(C1251=\"\",\"\",1+A1250)","v":""},null,{"$f":"IF(Q1259=\"\",\"\",LARGE(Q1259:BM1259,6))","v":""},{"$f":"IF(C1251=\"\",\"\",LARGE(Q1259:BM1259,5))","v":""},{"$f":"IF(C1251=\"\",\"\",LARGE(Q1259:BM1259,4))","v":""},{"$f":"IF(C1251=\"\",\"\",LARGE(Q1259:BM1259,3))","v":""},{"$f":"IF(C1251=\"\",\"\",LARGE(Q1259:BM1259,2))","v":""},{"$f":"IF(C1251=\"\",\"\",LARGE(Q1259:BM1259,1))","v":""},null,{"$f":"IF(C1251=\"\",\"\",COUNTIF(C$1:H$1,C1251)+COUNTIF(C$1:H$1,D1251)+COUNTIF(C$1:H$1,E1251)+COUNTIF(C$1:H$1,F1251)+COUNTIF(C$1:H$1,G1251)+COUNTIF(C$1:H$1,H1251))","v":""},{"$f":"IF(A1251=\"\",\"\",INT((A1251+11)/R$8))","v":""},{"$f":"IF(C1251=\"\",\"\",J1251+MIN(6-J1251-O1251,6-R$10))","v":""},{"$f":"IF(C1251=\"\",\"\",IF(L1251<3,\"\",MID(Q$21,L1251*2-5+COUNTIF(C1251:H1251,I$1)+(I$1=\"\"),1)))","v":""},{"$f":"IF(C1251=\"\",\"\",IF(J1251<3,\"\",MID(Q$21,J1251*2-5+COUNTIF(C1251:H1251,I$1),1)))","v":""},{"$f":"IF(C1251=\"\",\"\",COUNTIF(P$5:P$52,C1251)+COUNTIF(P$5:P$52,D1251)+COUNTIF(P$5:P$52,E1251)+COUNTIF(P$5:P$52,F1251)+COUNTIF(P$5:P$52,G1251)+COUNTIF(P$5:P$52,H1251))","v":""}]
["",null,"","","","","","",null,"","","","","",""]
["",null,"","","","","","",null,"","","","","",""]
["",null,"","","","","","",null,"","","","","",""]
["",null,"","","","","","",null,"","","","","",""]
["",null,"","","","","","",null,"","","","","",""]
["",null,"","","","","","",null,"","","","","",""]
["",null,"","","","","","",null,"","","","","",""]
["",null,"","","","","","",null,"","","","","",""]
["",null,"","","","","","",null,"","","","","",""]
["",null,"","","","","","",null,"","","","","",""]
["",null,"","","","","","",null,"","","","","",""]
["",null,"","","","","","",null,"","","","","",""]
["",null,"","","","","","",null,"","","","","",""]
["",null,"","","","","","",null,"","","","","",""]
["",null,"","","","","","",null,"","","","","",""]
["",null,"","","","","","",null,"","","","","",""]
["",null,"","","","","","",null,"","","","","",""]
["",null,"","","","","","",null,"","","","","",""]
["",null,"","","","","","",null,"","","","","",""]
["",null,"","","","","","",null,"","","","","",""]
["",null,"","","","","","",null,"","","","","",""]
["",null,"","","","","","",null,"","","","","",""]
["",null,"","","","","","",null,"","","","","",""]
["",null,"","","","","","",null,"","","","","",""]
["",null,"","","","","","",null,"","","","","",""]
["",null,"","","","","","",null,"","","","","",""]
["",null,"","","","","","",null,"","","","","",""]
["",null,"","","","","","",null,"","","","","",""]
["",null,"","","","","","",null,"","","","","",""]
["",null,"","","","","","",null,"","","","","",""]
["",null,"","","","","","",null,"","","","","",""]
["",null,"","","","","","",null,"","","","","",""]
["",null,"","","","","","",null,"","","","","",""]
["",null,"","","","","","",null,"","","","","",""]
["",null,"","","","","","",null,"","","","","",""]
["",null,"","","","","","",null,"","","","","",""]
["",null,"","","","","","",null,"","","","","",""]
["",null,"","","","","","",null,"","","","","",""]
["",null,"","","","","","",null,"","","","","",""]
["",null,"","","","","","",null,"","","","","",""]
["",null,"","","","","","",null,"","","","","",""]
["",null,"","","","","","",null,"","","","","",""]
["",null,"","","","","","",null,"","","","","",""]
["",null,"","","","","","",null,"","","","","",""]
["",null,"","","","","","",null,"","","","","",""]
["",null,"","","","","","",null,"","","","","",""]
["",null,"","","","","","",null,"","","","","",""]
["",null,"","","","","","",null,"","","","","",""]
["",null,"","","","","","",null,"","","","","",""]
["",null,"","","","","","",null,"","","","","",""]
["",null,"","","","","","",null,"","","","","",""]
["",null,"","","","","","",null,"","","","","",""]
["",null,"","","","","","",null,"","","","","",""]
["",null,"","","","","","",null,"","","","","",""]
["",null,"","","","","","",null,"","","","","",""]
["",null,"","","","","","",null,"","","","","",""]
["",null,"","","","","","",null,"","","","","",""]
["",null,"","","","","","",null,"","","","","",""]
["",null,"","","","","","",null,"","","","","",""]
["",null,"","","","","","",null,"","","","","",""]
["",null,"","","","","","",null,"","","","","",""]
["",null,"","","","","","",null,"","","","","",""]
["",null,"","","","","","",null,"","","","","",""]
[{"$f":"IF(C1315=\"\",\"\",1+A1314)","v":""},null,{"$f":"IF(Q1323=\"\",\"\",LARGE(Q1323:BM1323,6))","v":""},{"$f":"IF(C1315=\"\",\"\",LARGE(Q1323:BM1323,5))","v":""},{"$f":"IF(C1315=\"\",\"\",LARGE(Q1323:BM1323,4))","v":""},{"$f":"IF(C1315=\"\",\"\",LARGE(Q1323:BM1323,3))","v":""},{"$f":"IF(C1315=\"\",\"\",LARGE(Q1323:BM1323,2))","v":""},{"$f":"IF(C1315=\"\",\"\",LARGE(Q1323:BM1323,1))","v":""},null,{"$f":"IF(C1315=\"\",\"\",COUNTIF(C$1:H$1,C1315)+COUNTIF(C$1:H$1,D1315)+COUNTIF(C$1:H$1,E1315)+COUNTIF(C$1:H$1,F1315)+COUNTIF(C$1:H$1,G1315)+COUNTIF(C$1:H$1,H1315))","v":""},{"$f":"IF(A1315=\"\",\"\",INT((A1315+11)/R$8))","v":""},{"$f":"IF(C1315=\"\",\"\",J1315+MIN(6-J1315-O1315,6-R$10))","v":""},{"$f":"IF(C1315=\"\",\"\",IF(L1315<3,\"\",MID(Q$21,L1315*2-5+COUNTIF(C1315:H1315,I$1)+(I$1=\"\"),1)))","v":""},{"$f":"IF(C1315=\"\",\"\",IF(J1315<3,\"\",MID(Q$21,J1315*2-5+COUNTIF(C1315:H1315,I$1),1)))","v":""},{"$f":"IF(C1315=\"\",\"\",COUNTIF(P$5:P$52,C1315)+COUNTIF(P$5:P$52,D1315)+COUNTIF(P$5:P$52,E1315)+COUNTIF(P$5:P$52,F1315)+COUNTIF(P$5:P$52,G1315)+COUNTIF(P$5:P$52,H1315))","v":""}]
["",null,"","","","","","",null,"","","","","",""]
["",null,"","","","","","",null,"","","","","",""]
["",null,"","","","","","",null,"","","","","",""]
["",null,"","","","","","",null,"","","","","",""]
["",null,"","","","","","",null,"","","","","",""]
["",null,"","","","","","",null,"","","","","",""]
["",null,"","","","","","",null,"","","","","",""]
["",null,"","","","","","",null,"","","","","",""]
["",null,"","","","","","",null,"","","","","",""]
["",null,"","","","","","",null,"","","","","",""]
["",null,"","","","","","",null,"","","","","",""]
["",null,"","","","","","",null,"","","","","",""]
["",null,"","","","","","",null,"","","","","",""]
["",null,"","","","","","",null,"","","","","",""]
["",null,"","","","","","",null,"","","","","",""]
["",null,"","","","","","",null,"","","","","",""]
["",null,"","","","","","",null,"","","","","",""]
["",null,"","","","","","",null,"","","","","",""]
["",null,"","","","","","",null,"","","","","",""]
["",null,"","","","","","",null,"","","","","",""]
["",null,"","","","","","",null,"","","","","",""]
["",null,"","","","","","",null,"","","","","",""]
["",null,"","","","","","",null,"","","","","",""]
["",null,"","","","","","",null,"","","","","",""]
["",null,"","","","","","",null,"","","","","",""]
["",null,"","","","","","",null,"","","","","",""]
["",null,"","","","","","",null,"","","","","",""]
["",null,"","","","","","",null,"","","","","",""]
["",null,"","","","","","",null,"","","","","",""]
["",null,"","","","","","",null,"","","","","",""]
["",null,"","","","","","",null,"","","","","",""]
["",null,"","","","","","",null,"","","","","",""]
["",null,"","","","","","",null,"","","","","",""]
["",null,"","","","","","",null,"","","","","",""]
["",null,"","","","","","",null,"","","","","",""]
["",null,"","","","","","",null,"","","","","",""]
["",null,"","","","","","",null,"","","","","",""]
["",null,"","","","","","",null,"","","","","",""]
["",null,"","","","","","",null,"","","","","",""]
["",null,"","","","","","",null,"","","","","",""]
["",null,"","","","","","",null,"","","","","",""]
["",null,"","","","","","",null,"","","","","",""]
["",null,"","","","","","",null,"","","","","",""]
["",null,"","","","","","",null,"","","","","",""]
["",null,"","","","","","",null,"","","","","",""]
["",null,"","","","","","",null,"","","","","",""]
["",null,"","","","","","",null,"","","","","",""]
["",null,"","","","","","",null,"","","","","",""]
["",null,"","","","","","",null,"","","","","",""]
["",null,"","","","","","",null,"","","","","",""]
["",null,"","","","","","",null,"","","","","",""]
["",null,"","","","","","",null,"","","","","",""]
["",null,"","","","","","",null,"","","","","",""]
["",null,"","","","","","",null,"","","","","",""]
["",null,"","","","","","",null,"","","","","",""]
["",null,"","","","","","",null,"","","","","",""]
["",null,"","","","","","",null,"","","","","",""]
["",null,"","","","","","",null,"","","","","",""]
["",null,"","","","","","",null,"","","","","",""]
["",null,"","","","","","",null,"","","","","",""]
["",null,"","","","","","",null,"","","","","",""]
["",null,"","","","","","",null,"","","","","",""]
["",null,"","","","","","",null,"","","","","",""]
[{"$f":"IF(C1379=\"\",\"\",1+A1378)","v":""},null,{"$f":"IF(Q1387=\"\",\"\",LARGE(Q1387:BM1387,6))","v":""},{"$f":"IF(C1379=\"\",\"\",LARGE(Q1387:BM1387,5))","v":""},{"$f":"IF(C1379=\"\",\"\",LARGE(Q1387:BM1387,4))","v":""},{"$f":"IF(C1379=\"\",\"\",LARGE(Q1387:BM1387,3))","v":""},{"$f":"IF(C1379=\"\",\"\",LARGE(Q1387:BM1387,2))","v":""},{"$f":"IF(C1379=\"\",\"\",LARGE(Q1387:BM1387,1))","v":""},null,{"$f":"IF(C1379=\"\",\"\",COUNTIF(C$1:H$1,C1379)+COUNTIF(C$1:H$1,D1379)+COUNTIF(C$1:H$1,E1379)+COUNTIF(C$1:H$1,F1379)+COUNTIF(C$1:H$1,G1379)+COUNTIF(C$1:H$1,H1379))","v":""},{"$f":"IF(A1379=\"\",\"\",INT((A1379+11)/R$8))","v":""},{"$f":"IF(C1379=\"\",\"\",J1379+MIN(6-J1379-O1379,6-R$10))","v":""},{"$f":"IF(C1379=\"\",\"\",IF(L1379<3,\"\",MID(Q$21,L1379*2-5+COUNTIF(C1379:H1379,I$1)+(I$1=\"\"),1)))","v":""},{"$f":"IF(C1379=\"\",\"\",IF(J1379<3,\"\",MID(Q$21,J1379*2-5+COUNTIF(C1379:H1379,I$1),1)))","v":""},{"$f":"IF(C1379=\"\",\"\",COUNTIF(P$5:P$52,C1379)+COUNTIF(P$5:P$52,D1379)+COUNTIF(P$5:P$52,E1379)+COUNTIF(P$5:P$52,F1379)+COUNTIF(P$5:P$52,G1379)+COUNTIF(P$5:P$52,H1379))","v":""}]
["",null,"","","","","","",null,"","","","","",""]
["",null,"","","","","","",null,"","","","","",""]
["",null,"","","","","","",null,"","","","","",""]
["",null,"","","","","","",null,"","","","","",""]
["",null,"","","","","","",null,"","","","","",""]
["",null,"","","","","","",null,"","","","","",""]
["",null,"","","","","","",null,"","","","","",""]
["",null,"","","","","","",null,"","","","","",""]
["",null,"","","","","","",null,"","","","","",""]
["",null,"","","","","","",null,"","","","","",""]
["",null,"","","","","","",null,"","","","","",""]
["",null,"","","","","","",null,"","","","","",""]
["",null,"","","","","","",null,"","","","","",""]
["",null,"","","","","","",null,"","","","","",""]
["",null,"","","","","","",null,"","","","","",""]
["",null,"","","","","","",null,"","","","","",""]
["",null,"","","","","","",null,"","","","","",""]
["",null,"","","","","","",null,"","","","","",""]
["",null,"","","","","","",null,"","","","","",""]
["",null,"","","","","","",null,"","","","","",""]
["",null,"","","","","","",null,"","","","","",""]
["",null,"","","","","","",null,"","","","","",""]
["",null,"","","","","","",null,"","","","","",""]
["",null,"","","","","","",null,"","","","","",""]
["",null,"","","","","","",null,"","","","","",""]
["",null,"","","","","","",null,"","","","","",""]
["",null,"","","","","","",null,"","","","","",""]
["",null,"","","","","","",null,"","","","","",""]
["",null,"","","","","","",null,"","","","","",""]
["",null,"","","","","","",null,"","","","","",""]
["",null,"","","","","","",null,"","","","","",""]
["",null,"","","","","","",null,"","","","","",""]
["",null,"","","","","","",null,"","","","","",""]
["",null,"","","","","","",null,"","","","","",""]
["",null,"","","","","","",null,"","","","","",""]
["",null,"","","","","","",null,"","","","","",""]
["",null,"","","","","","",null,"","","","","",""]
["",null,"","","","","","",null,"","","","","",""]
["",null,"","","","","","",null,"","","","","",""]
["",null,"","","","","","",null,"","","","","",""]
["",null,"","","","","","",null,"","","","","",""]
["",null,"","","","","","",null,"","","","","",""]
["",null,"","","","","","",null,"","","","","",""]
["",null,"","","","","","",null,"","","","","",""]
["",null,"","","","","","",null,"","","","","",""]
["",null,"","","","","","",null,"","","","","",""]
["",null,"","","","","","",null,"","","","","",""]
["",null,"","","","","","",null,"","","","","",""]
["",null,"","","","","","",null,"","","","","",""]
["",null,"","","","","","",null,"","","","","",""]
["",null,"","","","","","",null,"","","","","",""]
["",null,"","","","","","",null,"","","","","",""]
["",null,"","","","","","",null,"","","","","",""]
["",null,"","","","","","",null,"","","","","",""]
["",null,"","","","","","",null,"","","","","",""]
["",null,"","","","","","",null,"","","","","",""]
["",null,"","","","","","",null,"","","","","",""]
["",null,"","","","","","",null,"","","","","",""]
["",null,"","","","","","",null,"","","","","",""]
["",null,"","","","","","",null,"","","","","",""]
["",null,"","","","","","",null,"","","","","",""]
["",null,"","","","","","",null,"","","","","",""]
["",null,"","","","","","",null,"","","","","",""]
[{"$f":"IF(C1443=\"\",\"\",1+A1442)","v":""},null,{"$f":"IF(Q1451=\"\",\"\",LARGE(Q1451:BM1451,6))","v":""},{"$f":"IF(C1443=\"\",\"\",LARGE(Q1451:BM1451,5))","v":""},{"$f":"IF(C1443=\"\",\"\",LARGE(Q1451:BM1451,4))","v":""},{"$f":"IF(C1443=\"\",\"\",LARGE(Q1451:BM1451,3))","v":""},{"$f":"IF(C1443=\"\",\"\",LARGE(Q1451:BM1451,2))","v":""},{"$f":"IF(C1443=\"\",\"\",LARGE(Q1451:BM1451,1))","v":""},null,{"$f":"IF(C1443=\"\",\"\",COUNTIF(C$1:H$1,C1443)+COUNTIF(C$1:H$1,D1443)+COUNTIF(C$1:H$1,E1443)+COUNTIF(C$1:H$1,F1443)+COUNTIF(C$1:H$1,G1443)+COUNTIF(C$1:H$1,H1443))","v":""},{"$f":"IF(A1443=\"\",\"\",INT((A1443+11)/R$8))","v":""},{"$f":"IF(C1443=\"\",\"\",J1443+MIN(6-J1443-O1443,6-R$10))","v":""},{"$f":"IF(C1443=\"\",\"\",IF(L1443<3,\"\",MID(Q$21,L1443*2-5+COUNTIF(C1443:H1443,I$1)+(I$1=\"\"),1)))","v":""},{"$f":"IF(C1443=\"\",\"\",IF(J1443<3,\"\",MID(Q$21,J1443*2-5+COUNTIF(C1443:H1443,I$1),1)))","v":""},{"$f":"IF(C1443=\"\",\"\",COUNTIF(P$5:P$52,C1443)+COUNTIF(P$5:P$52,D1443)+COUNTIF(P$5:P$52,E1443)+COUNTIF(P$5:P$52,F1443)+COUNTIF(P$5:P$52,G1443)+COUNTIF(P$5:P$52,H1443))","v":""}]
["",null,"","","","","","",null,"","","","","",""]
["",null,"","","","","","",null,"","","","","",""]
["",null,"","","","","","",null,"","","","","",""]
["",null,"","","","","","",null,"","","","","",""]
["",null,"","","","","","",null,"","","","","",""]
["",null,"","","","","","",null,"","","","","",""]
["",null,"","","","","","",null,"","","","","",""]
["",null,"","","","","","",null,"","","","","",""]
["",null,"","","","","","",null,"","","","","",""]
["",null,"","","","","","",null,"","","","","",""]
["",null,"","","","","","",null,"","","","","",""]
["",null,"","","","","","",null,"","","","","",""]
["",null,"","","","","","",null,"","","","","",""]
["",null,"","","","","","",null,"","","","","",""]
["",null,"","","","","","",null,"","","","","",""]
["",null,"","","","","","",null,"","","","","",""]
["",null,"","","","","","",null,"","","","","",""]
["",null,"","","","","","",null,"","","","","",""]
["",null,"","","","","","",null,"","","","","",""]
["",null,"","","","","","",null,"","","","","",""]
["",null,"","","","","","",null,"","","","","",""]
["",null,"","","","","","",null,"","","","","",""]
["",null,"","","","","","",null,"","","","","",""]
["",null,"","","","","","",null,"","","","","",""]
["",null,"","","","","","",null,"","","","","",""]
["",null,"","","","","","",null,"","","","","",""]
["",null,"","","","","","",null,"","","","","",""]
["",null,"","","","","","",null,"","","","","",""]
["",null,"","","","","","",null,"","","","","",""]
["",null,"","","","","","",null,"","","","","",""]
["",null,"","","","","","",null,"","","","","",""]
["",null,"","","","","","",null,"","","","","",""]
["",null,"","","","","","",null,"","","","","",""]
["",null,"","","","","","",null,"","","","","",""]
["",null,"","","","","","",null,"","","","","",""]
["",null,"","","","","","",null,"","","","","",""]
["",null,"","","","","","",null,"","","","","",""]
["",null,"","","","","","",null,"","","","","",""]
["",null,"","","","","","",null,"","","","","",""]
["",null,"","","","","","",null,"","","","","",""]
["",null,"","","","","","",null,"","","","","",""]
["",null,"","","","","","",null,"","","","","",""]
["",null,"","","","","","",null,"","","","","",""]
["",null,"","","","","","",null,"","","","","",""]
["",null,"","","","","","",null,"","","","","",""]
["",null,"","","","","","",null,"","","","","",""]
["",null,"","","","","","",null,"","","","","",""]
["",null,"","","","","","",null,"","","","","",""]
["",null,"","","","","","",null,"","","","","",""]
["",null,"","","","","","",null,"","","","","",""]
["",null,"","","","","","",null,"","","","","",""]
["",null,"","","","","","",null,"","","","","",""]
["",null,"","","","","","",null,"","","","","",""]
["",null,"","","","","","",null,"","","","","",""]
["",null,"","","","","","",null,"","","","","",""]
["",null,"","","","","","",null,"","","","","",""]
["",null,"","","","","","",null,"","","","","",""]
["",null,"","","","","","",null,"","","","","",""]
["",null,"","","","","","",null,"","","","","",""]
["",null,"","","","","","",null,"","","","","",""]
["",null,"","","","","","",null,"","","","","",""]
["",null,"","","","","","",null,"","","","","",""]
["",null,"","","","","","",null,"","","","","",""]
[{"$f":"IF(C1507=\"\",\"\",1+A1506)","v":""},null,{"$f":"IF(Q1515=\"\",\"\",LARGE(Q1515:BM1515,6))","v":""},{"$f":"IF(C1507=\"\",\"\",LARGE(Q1515:BM1515,5))","v":""},{"$f":"IF(C1507=\"\",\"\",LARGE(Q1515:BM1515,4))","v":""},{"$f":"IF(C1507=\"\",\"\",LARGE(Q1515:BM1515,3))","v":""},{"$f":"IF(C1507=\"\",\"\",LARGE(Q1515:BM1515,2))","v":""},{"$f":"IF(C1507=\"\",\"\",LARGE(Q1515:BM1515,1))","v":""},null,{"$f":"IF(C1507=\"\",\"\",COUNTIF(C$1:H$1,C1507)+COUNTIF(C$1:H$1,D1507)+COUNTIF(C$1:H$1,E1507)+COUNTIF(C$1:H$1,F1507)+COUNTIF(C$1:H$1,G1507)+COUNTIF(C$1:H$1,H1507))","v":""},{"$f":"IF(A1507=\"\",\"\",INT((A1507+11)/R$8))","v":""},{"$f":"IF(C1507=\"\",\"\",J1507+MIN(6-J1507-O1507,6-R$10))","v":""},{"$f":"IF(C1507=\"\",\"\",IF(L1507<3,\"\",MID(Q$21,L1507*2-5+COUNTIF(C1507:H1507,I$1)+(I$1=\"\"),1)))","v":""},{"$f":"IF(C1507=\"\",\"\",IF(J1507<3,\"\",MID(Q$21,J1507*2-5+COUNTIF(C1507:H1507,I$1),1)))","v":""},{"$f":"IF(C1507=\"\",\"\",COUNTIF(P$5:P$52,C1507)+COUNTIF(P$5:P$52,D1507)+COUNTIF(P$5:P$52,E1507)+COUNTIF(P$5:P$52,F1507)+COUNTIF(P$5:P$52,G1507)+COUNTIF(P$5:P$52,H1507))","v":""}]
["",null,"","","","","","",null,"","","","","",""]
["",null,"","","","","","",null,"","","","","",""]
["",null,"","","","","","",null,"","","","","",""]
["",null,"","","","","","",null,"","","","","",""]
["",null,"","","","","","",null,"","","","","",""]
["",null,"","","","","","",null,"","","","","",""]
["",null,"","","","","","",null,"","","","","",""]
["",null,"","","","","","",null,"","","","","",""]
["",null,"","","","","","",null,"","","","","",""]
["",null,"","","","","","",null,"","","","","",""]
["",null,"","","","","","",null,"","","","","",""]
["",null,"","","","","","",null,"","","","","",""]
["",null,"","","","","","",null,"","","","","",""]
["",null,"","","","","","",null,"","","","","",""]
["",null,"","","","","","",null,"","","","","",""]
["",null,"","","","","","",null,"","","","","",""]
["",null,"","","","","","",null,"","","","","",""]
["",null,"","","","","","",null,"","","","","",""]
["",null,"","","","","","",null,"","","","","",""]
["",null,"","","","","","",null,"","","","","",""]
["",null,"","","","","","",null,"","","","","",""]
["",null,"","","","","","",null,"","","","","",""]
["",null,"","","","","","",null,"","","","","",""]
["",null,"","","","","","",null,"","","","","",""]
["",null,"","","","","","",null,"","","","","",""]
["",null,"","","","","","",null,"","","","","",""]
["",null,"","","","","","",null,"","","","","",""]
["",null,"","","","","","",null,"","","","","",""]
["",null,"","","","","","",null,"","","","","",""]
["",null,"","","","","","",null,"","","","","",""]
["",null,"","","","","","",null,"","","","","",""]
["",null,"","","","","","",null,"","","","","",""]
["",null,"","","","","","",null,"","","","","",""]
["",null,"","","","","","",null,"","","","","",""]
["",null,"","","","","","",null,"","","","","",""]
["",null,"","","","","","",null,"","","","","",""]
["",null,"","","","","","",null,"","","","","",""]
["",null,"","","","","","",null,"","","","","",""]
["",null,"","","","","","",null,"","","","","",""]
["",null,"","","","","","",null,"","","","","",""]
["",null,"","","","","","",null,"","","","","",""]
["",null,"","","","","","",null,"","","","","",""]
["",null,"","","","","","",null,"","","","","",""]
["",null,"","","","","","",null,"","","","","",""]
["",null,"","","","","","",null,"","","","","",""]
["",null,"","","","","","",null,"","","","","",""]
["",null,"","","","","","",null,"","","","","",""]
["",null,"","","","","","",null,"","","","","",""]
["",null,"","","","","","",null,"","","","","",""]
["",null,"","","","","","",null,"","","","","",""]
["",null,"","","","","","",null,"","","","","",""]
["",null,"","","","","","",null,"","","","","",""]
["",null,"","","","","","",null,"","","","","",""]
["",null,"","","","","","",null,"","","","","",""]
["",null,"","","","","","",null,"","","","","",""]
["",null,"","","","","","",null,"","","","","",""]
["",null,"","","","","","",null,"","","","","",""]
["",null,"","","","","","",null,"","","","","",""]
["",null,"","","","","","",null,"","","","","",""]
["",null,"","","","","","",null,"","","","","",""]
["",null,"","","","","","",null,"","","","","",""]
["",null,"","","","","","",null,"","","","","",""]
["",null,"","","","","","",null,"","","","","",""]
[{"$f":"IF(C1571=\"\",\"\",1+A1570)","v":""},null,{"$f":"IF(Q1579=\"\",\"\",LARGE(Q1579:BM1579,6))","v":""},{"$f":"IF(C1571=\"\",\"\",LARGE(Q1579:BM1579,5))","v":""},{"$f":"IF(C1571=\"\",\"\",LARGE(Q1579:BM1579,4))","v":""},{"$f":"IF(C1571=\"\",\"\",LARGE(Q1579:BM1579,3))","v":""},{"$f":"IF(C1571=\"\",\"\",LARGE(Q1579:BM1579,2))","v":""},{"$f":"IF(C1571=\"\",\"\",LARGE(Q1579:BM1579,1))","v":""},null,{"$f":"IF(C1571=\"\",\"\",COUNTIF(C$1:H$1,C1571)+COUNTIF(C$1:H$1,D1571)+COUNTIF(C$1:H$1,E1571)+COUNTIF(C$1:H$1,F1571)+COUNTIF(C$1:H$1,G1571)+COUNTIF(C$1:H$1,H1571))","v":""},{"$f":"IF(A1571=\"\",\"\",INT((A1571+11)/R$8))","v":""},{"$f":"IF(C1571=\"\",\"\",J1571+MIN(6-J1571-O1571,6-R$10))","v":""},{"$f":"IF(C1571=\"\",\"\",IF(L1571<3,\"\",MID(Q$21,L1571*2-5+COUNTIF(C1571:H1571,I$1)+(I$1=\"\"),1)))","v":""},{"$f":"IF(C1571=\"\",\"\",IF(J1571<3,\"\",MID(Q$21,J1571*2-5+COUNTIF(C1571:H1571,I$1),1)))","v":""},{"$f":"IF(C1571=\"\",\"\",COUNTIF(P$5:P$52,C1571)+COUNTIF(P$5:P$52,D1571)+COUNTIF(P$5:P$52,E1571)+COUNTIF(P$5:P$52,F1571)+COUNTIF(P$5:P$52,G1571)+COUNTIF(P$5:P$52,H1571))","v":""}]
["",null,"","","","","","",null,"","","","","",""]
["",null,"","","","","","",null,"","","","","",""]
["",null,"","","","","","",null,"","","","","",""]
["",null,"","","","","","",null,"","","","","",""]
["",null,"","","","","","",null,"","","","","",""]
["",null,"","","","","","",null,"","","","","",""]
["",null,"","","","","","",null,"","","","","",""]
["",null,"","","","","","",null,"","","","","",""]
["",null,"","","","","","",null,"","","","","",""]
["",null,"","","","","","",null,"","","","","",""]
["",null,"","","","","","",null,"","","","","",""]
["",null,"","","","","","",null,"","","","","",""]
["",null,"","","","","","",null,"","","","","",""]
["",null,"","","","","","",null,"","","","","",""]
["",null,"","","","","","",null,"","","","","",""]
["",null,"","","","","","",null,"","","","","",""]
["",null,"","","","","","",null,"","","","","",""]
["",null,"","","","","","",null,"","","","","",""]
["",null,"","","","","","",null,"","","","","",""]
["",null,"","","","","","",null,"","","","","",""]
["",null,"","","","","","",null,"","","","","",""]
["",null,"","","","","","",null,"","","","","",""]
["",null,"","","","","","",null,"","","","","",""]
["",null,"","","","","","",null,"","","","","",""]
["",null,"","","","","","",null,"","","","","",""]
["",null,"","","","","","",null,"","","","","",""]
["",null,"","","","","","",null,"","","","","",""]
["",null,"","","","","","",null,"","","","","",""]
["",null,"","","","","","",null,"","","","","",""]
["",null,"","","","","","",null,"","","","","",""]
["",null,"","","","","","",null,"","","","","",""]
["",null,"","","","","","",null,"","","","","",""]
["",null,"","","","","","",null,"","","","","",""]
["",null,"","","","","","",null,"","","","","",""]
["",null,"","","","","","",null,"","","","","",""]
["",null,"","","","","","",null,"","","","","",""]
["",null,"","","","","","",null,"","","","","",""]
["",null,"","","","","","",null,"","","","","",""]
["",null,"","","","","","",null,"","","","","",""]
["",null,"","","","","","",null,"","","","","",""]
["",null,"","","","","","",null,"","","","","",""]
["",null,"","","","","","",null,"","","","","",""]
["",null,"","","","","","",null,"","","","","",""]
["",null,"","","","","","",null,"","","","","",""]
["",null,"","","","","","",null,"","","","","",""]
["",null,"","","","","","",null,"","","","","",""]
["",null,"","","","","","",null,"","","","","",""]
["",null,"","","","","","",null,"","","","","",""]
["",null,"","","","","","",null,"","","","","",""]
["",null,"","","","","","",null,"","","","","",""]
["",null,"","","","","","",null,"","","","","",""]
["",null,"","","","","","",null,"","","","","",""]
["",null,"","","","","","",null,"","","","","",""]
["",null,"","","","","","",null,"","","","","",""]
["",null,"","","","","","",null,"","","","","",""]
["",null,"","","","","","",null,"","","","","",""]
["",null,"","","","","","",null,"","","","","",""]
["",null,"","","","","","",null,"","","","","",""]
["",null,"","","","","","",null,"","","","","",""]
["",null,"","","","","","",null,"","","","","",""]
["",null,"","","","","","",null,"","","","","",""]
["",null,"","","","","","",null,"","","","","",""]
["",null,"","","","","","",null,"","","","","",""]
[{"$f":"IF(C1635=\"\",\"\",1+A1634)","v":""},null,{"$f":"IF(Q1643=\"\",\"\",LARGE(Q1643:BM1643,6))","v":""},{"$f":"IF(C1635=\"\",\"\",LARGE(Q1643:BM1643,5))","v":""},{"$f":"IF(C1635=\"\",\"\",LARGE(Q1643:BM1643,4))","v":""},{"$f":"IF(C1635=\"\",\"\",LARGE(Q1643:BM1643,3))","v":""},{"$f":"IF(C1635=\"\",\"\",LARGE(Q1643:BM1643,2))","v":""},{"$f":"IF(C1635=\"\",\"\",LARGE(Q1643:BM1643,1))","v":""},null,{"$f":"IF(C1635=\"\",\"\",COUNTIF(C$1:H$1,C1635)+COUNTIF(C$1:H$1,D1635)+COUNTIF(C$1:H$1,E1635)+COUNTIF(C$1:H$1,F1635)+COUNTIF(C$1:H$1,G1635)+COUNTIF(C$1:H$1,H1635))","v":""},{"$f":"IF(A1635=\"\",\"\",INT((A1635+11)/R$8))","v":""},{"$f":"IF(C1635=\"\",\"\",J1635+MIN(6-J1635-O1635,6-R$10))","v":""},{"$f":"IF(C1635=\"\",\"\",IF(L1635<3,\"\",MID(Q$21,L1635*2-5+COUNTIF(C1635:H1635,I$1)+(I$1=\"\"),1)))","v":""},{"$f":"IF(C1635=\"\",\"\",IF(J1635<3,\"\",MID(Q$21,J1635*2-5+COUNTIF(C1635:H1635,I$1),1)))","v":""},{"$f":"IF(C1635=\"\",\"\",COUNTIF(P$5:P$52,C1635)+COUNTIF(P$5:P$52,D1635)+COUNTIF(P$5:P$52,E1635)+COUNTIF(P$5:P$52,F1635)+COUNTIF(P$5:P$52,G1635)+COUNTIF(P$5:P$52,H1635))","v":""}]
["",null,"","","","","","",null,"","","","","",""]
["",null,"","","","","","",null,"","","","","",""]
["",null,"","","","","","",null,"","","","","",""]
["",null,"","","","","","",null,"","","","","",""]
["",null,"","","","","","",null,"","","","","",""]
["",null,"","","","","","",null,"","","","","",""]
["",null,"","","","","","",null,"","","","","",""]
["",null,"","","","","","",null,"","","","","",""]
["",null,"","","","","","",null,"","","","","",""]
["",null,"","","","","","",null,"","","","","",""]
["",null,"","","","","","",null,"","","","","",""]
["",null,"","","","","","",null,"","","","","",""]
["",null,"","","","","","",null,"","","","","",""]
["",null,"","","","","","",null,"","","","","",""]
["",null,"","","","","","",null,"","","","","",""]
["",null,"","","","","","",null,"","","","","",""]
["",null,"","","","","","",null,"","","","","",""]
["",null,"","","","","","",null,"","","","","",""]
["",null,"","","","","","",null,"","","","","",""]
["",null,"","","","","","",null,"","","","","",""]
["",null,"","","","","","",null,"","","","","",""]
["",null,"","","","","","",null,"","","","","",""]
["",null,"","","","","","",null,"","","","","",""]
["",null,"","","","","","",null,"","","","","",""]
["",null,"","","","","","",null,"","","","","",""]
["",null,"","","","","","",null,"","","","","",""]
["",null,"","","","","","",null,"","","","","",""]
["",null,"","","","","","",null,"","","","","",""]
["",null,"","","","","","",null,"","","","","",""]
["",null,"","","","","","",null,"","","","","",""]
["",null,"","","","","","",null,"","","","","",""]
["",null,"","","","","","",null,"","","","","",""]
["",null,"","","","","","",null,"","","","","",""]
["",null,"","","","","","",null,"","","","","",""]
["",null,"","","","","","",null,"","","","","",""]
["",null,"","","","","","",null,"","","","","",""]
["",null,"","","","","","",null,"","","","","",""]
["",null,"","","","","","",null,"","","","","",""]
["",null,"","","","","","",null,"","","","","",""]
["",null,"","","","","","",null,"","","","","",""]
["",null,"","","","","","",null,"","","","","",""]
["",null,"","","","","","",null,"","","","","",""]
["",null,"","","","","","",null,"","","","","",""]
["",null,"","","","","","",null,"","","","","",""]
["",null,"","","","","","",null,"","","","","",""]
["",null,"","","","","","",null,"","","","","",""]
["",null,"","","","","","",null,"","","","","",""]
["",null,"","","","","","",null,"","","","","",""]
["",null,"","","","","","",null,"","","","","",""]
["",null,"","","","","","",null,"","","","","",""]
["",null,"","","","","","",null,"","","","","",""]
["",null,"","","","","","",null,"","","","","",""]
["",null,"","","","","","",null,"","","","","",""]
["",null,"","","","","","",null,"","","","","",""]
["",null,"","","","","","",null,"","","","","",""]
["",null,"","","","","","",null,"","","","","",""]
["",null,"","","","","","",null,"","","","","",""]
["",null,"","","","","","",null,"","","","","",""]
["",null,"","","","","","",null,"","","","","",""]
["",null,"","","","","","",null,"","","","","",""]
["",null,"","","","","","",null,"","","","","",""]
["",null,"","","","","","",null,"","","","","",""]
["",null,"","","","","","",null,"","","","","",""]
[{"$f":"IF(C1699=\"\",\"\",1+A1698)","v":""},null,{"$f":"IF(Q1707=\"\",\"\",LARGE(Q1707:BM1707,6))","v":""},{"$f":"IF(C1699=\"\",\"\",LARGE(Q1707:BM1707,5))","v":""},{"$f":"IF(C1699=\"\",\"\",LARGE(Q1707:BM1707,4))","v":""},{"$f":"IF(C1699=\"\",\"\",LARGE(Q1707:BM1707,3))","v":""},{"$f":"IF(C1699=\"\",\"\",LARGE(Q1707:BM1707,2))","v":""},{"$f":"IF(C1699=\"\",\"\",LARGE(Q1707:BM1707,1))","v":""},null,{"$f":"IF(C1699=\"\",\"\",COUNTIF(C$1:H$1,C1699)+COUNTIF(C$1:H$1,D1699)+COUNTIF(C$1:H$1,E1699)+COUNTIF(C$1:H$1,F1699)+COUNTIF(C$1:H$1,G1699)+COUNTIF(C$1:H$1,H1699))","v":""},{"$f":"IF(A1699=\"\",\"\",INT((A1699+11)/R$8))","v":""},{"$f":"IF(C1699=\"\",\"\",J1699+MIN(6-J1699-O1699,6-R$10))","v":""},{"$f":"IF(C1699=\"\",\"\",IF(L1699<3,\"\",MID(Q$21,L1699*2-5+COUNTIF(C1699:H1699,I$1)+(I$1=\"\"),1)))","v":""},{"$f":"IF(C1699=\"\",\"\",IF(J1699<3,\"\",MID(Q$21,J1699*2-5+COUNTIF(C1699:H1699,I$1),1)))","v":""},{"$f":"IF(C1699=\"\",\"\",COUNTIF(P$5:P$52,C1699)+COUNTIF(P$5:P$52,D1699)+COUNTIF(P$5:P$52,E1699)+COUNTIF(P$5:P$52,F1699)+COUNTIF(P$5:P$52,G1699)+COUNTIF(P$5:P$52,H1699))","v":""}]
["",null,"","","","","","",null,"","","","","",""]
["",null,"","","","","","",null,"","","","","",""]
["",null,"","","","","","",null,"","","","","",""]
["",null,"","","","","","",null,"","","","","",""]
["",null,"","","","","","",null,"","","","","",""]
["",null,"","","","","","",null,"","","","","",""]
["",null,"","","","","","",null,"","","","","",""]
["",null,"","","","","","",null,"","","","","",""]
["",null,"","","","","","",null,"","","","","",""]
["",null,"","","","","","",null,"","","","","",""]
["",null,"","","","","","",null,"","","","","",""]
["",null,"","","","","","",null,"","","","","",""]
["",null,"","","","","","",null,"","","","","",""]
["",null,"","","","","","",null,"","","","","",""]
["",null,"","","","","","",null,"","","","","",""]
["",null,"","","","","","",null,"","","","","",""]
["",null,"","","","","","",null,"","","","","",""]
["",null,"","","","","","",null,"","","","","",""]
["",null,"","","","","","",null,"","","","","",""]
["",null,"","","","","","",null,"","","","","",""]
["",null,"","","","","","",null,"","","","","",""]
["",null,"","","","","","",null,"","","","","",""]
["",null,"","","","","","",null,"","","","","",""]
["",null,"","","","","","",null,"","","","","",""]
["",null,"","","","","","",null,"","","","","",""]
["",null,"","","","","","",null,"","","","","",""]
["",null,"","","","","","",null,"","","","","",""]
["",null,"","","","","","",null,"","","","","",""]
["",null,"","","","","","",null,"","","","","",""]
["",null,"","","","","","",null,"","","","","",""]
["",null,"","","","","","",null,"","","","","",""]
["",null,"","","","","","",null,"","","","","",""]
["",null,"","","","","","",null,"","","","","",""]
["",null,"","","","","","",null,"","","","","",""]
["",null,"","","","","","",null,"","","","","",""]
["",null,"","","","","","",null,"","","","","",""]
["",null,"","","","","","",null,"","","","","",""]
["",null,"","","","","","",null,"","","","","",""]
["",null,"","","","","","",null,"","","","","",""]
["",null,"","","","","","",null,"","","","","",""]
["",null,"","","","","","",null,"","","","","",""]
["",null,"","","","","","",null,"","","","","",""]
["",null,"","","","","","",null,"","","","","",""]
["",null,"","","","","","",null,"","","","","",""]
["",null,"","","","","","",null,"","","","","",""]
["",null,"","","","","","",null,"","","","","",""]
["",null,"","","","","","",null,"","","","","",""]
["",null,"","","","","","",null,"","","","","",""]
["",null,"","","","","","",null,"","","","","",""]
["",null,"","","","","","",null,"","","","","",""]
["",null,"","","","","","",null,"","","","","",""]
["",null,"","","","","","",null,"","","","","",""]
["",null,"","","","","","",null,"","","","","",""]
["",null,"","","","","","",null,"","","","","",""]
["",null,"","","","","","",null,"","","","","",""]
["",null,"","","","","","",null,"","","","","",""]
["",null,"","","","","","",null,"","","","","",""]
["",null,"","","","","","",null,"","","","","",""]
["",null,"","","","","","",null,"","","","","",""]
["",null,"","","","","","",null,"","","","","",""]
["",null,"","","","","","",null,"","","","","",""]
["",null,"","","","","","",null,"","","","","",""]
["",null,"","","","","","",null,"","","","","",""]
[{"$f":"IF(C1763=\"\",\"\",1+A1762)","v":""},null,{"$f":"IF(Q1771=\"\",\"\",LARGE(Q1771:BM1771,6))","v":""},{"$f":"IF(C1763=\"\",\"\",LARGE(Q1771:BM1771,5))","v":""},{"$f":"IF(C1763=\"\",\"\",LARGE(Q1771:BM1771,4))","v":""},{"$f":"IF(C1763=\"\",\"\",LARGE(Q1771:BM1771,3))","v":""},{"$f":"IF(C1763=\"\",\"\",LARGE(Q1771:BM1771,2))","v":""},{"$f":"IF(C1763=\"\",\"\",LARGE(Q1771:BM1771,1))","v":""},null,{"$f":"IF(C1763=\"\",\"\",COUNTIF(C$1:H$1,C1763)+COUNTIF(C$1:H$1,D1763)+COUNTIF(C$1:H$1,E1763)+COUNTIF(C$1:H$1,F1763)+COUNTIF(C$1:H$1,G1763)+COUNTIF(C$1:H$1,H1763))","v":""},{"$f":"IF(A1763=\"\",\"\",INT((A1763+11)/R$8))","v":""},{"$f":"IF(C1763=\"\",\"\",J1763+MIN(6-J1763-O1763,6-R$10))","v":""},{"$f":"IF(C1763=\"\",\"\",IF(L1763<3,\"\",MID(Q$21,L1763*2-5+COUNTIF(C1763:H1763,I$1)+(I$1=\"\"),1)))","v":""},{"$f":"IF(C1763=\"\",\"\",IF(J1763<3,\"\",MID(Q$21,J1763*2-5+COUNTIF(C1763:H1763,I$1),1)))","v":""},{"$f":"IF(C1763=\"\",\"\",COUNTIF(P$5:P$52,C1763)+COUNTIF(P$5:P$52,D1763)+COUNTIF(P$5:P$52,E1763)+COUNTIF(P$5:P$52,F1763)+COUNTIF(P$5:P$52,G1763)+COUNTIF(P$5:P$52,H1763))","v":""}]
["",null,"","","","","","",null,"","","","","",""]
["",null,"","","","","","",null,"","","","","",""]
["",null,"","","","","","",null,"","","","","",""]
["",null,"","","","","","",null,"","","","","",""]
["",null,"","","","","","",null,"","","","","",""]
["",null,"","","","","","",null,"","","","","",""]
["",null,"","","","","","",null,"","","","","",""]
["",null,"","","","","","",null,"","","","","",""]
["",null,"","","","","","",null,"","","","","",""]
["",null,"","","","","","",null,"","","","","",""]
["",null,"","","","","","",null,"","","","","",""]
["",null,"","","","","","",null,"","","","","",""]
["",null,"","","","","","",null,"","","","","",""]
["",null,"","","","","","",null,"","","","","",""]
["",null,"","","","","","",null,"","","","","",""]
["",null,"","","","","","",null,"","","","","",""]
["",null,"","","","","","",null,"","","","","",""]
["",null,"","","","","","",null,"","","","","",""]
["",null,"","","","","","",null,"","","","","",""]
["",null,"","","","","","",null,"","","","","",""]
["",null,"","","","","","",null,"","","","","",""]
["",null,"","","","","","",null,"","","","","",""]
["",null,"","","","","","",null,"","","","","",""]
["",null,"","","","","","",null,"","","","","",""]
["",null,"","","","","","",null,"","","","","",""]
["",null,"","","","","","",null,"","","","","",""]
["",null,"","","","","","",null,"","","","","",""]
["",null,"","","","","","",null,"","","","","",""]
["",null,"","","","","","",null,"","","","","",""]
["",null,"","","","","","",null,"","","","","",""]
["",null,"","","","","","",null,"","","","","",""]
["",null,"","","","","","",null,"","","","","",""]
["",null,"","","","","","",null,"","","","","",""]
["",null,"","","","","","",null,"","","","","",""]
["",null,"","","","","","",null,"","","","","",""]
["",null,"","","","","","",null,"","","","","",""]
["",null,"","","","","","",null,"","","","","",""]
["",null,"","","","","","",null,"","","","","",""]
["",null,"","","","","","",null,"","","","","",""]
["",null,"","","","","","",null,"","","","","",""]
["",null,"","","","","","",null,"","","","","",""]
["",null,"","","","","","",null,"","","","","",""]
["",null,"","","","","","",null,"","","","","",""]
["",null,"","","","","","",null,"","","","","",""]
["",null,"","","","","","",null,"","","","","",""]
["",null,"","","","","","",null,"","","","","",""]
["",null,"","","","","","",null,"","","","","",""]
["",null,"","","","","","",null,"","","","","",""]
["",null,"","","","","","",null,"","","","","",""]
["",null,"","","","","","",null,"","","","","",""]
["",null,"","","","","","",null,"","","","","",""]
["",null,"","","","","","",null,"","","","","",""]
["",null,"","","","","","",null,"","","","","",""]
["",null,"","","","","","",null,"","","","","",""]
["",null,"","","","","","",null,"","","","","",""]
["",null,"","","","","","",null,"","","","","",""]
["",null,"","","","","","",null,"","","","","",""]
["",null,"","","","","","",null,"","","","","",""]
["",null,"","","","","","",null,"","","","","",""]
["",null,"","","","","","",null,"","","","","",""]
["",null,"","","","","","",null,"","","","","",""]
["",null,"","","","","","",null,"","","","","",""]
["",null,"","","","","","",null,"","","","","",""]
[{"$f":"IF(C1827=\"\",\"\",1+A1826)","v":""},null,{"$f":"IF(Q1835=\"\",\"\",LARGE(Q1835:BM1835,6))","v":""},{"$f":"IF(C1827=\"\",\"\",LARGE(Q1835:BM1835,5))","v":""},{"$f":"IF(C1827=\"\",\"\",LARGE(Q1835:BM1835,4))","v":""},{"$f":"IF(C1827=\"\",\"\",LARGE(Q1835:BM1835,3))","v":""},{"$f":"IF(C1827=\"\",\"\",LARGE(Q1835:BM1835,2))","v":""},{"$f":"IF(C1827=\"\",\"\",LARGE(Q1835:BM1835,1))","v":""},null,{"$f":"IF(C1827=\"\",\"\",COUNTIF(C$1:H$1,C1827)+COUNTIF(C$1:H$1,D1827)+COUNTIF(C$1:H$1,E1827)+COUNTIF(C$1:H$1,F1827)+COUNTIF(C$1:H$1,G1827)+COUNTIF(C$1:H$1,H1827))","v":""},{"$f":"IF(A1827=\"\",\"\",INT((A1827+11)/R$8))","v":""},{"$f":"IF(C1827=\"\",\"\",J1827+MIN(6-J1827-O1827,6-R$10))","v":""},{"$f":"IF(C1827=\"\",\"\",IF(L1827<3,\"\",MID(Q$21,L1827*2-5+COUNTIF(C1827:H1827,I$1)+(I$1=\"\"),1)))","v":""},{"$f":"IF(C1827=\"\",\"\",IF(J1827<3,\"\",MID(Q$21,J1827*2-5+COUNTIF(C1827:H1827,I$1),1)))","v":""},{"$f":"IF(C1827=\"\",\"\",COUNTIF(P$5:P$52,C1827)+COUNTIF(P$5:P$52,D1827)+COUNTIF(P$5:P$52,E1827)+COUNTIF(P$5:P$52,F1827)+COUNTIF(P$5:P$52,G1827)+COUNTIF(P$5:P$52,H1827))","v":""}]
["",null,"","","","","","",null,"","","","","",""]
["",null,"","","","","","",null,"","","","","",""]
["",null,"","","","","","",null,"","","","","",""]
["",null,"","","","","","",null,"","","","","",""]
["",null,"","","","","","",null,"","","","","",""]
["",null,"","","","","","",null,"","","","","",""]
["",null,"","","","","","",null,"","","","","",""]
["",null,"","","","","","",null,"","","","","",""]
["",null,"","","","","","",null,"","","","","",""]
["",null,"","","","","","",null,"","","","","",""]
["",null,"","","","","","",null,"","","","","",""]
["",null,"","","","","","",null,"","","","","",""]
["",null,"","","","","","",null,"","","","","",""]
["",null,"","","","","","",null,"","","","","",""]
["",null,"","","","","","",null,"","","","","",""]
["",null,"","","","","","",null,"","","","","",""]
["",null,"","","","","","",null,"","","","","",""]
["",null,"","","","","","",null,"","","","","",""]
["",null,"","","","","","",null,"","","","","",""]
["",null,"","","","","","",null,"","","","","",""]
["",null,"","","","","","",null,"","","","","",""]
["",null,"","","","","","",null,"","","","","",""]
["",null,"","","","","","",null,"","","","","",""]
["",null,"","","","","","",null,"","","","","",""]
["",null,"","","","","","",null,"","","","","",""]
["",null,"","","","","","",null,"","","","","",""]
["",null,"","","","","","",null,"","","","","",""]
["",null,"","","","","","",null,"","","","","",""]
["",null,"","","","","","",null,"","","","","",""]
["",null,"","","","","","",null,"","","","","",""]
["",null,"","","","","","",null,"","","","","",""]
["",null,"","","","","","",null,"","","","","",""]
["",null,"","","","","","",null,"","","","","",""]
["",null,"","","","","","",null,"","","","","",""]
["",null,"","","","","","",null,"","","","","",""]
["",null,"","","","","","",null,"","","","","",""]
["",null,"","","","","","",null,"","","","","",""]
["",null,"","","","","","",null,"","","","","",""]
["",null,"","","","","","",null,"","","","","",""]
["",null,"","","","","","",null,"","","","","",""]
["",null,"","","","","","",null,"","","","","",""]
["",null,"","","","","","",null,"","","","","",""]
["",null,"","","","","","",null,"","","","","",""]
["",null,"","","","","","",null,"","","","","",""]
["",null,"","","","","","",null,"","","","","",""]
["",null,"","","","","","",null,"","","","","",""]
["",null,"","","","","","",null,"","","","","",""]
["",null,"","","","","","",null,"","","","","",""]
["",null,"","","","","","",null,"","","","","",""]
["",null,"","","","","","",null,"","","","","",""]
["",null,"","","","","","",null,"","","","","",""]
["",null,"","","","","","",null,"","","","","",""]
["",null,"","","","","","",null,"","","","","",""]
["",null,"","","","","","",null,"","","","","",""]
["",null,"","","","","","",null,"","","","","",""]
["",null,"","","","","","",null,"","","","","",""]
["",null,"","","","","","",null,"","","","","",""]
["",null,"","","","","","",null,"","","","","",""]
["",null,"","","","","","",null,"","","","","",""]
["",null,"","","","","","",null,"","","","","",""]
["",null,"","","","","","",null,"","","","","",""]
["",null,"","","","","","",null,"","","","","",""]
["",null,"","","","","","",null,"","","","","",""]
[{"$f":"IF(C1891=\"\",\"\",1+A1890)","v":""},null,{"$f":"IF(Q1899=\"\",\"\",LARGE(Q1899:BM1899,6))","v":""},{"$f":"IF(C1891=\"\",\"\",LARGE(Q1899:BM1899,5))","v":""},{"$f":"IF(C1891=\"\",\"\",LARGE(Q1899:BM1899,4))","v":""},{"$f":"IF(C1891=\"\",\"\",LARGE(Q1899:BM1899,3))","v":""},{"$f":"IF(C1891=\"\",\"\",LARGE(Q1899:BM1899,2))","v":""},{"$f":"IF(C1891=\"\",\"\",LARGE(Q1899:BM1899,1))","v":""},null,{"$f":"IF(C1891=\"\",\"\",COUNTIF(C$1:H$1,C1891)+COUNTIF(C$1:H$1,D1891)+COUNTIF(C$1:H$1,E1891)+COUNTIF(C$1:H$1,F1891)+COUNTIF(C$1:H$1,G1891)+COUNTIF(C$1:H$1,H1891))","v":""},{"$f":"IF(A1891=\"\",\"\",INT((A1891+11)/R$8))","v":""},{"$f":"IF(C1891=\"\",\"\",J1891+MIN(6-J1891-O1891,6-R$10))","v":""},{"$f":"IF(C1891=\"\",\"\",IF(L1891<3,\"\",MID(Q$21,L1891*2-5+COUNTIF(C1891:H1891,I$1)+(I$1=\"\"),1)))","v":""},{"$f":"IF(C1891=\"\",\"\",IF(J1891<3,\"\",MID(Q$21,J1891*2-5+COUNTIF(C1891:H1891,I$1),1)))","v":""},{"$f":"IF(C1891=\"\",\"\",COUNTIF(P$5:P$52,C1891)+COUNTIF(P$5:P$52,D1891)+COUNTIF(P$5:P$52,E1891)+COUNTIF(P$5:P$52,F1891)+COUNTIF(P$5:P$52,G1891)+COUNTIF(P$5:P$52,H1891))","v":""}]
["",null,"","","","","","",null,"","","","","",""]
["",null,"","","","","","",null,"","","","","",""]
["",null,"","","","","","",null,"","","","","",""]
["",null,"","","","","","",null,"","","","","",""]
["",null,"","","","","","",null,"","","","","",""]
["",null,"","","","","","",null,"","","","","",""]
["",null,"","","","","","",null,"","","","","",""]
["",null,"","","","","","",null,"","","","","",""]
["",null,"","","","","","",null,"","","","","",""]
["",null,"","","","","","",null,"","","","","",""]
["",null,"","","","","","",null,"","","","","",""]
["",null,"","","","","","",null,"","","","","",""]
["",null,"","","","","","",null,"","","","","",""]
["",null,"","","","","","",null,"","","","","",""]
["",null,"","","","","","",null,"","","","","",""]
["",null,"","","","","","",null,"","","","","",""]
["",null,"","","","","","",null,"","","","","",""]
["",null,"","","","","","",null,"","","","","",""]
["",null,"","","","","","",null,"","","","","",""]
["",null,"","","","","","",null,"","","","","",""]
["",null,"","","","","","",null,"","","","","",""]
["",null,"","","","","","",null,"","","","","",""]
["",null,"","","","","","",null,"","","","","",""]
["",null,"","","","","","",null,"","","","","",""]
["",null,"","","","","","",null,"","","","","",""]
["",null,"","","","","","",null,"","","","","",""]
["",null,"","","","","","",null,"","","","","",""]
["",null,"","","","","","",null,"","","","","",""]
["",null,"","","","","","",null,"","","","","",""]
["",null,"","","","","","",null,"","","","","",""]
["",null,"","","","","","",null,"","","","","",""]
["",null,"","","","","","",null,"","","","","",""]
["",null,"","","","","","",null,"","","","","",""]
["",null,"","","","","","",null,"","","","","",""]
["",null,"","","","","","",null,"","","","","",""]
["",null,"","","","","","",null,"","","","","",""]
["",null,"","","","","","",null,"","","","","",""]
["",null,"","","","","","",null,"","","","","",""]
["",null,"","","","","","",null,"","","","","",""]
["",null,"","","","","","",null,"","","","","",""]
["",null,"","","","","","",null,"","","","","",""]
["",null,"","","","","","",null,"","","","","",""]
["",null,"","","","","","",null,"","","","","",""]
["",null,"","","","","","",null,"","","","","",""]
["",null,"","","","","","",null,"","","","","",""]
["",null,"","","","","","",null,"","","","","",""]
["",null,"","","","","","",null,"","","","","",""]
["",null,"","","","","","",null,"","","","","",""]
["",null,"","","","","","",null,"","","","","",""]
["",null,"","","","","","",null,"","","","","",""]
["",null,"","","","","","",null,"","","","","",""]
["",null,"","","","","","",null,"","","","","",""]
["",null,"","","","","","",null,"","","","","",""]
["",null,"","","","","","",null,"","","","","",""]
["",null,"","","","","","",null,"","","","","",""]
["",null,"","","","","","",null,"","","","","",""]
["",null,"","","","","","",null,"","","","","",""]
["",null,"","","","","","",null,"","","","","",""]
["",null,"","","","","","",null,"","","","","",""]
["",null,"","","","","","",null,"","","","","",""]
["",null,"","","","","","",null,"","","","","",""]
["",null,"","","","","","",null,"","","","","",""]
["",null,"","","","","","",null,"","","","","",""]
[{"$f":"IF(C1955=\"\",\"\",1+A1954)","v":""},null,{"$f":"IF(Q1963=\"\",\"\",LARGE(Q1963:BM1963,6))","v":""},{"$f":"IF(C1955=\"\",\"\",LARGE(Q1963:BM1963,5))","v":""},{"$f":"IF(C1955=\"\",\"\",LARGE(Q1963:BM1963,4))","v":""},{"$f":"IF(C1955=\"\",\"\",LARGE(Q1963:BM1963,3))","v":""},{"$f":"IF(C1955=\"\",\"\",LARGE(Q1963:BM1963,2))","v":""},{"$f":"IF(C1955=\"\",\"\",LARGE(Q1963:BM1963,1))","v":""},null,{"$f":"IF(C1955=\"\",\"\",COUNTIF(C$1:H$1,C1955)+COUNTIF(C$1:H$1,D1955)+COUNTIF(C$1:H$1,E1955)+COUNTIF(C$1:H$1,F1955)+COUNTIF(C$1:H$1,G1955)+COUNTIF(C$1:H$1,H1955))","v":""},{"$f":"IF(A1955=\"\",\"\",INT((A1955+11)/R$8))","v":""},{"$f":"IF(C1955=\"\",\"\",J1955+MIN(6-J1955-O1955,6-R$10))","v":""},{"$f":"IF(C1955=\"\",\"\",IF(L1955<3,\"\",MID(Q$21,L1955*2-5+COUNTIF(C1955:H1955,I$1)+(I$1=\"\"),1)))","v":""},{"$f":"IF(C1955=\"\",\"\",IF(J1955<3,\"\",MID(Q$21,J1955*2-5+COUNTIF(C1955:H1955,I$1),1)))","v":""},{"$f":"IF(C1955=\"\",\"\",COUNTIF(P$5:P$52,C1955)+COUNTIF(P$5:P$52,D1955)+COUNTIF(P$5:P$52,E1955)+COUNTIF(P$5:P$52,F1955)+COUNTIF(P$5:P$52,G1955)+COUNTIF(P$5:P$52,H1955))","v":""}]
["",null,"","","","","","",null,"","","","","",""]
["",null,"","","","","","",null,"","","","","",""]
["",null,"","","","","","",null,"","","","","",""]
["",null,"","","","","","",null,"","","","","",""]
["",null,"","","","","","",null,"","","","","",""]
["",null,"","","","","","",null,"","","","","",""]
["",null,"","","","","","",null,"","","","","",""]
["",null,"","","","","","",null,"","","","","",""]
["",null,"","","","","","",null,"","","","","",""]
["",null,"","","","","","",null,"","","","","",""]
["",null,"","","","","","",null,"","","","","",""]
["",null,"","","","","","",null,"","","","","",""]
["",null,"","","","","","",null,"","","","","",""]
["",null,"","","","","","",null,"","","","","",""]
["",null,"","","","","","",null,"","","","","",""]
["",null,"","","","","","",null,"","","","","",""]
["",null,"","","","","","",null,"","","","","",""]
["",null,"","","","","","",null,"","","","","",""]
["",null,"","","","","","",null,"","","","","",""]
["",null,"","","","","","",null,"","","","","",""]
["",null,"","","","","","",null,"","","","","",""]
["",null,"","","","","","",null,"","","","","",""]
["",null,"","","","","","",null,"","","","","",""]
["",null,"","","","","","",null,"","","","","",""]
["",null,"","","","","","",null,"","","","","",""]
["",null,"","","","","","",null,"","","","","",""]
["",null,"","","","","","",null,"","","","","",""]
["",null,"","","","","","",null,"","","","","",""]
["",null,"","","","","","",null,"","","","","",""]
["",null,"","","","","","",null,"","","","","",""]
["",null,"","","","","","",null,"","","","","",""]
["",null,"","","","","","",null,"","","","","",""]
["",null,"","","","","","",null,"","","","","",""]
["",null,"","","","","","",null,"","","","","",""]
["",null,"","","","","","",null,"","","","","",""]
["",null,"","","","","","",null,"","","","","",""]
["",null,"","","","","","",null,"","","","","",""]
["",null,"","","","","","",null,"","","","","",""]
["",null,"","","","","","",null,"","","","","",""]
["",null,"","","","","","",null,"","","","","",""]
["",null,"","","","","","",null,"","","","","",""]
["",null,"","","","","","",null,"","","","","",""]
["",null,"","","","","","",null,"","","","","",""]
["",null,"","","","","","",null,"","","","","",""]
["",null,"","","","","","",null,"","","","","",""]
["",null,"","","","","","",null,"","","","","",""]
["",null,"","","","","","",null,"","","","","",""]
["",null,"","","","","","",null,"","","","","",""]
["",null,"","","","","","",null,"","","","","",""]
["",null,"","","","","","",null,"","","","","",""]
["",null,"","","","","","",null,"","","","","",""]
["",null,"","","","","","",null,"","","","","",""]
["",null,"","","","","","",null,"","","","","",""]
["",null,"","","","","","",null,"","","","","",""]
["",null,"","","","","","",null,"","","","","",""]
["",null,"","","","","","",null,"","","","","",""]
["",null,"","","","","","",null,"","","","","",""]
["",null,"","","","","","",null,"","","","","",""]
["",null,"","","","","","",null,"","","","","",""]
["",null,"","","","","","",null,"","","","","",""]
["",null,"","","","","","",null,"","","","","",""]
["",null,"","","","","","",null,"","","","","",""]
["",null,"","","","","","",null,"","","","","",""]
[{"$f":"IF(C2019=\"\",\"\",1+A2018)","v":""},null,{"$f":"IF(Q2027=\"\",\"\",LARGE(Q2027:BM2027,6))","v":""},{"$f":"IF(C2019=\"\",\"\",LARGE(Q2027:BM2027,5))","v":""},{"$f":"IF(C2019=\"\",\"\",LARGE(Q2027:BM2027,4))","v":""},{"$f":"IF(C2019=\"\",\"\",LARGE(Q2027:BM2027,3))","v":""},{"$f":"IF(C2019=\"\",\"\",LARGE(Q2027:BM2027,2))","v":""},{"$f":"IF(C2019=\"\",\"\",LARGE(Q2027:BM2027,1))","v":""},null,{"$f":"IF(C2019=\"\",\"\",COUNTIF(C$1:H$1,C2019)+COUNTIF(C$1:H$1,D2019)+COUNTIF(C$1:H$1,E2019)+COUNTIF(C$1:H$1,F2019)+COUNTIF(C$1:H$1,G2019)+COUNTIF(C$1:H$1,H2019))","v":""},{"$f":"IF(A2019=\"\",\"\",INT((A2019+11)/R$8))","v":""},{"$f":"IF(C2019=\"\",\"\",J2019+MIN(6-J2019-O2019,6-R$10))","v":""},{"$f":"IF(C2019=\"\",\"\",IF(L2019<3,\"\",MID(Q$21,L2019*2-5+COUNTIF(C2019:H2019,I$1)+(I$1=\"\"),1)))","v":""},{"$f":"IF(C2019=\"\",\"\",IF(J2019<3,\"\",MID(Q$21,J2019*2-5+COUNTIF(C2019:H2019,I$1),1)))","v":""},{"$f":"IF(C2019=\"\",\"\",COUNTIF(P$5:P$52,C2019)+COUNTIF(P$5:P$52,D2019)+COUNTIF(P$5:P$52,E2019)+COUNTIF(P$5:P$52,F2019)+COUNTIF(P$5:P$52,G2019)+COUNTIF(P$5:P$52,H2019))","v":""}]
["",null,null,"","","","","",null,"","","","","",""]

{"sheet":"oben","index":3,"n_rows":27,"n_cols":80,"rows_kept":27,"cut":false,"hidden":false,"merged":[]}
["drucke Einzelschein",1,null,null,null,null,null,null,null,null,null,null,null,null,null,null,null,null,null,null,null,null,null,"Druck mit oberem Rand zuerst"]
["Anzahl Reihen",{"$f":"Reihen!R9","v":45},null,null,null,null,null,null,null,null,null,null,null,null,null,null,null,null,null,null,null,null,null,null,null,null,null,null,null,null,null,null,null,null,null,null,null,null,null,null,null,null,null,null,null,null,null,null,null,null,null,{"$f":"INDEX(Maske,1,AZ28)","v":""}]
["erste Reihe",{"$f":"(B1-1)*Reihen!R8+1","v":1},null,null,null,null,null,null,null,null,null,null,null,null,null,null,null,null,null,null,null,null,null,null,null,null,null,null,null,null,null,null,null,null,null,null,null,null,null,null,null,null,null,null,null,null,null,null,null,null,null,null,null,null,null,null,null,"Tipps",null,null,null,null,null,"Zeile",null,null,null,null,null,"Spalte",null,null,null,null,null,null,"Matrix"]
["Zeichen","x",null,null,1,2,3,4,5,6,7,8,9,10,11,12,13,14,15,16,17,18,19,20,21,22,23,24,25,26,27,28,29,30,31,32,33,34,35,36,37,38,39,40,41,42,43,44,45,46,null,null,null,null,null,1,2,3,4,5,6,1,2,3,4,5,6,1,2,3,4,5,6,null,1,2,3,4,5,6]
[null,null,null,1,{"$f":"IF(COUNTIF(Matrix,$D5*100+E$4)>0,\"x\",\"\")","v":""},"","","","","","","","","",{"$f":"IF(COUNTIF(Matrix,$D5*100+O$4)>0,\"x\",\"\")","v":""},"","","","","","","","","",{"$f":"IF(COUNTIF(Matrix,$D5*100+Y$4)>0,\"x\",\"\")","v":""},"","","","","","","","","",{"$f":"IF(COUNTIF(Matrix,$D5*100+AI$4)>0,\"x\",\"\")","v":""},"","","","","","","","","",{"$f":"IF(COUNTIF(Matrix,$D5*100+AS$4)>0,\"x\",\"\")","v":""},"","","","","",null,null,null,null,{"$f":"IF(BV5>Felder_je_Schein,\"\",IF(B$3+BV5>B$2+1,\"\",B$3+BV5-1))","v":1},{"$f":"IF($BC5=\"\",\"\",INDEX(alle_Tipps,$BC5,BD$4))","v":1},3,13,24,28,29,{"$f":"IF($BC5=\"\",\"\",ISEVEN($BV5)*Block2+INT((BD5-1)/Feldbreite)+2)","v":2},{"$f":"IF($BC5=\"\",\"\",ISEVEN($BV5)*Block2+INT((BE5-1)/Feldbreite)+2)","v":2},{"$f":"IF($BC5=\"\",\"\",ISEVEN($BV5)*Block2+INT((BF5-1)/Feldbreite)+2)","v":3},{"$f":"IF($BC5=\"\",\"\",ISEVEN($BV5)*Block2+INT((BG5-1)/Feldbreite)+2)","v":5},{"$f":"IF($BC5=\"\",\"\",ISEVEN($BV5)*Block2+INT((BH5-1)/Feldbreite)+2)","v":5},{"$f":"IF($BC5=\"\",\"\",ISEVEN($BV5)*Block2+INT((BI5-1)/Feldbreite)+2)","v":6},{"$f":"IF($BC5=\"\",\"\",INT(($BV5-1)/2)*Feldbreite+waagerecht1+MOD(BD5-1,Feldbreite))","v":4},{"$f":"IF($BC5=\"\",\"\",INT(($BV5-1)/2)*Feldbreite+waagerecht1+MOD(BE5-1,Feldbreite))","v":6},{"$f":"IF($BC5=\"\",\"\",INT(($BV5-1)/2)*Feldbreite+waagerecht1+MOD(BF5-1,Feldbreite))","v":9},{"$f":"IF($BC5=\"\",\"\",INT(($BV5-1)/2)*Feldbreite+waagerecht1+MOD(BG5-1,Feldbreite))","v":6},{"$f":"IF($BC5=\"\",\"\",INT(($BV5-1)/2)*Feldbreite+waagerecht1+MOD(BH5-1,Feldbreite))","v":10},{"$f":"IF($BC5=\"\",\"\",INT(($BV5-1)/2)*Feldbreite+waagerecht1+MOD(BI5-1,Feldbreite))","v":4},1,{"$f":"IF($BC5=\"\",\"\",BJ5*100+BP5)","v":204},{"$f":"IF($BC5=\"\",\"\",BK5*100+BQ5)","v":206},309,506,510,604]
[null,null,null,2,"","","","x","","x","","","","","x","","x","","","","","","x","","x","","","x","","x","","x","","","","","x","","x","","","","","x","","","","","x","",null,null,null,null,2,2,3,14,17,25,45,9,9,10,11,12,15,5,6,10,6,7,6,2,{"$f":"IF($BC6=\"\",\"\",BJ6*100+BP6)","v":905},{"$f":"IF($BC6=\"\",\"\",BK6*100+BQ6)","v":906},{"$f":"IF($BC6=\"\",\"\",BL6*100+BR6)","v":1010},{"$f":"IF($BC6=\"\",\"\",BM6*100+BS6)","v":1106},{"$f":"IF($BC6=\"\",\"\",BN6*100+BT6)","v":1207},{"$f":"IF($BC6=\"\",\"\",BO6*100+BU6)","v":1506}]
[null,null,null,3,"","","","","","","","","x","","","","","","","","x","x","","","","","","","","","","","","x","x","","","","","","x","","","","","","","x","","",null,null,null,null,3,1,3,14,15,26,47,2,2,3,4,5,8,11,13,17,11,15,15,3,211,213,317,411,515,815]
[null,null,null,4,"","","","","","","","","","","x","","","","","","","","","","","","","","","","","","","","","","","","","x","","","","","x","","","","","",null,null,null,null,4,1,3,21,22,27,29,9,9,11,12,12,13,11,13,17,11,16,11,4,911,913,1117,1211,1216,1311]
[null,null,null,5,"","","","","","x","","","","x","","","","","x","","","","","","","","","","","","x","x","","","","","","","","x","x","","","","","x","x","","","",null,null,null,null,5,2,4,7,8,35,44,2,2,2,3,6,8,19,21,24,18,24,19,5,219,221,224,318,624,819]
[null,null,null,6,"","","","x","","","","","","","","","","","","","","","","","","","","x","","","","","","","","","","","","","","","","","","","","","","",null,null,null,null,6,2,4,7,19,42,43,9,9,9,11,14,15,19,21,24,22,24,18,6,919,921,924,1122,1424,1518]
[" Makro Druck Scheine",{"$f":"Reihen!R2","v":4},null,7,"","","","","","","","","","","","","","","","","","","","","","","","","","","","","","","","","","","","","","","","","","","","","","",null,null,null,null,7,2,4,13,14,24,25,2,2,3,3,5,5,26,28,30,31,27,28,7,226,228,330,331,527,528]
["von",1,null,8,"","","","","","","","","","","","","","","x","","","","x","","","","","","","","","","","","","","","","","","","","","","","","","","","",null,null,null,null,8,2,4,13,17,22,29,9,9,10,11,12,13,26,28,30,27,25,25,8,926,928,1030,1127,1225,1325]
["bis",0,null,9,"","","","","x","x","","","","","x","","x","","","","","","x","","x","","","x","","x","","x","","","","","x","","x","","","","","x","","","","","x","",null,null,null,null,9,2,4,13,19,26,27,2,2,3,4,5,5,33,35,37,36,36,37,9,233,235,337,436,536,537]
[null,null,null,10,"","","","","","","","","","x","","","","","","","","","","","","","","","","","","","","x","","","","","","","","","","","","","","","x","",null,null,null,null,10,2,4,17,19,22,27,9,9,11,11,12,12,33,35,34,36,32,37,10,933,935,1134,1136,1232,1237]
[null,null,null,11,{"$f":"IF(COUNTIF(Matrix,$D15*100+E$4)>0,\"x\",\"\")","v":""},"","","","","x","","","","",{"$f":"IF(COUNTIF(Matrix,$D15*100+O$4)>0,\"x\",\"\")","v":""},"","","","","","x","","","",{"$f":"IF(COUNTIF(Matrix,$D15*100+Y$4)>0,\"x\",\"\")","v":""},"x","","","","","x","","","",{"$f":"IF(COUNTIF(Matrix,$D15*100+AI$4)>0,\"x\",\"\")","v":""},"","","x","","x","","","","",{"$f":"IF(COUNTIF(Matrix,$D15*100+AS$4)>0,\"x\",\"\")","v":""},"","","","","",null,null,null,null,11,2,7,13,17,25,26,2,2,3,4,5,5,40,45,44,41,42,43,11,240,245,344,441,542,543]
[null,null,null,12,"","","","","","","x","","","","x","","","","","x","","","","","","","","","x","","","","","","","x","","","","","x","","x","","x","","","","","",null,null,null,null,12,2,7,14,22,24,29,9,9,10,12,12,13,40,45,45,39,41,39,12,940,945,1045,1239,1241,1339]
[null,null,null,13,"","","","","","","","","","","x","","","","","","","","","","","","","","x","","","","","","","","","","","","","","x","","","","","","",""]
[null,null,null,14,"","","","","","","","","","","","","","","","","","","","","","","","x","","","","","","","","","","","","","","","","","","","","","",""]
[null,null,null,15,"","","","","","x","","","","","","","","","","","","x","","","","","","","","","","","","","","","","","","","","","","","","","","","",""]
[null,null,null,16,"","","","","","","","","","","","","","","","","","","","","","","","","","","","","","","","","","","","","","","","","","","","","",""]
[null,null,null,1,{"$f":"IF(INDEX(Fusszeilen,$D21,E$4)=\"\",\"\",IF(INDEX(Fusszeilen,$D21,E$4)=\"h\",INT($B$1/100),IF(INDEX(Fusszeilen,$D21,E$4)=\"z\",MOD(INT($B$1/10),10),IF(INDEX(Fusszeilen,$D21,E$4)=\"e\",MOD($B$1,10),INDEX(Fusszeilen,$D21,E$4)))))","v":""},"","","","","","","","","",{"$f":"IF(INDEX(Fusszeilen,$D21,O$4)=\"\",\"\",IF(INDEX(Fusszeilen,$D21,O$4)=\"h\",INT($B$1/100),IF(INDEX(Fusszeilen,$D21,O$4)=\"z\",MOD(INT($B$1/10),10),IF(INDEX(Fusszeilen,$D21,O$4)=\"e\",MOD($B$1,10),INDEX(Fusszeilen,$D21,O$4)))))","v":""},"","","","","","","","","",{"$f":"IF(INDEX(Fusszeilen,$D21,Y$4)=\"\",\"\",IF(INDEX(Fusszeilen,$D21,Y$4)=\"h\",INT($B$1/100),IF(INDEX(Fusszeilen,$D21,Y$4)=\"z\",MOD(INT($B$1/10),10),IF(INDEX(Fusszeilen,$D21,Y$4)=\"e\",MOD($B$1,10),INDEX(Fusszeilen,$D21,Y$4)))))","v":""},"","","","","","","","","",{"$f":"IF(INDEX(Fusszeilen,$D21,AI$4)=\"\",\"\",IF(INDEX(Fusszeilen,$D21,AI$4)=\"h\",INT($B$1/100),IF(INDEX(Fusszeilen,$D21,AI$4)=\"z\",MOD(INT($B$1/10),10),IF(INDEX(Fusszeilen,$D21,AI$4)=\"e\",MOD($B$1,10),INDEX(Fusszeilen,$D21,AI$4)))))","v":""},"","","","","","","","","",{"$f":"IF(INDEX(Fusszeilen,$D21,AS$4)=\"\",\"\",IF(INDEX(Fusszeilen,$D21,AS$4)=\"h\",INT($B$1/100),IF(INDEX(Fusszeilen,$D21,AS$4)=\"z\",MOD(INT($B$1/10),10),IF(INDEX(Fusszeilen,$D21,AS$4)=\"e\",MOD($B$1,10),INDEX(Fusszeilen,$D21,AS$4)))))","v":""},"","","","",""]
[null,null,null,2,"","","","","","","","","","","","","","","","","","","","","","","","","","","","","","","","","","","","","","","","","","","","","",""]
[null,null,null,3,"","","","","","","","","","","","","","","","","","","","","","","","","","","","","","","","","","","","",0,0,1,"","","","","","",""]
[null,null,null,4,"","","","","","","","","","","","","","","","","","","","","","","","","","","","","","","","","","","","","","","","","","","","","",""]
[null,null,null,5,"","","","","","","","","","","","","","","","","","","x","","","","","x","","","","","","","","","","","","","","","","","","","","","",""]
[null,null,null,6,"","","","","","","","","","","","","","","","","","","","","","","","","","","","","","","","","","","","","","","","","","","","","",""]
[null,null,null,7,"","","","","","","","","","","","","","","","","","","","","","","","","","","","","","","","","","","","","","","","","","","","","",""]

{"sheet":"links","index":4,"n_rows":50,"n_cols":80,"rows_kept":50,"cut":false,"hidden":false,"merged":[]}
["drucke Einzelschein",1,null,null,null,null,null,null,null,null,null,null,null,null,null,"Druck mit linkem Rand zuerst"]
["Anzahl Reihen",{"$f":"Reihen!R9","v":45}]
["erste Reihe",{"$f":"(B1-1)*Reihen!R8+1","v":1},null,null,null,null,null,null,null,null,null,null,null,null,null,null,null,null,null,null,null,null,null,null,null,null,null,null,null,null,null,null,null,null,null,null,null,null,null,null,null,null,null,null,null,null,null,null,null,null,null,null,null,null,null,null,null,"Tipps",null,null,null,null,null,"Spalte",null,null,null,null,null,"Zeile",null,null,null,null,null,null,"Matrix"]
["Zeichen","x",null,null,7,6,5,4,3,2,1,16,15,14,13,12,11,10,9,8,7,6,5,4,3,2,1,null,null,null,null,null,null,null,null,null,null,null,null,null,null,null,null,null,null,null,null,null,null,null,null,null,null,null,null,1,2,3,4,5,6,1,2,3,4,5,6,1,2,3,4,5,6,null,1,2,3,4,5,6]
[null,null,null,1,{"$f":"IF(INDEX(Fusszeilen,E$4,$D5)=\"\",\"\",IF(INDEX(Fusszeilen,E$4,$D5)=\"h\",INT($B$1/100),IF(INDEX(Fusszeilen,E$4,$D5)=\"z\",MOD(INT($B$1/10),10),IF(INDEX(Fusszeilen,E$4,$D5)=\"e\",MOD($B$1,10),INDEX(Fusszeilen,E$4,$D5)))))","v":""},"","","","","","",{"$f":"IF(COUNTIF(Matrix,L$4*100+$D5)>0,\"x\",\"\")","v":""},"","","","","","","","","","","","","","","",null,null,null,null,null,null,null,null,null,null,null,null,null,null,null,null,null,null,null,null,null,null,null,null,null,null,null,{"$f":"IF(BV5>Felder_je_Schein,\"\",IF(B$3+BV5>B$2+1,\"\",B$3+BV5-1))","v":1},{"$f":"IF($BC5=\"\",\"\",INDEX(alle_Tipps,$BC5,BD$4))","v":1},3,13,24,28,29,{"$f":"IF($BC5=\"\",\"\",ISEVEN($BV5)*Block2+INT((BD5-1)/Feldbreite)+2)","v":2},{"$f":"IF($BC5=\"\",\"\",ISEVEN($BV5)*Block2+INT((BE5-1)/Feldbreite)+2)","v":2},{"$f":"IF($BC5=\"\",\"\",ISEVEN($BV5)*Block2+INT((BF5-1)/Feldbreite)+2)","v":3},{"$f":"IF($BC5=\"\",\"\",ISEVEN($BV5)*Block2+INT((BG5-1)/Feldbreite)+2)","v":5},{"$f":"IF($BC5=\"\",\"\",ISEVEN($BV5)*Block2+INT((BH5-1)/Feldbreite)+2)","v":5},{"$f":"IF($BC5=\"\",\"\",ISEVEN($BV5)*Block2+INT((BI5-1)/Feldbreite)+2)","v":6},{"$f":"IF($BC5=\"\",\"\",INT(($BV5-1)/2)*Feldbreite+waagerecht1+MOD(BD5-1,Feldbreite))","v":4},{"$f":"IF($BC5=\"\",\"\",INT(($BV5-1)/2)*Feldbreite+waagerecht1+MOD(BE5-1,Feldbreite))","v":6},{"$f":"IF($BC5=\"\",\"\",INT(($BV5-1)/2)*Feldbreite+waagerecht1+MOD(BF5-1,Feldbreite))","v":9},{"$f":"IF($BC5=\"\",\"\",INT(($BV5-1)/2)*Feldbreite+waagerecht1+MOD(BG5-1,Feldbreite))","v":6},{"$f":"IF($BC5=\"\",\"\",INT(($BV5-1)/2)*Feldbreite+waagerecht1+MOD(BH5-1,Feldbreite))","v":10},{"$f":"IF($BC5=\"\",\"\",INT(($BV5-1)/2)*Feldbreite+waagerecht1+MOD(BI5-1,Feldbreite))","v":4},1,{"$f":"IF($BC5=\"\",\"\",BJ5*100+BP5)","v":204},{"$f":"IF($BC5=\"\",\"\",BK5*100+BQ5)","v":206},309,506,510,604]
[null,null,null,2,"","","","","","","","","","","","","","","","","","","","","","","",null,null,null,null,null,null,null,null,null,null,null,null,null,null,null,null,null,null,null,null,null,null,null,null,null,null,null,2,2,3,14,17,25,45,9,9,10,11,12,15,5,6,10,6,7,6,2,{"$f":"IF($BC6=\"\",\"\",BJ6*100+BP6)","v":905},906,1010,1106,1207,1506]
[null,null,null,3,"","","","","","","","","","","","","","","","","","","","","","","",null,null,null,null,null,null,null,null,null,null,null,null,null,null,null,null,null,null,null,null,null,null,null,null,null,null,null,3,1,3,14,15,26,47,2,2,3,4,5,8,11,13,17,11,15,15,3,211,213,317,411,515,815]
[null,null,null,4,"","","","","","","","","","","","","","","","","","x","","","","x","",null,null,null,null,null,null,null,null,null,null,null,null,null,null,null,null,null,null,null,null,null,null,null,null,null,null,null,4,1,3,21,22,27,29,9,9,11,12,12,13,11,13,17,11,16,11,4,911,913,1117,1211,1216,1311]
[null,null,null,5,"","","","","","","","","","","","","","","x","","","","","","","","",null,null,null,null,null,null,null,null,null,null,null,null,null,null,null,null,null,null,null,null,null,null,null,null,null,null,null,5,2,4,7,8,35,44,2,2,2,3,6,8,19,21,24,18,24,19,5,219,221,224,318,624,819]
[null,null,null,6,"","","","","","","","","x","","","","x","","x","","","","x","","","x","",null,null,null,null,null,null,null,null,null,null,null,null,null,null,null,null,null,null,null,null,null,null,null,null,null,null,null,6,2,4,7,19,42,43,9,9,9,11,14,15,19,21,24,22,24,18,6,919,921,924,1122,1424,1518]
[" Makro Druck Scheine",{"$f":"Reihen!R2","v":4},null,7,"","","","","","","","","","","","x","","","","","","","","","","","",null,null,null,null,null,null,null,null,null,null,null,null,null,null,null,null,null,null,null,null,null,null,null,null,null,null,null,7,2,4,13,14,24,25,2,2,3,3,5,5,26,28,30,31,27,28,7,226,228,330,331,527,528]
["von",2,null,8,"","","","","","","","","","","","","","","","","","","","","","","",null,null,null,null,null,null,null,null,null,null,null,null,null,null,null,null,null,null,null,null,null,null,null,null,null,null,null,8,2,4,13,17,22,29,9,9,10,11,12,13,26,28,30,27,25,25,8,926,928,1030,1127,1225,1325]
["bis",0,null,9,"","","","","","","","","","","","","","","","","","","","","x","","",null,null,null,null,null,null,null,null,null,null,null,null,null,null,null,null,null,null,null,null,null,null,null,null,null,null,null,9,2,4,13,19,26,27,2,2,3,4,5,5,33,35,37,36,36,37,9,233,235,337,436,536,537]
[null,null,null,10,"","","","","","","","","","","","","","x","","","","","x","","","","",null,null,null,null,null,null,null,null,null,null,null,null,null,null,null,null,null,null,null,null,null,null,null,null,null,null,null,10,2,4,17,19,22,27,9,9,11,11,12,12,33,35,34,36,32,37,10,933,935,1134,1136,1232,1237]
[null,null,null,11,{"$f":"IF(INDEX(Fusszeilen,E$4,$D15)=\"\",\"\",IF(INDEX(Fusszeilen,E$4,$D15)=\"h\",INT($B$1/100),IF(INDEX(Fusszeilen,E$4,$D15)=\"z\",MOD(INT($B$1/10),10),IF(INDEX(Fusszeilen,E$4,$D15)=\"e\",MOD($B$1,10),INDEX(Fusszeilen,E$4,$D15)))))","v":""},"","","","","","",{"$f":"IF(COUNTIF(Matrix,L$4*100+$D15)>0,\"x\",\"\")","v":""},"","","x","x","","","x","","","","","x","","x","",null,null,null,null,null,null,null,null,null,null,null,null,null,null,null,null,null,null,null,null,null,null,null,null,null,null,null,11,2,7,13,17,25,26,2,2,3,4,5,5,40,45,44,41,42,43,11,240,245,344,441,542,543]
[null,null,null,12,"","","","","","","","","","","","","","","","","","","","","","","",null,null,null,null,null,null,null,null,null,null,null,null,null,null,null,null,null,null,null,null,null,null,null,null,null,null,null,12,2,7,14,22,24,29,9,9,10,12,12,13,40,45,45,39,41,39,12,940,945,1045,1239,1241,1339]
[null,null,null,13,"","","","","","","","","","","","","","","x","","","","","","","x",""]
[null,null,null,14,"","","","","","","","","","","","","","","","","","","","","","",""]
[null,null,null,15,"","","","","","","","","","","","","","","","x","","","x","","","",""]
[null,null,null,16,"","","","","","","","","","","","x","","","","","","","","","","",""]
[null,null,null,17,"","","","","","","","","","","","","x","","","","","","","","x","",""]
[null,null,null,18,"","","","","","","","","x","","","","","","","","","","","","x","",""]
[null,null,null,19,"","","x","","","","","","","","","","","","x","x","","","","","","x",""]
[null,null,null,20,"","","","","","","","","","","","","","","","","","","","","","",""]
[null,null,null,21,{"$f":"IF(INDEX(Fusszeilen,E$4,$D25)=\"\",\"\",IF(INDEX(Fusszeilen,E$4,$D25)=\"h\",INT($B$1/100),IF(INDEX(Fusszeilen,E$4,$D25)=\"z\",MOD(INT($B$1/10),10),IF(INDEX(Fusszeilen,E$4,$D25)=\"e\",MOD($B$1,10),INDEX(Fusszeilen,E$4,$D25)))))","v":""},"","","","","","",{"$f":"IF(COUNTIF(Matrix,L$4*100+$D25)>0,\"x\",\"\")","v":""},"","","","","","","x","","","","","","","x",""]
[null,null,null,22,"","","","","","","","","","","","","x","","","","","","","","","",""]
[null,null,null,23,"","","","","","","","","","","","","","","","","","","","","","",""]
[null,null,null,24,"","","x","","","","","","","x","","","","","x","","","x","","","","x",""]
[null,null,null,25,"","","","","","","","","","","x","x","","","","","","","","","","",""]
[null,null,null,26,"","","","","","","","","","","","","","","x","","","","","","","x",""]
[null,null,null,27,"","","","","","","","","","","","","x","","","","","","x","","","",""]
[null,null,null,28,"","","","","","","","","","","","","","","x","","","","x","","","x",""]
[null,null,null,29,"","","","","","","","","","","","","","","","","","","","","","",""]
[null,null,null,30,"","","","","","","","","","","","","","x","","","","","","","x","",""]
[null,null,null,31,{"$f":"IF(INDEX(Fusszeilen,E$4,$D35)=\"\",\"\",IF(INDEX(Fusszeilen,E$4,$D35)=\"h\",INT($B$1/100),IF(INDEX(Fusszeilen,E$4,$D35)=\"z\",MOD(INT($B$1/10),10),IF(INDEX(Fusszeilen,E$4,$D35)=\"e\",MOD($B$1,10),INDEX(Fusszeilen,E$4,$D35)))))","v":""},"","","","","","",{"$f":"IF(COUNTIF(Matrix,L$4*100+$D35)>0,\"x\",\"\")","v":""},"","","","","","","","","","","","","x","",""]
[null,null,null,32,"","","","","","","","","","","","x","","","","","","","","","","",""]
[null,null,null,33,"","","","","","","","","","","","","","","x","","","","","","","x",""]
[null,null,null,34,"","","","","","","","","","","","","x","","","","","","","","","",""]
[null,null,null,35,"","","","","","","","","","","","","","","x","","","","","","","x",""]
[null,null,null,36,"","","","","","","","","","","","","x","","","","","","x","x","","",""]
[null,null,null,37,"","","","",0,"","","","","","","x","","","","","","","x","","x","",""]
[null,null,null,38,"","","","",0,"","","","","","","","","","","","","","","","","",""]
[null,null,null,39,"","","","",1,"","","","","","x","x","","","","","","","","","","",""]
[null,null,null,40,"","","","","","","","","","","","","","","x","","","","","","","x",""]
[null,null,null,41,{"$f":"IF(INDEX(Fusszeilen,E$4,$D45)=\"\",\"\",IF(INDEX(Fusszeilen,E$4,$D45)=\"h\",INT($B$1/100),IF(INDEX(Fusszeilen,E$4,$D45)=\"z\",MOD(INT($B$1/10),10),IF(INDEX(Fusszeilen,E$4,$D45)=\"e\",MOD($B$1,10),INDEX(Fusszeilen,E$4,$D45)))))","v":""},"","","","","","",{"$f":"IF(COUNTIF(Matrix,L$4*100+$D45)>0,\"x\",\"\")","v":""},"","","","x","","","","","","","","x","","",""]
[null,null,null,42,"","","","","","","","","","","","","","","","","","","x","","","",""]
[null,null,null,43,"","","","","","","","","","","","","","","","","","","x","","","",""]
[null,null,null,44,"","","","","","","","","","","","","","","","","","","","","x","",""]
[null,null,null,45,"","","","","","","","","","","","","","x","x","","","","","","","x",""]
[null,null,null,46,"","","","","","","","","","","","","","","","","","","","","","",""]

{"sheet":"rechts","index":5,"n_rows":50,"n_cols":80,"rows_kept":50,"cut":false,"hidden":false,"merged":[]}
["drucke Einzelschein",2,null,null,null,null,null,null,null,null,null,null,null,null,null,"Druck mit rechtem Rand zuerst"]
["Anzahl Reihen",{"$f":"Reihen!R9","v":45}]
["erste Reihe",{"$f":"(B1-1)*Reihen!R8+1","v":13},null,null,null,null,null,null,null,null,null,null,null,null,null,null,null,null,null,null,null,null,null,null,null,null,null,null,null,null,null,null,null,null,null,null,null,null,null,null,null,null,null,null,null,null,null,null,null,null,null,null,null,null,null,null,null,"Tipps",null,null,null,null,null,"Spalte",null,null,null,null,null,"Zeile",null,null,null,null,null,null,"Matrix"]
["Zeichen","x",null,null,1,2,3,4,5,6,7,8,9,10,11,12,13,14,15,16,1,2,3,4,5,6,7,null,null,null,null,null,null,null,null,null,null,null,null,null,null,null,null,null,null,null,null,null,null,null,null,null,null,null,null,1,2,3,4,5,6,1,2,3,4,5,6,1,2,3,4,5,6,null,1,2,3,4,5,6]
[null,null,null,46,{"$f":"IF(COUNTIF(Matrix,E$4*100+$D5)>0,\"x\",\"\")","v":""},"","","","","","","","","","","","","","","",{"$f":"IF(INDEX(Fusszeilen,U$4,$D5)=\"\",\"\",IF(INDEX(Fusszeilen,U$4,$D5)=\"h\",INT($B$1/100),IF(INDEX(Fusszeilen,U$4,$D5)=\"z\",MOD(INT($B$1/10),10),IF(INDEX(Fusszeilen,U$4,$D5)=\"e\",MOD($B$1,10),INDEX(Fusszeilen,U$4,$D5)))))","v":""},"","","","","","",null,null,null,null,null,null,null,null,null,null,null,null,null,null,null,null,null,null,null,null,null,null,null,null,null,null,null,{"$f":"IF(BV5>Felder_je_Schein,\"\",IF(B$3+BV5>B$2+1,\"\",B$3+BV5-1))","v":13},{"$f":"IF($BC5=\"\",\"\",INDEX(alle_Tipps,$BC5,BD$4))","v":2},7,19,24,25,29,{"$f":"IF($BC5=\"\",\"\",ISEVEN($BV5)*Block2+INT((BD5-1)/Feldbreite)+2)","v":2},{"$f":"IF($BC5=\"\",\"\",ISEVEN($BV5)*Block2+INT((BE5-1)/Feldbreite)+2)","v":2},{"$f":"IF($BC5=\"\",\"\",ISEVEN($BV5)*Block2+INT((BF5-1)/Feldbreite)+2)","v":4},{"$f":"IF($BC5=\"\",\"\",ISEVEN($BV5)*Block2+INT((BG5-1)/Feldbreite)+2)","v":5},{"$f":"IF($BC5=\"\",\"\",ISEVEN($BV5)*Block2+INT((BH5-1)/Feldbreite)+2)","v":5},{"$f":"IF($BC5=\"\",\"\",ISEVEN($BV5)*Block2+INT((BI5-1)/Feldbreite)+2)","v":6},{"$f":"IF($BC5=\"\",\"\",INT(($BV5-1)/2)*Feldbreite+waagerecht1+MOD(BD5-1,Feldbreite))","v":5},{"$f":"IF($BC5=\"\",\"\",INT(($BV5-1)/2)*Feldbreite+waagerecht1+MOD(BE5-1,Feldbreite))","v":10},{"$f":"IF($BC5=\"\",\"\",INT(($BV5-1)/2)*Feldbreite+waagerecht1+MOD(BF5-1,Feldbreite))","v":8},{"$f":"IF($BC5=\"\",\"\",INT(($BV5-1)/2)*Feldbreite+waagerecht1+MOD(BG5-1,Feldbreite))","v":6},{"$f":"IF($BC5=\"\",\"\",INT(($BV5-1)/2)*Feldbreite+waagerecht1+MOD(BH5-1,Feldbreite))","v":7},{"$f":"IF($BC5=\"\",\"\",INT(($BV5-1)/2)*Feldbreite+waagerecht1+MOD(BI5-1,Feldbreite))","v":4},1,{"$f":"IF($BC5=\"\",\"\",BJ5*100+BP5)","v":205},{"$f":"IF($BC5=\"\",\"\",BK5*100+BQ5)","v":210},408,506,507,604]
[null,null,null,45,"","x","","","","","","","x","x","","","","","","","","","","","","","",null,null,null,null,null,null,null,null,null,null,null,null,null,null,null,null,null,null,null,null,null,null,null,null,null,null,null,14,2,7,20,25,27,29,9,9,11,12,12,13,5,10,9,7,9,4,2,{"$f":"IF($BC6=\"\",\"\",BJ6*100+BP6)","v":905},910,1109,1207,1209,1304]
[null,null,null,44,"","","x","x","x","","","","","","x","","","","","","","","","","","","",null,null,null,null,null,null,null,null,null,null,null,null,null,null,null,null,null,null,null,null,null,null,null,null,null,null,null,15,2,10,13,19,22,24,2,3,3,4,5,5,12,13,16,15,11,13,3,212,313,316,415,511,513]
[null,null,null,43,"","","","","","","","","","","","x","","","","","","","","","","","",null,null,null,null,null,null,null,null,null,null,null,null,null,null,null,null,null,null,null,null,null,null,null,null,null,null,null,16,2,10,14,17,22,25,9,10,10,11,12,12,12,13,17,13,11,14,4,912,1013,1017,1113,1211,1214]
[null,null,null,42,"","","","","","","","","","","","x","","","","","","","","","","","",null,null,null,null,null,null,null,null,null,null,null,null,null,null,null,null,null,null,null,null,null,null,null,null,null,null,null,17,2,10,14,25,27,29,2,3,3,5,5,6,19,20,24,21,23,18,5,219,320,324,521,523,618]
[null,null,null,41,"","x","","","","","","","x","","","","","","","","","","","","","","",null,null,null,null,null,null,null,null,null,null,null,null,null,null,null,null,null,null,null,null,null,null,null,null,null,null,null,18,3,4,13,19,22,24,9,9,10,11,12,12,20,21,23,22,18,20,6,920,921,1023,1122,1218,1220]
[" Makro Druck Scheine",{"$f":"Reihen!R2","v":4},null,40,"","","","","","","","","","","","","","","","","","","","","","","",null,null,null,null,null,null,null,null,null,null,null,null,null,null,null,null,null,null,null,null,null,null,null,null,null,null,null,19,3,4,13,24,27,29,2,2,3,5,5,6,27,28,30,27,30,25,7,227,228,330,527,530,625]
["von",3,null,39,"","","","","x","","","","","","","","","","","","","",2,"","","","",null,null,null,null,null,null,null,null,null,null,null,null,null,null,null,null,null,null,null,null,null,null,null,null,null,null,null,20,3,4,14,25,27,29,9,9,10,12,12,13,27,28,31,28,30,25,8,927,928,1031,1228,1230,1325]
["bis",0,null,38,"","","","","","","","","","","","","","","","","","",0,"","","","",null,null,null,null,null,null,null,null,null,null,null,null,null,null,null,null,null,null,null,null,null,null,null,null,null,null,null,21,3,4,17,19,26,29,2,2,4,4,5,6,34,35,34,36,36,32,9,234,235,434,436,536,632]
[null,null,null,37,"","","","","","","","","","","","x","","","","","","",0,"","","","",null,null,null,null,null,null,null,null,null,null,null,null,null,null,null,null,null,null,null,null,null,null,null,null,null,null,null,22,3,4,17,22,25,27,9,9,11,12,12,12,34,35,34,32,35,37,10,934,935,1134,1232,1235,1237]
[null,null,null,36,{"$f":"IF(COUNTIF(Matrix,E$4*100+$D15)>0,\"x\",\"\")","v":""},"","","x","x","","","","","","","","","","","",{"$f":"IF(INDEX(Fusszeilen,U$4,$D15)=\"\",\"\",IF(INDEX(Fusszeilen,U$4,$D15)=\"h\",INT($B$1/100),IF(INDEX(Fusszeilen,U$4,$D15)=\"z\",MOD(INT($B$1/10),10),IF(INDEX(Fusszeilen,U$4,$D15)=\"e\",MOD($B$1,10),INDEX(Fusszeilen,U$4,$D15)))))","v":""},"","","","","","",null,null,null,null,null,null,null,null,null,null,null,null,null,null,null,null,null,null,null,null,null,null,null,null,null,null,null,23,3,7,13,20,22,27,2,2,3,4,5,5,41,45,44,44,39,44,11,241,245,344,444,539,544]
[null,null,null,35,"","x","","","","","","","x","","","x","","","","","","","","","","","",null,null,null,null,null,null,null,null,null,null,null,null,null,null,null,null,null,null,null,null,null,null,null,null,null,null,null,24,3,7,14,20,25,26,9,9,10,11,12,12,41,45,45,44,42,43,12,941,945,1045,1144,1242,1243]
[null,null,null,34,"","x","","x","","","","","x","","x","","","","","","","","","","","",""]
[null,null,null,33,"","","","","","","","","","","","","","","","","","","","","","",""]
[null,null,null,32,"","","","","","x","","","","","","x","","","","","","","","","","",""]
[null,null,null,31,"","","","","","","","","","x","","","","","","","","","","","","",""]
[null,null,null,30,"","","x","","x","","","","","","","x","","","","","","","","","","",""]
[null,null,null,29,"","","","","","","","","","","","","","","","","","","","","","",""]
[null,null,null,28,"","x","","","","","","","x","","","x","","","","","","","","","","",""]
[null,null,null,27,"","x","","","x","","","","x","","","","","","","","","","","","","",""]
[null,null,null,26,{"$f":"IF(COUNTIF(Matrix,E$4*100+$D25)>0,\"x\",\"\")","v":""},"","","","","","","","","","","","","","","",{"$f":"IF(INDEX(Fusszeilen,U$4,$D25)=\"\",\"\",IF(INDEX(Fusszeilen,U$4,$D25)=\"h\",INT($B$1/100),IF(INDEX(Fusszeilen,U$4,$D25)=\"z\",MOD(INT($B$1/10),10),IF(INDEX(Fusszeilen,U$4,$D25)=\"e\",MOD($B$1,10),INDEX(Fusszeilen,U$4,$D25)))))","v":""},"","","","","",""]
[null,null,null,25,"","","","","","x","","","","","","","x","","","","","","","","","",""]
[null,null,null,24,"","","x","","","","","","","","","","","","","","","","","","x","",""]
[null,null,null,23,"","","","","x","","","","","x","","","","","","","","","","","","",""]
[null,null,null,22,"","","","","","","","","","","x","","","","","","","","","","","",""]
[null,null,null,21,"","","","","x","","","","x","","","","","","","","","","","","","",""]
[null,null,null,20,"","","x","","","","","","x","","","x","","","","","","","","","","",""]
[null,null,null,19,"","x","","","","","","","","","","","","","","","","","","","x","",""]
[null,null,null,18,"","","","","","x","","","","","","x","","","","","","","","","","",""]
[null,null,null,17,"","","","","","","","","","x","","","","","","","","","","","","",""]
[null,null,null,16,{"$f":"IF(COUNTIF(Matrix,E$4*100+$D35)>0,\"x\",\"\")","v":""},"","x","","","","","","","","","","","","","",{"$f":"IF(INDEX(Fusszeilen,U$4,$D35)=\"\",\"\",IF(INDEX(Fusszeilen,U$4,$D35)=\"h\",INT($B$1/100),IF(INDEX(Fusszeilen,U$4,$D35)=\"z\",MOD(INT($B$1/10),10),IF(INDEX(Fusszeilen,U$4,$D35)=\"e\",MOD($B$1,10),INDEX(Fusszeilen,U$4,$D35)))))","v":""},"","","","","",""]
[null,null,null,15,"","","","x","","","","","","","","","","","","","","","","","","",""]
[null,null,null,14,"","","","","","","","","","","","x","","","","","","","","","","",""]
[null,null,null,13,"","","x","","x","","","","","x","x","","","","","","","","","","","",""]
[null,null,null,12,"","x","","","","","","","x","","","","","","","","","","","","","",""]
[null,null,null,11,"","","","","x","","","","","","","x","","","","","","","","","","",""]
[null,null,null,10,"","x","","","","","","","x","","","","","","","","","","","","","",""]
[null,null,null,9,"","","","","","","","","","","x","x","","","","","","","","","","",""]
[null,null,null,8,"","","","x","","","","","","","","","","","","","","","","","","",""]
[null,null,null,7,"","","","","x","","","","","","","x","","","","","","","","","","",""]
[null,null,null,6,{"$f":"IF(COUNTIF(Matrix,E$4*100+$D45)>0,\"x\",\"\")","v":""},"","","","x","","","","","","","","","","","",{"$f":"IF(INDEX(Fusszeilen,U$4,$D45)=\"\",\"\",IF(INDEX(Fusszeilen,U$4,$D45)=\"h\",INT($B$1/100),IF(INDEX(Fusszeilen,U$4,$D45)=\"z\",MOD(INT($B$1/10),10),IF(INDEX(Fusszeilen,U$4,$D45)=\"e\",MOD($B$1,10),INDEX(Fusszeilen,U$4,$D45)))))","v":""},"","","","","",""]
[null,null,null,5,"","x","","","","","","","x","","","","","","","","","","","","","",""]
[null,null,null,4,"","","","","","x","","","","","","","x","","","","","","","","","",""]
[null,null,null,3,"","","","","","","","","","","","","","","","","","","","","","",""]
[null,null,null,2,"","","","","","","","","","","","","","","","","","","","","","",""]
[null,null,null,1,"","","","","","","","","","","","","","","","","","","","","","",""]